Workbook

Sheet Templates
A2: VFD IO TEMPLATE | C2: FIO IO Template
A3: I0 | C3: IO00
A4: I1 | C4: IO01
A5: I2 | C5: IO02
A6: I3 | C6: IO03
A7: IO0 | C7: IO04
A8: IO1 | C8: IO05
A9: SI0 | C9: IO06
A10: SI1 | C10: IO07
A11: SI2 | C11: IO08
A12: SI3 | C12: IO09
A13: SO0 | C13: IO10
C14: IO11
C15: IO12
C16: IO13
C17: IO14
C18: IO15
C19: IO16

Sheet Devices
H1: Which MCM we assign? | I1: MCM04
A2: NCP1_1_BCN1_R
A3: NCP1_1_BCN2_A
A4: NCP1_1_BCN2_R
A5: NCP1_1_BCN3_A
A6: NCP1_1_DISC
A7: NCP1_1_ENC1
A8: NCP1_1_EPC1
A9: NCP1_1_EPC1_2
A10: NCP1_1_EPC2
A11: NCP1_1_EPC2_2
A12: NCP1_1_JR1_PB
A13: NCP1_1_JR1_PB_LT
... A362: UL7_20_VFD1

Sheet Instructions
A2: 1. | B2: Put all device tags to cell A2
A37: 2. | B37: In cell I1 write MCM number
A47: 3. | B47: Click on "Add Disconnects" button.
A57: 4. | B57: Replace all _VFD1_DISC with _DISC. Without this point it will generate IO points for _VFD1_DISC device
A69: 5. | B69: Click on "Split SS station". This will split all _SS to SS_STPB, SS_SPB and SS_STPB_LT
A78: 6. | B78: Click on "Split start PB". This will split all _S and _JR to _S_PB, _S_PB_LT, JR_PB and JR_PB_LT
A87: 7. | B87: Click on "Duplicate EPC Tag". This will add duplicate for all EPC and add _2 to copy
A97: 8. | B97: Click on "Create Assignment table template". This will add new sheet with name "IO Assignment MCM01 and fill with VFD and FIO names and their adresses
A107: 9. | B107: Click on "Assign Devices to VFD". This will add device tags to correspond VFD IO. Works for Disc, TPE, JPE, EPC, ENC
A116: 10. | B116: All Unassigned Pushbuttons and lights fill manually and all devices, that couldn't filled to VFD also will be here.

Sheet IO Assignment MCM03
A1: Controller name | B1: Signal type | C1: Address name | D1: Assigned device | E1: Unassigned Device | K1: MCM03_DESC
A2: NCP1_1_VFD1 | B2: I0 | C2: NCP1_1_VFD_I0 | D2: NCP1_1_VFD1_DISC
A3: NCP1_1_VFD1 | B3: I1 | C3: NCP1_1_VFD_I1 | D3: NCP1_1_ENC1
A4: NCP1_1_VFD1 | B4: I2 | C4: NCP1_1_VFD_I2 | D4: NCP1_1_TPE1
A5: NCP1_1_VFD1 | B5: I3 | C5: NCP1_1_VFD_I3 | D5: NCP1_1_TPE2
A6: NCP1_1_VFD1 | B6: IO0 | C6: NCP1_1_VFD_IO0 | D6: NCP1_1_BCN2_A
A7: NCP1_1_VFD1 | B7: IO1 | C7: NCP1_1_VFD_IO1 | D7: NCP1_1_BCN2_R
A8: NCP1_1_VFD1 | B8: SI0 | C8: NCP1_1_VFD_SI0 | D8: NCP1_1_EPC1
A9: NCP1_1_VFD1 | B9: SI1 | C9: NCP1_1_VFD_SI1 | D9: NCP1_1_EPC1_2
A10: NCP1_1_VFD1 | B10: SI2 | C10: NCP1_1_VFD_SI2 | D10: NCP1_1_EPC2
A11: NCP1_1_VFD1 | B11: SI3 | C11: NCP1_1_VFD_SI3 | D11: NCP1_1_EPC2_2
A12: NCP1_1_VFD1 | B12: SO0 | C12: NCP1_1_VFD_SO0
A13: NCP1_1_FIO1 | B13: IO00 | C13: NCP1_1_FIO1_IO00 | D13: NCP1_1_BCN1_R
A14: NCP1_1_FIO1 | B14: IO01 | C14: NCP1_1_FIO1_IO01
A15: NCP1_1_FIO1 | B15: IO02 | C15: NCP1_1_FIO1_IO02 | D15: NCP1_1_S1_PB
A16: NCP1_1_FIO1 | B16: IO03 | C16: NCP1_1_FIO1_IO03 | D16: NCP1_1_S1_PB_LT
A17: NCP1_1_FIO1 | B17: IO04 | C17: NCP1_1_FIO1_IO04 | D17: NCP1_1_S2_PB
A18: NCP1_1_FIO1 | B18: IO05 | C18: NCP1_1_FIO1_IO05 | D18: NCP1_1_S2_PB_LT
A19: NCP1_1_FIO1 | B19: IO06 | C19: NCP1_1_FIO1_IO06 | D19: NCP1_1_TPE3
A20: NCP1_1_FIO1 | B20: IO07 | C20: NCP1_1_FIO1_IO07 | D20: NCP1_1_TPE4
A21: NCP1_1_FIO1 | B21: IO08 | C21: NCP1_1_FIO1_IO08 | D21: NCP1_1_TPE5
A22: NCP1_1_FIO1 | B22: IO09 | C22: NCP1_1_FIO1_IO09
A23: NCP1_1_FIO1 | B23: IO10 | C23: NCP1_1_FIO1_IO10 | D23: NCP1_1_BCN3_A
A24: NCP1_1_FIO1 | B24: IO11 | C24: NCP1_1_FIO1_IO11 | D24: NCP1_1_BCN3_H
A25: NCP1_1_FIO1 | B25: IO12 | C25: NCP1_1_FIO1_IO12
A26: NCP1_1_FIO1 | B26: IO13 | C26: NCP1_1_FIO1_IO13
A27: NCP1_1_FIO1 | B27: IO14 | C27: NCP1_1_FIO1_IO14
A28: NCP1_1_FIO1 | B28: IO15 | C28: NCP1_1_FIO1_IO15
A29: NCP1_2_VFD1 | B29: I0 | C29: NCP1_2_VFD1_I0 | D29: NCP1_2_VFD1_DISC
A30: NCP1_2_VFD1 | B30: I1 | C30: NCP1_2_VFD1_I1 | D30: NCP1_2_ENC1
A31: NCP1_2_VFD1 | B31: I2 | C31: NCP1_2_VFD1_I2 | D31: NCP1_2_TPE1
A32: NCP1_2_VFD1 | B32: I3 | C32: NCP1_2_VFD1_I3 | D32: NCP1_2_TPE2
A33: NCP1_2_VFD1 | B33: IO0 | C33: NCP1_2_VFD1_IO0 | D33: NCP1_1_JR1_PB
A34: NCP1_2_VFD1 | B34: IO1 | C34: NCP1_2_VFD1_IO1 | D34: NCP1_1_JR1_PB_LT
A35: NCP1_2_VFD1 | B35: SI0 | C35: NCP1_2_VFD1_SI0 | D35: NCP1_2_EPC1
A36: NCP1_2_VFD1 | B36: SI1 | C36: NCP1_2_VFD1_SI1 | D36: NCP1_2_EPC1_2
A37: NCP1_2_VFD1 | B37: SI2 | C37: NCP1_2_VFD1_SI2 | D37: NCP1_2_EPC2
A38: NCP1_2_VFD1 | B38: SI3 | C38: NCP1_2_VFD1_SI3 | D38: NCP1_2_EPC2_2
A39: NCP1_2_VFD1 | B39: SO0 | C39: NCP1_2_VFD1_SO0
A40: NCP1_2_FIO1 | B40: IO00 | C40: NCP1_2_FIO1_IO00 | D40: NCP1_2_BCN2_A
...

Sheet NETWORK
B1: MCM03
A2: SLOT0 | B2: 1756-L83ES | C2: IP | D2: RING | F2: STAR
A3: SLOT1 | B3: 1756-N2 | D3: DPM | E3: IP | F3: VFD NAME | G3: VFD PART NUMBER | H3: IP | I3: HP
A4: SLOT2 | B4: 1756-EN4TR | C4: 11.200.1.1 | D4: NCP1_1_DPM1 | E4: 11.200.1.2 | F4: UL1_14_VFD1 | G4: 35S-6D3-P101 | H4: 11.200.1.30 | I4: =VLOOKUP(G4,'Part number'!$A$1:$B$13,2,0)
A5: SLOT3 | B5: 1756-N2 | F5: UL1_15_VFD1 | G5: 35S-6D3-P101 | H5: 11.200.1.31 | I5: =VLOOKUP(G5,'Part number'!$A$1:$B$13,2,0)
A6: SLOT4 | B6: 1756-N2 | F6: UL1_16_VFD1 | G6: 35S-6D3-P101 | H6: 11.200.1.32 | I6: =VLOOKUP(G6,'Part number'!$A$1:$B$13,2,0)
A7: SLOT5 | B7: 1756-IB16 | F7: UL1_17_VFD1 | G7: 35S-6D3-P101 | H7: 11.200.1.33 | I7: =VLOOKUP(G7,'Part number'!$A$1:$B$13,2,0) | S7: MCM03 | U7: NCP1_1_DPM1 | V7: =_xlfn.CONCAT(U7," CONNECTIONS")
A8: SLOT6 | B8: 1756-OB16E | F8: UL1_18_VFD1 | G8: 35S-6D4-P111 | H8: 11.200.1.34 | I8: =VLOOKUP(G8,'Part number'!$A$1:$B$13,2,0) | U8: NCP1_2_DPM1 | V8: =_xlfn.CONCAT(U8," CONNECTIONS")
A9: SLOT7 | B9: 1756-IB16S | F9: UL1_19_VFD1 | G9: 35S-6D3-P101 | H9: 11.200.1.35 | I9: =VLOOKUP(G9,'Part number'!$A$1:$B$13,2,0) | U9: NCP1_3_DPM1 | V9: =_xlfn.CONCAT(U9," CONNECTIONS")
A10: SLOT8 | B10: 1756-N2 | F10: UL1_20_VFD1 | G10: 35S-6D2-P101 | H10: 11.200.1.36 | I10: =VLOOKUP(G10,'Part number'!$A$1:$B$13,2,0) | U10: NCP1_5_DPM1 | V10: =_xlfn.CONCAT(U10," CONNECTIONS")
A11: SLOT9 | B11: 1756-N2 | F11: UL4_14_VFD1 | G11: 35S-6D2-P101 | H11: 11.200.1.37 | I11: =VLOOKUP(G11,'Part number'!$A$1:$B$13,2,0)
F12: UL4_15_VFD1 | G12: 35S-6D3-P101 | H12: 11.200.1.38 | I12: =VLOOKUP(G12,'Part number'!$A$1:$B$13,2,0)
F13: UL4_16_VFD1 | G13: 35S-6D3-P101 | H13: 11.200.1.39 | I13: =VLOOKUP(G13,'Part number'!$A$1:$B$13,2,0)
A14: DPM COUNT | B14: 4 | F14: UL4_17_VFD1 | G14: 35S-6D3-P101 | H14: 11.200.1.40 | I14: =VLOOKUP(G14,'Part number'!$A$1:$B$13,2,0)
F15: UL4_18_VFD1 | G15: 35S-6D4-P111 | H15: 11.200.1.41 | I15: =VLOOKUP(G15,'Part number'!$A$1:$B$13,2,0)
F16: UL4_19_VFD1 | G16: 35S-6D3-P101 | H16: 11.200.1.42 | I16: =VLOOKUP(G16,'Part number'!$A$1:$B$13,2,0)
F17: UL4_20_VFD1 | G17: 35S-6D2-P101 | H17: 11.200.1.43 | I17: =VLOOKUP(G17,'Part number'!$A$1:$B$13,2,0)
F18: NCP1_1_FIO1 | G18: 5032-8IOLM12DR | H18: 11.200.1.44 | I18: =VLOOKUP(G18,'Part number'!$A$1:$B$13,2,0)
D19: NCP1_2_DPM1 | E19: 11.200.1.3 | F19: UL7_14_VFD1 | G19: 35S-6D3-P101 | H19: 11.200.1.45 | I19: =VLOOKUP(G19,'Part number'!$A$1:$B$13,2,0)
F20: UL7_15_VFD1 | G20: 35S-6D3-P101 | H20: 11.200.1.46 | I20: =VLOOKUP(G20,'Part number'!$A$1:$B$13,2,0)
F21: UL7_16_VFD1 | G21: 35S-6D3-P101 | H21: 11.200.1.47 | I21: =VLOOKUP(G21,'Part number'!$A$1:$B$13,2,0)
F22: UL7_17_VFD1 | G22: 35S-6D3-P101 | H22: 11.200.1.48 | I22: =VLOOKUP(G22,'Part number'!$A$1:$B$13,2,0)
F23: UL7_18_VFD1 | G23: 35S-6D4-P111 | H23: 11.200.1.49 | I23: =VLOOKUP(G23,'Part number'!$A$1:$B$13,2,0)
F24: UL7_19_VFD1 | G24: 35S-6D3-P101 | H24: 11.200.1.50 | I24: =VLOOKUP(G24,'Part number'!$A$1:$B$13,2,0)
F25: UL7_20_VFD1 | G25: 35S-6D2-P101 | H25: 11.200.1.51 | I25: =VLOOKUP(G25,'Part number'!$A$1:$B$13,2,0)
F26: UL11_14_VFD1 | G26: 35S-6D3-P101 | H26: 11.200.1.52 | I26: =VLOOKUP(G26,'Part number'!$A$1:$B$13,2,0)
F27: UL11_15_VFD1 | G27: 35S-6D3-P101 | H27: 11.200.1.53 | I27: =VLOOKUP(G27,'Part number'!$A$1:$B$13,2,0)
F28: UL11_16_VFD1 | G28: 35S-6D3-P101 | H28: 11.200.1.54 | I28: =VLOOKUP(G28,'Part number'!$A$1:$B$13,2,0)
F29: UL11_17_VFD1 | G29: 35S-6D3-P101 | H29: 11.200.1.55 | I29: =VLOOKUP(G29,'Part number'!$A$1:$B$13,2,0)
F30: UL11_18_VFD1 | G30: 35S-6D4-P111 | H30: 11.200.1.56 | I30: =VLOOKUP(G30,'Part number'!$A$1:$B$13,2,0)
F31: UL11_19_VFD1 | G31: 35S-6D3-P101 | H31: 11.200.1.57 | I31: =VLOOKUP(G31,'Part number'!$A$1:$B$13,2,0)
... F33: NCP1_2_FIO1 | G33: 5032-8IOLM12DR | H33: 11.200.1.59 | I33: =VLOOKUP(G33,'Part number'!$A$1:$B$13,2,0)
D34: NCP1_3_DPM1 | E34: 11.200.1.4 | F34: UL13_13_VFD1 | G34: 35S-6D3-P101 | H34: 11.200.1.60 | I34: =VLOOKUP(G34,'Part number'!$A$1:$B$13,2,0)
F35: UL13_14_VFD1 | G35: 35S-6D3-P101 | H35: 11.200.1.61 | I35: =VLOOKUP(G35,'Part number'!$A$1:$B$13,2,0)
F36: UL13_15_VFD1 | G36: 35S-6D3-P101 | H36: 11.200.1.62 | I36: =VLOOKUP(G36,'Part number'!$A$1:$B$13,2,0)
F37: UL13_16_VFD1 | G37: 35S-6D3-P101 | H37: 11.200.1.63 | I37: =VLOOKUP(G37,'Part number'!$A$1:$B$13,2,0)
F38: UL13_17_VFD1 | G38: 35S-6D4-P111 | H38: 11.200.1.64 | I38: =VLOOKUP(G38,'Part number'!$A$1:$B$13,2,0)
F39: UL13_18_VFD1 | G39: 35S-6D3-P101 | H39: 11.200.1.65 | I39: =VLOOKUP(G39,'Part number'!$A$1:$B$13,2,0)
F40: UL13_19_VFD1 | G40: 35S-6D2-P101 | H40: 11.200.1.66 | I40: =VLOOKUP(G40,'Part number'!$A$1:$B$13,2,0)
F41: UL18_17_VFD1 | G41: 35S-6D3-P101 | H41: 11.200.1.67 | I41: =VLOOKUP(G41,'Part number'!$A$1:$B$13,2,0)
...

Sheet Part number
A1: PART NUMBER | B1: HP
A2: 35S-6D2-P101 | B2: 2
A3: 35S-6D3-P101 | B3: 3
A4: 35S-6D4-P111 | B4: 5
A5: 35S-6D5-P111 | B5: 7.5
A6: 35S-6D6-P111 | B6: 10
A7: 25B-D024N104 | B7: 15
A8: 25B-D030N104 | B8: 20
A9: 25B-D043N114 | B9: 30
A10: CALJAN | B10: EXTENDO
A11: PIONEER | B11: TIPPER
A12: ZMX-3DE2500HF-Q7-AMZCHD | B12: ZMX
A13: 5032-8IOLM12DR | B13: FIO

Sheet MCM03_DESC
A1: TAGNAME | B1: ADDR | C1: TERM | D1: TERMDESC | E1: DESCA | F1: DESCB | H1: CONTROLLERS
A2: NCP1_1_VFD1 | B2: NCP1_1_VFD_I0 | C2: I0 | E2: NCP1_1_VFD1_DISC | F2: DISCONNECT AUX | H2: NCP1_1_VFD1 | I2: 600 | K2: =_xlfn.CONCAT(H2,"/",H3,"/",H4,"/",H5," IO DRAWINGS")
A3: NCP1_1_VFD1 | B3: NCP1_1_VFD_I1 | C3: I1 | E3: NCP1_1_ENC1 | F3: ENCODER | H3: NCP1_1_FIO1 | K3: =_xlfn.CONCAT(H7,"/",H8,"/",H9,"/",H10," IO DRAWINGS")
A4: NCP1_1_VFD1 | B4: NCP1_1_VFD_I2 | C4: I2 | E4: NCP1_1_TPE1 | F4: TRACKING PHOTOEYE | H4: NCP1_2_VFD1 | K4: =_xlfn.CONCAT(H12,"/",H13,"/",H14,"/",H15," IO DRAWINGS")
A5: NCP1_1_VFD1 | B5: NCP1_1_VFD_I3 | C5: I3 | E5: NCP1_1_TPE2 | F5: TRACKING PHOTOEYE | H5: NCP1_2_FIO1 | K5: =_xlfn.CONCAT(H17,"/",H18,"/",H19,"/",H20," IO DRAWINGS")
A6: NCP1_1_VFD1 | B6: NCP1_1_VFD_IO0 | C6: IO0 | E6: NCP1_1_BCN2_A | F6: AMBER BEACON LIGHT | K6: =_xlfn.CONCAT(H22,"/",H23,"/",H24,"/",H25," IO DRAWINGS")
A7: NCP1_1_VFD1 | B7: NCP1_1_VFD_IO1 | C7: IO1 | E7: NCP1_1_BCN2_R | F7: RED BEACON LIGHT | H7: NCP1_3_VFD1 | I7: 601 | K7: =_xlfn.CONCAT(H27,"/",H28,"/",H29,"/",H30," IO DRAWINGS")
A8: NCP1_1_VFD1 | B8: NCP1_1_VFD_SI0 | C8: SI0 | E8: NCP1_1_EPC1 | F8: E-STOP PULLCORD | H8: NCP1_3_FIO1 | K8: =_xlfn.CONCAT(H32,"/",H33,"/",H34,"/",H35," IO DRAWINGS")
A9: NCP1_1_VFD1 | B9: NCP1_1_VFD_SI1 | C9: SI1 | E9: NCP1_1_EPC1_2 | F9: E-STOP PULLCORD | H9: NCP1_4_VFD1 | K9: =_xlfn.CONCAT(H37,"/",H38,"/",H39,"/",H40," IO DRAWINGS")
A10: NCP1_1_VFD1 | B10: NCP1_1_VFD_SI2 | C10: SI2 | E10: NCP1_1_EPC2 | F10: E-STOP PULLCORD | H10: NCP1_5_VFD1 | K10: =_xlfn.CONCAT(H42,"/",H43,"/",H44,"/",H45," IO DRAWINGS")
A11: NCP1_1_VFD1 | B11: NCP1_1_VFD_SI3 | C11: SI3 | E11: NCP1_1_EPC2_2 | F11: E-STOP PULLCORD | K11: =_xlfn.CONCAT(H47,"/",H48,"/",H49,"/",H50," IO DRAWINGS")
A12: NCP1_1_VFD1 | B12: NCP1_1_VFD_SO0 | C12: SO0 | E12: SPARE | H12: NCP1_6_VFD1 | I12: 602 | K12: =_xlfn.CONCAT(H52,"/",H53,"/",H54,"/",H55," IO DRAWINGS")
A13: NCP1_1_FIO1 | B13: NCP1_1_FIO1_IO00 | C13: IO00 | E13: NCP1_1_BCN1_R | F13: RED BEACON LIGHT | H13: NCP1_7_VFD1 | K13: =_xlfn.CONCAT(H57,"/",H58,"/",H59,"/",H60," IO DRAWINGS")
A14: NCP1_1_FIO1 | B14: NCP1_1_FIO1_IO01 | C14: IO01 | E14: NCP1_1_BCN3_A | F14: AMBER BEACON LIGHT | H14: NCP1_8_VFD1 | K14: =_xlfn.CONCAT(H62,"/",H63,"/",H64,"/",H65," IO DRAWINGS")
A15: NCP1_1_FIO1 | B15: NCP1_1_FIO1_IO02 | C15: IO02 | E15: NCP1_1_S1_PB | F15: START PUSHBUTTON | H15: UL1_14_VFD1 | K15: =_xlfn.CONCAT(H67,"/",H68,"/",H69,"/",H70," IO DRAWINGS")
A16: NCP1_1_FIO1 | B16: NCP1_1_FIO1_IO03 | C16: IO03 | E16: NCP1_1_S1_PB_LT | F16: START PUSHBUTTON LIGHT | K16: =_xlfn.CONCAT(H72,"/",H73,"/",H74,"/",H75," IO DRAWINGS")
A17: NCP1_1_FIO1 | B17: NCP1_1_FIO1_IO04 | C17: IO04 | E17: NCP1_1_S2_PB | F17: START PUSHBUTTON | H17: UL1_15_VFD1 | I17: 603 | K17: =_xlfn.CONCAT(H77," IO DRAWINGS")
A18: NCP1_1_FIO1 | B18: NCP1_1_FIO1_IO05 | C18: IO05 | E18: NCP1_1_S2_PB_LT | F18: START PUSHBUTTON LIGHT | H18: UL1_16_VFD1
A19: NCP1_1_FIO1 | B19: NCP1_1_FIO1_IO06 | C19: IO06 | E19: NCP1_1_TPE3 | F19: TRACKING PHOTOEYE | H19: UL1_17_VFD1
A20: NCP1_1_FIO1 | B20: NCP1_1_FIO1_IO07 | C20: IO07 | E20: NCP1_1_TPE4 | F20: TRACKING PHOTOEYE | H20: UL1_18_VFD1
A21: NCP1_1_FIO1 | B21: NCP1_1_FIO1_IO08 | C21: IO08 | E21: NCP1_1_TPE5 | F21: TRACKING PHOTOEYE
A22: NCP1_1_FIO1 | B22: NCP1_1_FIO1_IO09 | C22: IO09 | E22: SPARE | H22: UL1_19_VFD1 | I22: 604
A23: NCP1_1_FIO1 | B23: NCP1_1_FIO1_IO10 | C23: IO10 | E23: SPARE | H23: UL1_20_VFD1
A24: NCP1_1_FIO1 | B24: NCP1_1_FIO1_IO11 | C24: IO11 | E24: SPARE | H24: UL11_14_VFD1
A25: NCP1_1_FIO1 | B25: NCP1_1_FIO1_IO12 | C25: IO12 | E25: SPARE | H25: UL11_15_VFD1
A26: NCP1_1_FIO1 | B26: NCP1_1_FIO1_IO13 | C26: IO13 | E26: SPARE
A27: NCP1_1_FIO1 | B27: NCP1_1_FIO1_IO14 | C27: IO14 | E27: SPARE | H27: UL11_16_VFD1 | I27: 605
A28: NCP1_1_FIO1 | B28: NCP1_1_FIO1_IO15 | C28: IO15 | E28: SPARE | H28: UL11_17_VFD1
A29: NCP1_2_VFD1 | B29: NCP1_2_VFD1_I0 | C29: I0 | E29: NCP1_2_VFD1_DISC | F29: DISCONNECT AUX | H29: UL11_18_VFD1
A30: NCP1_2_VFD1 | B30: NCP1_2_VFD1_I1 | C30: I1 | E30: NCP1_2_ENC1 | F30: ENCODER | H30: UL11_19_VFD1
A31: NCP1_2_VFD1 | B31: NCP1_2_VFD1_I2 | C31: I2 | E31: NCP1_2_TPE1 | F31: TRACKING PHOTOEYE
A32: NCP1_2_VFD1 | B32: NCP1_2_VFD1_I3 | C32: I3 | E32: NCP1_2_TPE2 | F32: TRACKING PHOTOEYE | H32: UL11_20_VFD1 | I32: 606
A33: NCP1_2_VFD1 | B33: NCP1_2_VFD1_IO0 | C33: IO0 | E33: NCP1_1_JR1_PB | F33: JAM RESET PUSHBUTTON | H33: UL13_13_VFD1
A34: NCP1_2_VFD1 | B34: NCP1_2_VFD1_IO1 | C34: IO1 | E34: NCP1_1_JR1_PB_LT | F34: JAM RESET PUSHBUTTON LIGHT | H34: UL13_14_VFD1
A35: NCP1_2_VFD1 | B35: NCP1_2_VFD1_SI0 | C35: SI0 | E35: NCP1_2_EPC1 | F35: E-STOP PULLCORD | H35: UL13_15_VFD1
A36: NCP1_2_VFD1 | B36: NCP1_2_VFD1_SI1 | C36: SI1 | E36: NCP1_2_EPC1_2 | F36: E-STOP PULLCORD
A37: NCP1_2_VFD1 | B37: NCP1_2_VFD1_SI2 | C37: SI2 | E37: NCP1_2_EPC2 | F37: E-STOP PULLCORD | H37: UL13_16_VFD1 | I37: 607
A38: NCP1_2_VFD1 | B38: NCP1_2_VFD1_SI3 | C38: SI3 | E38: NCP1_2_EPC2_2 | F38: E-STOP PULLCORD | H38: UL13_17_VFD1
A39: NCP1_2_VFD1 | B39: NCP1_2_VFD1_SO0 | C39: SO0 | E39: SPARE | H39: UL13_18_VFD1
A40: NCP1_2_FIO1 | B40: NCP1_2_FIO1_IO00 | C40: IO00 | E40: NCP1_2_BCN2_A | F40: AMBER BEACON LIGHT | H40: UL13_19_VFD1
...

Sheet IO Assignment MCM04
A1: Controller name | B1: Signal type | C1: Address name | D1: Assigned device | E1: Unassigned Device
A2: NCP1_1_VFD | B2: I0 | C2: NCP1_1_VFD_I0 | D2: NCP1_1_DISC | E2: NCP1_1_BCN1_R
A3: NCP1_1_VFD | B3: I1 | C3: NCP1_1_VFD_I1 | D3: NCP1_1_ENC1 | E3: NCP1_1_BCN2_A
A4: NCP1_1_VFD | B4: I2 | C4: NCP1_1_VFD_I2 | D4: NCP1_1_TPE1 | E4: NCP1_1_BCN2_R
A5: NCP1_1_VFD | B5: I3 | C5: NCP1_1_VFD_I3 | D5: NCP1_1_TPE2 | E5: NCP1_1_BCN3_A
A6: NCP1_1_VFD | B6: IO0 | C6: NCP1_1_VFD_IO0 | E6: NCP1_1_JR1_PB
A7: NCP1_1_VFD | B7: IO1 | C7: NCP1_1_VFD_IO1 | E7: NCP1_1_JR1_PB_LT
A8: NCP1_1_VFD | B8: SI0 | C8: NCP1_1_VFD_SI0 | D8: NCP1_1_EPC1 | E8: NCP1_1_S1_PB
A9: NCP1_1_VFD | B9: SI1 | C9: NCP1_1_VFD_SI1 | D9: NCP1_1_EPC1_2 | E9: NCP1_1_S1_PB_LT
A10: NCP1_1_VFD | B10: SI2 | C10: NCP1_1_VFD_SI2 | D10: NCP1_1_EPC2 | E10: NCP1_1_S2_PB
A11: NCP1_1_VFD | B11: SI3 | C11: NCP1_1_VFD_SI3 | D11: NCP1_1_EPC2_2 | E11: NCP1_1_S2_PB_LT
A12: NCP1_1_VFD | B12: SO0 | C12: NCP1_1_VFD_SO0 | E12: NCP1_1_TPE3
A13: NCP1_2_VFD1 | B13: I0 | C13: NCP1_2_VFD1_I0 | D13: NCP1_2_DISC | E13: NCP1_1_TPE4
A14: NCP1_2_VFD1 | B14: I1 | C14: NCP1_2_VFD1_I1 | D14: NCP1_2_ENC1 | E14: NCP1_1_TPE5
A15: NCP1_2_VFD1 | B15: I2 | C15: NCP1_2_VFD1_I2 | D15: NCP1_2_TPE1 | E15: NCP1_2_BCN1_R
A16: NCP1_2_VFD1 | B16: I3 | C16: NCP1_2_VFD1_I3 | D16: NCP1_2_TPE2 | E16: NCP1_2_BCN2_A
A17: NCP1_2_VFD1 | B17: IO0 | C17: NCP1_2_VFD1_IO0 | E17: NCP1_2_BCN2_R
A18: NCP1_2_VFD1 | B18: IO1 | C18: NCP1_2_VFD1_IO1 | E18: NCP1_2_BCN3_A
A19: NCP1_2_VFD1 | B19: SI0 | C19: NCP1_2_VFD1_SI0 | D19: NCP1_2_EPC1 | E19: NCP1_2_JR1_PB
A20: NCP1_2_VFD1 | B20: SI1 | C20: NCP1_2_VFD1_SI1 | D20: NCP1_2_EPC1_2 | E20: NCP1_2_JR1_PB_LT
A21: NCP1_2_VFD1 | B21: SI2 | C21: NCP1_2_VFD1_SI2 | D21: NCP1_2_EPC2 | E21: NCP1_2_S1_PB
A22: NCP1_2_VFD1 | B22: SI3 | C22: NCP1_2_VFD1_SI3 | D22: NCP1_2_EPC2_2 | E22: NCP1_2_S1_PB_LT
A23: NCP1_2_VFD1 | B23: SO0 | C23: NCP1_2_VFD1_SO0 | E23: NCP1_2_S2_PB
A24: NCP1_3_VFD1 | B24: I0 | C24: NCP1_3_VFD1_I0 | D24: NCP1_3_DISC | E24: NCP1_2_S2_PB_LT
A25: NCP1_3_VFD1 | B25: I1 | C25: NCP1_3_VFD1_I1 | D25: NCP1_3_ENC1 | E25: NCP1_2_TPE3
A26: NCP1_3_VFD1 | B26: I2 | C26: NCP1_3_VFD1_I2 | D26: NCP1_3_TPE1 | E26: NCP1_2_TPE4
A27: NCP1_3_VFD1 | B27: I3 | C27: NCP1_3_VFD1_I3 | D27: NCP1_3_TPE2 | E27: NCP1_2_TPE5
A28: NCP1_3_VFD1 | B28: IO0 | C28: NCP1_3_VFD1_IO0 | E28: NCP1_3_BCN1_R
A29: NCP1_3_VFD1 | B29: IO1 | C29: NCP1_3_VFD1_IO1 | E29: NCP1_3_BCN2_A
A30: NCP1_3_VFD1 | B30: SI0 | C30: NCP1_3_VFD1_SI0 | D30: NCP1_3_EPC1 | E30: NCP1_3_BCN2_R
A31: NCP1_3_VFD1 | B31: SI1 | C31: NCP1_3_VFD1_SI1 | D31: NCP1_3_EPC1_2 | E31: NCP1_3_BCN3_A
A32: NCP1_3_VFD1 | B32: SI2 | C32: NCP1_3_VFD1_SI2 | D32: NCP1_3_EPC2 | E32: NCP1_3_BCN4_A
A33: NCP1_3_VFD1 | B33: SI3 | C33: NCP1_3_VFD1_SI3 | D33: NCP1_3_EPC2_2 | E33: NCP1_3_BCN5_A
A34: NCP1_3_VFD1 | B34: SO0 | C34: NCP1_3_VFD1_SO0 | E34: NCP1_3_JR1_PB
A35: NCP1_4_VFD1 | B35: I0 | C35: NCP1_4_VFD1_I0 | D35: NCP1_4_DISC | E35: NCP1_3_JR1_PB_LT
A36: NCP1_4_VFD1 | B36: I1 | C36: NCP1_4_VFD1_I1 | E36: NCP1_3_JR2_PB
A37: NCP1_4_VFD1 | B37: I2 | C37: NCP1_4_VFD1_I2 | E37: NCP1_3_JR2_PB_LT
A38: NCP1_4_VFD1 | B38: I3 | C38: NCP1_4_VFD1_I3 | E38: NCP1_3_JR3_PB
A39: NCP1_4_VFD1 | B39: IO0 | C39: NCP1_4_VFD1_IO0 | E39: NCP1_3_JR3_PB_LT
A40: NCP1_4_VFD1 | B40: IO1 | C40: NCP1_4_VFD1_IO1 | E40: NCP1_3_S1_PB
...

Sheet DESC_PLC
A1: TAGNAME | B1: TERM | C1: DESCA | D1: DESCB
A2: NCP1_1_VFD1 | B2: I0 | C2: NCP1_1_VFD1_DISC | D2: DISCONNECT AUX
A3: NCP1_1_VFD1 | B3: I1 | C3: NCP1_1_ENC1 | D3: ENCODER
A4: NCP1_1_VFD1 | B4: I2 | C4: NCP1_1_TPE1 | D4: TRACKING PHOTOEYE
A5: NCP1_1_VFD1 | B5: I3 | C5: NCP1_1_TPE2 | D5: TRACKING PHOTOEYE
A6: NCP1_1_VFD1 | B6: IO0 | C6: NCP1_1_BCN2_A | D6: AMBER BEACON LIGHT
A7: NCP1_1_VFD1 | B7: IO1 | C7: NCP1_1_BCN2_R | D7: RED BEACON LIGHT
A8: NCP1_1_VFD1 | B8: SI0 | C8: NCP1_1_EPC1 | D8: E-STOP PULLCORD
A9: NCP1_1_VFD1 | B9: SI1 | C9: NCP1_1_EPC1_2 | D9: E-STOP PULLCORD
A10: NCP1_1_VFD1 | B10: SI2 | C10: NCP1_1_EPC2 | D10: E-STOP PULLCORD
A11: NCP1_1_VFD1 | B11: SI3 | C11: NCP1_1_EPC2_2 | D11: E-STOP PULLCORD
A12: NCP1_1_VFD1 | B12: SO0 | C12: SPARE
A13: NCP1_1_FIO1 | B13: IO0 | C13: NCP1_1_BCN1_R | D13: RED BEACON LIGHT
A14: NCP1_1_FIO1 | B14: IO1 | C14: SPARE
A15: NCP1_1_FIO1 | B15: IO2 | C15: NCP1_1_S1_PB | D15: START PUSHBUTTON
A16: NCP1_1_FIO1 | B16: IO3 | C16: NCP1_1_S1_PB_LT | D16: START PUSHBUTTON LIGHT
A17: NCP1_1_FIO1 | B17: IO4 | C17: NCP1_1_S2_PB | D17: START PUSHBUTTON
A18: NCP1_1_FIO1 | B18: IO5 | C18: NCP1_1_S2_PB_LT | D18: START PUSHBUTTON LIGHT
A19: NCP1_1_FIO1 | B19: IO6 | C19: NCP1_1_TPE3 | D19: TRACKING PHOTOEYE
A20: NCP1_1_FIO1 | B20: IO7 | C20: SPARE
A21: NCP1_1_FIO1 | B21: IO8 | C21: NCP1_1_TPE5 | D21: TRACKING PHOTOEYE
A22: NCP1_1_FIO1 | B22: IO9 | C22: SPARE
A23: NCP1_1_FIO1 | B23: IO10 | C23: NCP1_1_BCN3_A | D23: AMBER BEACON LIGHT
A24: NCP1_1_FIO1 | B24: IO11 | C24: NCP1_1_BCN3_H | D24: ALARM HORN
A25: NCP1_1_FIO1 | B25: IO12 | C25: NCP1_1_TPE4 | D25: TRACKING PHOTOEYE
A26: NCP1_1_FIO1 | B26: IO13 | C26: SPARE
A27: NCP1_1_FIO1 | B27: IO14 | C27: SPARE
A28: NCP1_1_FIO1 | B28: IO15 | C28: SPARE
A29: NCP1_2_VFD1 | B29: I0 | C29: NCP1_2_VFD1_DISC | D29: DISCONNECT AUX
A30: NCP1_2_VFD1 | B30: I1 | C30: NCP1_2_ENC1 | D30: ENCODER
A31: NCP1_2_VFD1 | B31: I2 | C31: NCP1_2_TPE1 | D31: TRACKING PHOTOEYE
A32: NCP1_2_VFD1 | B32: I3 | C32: NCP1_2_TPE2 | D32: TRACKING PHOTOEYE
A33: NCP1_2_VFD1 | B33: IO0 | C33: NCP1_1_JR1_PB | D33: JAM RESET PUSHBUTTON
A34: NCP1_2_VFD1 | B34: IO1 | C34: NCP1_1_JR1_PB_LT | D34: JAM RESET PUSHBUTTON LIGHT
A35: NCP1_2_VFD1 | B35: SI0 | C35: NCP1_2_EPC1 | D35: E-STOP PULLCORD
A36: NCP1_2_VFD1 | B36: SI1 | C36: NCP1_2_EPC1_2 | D36: E-STOP PULLCORD
A37: NCP1_2_VFD1 | B37: SI2 | C37: NCP1_2_EPC2 | D37: E-STOP PULLCORD
A38: NCP1_2_VFD1 | B38: SI3 | C38: NCP1_2_EPC2_2 | D38: E-STOP PULLCORD
A39: NCP1_2_VFD1 | B39: SO0 | C39: SPARE
A40: NCP1_2_FIO1 | B40: IO0 | C40: NCP1_2_BCN2_A | D40: AMBER BEACON LIGHT
...

Sheet NETWORK_PLC
A1: DPM | B1: DPM_IP | C1: Name | D1: PartNumber | E1: IP
A2: NCP1_1_DPM1 | B2: 11.200.1.2 | C2: UL1_14_VFD1 | D2: 35S-6D3-P101 | E2: 11.200.1.30
A3: NCP1_1_DPM1 | B3: 11.200.1.2 | C3: UL1_15_VFD1 | D3: 35S-6D3-P101 | E3: 11.200.1.31
A4: NCP1_1_DPM1 | B4: 11.200.1.2 | C4: UL1_16_VFD1 | D4: 35S-6D3-P101 | E4: 11.200.1.32
A5: NCP1_1_DPM1 | B5: 11.200.1.2 | C5: UL1_17_VFD1 | D5: 35S-6D3-P101 | E5: 11.200.1.33
A6: NCP1_1_DPM1 | B6: 11.200.1.2 | C6: UL1_18_VFD1 | D6: 35S-6D4-P111 | E6: 11.200.1.34
A7: NCP1_1_DPM1 | B7: 11.200.1.2 | C7: UL1_19_VFD1 | D7: 35S-6D3-P101 | E7: 11.200.1.35
A8: NCP1_1_DPM1 | B8: 11.200.1.2 | C8: UL1_20_VFD1 | D8: 35S-6D2-P101 | E8: 11.200.1.36
A9: NCP1_1_DPM1 | B9: 11.200.1.2 | C9: UL4_14_VFD1 | D9: 35S-6D2-P101 | E9: 11.200.1.37
A10: NCP1_1_DPM1 | B10: 11.200.1.2 | C10: UL4_15_VFD1 | D10: 35S-6D3-P101 | E10: 11.200.1.38
A11: NCP1_1_DPM1 | B11: 11.200.1.2 | C11: UL4_16_VFD1 | D11: 35S-6D3-P101 | E11: 11.200.1.39
A12: NCP1_1_DPM1 | B12: 11.200.1.2 | C12: UL4_17_VFD1 | D12: 35S-6D3-P101 | E12: 11.200.1.40
... A64: NCP1_5_DPM1 | B64: 11.200.1.5 | C64: NCP1_8_FIO1 | D64: 5032-8IOLM12DR | E64: 11.200.1.90
