Workbook

Sheet Templates
A2: VFD IO TEMPLATE | C2: FIO IO Template
A3: I0 | C3: IO00
A4: I1 | C4: IO01
A5: I2 | C5: IO02
A6: I3 | C6: IO03
A7: IO0 | C7: IO04
A8: IO1 | C8: IO05
A9: SI0 | C9: IO06
A10: SI1 | C10: IO07
A11: SI2 | C11: IO08
A12: SI3 | C12: IO09
A13: SO0 | C13: IO10
C14: IO11
C15: IO12
C16: IO13
C17: IO14
C18: IO15
C19: IO16

Sheet Devices
H1: Which MCM we assign? | I1: MCM01
A2: PS1_1_BCN1_R
A3: PS1_1_BCN2_R
A4: PS1_1_DISC
A5: PS1_1_EPC1
A6: PS1_1_EPC1_2
A7: PS1_1_EPC2
A8: PS1_1_EPC2_2
A9: PS1_1_S1_PB
A10: PS1_1_S1_PB_LT
A11: PS1_1_S2_PB
A12: PS1_1_S2_PB_LT
A13: PS1_1_VFD1
... A992: UL9_9_VFD1

Sheet Instructions
A2: 1. | B2: Put all device tags to cell A2
A37: 2. | B37: In cell I1 write MCM number
A47: 3. | B47: Click on "Add Disconnects" button.
A57: 4. | B57: Replace all _VFD1_DISC with _DISC. Without this point it will generate IO points for _VFD1_DISC device
A69: 5. | B69: Click on "Split SS station". This will split all _SS to SS_STPB, SS_SPB and SS_STPB_LT
A78: 6. | B78: Click on "Split start PB". This will split all _S and _JR to _S_PB, _S_PB_LT, JR_PB and JR_PB_LT
A87: 7. | B87: Click on "Duplicate EPC Tag". This will add duplicate for all EPC and add _2 to copy
A97: 8. | B97: Click on "Create Assignment table template". This will add new sheet with name "IO Assignment MCM01 and fill with VFD and FIO names and their adresses
A107: 9. | B107: Click on "Assign Devices to VFD". This will add device tags to correspond VFD IO. Works for Disc, TPE, JPE, EPC, ENC
A116: 10. | B116: All Unassigned Pushbuttons and lights fill manually and all devices, that couldn't filled to VFD also will be here.

Sheet IO Assignment MCM01
A1: Controller name | B1: Signal type | C1: Address name | D1: Assigned device | E1: Unassigned Device | K1: MCM01_DESC_V2
A2: PS1_01_VFD1 | B2: I0 | C2: PS1_01_VFD1_I0 | D2: PS1_1_VFD1_DISC
A3: PS1_01_VFD1 | B3: I1 | C3: PS1_01_VFD1_I1
A4: PS1_01_VFD1 | B4: I2 | C4: PS1_01_VFD1_I2
A5: PS1_01_VFD1 | B5: I3 | C5: PS1_01_VFD1_I3
A6: PS1_01_VFD1 | B6: IO0 | C6: PS1_01_VFD1_IO0 | D6: PS1_1_S1_PB
A7: PS1_01_VFD1 | B7: IO1 | C7: PS1_01_VFD1_IO1 | D7: PS1_1_S1_PB_LT
A8: PS1_01_VFD1 | B8: SI0 | C8: PS1_01_VFD1_SI0 | D8: PS1_1_EPC1
A9: PS1_01_VFD1 | B9: SI1 | C9: PS1_01_VFD1_SI1 | D9: PS1_1_EPC1_2
A10: PS1_01_VFD1 | B10: SI2 | C10: PS1_01_VFD1_SI2 | D10: PS1_1_EPC2
A11: PS1_01_VFD1 | B11: SI3 | C11: PS1_01_VFD1_SI3 | D11: PS1_1_EPC2_2
A12: PS1_01_VFD1 | B12: SO0 | C12: PS1_01_VFD1_SO0
A13: PS1_02_VFD1 | B13: I0 | C13: PS1_02_VFD1_I0 | D13: PS1_2_VFD1_DISC
A14: PS1_02_VFD1 | B14: I1 | C14: PS1_02_VFD1_I1
A15: PS1_02_VFD1 | B15: I2 | C15: PS1_02_VFD1_I2 | D15: PS1_2_TPE1
A16: PS1_02_VFD1 | B16: I3 | C16: PS1_02_VFD1_I3 | D16: PS1_2_TPE2
A17: PS1_02_VFD1 | B17: IO0 | C17: PS1_02_VFD1_IO0 | D17: PS1_1_BCN2_R
A18: PS1_02_VFD1 | B18: IO1 | C18: PS1_02_VFD1_IO1 | D18: PS1_1_BCN2_H
A19: PS1_02_VFD1 | B19: SI0 | C19: PS1_02_VFD1_SI0
A20: PS1_02_VFD1 | B20: SI1 | C20: PS1_02_VFD1_SI1
A21: PS1_02_VFD1 | B21: SI2 | C21: PS1_02_VFD1_SI2
A22: PS1_02_VFD1 | B22: SI3 | C22: PS1_02_VFD1_SI3
A23: PS1_02_VFD1 | B23: SO0 | C23: PS1_02_VFD1_SO0 | D23: PS1_1_BCN1_R
A24: PS1_03_VFD1 | B24: I0 | C24: PS1_03_VFD1_I0 | D24: PS1_3_VFD1_DISC
A25: PS1_03_VFD1 | B25: I1 | C25: PS1_03_VFD1_I1
A26: PS1_03_VFD1 | B26: I2 | C26: PS1_03_VFD1_I2
A27: PS1_03_VFD1 | B27: I3 | C27: PS1_03_VFD1_I3
A28: PS1_03_VFD1 | B28: IO0 | C28: PS1_03_VFD1_IO0 | D28: PS1_1_S2_PB
A29: PS1_03_VFD1 | B29: IO1 | C29: PS1_03_VFD1_IO1 | D29: PS1_1_S2_PB_LT
A30: PS1_03_VFD1 | B30: SI0 | C30: PS1_03_VFD1_SI0
A31: PS1_03_VFD1 | B31: SI1 | C31: PS1_03_VFD1_SI1
A32: PS1_03_VFD1 | B32: SI2 | C32: PS1_03_VFD1_SI2
A33: PS1_03_VFD1 | B33: SI3 | C33: PS1_03_VFD1_SI3
A34: PS1_03_VFD1 | B34: SO0 | C34: PS1_03_VFD1_SO0
A35: PS1_04_VFD1 | B35: I0 | C35: PS1_04_VFD1_I0 | D35: PS1_4_VFD1_DISC
A36: PS1_04_VFD1 | B36: I1 | C36: PS1_04_VFD1_I1
A37: PS1_04_VFD1 | B37: I2 | C37: PS1_04_VFD1_I2 | D37: PS1_4_TPE1
A38: PS1_04_VFD1 | B38: I3 | C38: PS1_04_VFD1_I3 | D38: PS1_4_TPE2
A39: PS1_04_VFD1 | B39: IO0 | C39: PS1_04_VFD1_IO0 | D39: PS1_5_S1_PB
A40: PS1_04_VFD1 | B40: IO1 | C40: PS1_04_VFD1_IO1 | D40: PS1_5_S1_PB_LT
...

Sheet NETWORK
B1: MCM01
A2: SLOT0 | B2: 1756-L83ES | C2: IP | D2: RING | F2: STAR
A3: SLOT1 | B3: 1756-N2 | D3: DPM | E3: DPM_IP | F3: Name | G3: PartNumber | H3: IP | I3: PDP | J3: DPM | K3: HP | L3: VFD PART NUMBER | P3: =_xlfn.CONCAT(Q3,"_VFD1") | Q3: PS1_1 | R3: 2 | S3: =VLOOKUP(R3,'Part number'!$C$1:$D$13,2,FALSE)
A4: SLOT2 | B4: 1756-EN4TR | C4: 11.200.1.1 | D4: UL1_4_DPM1 | E4: 11.200.1.2 | F4: UL1_1_EX1 | G4: FMH | H4: 11.200.1.30 | I4: PDP01 | J4: DPM1_UL1_4_P1 | K4: =VLOOKUP(G4,'Part number'!$B$2:$C$13,2,0) | N4: MCM01 | O4: PDP1 | P4: =_xlfn.CONCAT(Q4,"_VFD1") | Q4: PS1_2 | R4: 2 | S4: =VLOOKUP(R4,'Part number'!$C$1:$D$13,2,FALSE)
A5: SLOT3 | B5: 1756-N2 | F5: UL1_3_VFD1 | G5: =VLOOKUP(F5,$P$3:$S$176,4,FALSE) | H5: 11.200.1.31 | I5: PDP01 | J5: DPM1_UL1_4_P2 | K5: =VLOOKUP(G5,'Part number'!$B$2:$C$13,2,0) | O5: PDP2 | P5: =_xlfn.CONCAT(Q5,"_VFD1") | Q5: PS1_3 | R5: 2 | S5: =VLOOKUP(R5,'Part number'!$C$1:$D$13,2,FALSE)
A6: SLOT4 | B6: 1756-N2 | F6: UL1_4_VFD1 | G6: =VLOOKUP(F6,$P$3:$S$176,4,FALSE) | H6: 11.200.1.32 | I6: PDP01 | J6: DPM1_UL1_4_P3 | K6: =VLOOKUP(G6,'Part number'!$B$2:$C$13,2,0) | O6: PDP6 | P6: =_xlfn.CONCAT(Q6,"_VFD1") | Q6: PS1_4 | R6: 7.5 | S6: =VLOOKUP(R6,'Part number'!$C$1:$D$13,2,FALSE)
A7: SLOT5 | B7: 1756-IB16 | F7: UL1_5_VFD1 | G7: =VLOOKUP(F7,$P$3:$S$176,4,FALSE) | H7: 11.200.1.33 | I7: PDP01 | J7: DPM1_UL1_4_P4 | K7: =VLOOKUP(G7,'Part number'!$B$2:$C$13,2,0) | P7: PS1_4_DPM1 | Q7: PS1_4_DPM1 | R7: DPM | S7: =VLOOKUP(R7,'Part number'!$C$1:$D$13,2,FALSE)
A8: SLOT6 | B8: 1756-OB16E | F8: UL1_6_VFD1 | G8: =VLOOKUP(F8,$P$3:$S$176,4,FALSE) | H8: 11.200.1.34 | I8: PDP01 | J8: DPM1_UL1_4_P5 | K8: =VLOOKUP(G8,'Part number'!$B$2:$C$13,2,0) | P8: =_xlfn.CONCAT(Q8,"_VFD1") | Q8: PS1_5 | R8: 5 | S8: =VLOOKUP(R8,'Part number'!$C$1:$D$13,2,FALSE)
A9: SLOT7 | B9: 1756-IB16S | F9: UL1_7_VFD1 | G9: =VLOOKUP(F9,$P$3:$S$176,4,FALSE) | H9: 11.200.1.35 | I9: PDP01 | J9: DPM1_UL1_4_P6 | K9: =VLOOKUP(G9,'Part number'!$B$2:$C$13,2,0) | P9: =_xlfn.CONCAT(Q9,"_VFD1") | Q9: PS2_1 | R9: 2 | S9: =VLOOKUP(R9,'Part number'!$C$1:$D$13,2,FALSE)
A10: SLOT8 | B10: 1756-N2 | F10: UL1_8_VFD1 | G10: =VLOOKUP(F10,$P$3:$S$176,4,FALSE) | H10: 11.200.1.36 | I10: PDP01 | J10: DPM1_UL1_4_P7 | K10: =VLOOKUP(G10,'Part number'!$B$2:$C$13,2,0) | P10: =_xlfn.CONCAT(Q10,"_VFD1") | Q10: PS2_2 | R10: 3 | S10: =VLOOKUP(R10,'Part number'!$C$1:$D$13,2,FALSE)
A11: SLOT9 | B11: 1756-N2 | F11: UL1_9_VFD1 | G11: =VLOOKUP(F11,$P$3:$S$176,4,FALSE) | H11: 11.200.1.37 | I11: PDP01 | J11: DPM1_UL1_4_P8 | K11: =VLOOKUP(G11,'Part number'!$B$2:$C$13,2,0) | P11: =_xlfn.CONCAT(Q11,"_VFD1") | Q11: PS2_3 | R11: 5 | S11: =VLOOKUP(R11,'Part number'!$C$1:$D$13,2,FALSE)
F12: UL1_10A_VFD1 | G12: =VLOOKUP(F12,$P$3:$S$176,4,FALSE) | H12: 11.200.1.38 | I12: PDP01 | J12: DPM1_UL1_4_P9 | K12: =VLOOKUP(G12,'Part number'!$B$2:$C$13,2,0) | P12: =_xlfn.CONCAT(Q12,"_VFD1") | Q12: PS2_4 | R12: 2 | S12: =VLOOKUP(R12,'Part number'!$C$1:$D$13,2,FALSE)
F13: UL1_10B_VFD1 | G13: =VLOOKUP(F13,$P$3:$S$176,4,FALSE) | H13: 11.200.1.39 | I13: PDP01 | J13: DPM1_UL1_4_P10 | K13: =VLOOKUP(G13,'Part number'!$B$2:$C$13,2,0) | P13: =_xlfn.CONCAT(Q13,"_VFD1") | Q13: PS2_5 | R13: 7.5 | S13: =VLOOKUP(R13,'Part number'!$C$1:$D$13,2,FALSE)
A14: DPM COUNT | B14: 11 | F14: UL1_11_VFD1 | G14: =VLOOKUP(F14,$P$3:$S$176,4,FALSE) | H14: 11.200.1.40 | I14: PDP01 | J14: DPM1_UL1_4_P11 | K14: =VLOOKUP(G14,'Part number'!$B$2:$C$13,2,0) | P14: =_xlfn.CONCAT(Q14,"_VFD1") | Q14: PS2_6 | R14: 3 | S14: =VLOOKUP(R14,'Part number'!$C$1:$D$13,2,FALSE)
F15: UL1_12_VFD1 | G15: =VLOOKUP(F15,$P$3:$S$176,4,FALSE) | H15: 11.200.1.41 | I15: PDP01 | J15: DPM1_UL1_4_P12 | K15: =VLOOKUP(G15,'Part number'!$B$2:$C$13,2,0) | P15: =_xlfn.CONCAT(Q15,"_VFD1") | Q15: PS3_1 | R15: 2 | S15: =VLOOKUP(R15,'Part number'!$C$1:$D$13,2,FALSE)
F16: UL1_13_VFD1 | G16: =VLOOKUP(F16,$P$3:$S$176,4,FALSE) | H16: 11.200.1.42 | I16: PDP01 | J16: DPM1_UL1_4_P13 | K16: =VLOOKUP(G16,'Part number'!$B$2:$C$13,2,0) | P16: =_xlfn.CONCAT(Q16,"_VFD1") | Q16: PS3_10 | R16: 5 | S16: =VLOOKUP(R16,'Part number'!$C$1:$D$13,2,FALSE)
F17: UL1_3_FIO1 | G17: 5032-8IOLM12DR | H17: 11.200.1.43 | I17: PDP01 | J17: DPM1_UL1_4_P14 | K17: =VLOOKUP(G17,'Part number'!$B$2:$C$13,2,0) | P17: =_xlfn.CONCAT(Q17,"_VFD1") | Q17: PS3_11 | R17: 3 | S17: =VLOOKUP(R17,'Part number'!$C$1:$D$13,2,FALSE)
F18: UL1_13_FIO1 | G18: 5032-8IOLM12DR | H18: 11.200.1.216 | M18: ADDED 5/26 | P18: =_xlfn.CONCAT(Q18,"_VFD1") | Q18: PS3_12 | R18: 3 | S18: =VLOOKUP(R18,'Part number'!$C$1:$D$13,2,FALSE)
D19: UL2_4_DPM1 | E19: 11.200.1.3 | F19: UL2_1_EX1 | G19: FMH | H19: 11.200.1.44 | I19: PDP01 | J19: DPM2_UL2_4_P1 | K19: =VLOOKUP(G19,'Part number'!$B$2:$C$13,2,0) | P19: =_xlfn.CONCAT(Q19,"_VFD1") | Q19: PS3_2 | R19: 3 | S19: =VLOOKUP(R19,'Part number'!$C$1:$D$13,2,FALSE)
F20: UL2_3_VFD1 | G20: =VLOOKUP(F20,$P$3:$S$176,4,FALSE) | H20: 11.200.1.45 | I20: PDP01 | J20: DPM2_UL2_4_P2 | K20: =VLOOKUP(G20,'Part number'!$B$2:$C$13,2,0) | P20: =_xlfn.CONCAT(Q20,"_VFD1") | Q20: PS3_3 | R20: 3 | S20: =VLOOKUP(R20,'Part number'!$C$1:$D$13,2,FALSE)
F21: UL2_4_VFD1 | G21: =VLOOKUP(F21,$P$3:$S$176,4,FALSE) | H21: 11.200.1.46 | I21: PDP01 | J21: DPM2_UL2_4_P3 | K21: =VLOOKUP(G21,'Part number'!$B$2:$C$13,2,0) | P21: =_xlfn.CONCAT(Q21,"_VFD1") | Q21: PS3_4 | R21: 2 | S21: =VLOOKUP(R21,'Part number'!$C$1:$D$13,2,FALSE)
F22: UL2_5_VFD1 | G22: =VLOOKUP(F22,$P$3:$S$176,4,FALSE) | H22: 11.200.1.47 | I22: PDP01 | J22: DPM2_UL2_4_P4 | K22: =VLOOKUP(G22,'Part number'!$B$2:$C$13,2,0) | P22: =_xlfn.CONCAT(Q22,"_VFD1") | Q22: PS3_5 | R22: 5 | S22: =VLOOKUP(R22,'Part number'!$C$1:$D$13,2,FALSE)
F23: UL2_6_VFD1 | G23: =VLOOKUP(F23,$P$3:$S$176,4,FALSE) | H23: 11.200.1.48 | I23: PDP01 | J23: DPM2_UL2_4_P5 | K23: =VLOOKUP(G23,'Part number'!$B$2:$C$13,2,0) | P23: =_xlfn.CONCAT(Q23,"_VFD1") | Q23: PS3_6 | R23: 5 | S23: =VLOOKUP(R23,'Part number'!$C$1:$D$13,2,FALSE)
F24: UL2_7_VFD1 | G24: =VLOOKUP(F24,$P$3:$S$176,4,FALSE) | H24: 11.200.1.49 | I24: PDP01 | J24: DPM2_UL2_4_P6 | K24: =VLOOKUP(G24,'Part number'!$B$2:$C$13,2,0) | P24: PS3_6_DPM1 | Q24: PS3_6_DPM1 | R24: DPM | S24: =VLOOKUP(R24,'Part number'!$C$1:$D$13,2,FALSE)
F25: UL2_8_VFD1 | G25: =VLOOKUP(F25,$P$3:$S$176,4,FALSE) | H25: 11.200.1.50 | I25: PDP01 | J25: DPM2_UL2_4_P7 | K25: =VLOOKUP(G25,'Part number'!$B$2:$C$13,2,0) | P25: =_xlfn.CONCAT(Q25,"_VFD1") | Q25: PS3_7 | R25: 10 | S25: =VLOOKUP(R25,'Part number'!$C$1:$D$13,2,FALSE)
F26: UL2_9_VFD1 | G26: =VLOOKUP(F26,$P$3:$S$176,4,FALSE) | H26: 11.200.1.51 | I26: PDP01 | J26: DPM2_UL2_4_P8 | K26: =VLOOKUP(G26,'Part number'!$B$2:$C$13,2,0) | P26: =_xlfn.CONCAT(Q26,"_VFD1") | Q26: PS3_8 | R26: 3 | S26: =VLOOKUP(R26,'Part number'!$C$1:$D$13,2,FALSE)
F27: UL2_10_VFD1 | G27: =VLOOKUP(F27,$P$3:$S$176,4,FALSE) | H27: 11.200.1.52 | I27: PDP01 | J27: DPM2_UL2_4_P9 | K27: =VLOOKUP(G27,'Part number'!$B$2:$C$13,2,0) | P27: =_xlfn.CONCAT(Q27,"_VFD1") | Q27: PS3_9 | R27: 5 | S27: =VLOOKUP(R27,'Part number'!$C$1:$D$13,2,FALSE)
F28: UL3_1_VFD1 | G28: =VLOOKUP(F28,$P$3:$S$176,4,FALSE) | H28: 11.200.1.53 | I28: PDP01 | J28: DPM2_UL2_4_P10 | K28: =VLOOKUP(G28,'Part number'!$B$2:$C$13,2,0) | P28: =_xlfn.CONCAT(Q28,"_VFD1") | Q28: PS4_1 | R28: 2 | S28: =VLOOKUP(R28,'Part number'!$C$1:$D$13,2,FALSE)
F29: UL3_2_VFD1 | G29: =VLOOKUP(F29,$P$3:$S$176,4,FALSE) | H29: 11.200.1.54 | I29: PDP01 | J29: DPM2_UL2_4_P11 | K29: =VLOOKUP(G29,'Part number'!$B$2:$C$13,2,0) | P29: =_xlfn.CONCAT(Q29,"_VFD1") | Q29: PS4_10 | R29: 10 | S29: =VLOOKUP(R29,'Part number'!$C$1:$D$13,2,FALSE)
F30: UL3_3_VFD1 | G30: =VLOOKUP(F30,$P$3:$S$176,4,FALSE) | H30: 11.200.1.55 | I30: PDP01 | J30: DPM2_UL2_4_P12 | K30: =VLOOKUP(G30,'Part number'!$B$2:$C$13,2,0) | P30: =_xlfn.CONCAT(Q30,"_VFD1") | Q30: PS4_11 | R30: 5 | S30: =VLOOKUP(R30,'Part number'!$C$1:$D$13,2,FALSE)
F31: UL3_4_VFD1 | G31: =VLOOKUP(F31,$P$3:$S$176,4,FALSE) | H31: 11.200.1.56 | I31: PDP01 | J31: DPM2_UL2_4_P13 | K31: =VLOOKUP(G31,'Part number'!$B$2:$C$13,2,0) | P31: =_xlfn.CONCAT(Q31,"_VFD1") | Q31: PS4_12 | R31: 3 | S31: =VLOOKUP(R31,'Part number'!$C$1:$D$13,2,FALSE)
F32: UL3_5_VFD1 | G32: =VLOOKUP(F32,$P$3:$S$176,4,FALSE) | H32: 11.200.1.57 | I32: PDP01 | J32: DPM2_UL2_4_P14 | K32: =VLOOKUP(G32,'Part number'!$B$2:$C$13,2,0) | P32: =_xlfn.CONCAT(Q32,"_VFD1") | Q32: PS4_13 | R32: 3 | S32: =VLOOKUP(R32,'Part number'!$C$1:$D$13,2,FALSE)
F33: UL3_6_VFD1 | G33: =VLOOKUP(F33,$P$3:$S$176,4,FALSE) | H33: 11.200.1.58 | I33: PDP01 | J33: DPM2_UL2_4_P15 | K33: =VLOOKUP(G33,'Part number'!$B$2:$C$13,2,0) | P33: =_xlfn.CONCAT(Q33,"_VFD1") | Q33: PS4_14 | R33: 3 | S33: =VLOOKUP(R33,'Part number'!$C$1:$D$13,2,FALSE)
F34: UL3_7_VFD1 | G34: =VLOOKUP(F34,$P$3:$S$176,4,FALSE) | H34: 11.200.1.59 | I34: PDP01 | J34: DPM2_UL2_4_P16 | K34: =VLOOKUP(G34,'Part number'!$B$2:$C$13,2,0) | P34: =_xlfn.CONCAT(Q34,"_VFD1") | Q34: PS4_2 | R34: 3 | S34: =VLOOKUP(R34,'Part number'!$C$1:$D$13,2,FALSE)
F35: UL3_8_VFD1 | G35: =VLOOKUP(F35,$P$3:$S$176,4,FALSE) | H35: 11.200.1.60 | I35: PDP01 | J35: DPM2_UL2_4_P17 | K35: =VLOOKUP(G35,'Part number'!$B$2:$C$13,2,0) | P35: =_xlfn.CONCAT(Q35,"_VFD1") | Q35: PS4_3 | R35: 2 | S35: =VLOOKUP(R35,'Part number'!$C$1:$D$13,2,FALSE)
F36: UL3_9_VFD1 | G36: =VLOOKUP(F36,$P$3:$S$176,4,FALSE) | H36: 11.200.1.61 | I36: PDP01 | J36: DPM2_UL2_4_P18 | K36: =VLOOKUP(G36,'Part number'!$B$2:$C$13,2,0) | P36: =_xlfn.CONCAT(Q36,"_VFD1") | Q36: PS4_4 | R36: 3 | S36: =VLOOKUP(R36,'Part number'!$C$1:$D$13,2,FALSE)
F37: UL2_3_FIO1 | G37: 5032-8IOLM12DR | H37: 11.200.1.62 | I37: PDP01 | J37: DPM2_UL2_4_P19 | K37: =VLOOKUP(G37,'Part number'!$B$2:$C$13,2,0) | P37: =_xlfn.CONCAT(Q37,"_VFD1") | Q37: PS4_5 | R37: 5 | S37: =VLOOKUP(R37,'Part number'!$C$1:$D$13,2,FALSE)
F38: UL3_2_FIO1 | G38: 5032-8IOLM12DR | H38: 11.200.1.63 | I38: PDP01 | J38: DPM2_UL2_4_P20 | K38: =VLOOKUP(G38,'Part number'!$B$2:$C$13,2,0) | P38: =_xlfn.CONCAT(Q38,"_VFD1") | Q38: PS4_6 | R38: 7.5 | S38: =VLOOKUP(R38,'Part number'!$C$1:$D$13,2,FALSE)
D39: UL4_4_DPM1 | E39: 11.200.1.4 | F39: UL4_1_EX1 | G39: FMH | H39: 11.200.1.64 | I39: PDP01 | J39: DPM3_UL4_4_P1 | K39: =VLOOKUP(G39,'Part number'!$B$2:$C$13,2,0) | P39: =_xlfn.CONCAT(Q39,"_VFD1") | Q39: PS4_7 | R39: 7.5 | S39: =VLOOKUP(R39,'Part number'!$C$1:$D$13,2,FALSE)
F40: UL4_3_VFD1 | G40: =VLOOKUP(F40,$P$3:$S$176,4,FALSE) | H40: 11.200.1.65 | I40: PDP01 | J40: DPM3_UL4_4_P2 | K40: =VLOOKUP(G40,'Part number'!$B$2:$C$13,2,0) | P40: PS4_7_DPM1 | Q40: PS4_7_DPM1 | R40: DPM | S40: =VLOOKUP(R40,'Part number'!$C$1:$D$13,2,FALSE)
...

Sheet Part number
B1: PART NUMBER | C1: HP | D1: PART NUMBER
B2: 35S-6D2-P101 | C2: 2 | D2: 35S-6D2-P101
B3: 35S-6D3-P101 | C3: 3 | D3: 35S-6D3-P101
B4: 35S-6D4-P111 | C4: 5 | D4: 35S-6D4-P111
B5: 35S-6D5-P111 | C5: 7.5 | D5: 35S-6D5-P111
B6: 35S-6D6-P111 | C6: 10 | D6: 35S-6D6-P111
B7: 25B-D024N104 | C7: 15 | D7: 25B-D024N104
B8: 25B-D030N104 | C8: 20 | D8: 25B-D030N104
B9: 25B-D043N114 | C9: 30 | D9: 25B-D043N114
B10: CALJAN | C10: EXTENDO | D10: CALJAN
B11: PIONEER | C11: TIPPER | D11: PIONEER
B12: ZMX-3DE2500HF-Q7-AMZCHD | C12: ZMX | D12: ZMX-3DE2500HF-Q7-AMZCHD
B13: 5032-8IOLM12DR | C13: FIO | D13: 5032-8IOLM12DR

Sheet MCM01_DESC
A1: TAGNAME | B1: ADDR | C1: TERM | D1: TERMDESC | E1: DESCA | F1: DESCB | H1: CONTROLLERS
A2: PS1_01_VFD1 | B2: PS1_01_VFD1_I0 | C2: I0 | E2: PS1_1_VFD1_DISC | F2: DISCONNECT AUX | H2: PS1_01_VFD1 | I2: 600
A3: PS1_01_VFD1 | B3: PS1_01_VFD1_I1 | C3: I1 | E3: SPARE | H3: PS1_02_VFD1
A4: PS1_01_VFD1 | B4: PS1_01_VFD1_I2 | C4: I2 | E4: SPARE | H4: PS1_03_VFD1
A5: PS1_01_VFD1 | B5: PS1_01_VFD1_I3 | C5: I3 | E5: SPARE | H5: PS1_04_VFD1
A6: PS1_01_VFD1 | B6: PS1_01_VFD1_IO0 | C6: IO0 | E6: PS1_1_S1_PB | F6: START PUSHBUTTON
A7: PS1_01_VFD1 | B7: PS1_01_VFD1_IO1 | C7: IO1 | E7: PS1_1_S1_PB_LT | F7: START PUSHBUTTON LIGHT | H7: PS1_05_VFD1 | I7: 601
A8: PS1_01_VFD1 | B8: PS1_01_VFD1_SI0 | C8: SI0 | E8: PS1_1_EPC1 | F8: E-STOP PULLCORD | H8: PS2_01_VFD1
A9: PS1_01_VFD1 | B9: PS1_01_VFD1_SI1 | C9: SI1 | E9: PS1_1_EPC1_2 | F9: E-STOP PULLCORD | H9: PS2_02_VFD1
A10: PS1_01_VFD1 | B10: PS1_01_VFD1_SI2 | C10: SI2 | E10: PS1_1_EPC2 | F10: E-STOP PULLCORD | H10: PS2_03_VFD1
A11: PS1_01_VFD1 | B11: PS1_01_VFD1_SI3 | C11: SI3 | E11: PS1_1_EPC2_2 | F11: E-STOP PULLCORD
A12: PS1_01_VFD1 | B12: PS1_01_VFD1_SO0 | C12: SO0 | E12: SPARE | H12: PS2_04_VFD1 | I12: 602
A13: PS1_02_VFD1 | B13: PS1_02_VFD1_I0 | C13: I0 | E13: PS1_2_VFD1_DISC | F13: DISCONNECT AUX | H13: PS2_05_VFD1
A14: PS1_02_VFD1 | B14: PS1_02_VFD1_I1 | C14: I1 | E14: SPARE | H14: PS2_06_VFD1
A15: PS1_02_VFD1 | B15: PS1_02_VFD1_I2 | C15: I2 | E15: PS1_2_TPE1 | F15: TRACKING PHOTOEYE | H15: PS3_01_VFD1
A16: PS1_02_VFD1 | B16: PS1_02_VFD1_I3 | C16: I3 | E16: PS1_2_TPE2 | F16: TRACKING PHOTOEYE
A17: PS1_02_VFD1 | B17: PS1_02_VFD1_IO0 | C17: IO0 | E17: PS1_1_BCN1_R | F17: RED BEACON LIGHT | H17: PS3_02_VFD1 | I17: 603
A18: PS1_02_VFD1 | B18: PS1_02_VFD1_IO1 | C18: IO1 | E18: PS1_1_BCN2_R | F18: RED BEACON LIGHT | H18: PS3_03_VFD1
A19: PS1_02_VFD1 | B19: PS1_02_VFD1_SI0 | C19: SI0 | E19: SPARE | H19: PS3_04_VFD1
A20: PS1_02_VFD1 | B20: PS1_02_VFD1_SI1 | C20: SI1 | E20: SPARE | H20: PS3_05_VFD1
A21: PS1_02_VFD1 | B21: PS1_02_VFD1_SI2 | C21: SI2 | E21: SPARE
A22: PS1_02_VFD1 | B22: PS1_02_VFD1_SI3 | C22: SI3 | E22: SPARE | H22: PS3_06_VFD1 | I22: 604
A23: PS1_02_VFD1 | B23: PS1_02_VFD1_SO0 | C23: SO0 | E23: SPARE | H23: PS3_07_VFD1
A24: PS1_03_VFD1 | B24: PS1_03_VFD1_I0 | C24: I0 | E24: PS1_3_VFD1_DISC | F24: DISCONNECT AUX | H24: PS3_08_VFD1
A25: PS1_03_VFD1 | B25: PS1_03_VFD1_I1 | C25: I1 | E25: SPARE | H25: PS3_09_VFD1
A26: PS1_03_VFD1 | B26: PS1_03_VFD1_I2 | C26: I2 | E26: SPARE
A27: PS1_03_VFD1 | B27: PS1_03_VFD1_I3 | C27: I3 | E27: SPARE | H27: PS3_10_VFD1 | I27: 605
A28: PS1_03_VFD1 | B28: PS1_03_VFD1_IO0 | C28: IO0 | E28: PS1_1_S2_PB | F28: START PUSHBUTTON | H28: PS3_11_VFD1
A29: PS1_03_VFD1 | B29: PS1_03_VFD1_IO1 | C29: IO1 | E29: PS1_1_S2_PB_LT | F29: START PUSHBUTTON LIGHT | H29: PS3_12_VFD1
A30: PS1_03_VFD1 | B30: PS1_03_VFD1_SI0 | C30: SI0 | E30: SPARE | H30: PS4_01_VFD1
A31: PS1_03_VFD1 | B31: PS1_03_VFD1_SI1 | C31: SI1 | E31: SPARE
A32: PS1_03_VFD1 | B32: PS1_03_VFD1_SI2 | C32: SI2 | E32: SPARE | H32: PS4_02_VFD1 | I32: 606
A33: PS1_03_VFD1 | B33: PS1_03_VFD1_SI3 | C33: SI3 | E33: SPARE | H33: PS4_03_VFD1
A34: PS1_03_VFD1 | B34: PS1_03_VFD1_SO0 | C34: SO0 | E34: SPARE | H34: PS4_04_VFD1
A35: PS1_04_VFD1 | B35: PS1_04_VFD1_I0 | C35: I0 | E35: PS1_4_VFD1_DISC | F35: DISCONNECT AUX | H35: PS4_05_VFD1
A36: PS1_04_VFD1 | B36: PS1_04_VFD1_I1 | C36: I1 | E36: SPARE
A37: PS1_04_VFD1 | B37: PS1_04_VFD1_I2 | C37: I2 | E37: PS1_4_TPE1 | F37: TRACKING PHOTOEYE | H37: PS4_06_VFD1 | I37: 607
A38: PS1_04_VFD1 | B38: PS1_04_VFD1_I3 | C38: I3 | E38: PS1_4_TPE2 | F38: TRACKING PHOTOEYE | H38: PS4_07_VFD1
A39: PS1_04_VFD1 | B39: PS1_04_VFD1_IO0 | C39: IO0 | E39: PS1_5_S1_PB | F39: START PUSHBUTTON | H39: PS4_08_VFD1
A40: PS1_04_VFD1 | B40: PS1_04_VFD1_IO1 | C40: IO1 | E40: PS1_5_S1_PB_LT | F40: START PUSHBUTTON LIGHT | H40: PS4_09_VFD1
...

Sheet Sheet2
A1: PS1_01_VFD1 | B1: 600 | D1: PS4_02_VFD1
A2: PS1_02_VFD1 | D2: PS4_03_VFD1
A3: PS1_03_VFD1 | D3: PS4_04_VFD1
A4: PS1_04_VFD1 | D4: PS4_05_VFD1
A5: PS1_05_VFD1 | B5: 601 | D5: PS4_02_VFD1
A6: PS2_01_VFD1 | D6: PS4_03_VFD1
A7: PS2_02_VFD1 | D7: PS4_04_VFD1
A8: PS2_03_VFD1 | D8: PS4_05_VFD1
A9: PS2_04_VFD1 | B9: 602 | D9: PS4_02_VFD1
A10: PS2_05_VFD1 | D10: PS4_03_VFD1
A11: PS2_06_VFD1 | D11: PS4_04_VFD1
A12: PS3_01_VFD1 | D12: PS4_05_VFD1
A13: PS3_02_VFD1 | B13: 603 | D13: PS4_02_VFD1
A14: PS3_03_VFD1 | D14: PS4_03_VFD1
A15: PS3_04_VFD1 | D15: PS4_04_VFD1
A16: PS3_05_VFD1 | D16: PS4_05_VFD1
A17: PS3_06_VFD1 | B17: 604 | D17: PS4_02_VFD1
A18: PS3_07_VFD1 | D18: PS4_03_VFD1
A19: PS3_08_VFD1 | D19: PS4_04_VFD1
A20: PS3_09_VFD1 | D20: PS4_05_VFD1
A21: PS3_10_VFD1 | B21: 605 | D21: PS4_02_VFD1
A22: PS3_11_VFD1 | D22: PS4_03_VFD1
A23: PS3_12_VFD1 | D23: PS4_04_VFD1
A24: PS4_01_VFD1 | D24: PS4_05_VFD1
A25: PS4_02_VFD1 | B25: 606 | D25: PS4_02_VFD1
A26: PS4_03_VFD1 | D26: PS4_03_VFD1
A27: PS4_04_VFD1 | D27: PS4_04_VFD1
A28: PS4_05_VFD1 | D28: PS4_05_VFD1
A29: PS4_06_VFD1 | B29: 607 | D29: PS4_02_VFD1
A30: PS4_07_VFD1 | D30: PS4_03_VFD1
A31: PS4_08_VFD1 | D31: PS4_04_VFD1
A32: PS4_09_VFD1 | D32: PS4_05_VFD1
A33: PS4_10_VFD1 | B33: 608 | D33: PS4_02_VFD1
A34: PS4_11_VFD1 | D34: PS4_03_VFD1
A35: PS4_12_VFD1 | D35: PS4_04_VFD1
A36: PS4_13_VFD1 | D36: PS4_05_VFD1
A37: PS4_14_VFD1 | B37: 609 | D37: PS4_02_VFD1
A38: UL1_03_FIO1 | D38: PS4_03_VFD1
A39: UL1_03_VFD1 | D39: PS4_04_VFD1
A40: UL1_04_VFD1 | D40: PS4_05_VFD1
...

Sheet MCM01_DESC_V2
A1: TAGNAME | B1: ADDR | C1: TERM | D1: TERMDESC | E1: DESCA | F1: DESCB | H1: CONTROLLERS
A2: PS1_01_VFD1 | B2: PS1_01_VFD1_I0 | C2: I0 | E2: PS1_1_VFD1_DISC | F2: DISCONNECT AUX | H2: PS1_01_VFD1
A3: PS1_01_VFD1 | B3: PS1_01_VFD1_I1 | C3: I1 | E3: SPARE | H3: PS1_02_VFD1
A4: PS1_01_VFD1 | B4: PS1_01_VFD1_I2 | C4: I2 | E4: SPARE | H4: PS1_03_VFD1
A5: PS1_01_VFD1 | B5: PS1_01_VFD1_I3 | C5: I3 | E5: SPARE | H5: PS1_04_VFD1
A6: PS1_01_VFD1 | B6: PS1_01_VFD1_IO0 | C6: IO0 | E6: PS1_1_S1_PB | F6: START PUSHBUTTON
A7: PS1_01_VFD1 | B7: PS1_01_VFD1_IO1 | C7: IO1 | E7: PS1_1_S1_PB_LT | F7: START PUSHBUTTON LIGHT | H7: PS1_05_VFD1
A8: PS1_01_VFD1 | B8: PS1_01_VFD1_SI0 | C8: SI0 | E8: PS1_1_EPC1 | F8: E-STOP PULLCORD | H8: PS2_01_VFD1
A9: PS1_01_VFD1 | B9: PS1_01_VFD1_SI1 | C9: SI1 | E9: PS1_1_EPC1_2 | F9: E-STOP PULLCORD | H9: PS2_02_VFD1
A10: PS1_01_VFD1 | B10: PS1_01_VFD1_SI2 | C10: SI2 | E10: PS1_1_EPC2 | F10: E-STOP PULLCORD | H10: PS2_03_VFD1
A11: PS1_01_VFD1 | B11: PS1_01_VFD1_SI3 | C11: SI3 | E11: PS1_1_EPC2_2 | F11: E-STOP PULLCORD
A12: PS1_01_VFD1 | B12: PS1_01_VFD1_SO0 | C12: SO0 | E12: SPARE | H12: PS2_04_VFD1
A13: PS1_02_VFD1 | B13: PS1_02_VFD1_I0 | C13: I0 | E13: PS1_2_VFD1_DISC | F13: DISCONNECT AUX | H13: PS2_05_VFD1
A14: PS1_02_VFD1 | B14: PS1_02_VFD1_I1 | C14: I1 | E14: SPARE | H14: PS2_06_VFD1
A15: PS1_02_VFD1 | B15: PS1_02_VFD1_I2 | C15: I2 | E15: PS1_2_TPE1 | F15: TRACKING PHOTOEYE | H15: PS3_01_VFD1
A16: PS1_02_VFD1 | B16: PS1_02_VFD1_I3 | C16: I3 | E16: PS1_2_TPE2 | F16: TRACKING PHOTOEYE
A17: PS1_02_VFD1 | B17: PS1_02_VFD1_IO0 | C17: IO0 | E17: PS1_1_BCN1_R | F17: RED BEACON LIGHT | H17: PS3_02_VFD1
A18: PS1_02_VFD1 | B18: PS1_02_VFD1_IO1 | C18: IO1 | E18: PS1_1_BCN2_R | F18: RED BEACON LIGHT | H18: PS3_03_VFD1
A19: PS1_02_VFD1 | B19: PS1_02_VFD1_SI0 | C19: SI0 | E19: SPARE | H19: PS3_04_VFD1
A20: PS1_02_VFD1 | B20: PS1_02_VFD1_SI1 | C20: SI1 | E20: SPARE | H20: PS3_05_VFD1
A21: PS1_02_VFD1 | B21: PS1_02_VFD1_SI2 | C21: SI2 | E21: SPARE
A22: PS1_02_VFD1 | B22: PS1_02_VFD1_SI3 | C22: SI3 | E22: SPARE | H22: PS3_06_VFD1
A23: PS1_02_VFD1 | B23: PS1_02_VFD1_SO0 | C23: SO0 | E23: SPARE | H23: PS3_07_VFD1
A24: PS1_03_VFD1 | B24: PS1_03_VFD1_I0 | C24: I0 | E24: PS1_3_VFD1_DISC | F24: DISCONNECT AUX | H24: PS3_08_VFD1
A25: PS1_03_VFD1 | B25: PS1_03_VFD1_I1 | C25: I1 | E25: SPARE | H25: PS3_09_VFD1
A26: PS1_03_VFD1 | B26: PS1_03_VFD1_I2 | C26: I2 | E26: SPARE
A27: PS1_03_VFD1 | B27: PS1_03_VFD1_I3 | C27: I3 | E27: SPARE | H27: PS3_10_VFD1
A28: PS1_03_VFD1 | B28: PS1_03_VFD1_IO0 | C28: IO0 | E28: PS1_1_S2_PB | F28: START PUSHBUTTON | H28: PS3_11_VFD1
A29: PS1_03_VFD1 | B29: PS1_03_VFD1_IO1 | C29: IO1 | E29: PS1_1_S2_PB_LT | F29: START PUSHBUTTON LIGHT | H29: PS3_12_VFD1
A30: PS1_03_VFD1 | B30: PS1_03_VFD1_SI0 | C30: SI0 | E30: SPARE | H30: PS4_01_VFD1
A31: PS1_03_VFD1 | B31: PS1_03_VFD1_SI1 | C31: SI1 | E31: SPARE
A32: PS1_03_VFD1 | B32: PS1_03_VFD1_SI2 | C32: SI2 | E32: SPARE | H32: PS4_02_VFD1
A33: PS1_03_VFD1 | B33: PS1_03_VFD1_SI3 | C33: SI3 | E33: SPARE | H33: PS4_03_VFD1
A34: PS1_03_VFD1 | B34: PS1_03_VFD1_SO0 | C34: SO0 | E34: SPARE | H34: PS4_04_VFD1
A35: PS1_04_VFD1 | B35: PS1_04_VFD1_I0 | C35: I0 | E35: PS1_4_VFD1_DISC | F35: DISCONNECT AUX | H35: PS4_05_VFD1
A36: PS1_04_VFD1 | B36: PS1_04_VFD1_I1 | C36: I1 | E36: SPARE
A37: PS1_04_VFD1 | B37: PS1_04_VFD1_I2 | C37: I2 | E37: PS1_4_TPE1 | F37: TRACKING PHOTOEYE | H37: PS4_06_VFD1
A38: PS1_04_VFD1 | B38: PS1_04_VFD1_I3 | C38: I3 | E38: PS1_4_TPE2 | F38: TRACKING PHOTOEYE | H38: PS4_07_VFD1
A39: PS1_04_VFD1 | B39: PS1_04_VFD1_IO0 | C39: IO0 | E39: PS1_5_S1_PB | F39: START PUSHBUTTON | H39: PS4_08_VFD1
A40: PS1_04_VFD1 | B40: PS1_04_VFD1_IO1 | C40: IO1 | E40: PS1_5_S1_PB_LT | F40: START PUSHBUTTON LIGHT | H40: PS4_09_VFD1
...

Sheet DESC_PLC
A1: TAGNAME | B1: TERM | C1: DESCA | D1: DESCB | H1: {=_xlfn.UNIQUE(D:D)}
A2: PS1_1_VFD1 | B2: I0 | C2: PS1_1_VFD1_DISC | D2: DISCONNECT AUX | H2: DISCONNECT AUX
A3: PS1_1_VFD1 | B3: I1 | C3: SPARE | H3: 0
A4: PS1_1_VFD1 | B4: I2 | C4: SPARE | H4: START PUSHBUTTON
A5: PS1_1_VFD1 | B5: I3 | C5: SPARE | H5: START PUSHBUTTON LIGHT
A6: PS1_1_VFD1 | B6: IO0 | C6: PS1_1_S1_PB | D6: START PUSHBUTTON | H6: E-STOP PULLCORD
A7: PS1_1_VFD1 | B7: IO1 | C7: PS1_1_S1_PB_LT | D7: START PUSHBUTTON LIGHT | H7: TRACKING PHOTOEYE
A8: PS1_1_VFD1 | B8: SI0 | C8: PS1_1_EPC1 | D8: E-STOP PULLCORD | H8: RED BEACON LIGHT
A9: PS1_1_VFD1 | B9: SI1 | C9: PS1_1_EPC1_2 | D9: E-STOP PULLCORD | H9: ALARM HORN
A10: PS1_1_VFD1 | B10: SI2 | C10: PS1_1_EPC2 | D10: E-STOP PULLCORD | H10: AMBER BEACON LIGHT
A11: PS1_1_VFD1 | B11: SI3 | C11: PS1_1_EPC2_2 | D11: E-STOP PULLCORD | H11: JAM RESET PUSHBUTTON
A12: PS1_1_VFD1 | B12: SO0 | C12: SPARE | H12: JAM RESET PUSHBUTTON LIGHT
A13: PS1_2_VFD1 | B13: I0 | C13: PS1_2_VFD1_DISC | D13: DISCONNECT AUX | H13: LASEREYE
A14: PS1_2_VFD1 | B14: I1 | C14: SPARE | H14: ENCODER
A15: PS1_2_VFD1 | B15: I2 | C15: PS1_2_TPE1 | D15: TRACKING PHOTOEYE | H15: ESTOP OK
A16: PS1_2_VFD1 | B16: I3 | C16: PS1_2_TPE2 | D16: TRACKING PHOTOEYE | H16: FLOW SPLITTER ENCODER
A17: PS1_2_VFD1 | B17: IO0 | C17: PS1_1_BCN2_R | D17: RED BEACON LIGHT | H17: SS STATION START PUSHBUTTON
A18: PS1_2_VFD1 | B18: IO1 | C18: PS1_1_BCN2_H | D18: ALARM HORN | H18: SS STATION START PUSHBUTTON LIGHT
A19: PS1_2_VFD1 | B19: SI0 | C19: SPARE | H19: SS STATION STOP PUSHBUTTON
A20: PS1_2_VFD1 | B20: SI1 | C20: SPARE | H20: DEBRIS SENSOR
A21: PS1_2_VFD1 | B21: SI2 | C21: SPARE | H21: SEND
A22: PS1_2_VFD1 | B22: SI3 | C22: SPARE | H22: BELT ENGAGEMENT SENSOR
A23: PS1_2_VFD1 | B23: SO0 | C23: PS1_1_BCN1_R | D23: RED BEACON LIGHT | H23: DIVERT MODULE
A24: PS1_3_VFD1 | B24: I0 | C24: PS1_3_VFD1_DISC | D24: DISCONNECT AUX | H24: MDR RUN SIGNAL
A25: PS1_3_VFD1 | B25: I1 | C25: SPARE | H25: ENTRANCE PE
A26: PS1_3_VFD1 | B26: I2 | C26: SPARE | H26: EXIT PE
A27: PS1_3_VFD1 | B27: I3 | C27: SPARE | H27: PRESSURE SENSOR
A28: PS1_3_VFD1 | B28: IO0 | C28: PS1_1_S2_PB | D28: START PUSHBUTTON | H28: CIRCUIT BREAKER MONITORING
A29: PS1_3_VFD1 | B29: IO1 | C29: PS1_1_S2_PB_LT | D29: START PUSHBUTTON LIGHT | H29: PHASE MONITOR
A30: PS1_3_VFD1 | B30: SI0 | C30: SPARE | H30: FIO HUB
A31: PS1_3_VFD1 | B31: SI1 | C31: SPARE | H31: S_PBLT START
A32: PS1_3_VFD1 | B32: SI2 | C32: SPARE | H32: ST_PB STOP
A33: PS1_3_VFD1 | B33: SI3 | C33: SPARE | H33: MF_PBLT MOTOR FAULT RESET
A34: PS1_3_VFD1 | B34: SO0 | C34: SPARE | H34: JR_PBLT JAM RESET
A35: PS1_4_VFD1 | B35: I0 | C35: PS1_4_VFD1_DISC | D35: DISCONNECT AUX | H35: LAP_PBLT LOW AIR PRESSURE
A36: PS1_4_VFD1 | B36: I1 | C36: SPARE | H36: PBFR_PBLT POWER BRANCH FAULT RESET
A37: PS1_4_VFD1 | B37: I2 | C37: PS1_4_TPE1 | D37: TRACKING PHOTOEYE | H37: BATTERY_FAULT_UPS BATTERY FAULT
A38: PS1_4_VFD1 | B38: I3 | C38: PS1_4_TPE2 | D38: TRACKING PHOTOEYE | H38: ON_BATTERY ON BATTERY
A39: PS1_4_VFD1 | B39: IO0 | C39: PS1_5_S1_PB | D39: START PUSHBUTTON | H39: UPS_BATTERY_LOW UPS BATTERY LOW
A40: PS1_4_VFD1 | B40: IO1 | C40: PS1_5_S1_PB_LT | D40: START PUSHBUTTON LIGHT | H40: NAT_SWITCH ALARM NAT SWITCH
...

Sheet NETWORK_PLC
A1: DPM | B1: DPM_IP | C1: Name | D1: PartNumber | E1: IP
A2: UL1_4_DPM1 | B2: 11.200.1.2 | C2: UL1_1_EX1 | D2: FMH | E2: 11.200.1.30
A3: UL1_4_DPM1 | B3: 11.200.1.2 | C3: UL1_3_VFD1 | D3: 35S-6D4-P111 | E3: 11.200.1.31
A4: UL1_4_DPM1 | B4: 11.200.1.2 | C4: UL1_4_VFD1 | D4: 35S-6D4-P111 | E4: 11.200.1.32
A5: UL1_4_DPM1 | B5: 11.200.1.2 | C5: UL1_5_VFD1 | D5: 35S-6D3-P101 | E5: 11.200.1.33
A6: UL1_4_DPM1 | B6: 11.200.1.2 | C6: UL1_6_VFD1 | D6: 35S-6D3-P101 | E6: 11.200.1.34
A7: UL1_4_DPM1 | B7: 11.200.1.2 | C7: UL1_7_VFD1 | D7: 35S-6D3-P101 | E7: 11.200.1.35
A8: UL1_4_DPM1 | B8: 11.200.1.2 | C8: UL1_8_VFD1 | D8: 35S-6D3-P101 | E8: 11.200.1.36
A9: UL1_4_DPM1 | B9: 11.200.1.2 | C9: UL1_9_VFD1 | D9: 35S-6D4-P111 | E9: 11.200.1.37
A10: UL1_4_DPM1 | B10: 11.200.1.2 | C10: UL1_10A_VFD1 | D10: 35S-6D3-P101 | E10: 11.200.1.38
A11: UL1_4_DPM1 | B11: 11.200.1.2 | C11: UL1_10B_VFD1 | D11: 35S-6D3-P101 | E11: 11.200.1.39
A12: UL1_4_DPM1 | B12: 11.200.1.2 | C12: UL1_11_VFD1 | D12: 35S-6D2-P101 | E12: 11.200.1.40
... A186: PS4_7_DPM1 | B186: 11.200.1.12 | C186: PS4_14_VFD1 | D186: 35S-6D3-P101 | E186: 11.200.1.205
