Workbook

Sheet Templates
A2: VFD IO TEMPLATE | C2: FIO IO Template
A3: I0 | C3: IO00
A4: I1 | C4: IO01
A5: I2 | C5: IO02
A6: I3 | C6: IO03
A7: IO0 | C7: IO04
A8: IO1 | C8: IO05
A9: SI0 | C9: IO06
A10: SI1 | C10: IO07
A11: SI2 | C11: IO08
A12: SI3 | C12: IO09
A13: SO0 | C13: IO10
C14: IO11
C15: IO12
C16: IO13
C17: IO14
C18: IO15
C19: IO16

Sheet Devices
H1: Which MCM we assign? | I1: MCM01
A2: PS1_1_BCN1_R
A3: PS1_1_BCN2_R
A4: PS1_1_DISC
A5: PS1_1_EPC1
A6: PS1_1_EPC1_2
A7: PS1_1_EPC2
A8: PS1_1_EPC2_2
A9: PS1_1_S1_PB
A10: PS1_1_S1_PB_LT
A11: PS1_1_S2_PB
A12: PS1_1_S2_PB_LT
A13: PS1_1_VFD1
... A992: UL9_9_VFD1

Sheet Instructions
A2: 1. | B2: Put all device tags to cell A2
A37: 2. | B37: In cell I1 write MCM number
A47: 3. | B47: Click on "Add Disconnects" button.
A57: 4. | B57: Replace all _VFD1_DISC with _DISC. Without this point it will generate IO points for _VFD1_DISC device
A69: 5. | B69: Click on "Split SS station". This will split all _SS to SS_STPB, SS_SPB and SS_STPB_LT
A78: 6. | B78: Click on "Split start PB". This will split all _S and _JR to _S_PB, _S_PB_LT, JR_PB and JR_PB_LT
A87: 7. | B87: Click on "Duplicate EPC Tag". This will add duplicate for all EPC and add _2 to copy
A97: 8. | B97: Click on "Create Assignment table template". This will add new sheet with name "IO Assignment MCM01 and fill with VFD and FIO names and their adresses
A107: 9. | B107: Click on "Assign Devices to VFD". This will add device tags to correspond VFD IO. Works for Disc, TPE, JPE, EPC, ENC
A116: 10. | B116: All Unassigned Pushbuttons and lights fill manually and all devices, that couldn't filled to VFD also will be here.

Sheet IO Assignment MCM01
A1: Controller name | B1: Signal type | C1: Address name | D1: Assigned device | E1: Unassigned Device | K1: MCM01_DESC_V2
A2: PS1_01_VFD1 | B2: I0 | C2: PS1_01_VFD1_I0 | D2: PS1_1_VFD1_DISC
A3: PS1_01_VFD1 | B3: I1 | C3: PS1_01_VFD1_I1
A4: PS1_01_VFD1 | B4: I2 | C4: PS1_01_VFD1_I2
A5: PS1_01_VFD1 | B5: I3 | C5: PS1_01_VFD1_I3
A6: PS1_01_VFD1 | B6: IO0 | C6: PS1_01_VFD1_IO0 | D6: PS1_1_S1_PB
A7: PS1_01_VFD1 | B7: IO1 | C7: PS1_01_VFD1_IO1 | D7: PS1_1_S1_PB_LT
A8: PS1_01_VFD1 | B8: SI0 | C8: PS1_01_VFD1_SI0 | D8: PS1_1_EPC1
A9: PS1_01_VFD1 | B9: SI1 | C9: PS1_01_VFD1_SI1 | D9: PS1_1_EPC1_2
A10: PS1_01_VFD1 | B10: SI2 | C10: PS1_01_VFD1_SI2 | D10: PS1_1_EPC2
A11: PS1_01_VFD1 | B11: SI3 | C11: PS1_01_VFD1_SI3 | D11: PS1_1_EPC2_2
A12: PS1_01_VFD1 | B12: SO0 | C12: PS1_01_VFD1_SO0
A13: PS1_02_VFD1 | B13: I0 | C13: PS1_02_VFD1_I0 | D13: PS1_2_VFD1_DISC
A14: PS1_02_VFD1 | B14: I1 | C14: PS1_02_VFD1_I1
A15: PS1_02_VFD1 | B15: I2 | C15: PS1_02_VFD1_I2 | D15: PS1_2_TPE1
A16: PS1_02_VFD1 | B16: I3 | C16: PS1_02_VFD1_I3 | D16: PS1_2_TPE2
A17: PS1_02_VFD1 | B17: IO0 | C17: PS1_02_VFD1_IO0 | D17: PS1_1_BCN2_R
A18: PS1_02_VFD1 | B18: IO1 | C18: PS1_02_VFD1_IO1 | D18: PS1_1_BCN2_H
A19: PS1_02_VFD1 | B19: SI0 | C19: PS1_02_VFD1_SI0
A20: PS1_02_VFD1 | B20: SI1 | C20: PS1_02_VFD1_SI1
A21: PS1_02_VFD1 | B21: SI2 | C21: PS1_02_VFD1_SI2
A22: PS1_02_VFD1 | B22: SI3 | C22: PS1_02_VFD1_SI3
A23: PS1_02_VFD1 | B23: SO0 | C23: PS1_02_VFD1_SO0 | D23: PS1_1_BCN1_R
A24: PS1_03_VFD1 | B24: I0 | C24: PS1_03_VFD1_I0 | D24: PS1_3_VFD1_DISC
A25: PS1_03_VFD1 | B25: I1 | C25: PS1_03_VFD1_I1
A26: PS1_03_VFD1 | B26: I2 | C26: PS1_03_VFD1_I2
A27: PS1_03_VFD1 | B27: I3 | C27: PS1_03_VFD1_I3
A28: PS1_03_VFD1 | B28: IO0 | C28: PS1_03_VFD1_IO0 | D28: PS1_1_S2_PB
A29: PS1_03_VFD1 | B29: IO1 | C29: PS1_03_VFD1_IO1 | D29: PS1_1_S2_PB_LT
A30: PS1_03_VFD1 | B30: SI0 | C30: PS1_03_VFD1_SI0
A31: PS1_03_VFD1 | B31: SI1 | C31: PS1_03_VFD1_SI1
A32: PS1_03_VFD1 | B32: SI2 | C32: PS1_03_VFD1_SI2
A33: PS1_03_VFD1 | B33: SI3 | C33: PS1_03_VFD1_SI3
A34: PS1_03_VFD1 | B34: SO0 | C34: PS1_03_VFD1_SO0
A35: PS1_04_VFD1 | B35: I0 | C35: PS1_04_VFD1_I0 | D35: PS1_4_VFD1_DISC
A36: PS1_04_VFD1 | B36: I1 | C36: PS1_04_VFD1_I1
A37: PS1_04_VFD1 | B37: I2 | C37: PS1_04_VFD1_I2 | D37: PS1_4_TPE1
A38: PS1_04_VFD1 | B38: I3 | C38: PS1_04_VFD1_I3 | D38: PS1_4_TPE2
A39: PS1_04_VFD1 | B39: IO0 | C39: PS1_04_VFD1_IO0 | D39: PS1_5_S1_PB
A40: PS1_04_VFD1 | B40: IO1 | C40: PS1_04_VFD1_IO1 | D40: PS1_5_S1_PB_LT
A41: PS1_04_VFD1 | B41: SI0 | C41: PS1_04_VFD1_SI0
A42: PS1_04_VFD1 | B42: SI1 | C42: PS1_04_VFD1_SI1
A43: PS1_04_VFD1 | B43: SI2 | C43: PS1_04_VFD1_SI2
A44: PS1_04_VFD1 | B44: SI3 | C44: PS1_04_VFD1_SI3
A45: PS1_04_VFD1 | B45: SO0 | C45: PS1_04_VFD1_SO0 | D45: PS1_5_BCN2_R
A46: PS1_05_VFD1 | B46: I0 | C46: PS1_05_VFD1_I0 | D46: PS1_5_VFD1_DISC
A47: PS1_05_VFD1 | B47: I1 | C47: PS1_05_VFD1_I1
A48: PS1_05_VFD1 | B48: I2 | C48: PS1_05_VFD1_I2 | D48: PS1_5_TPE1
A49: PS1_05_VFD1 | B49: I3 | C49: PS1_05_VFD1_I3
A50: PS1_05_VFD1 | B50: IO0 | C50: PS1_05_VFD1_IO0 | D50: PS1_5_S2_PB
A51: PS1_05_VFD1 | B51: IO1 | C51: PS1_05_VFD1_IO1 | D51: PS1_5_S2_PB_LT
A52: PS1_05_VFD1 | B52: SI0 | C52: PS1_05_VFD1_SI0 | D52: PS1_5_EPC1
A53: PS1_05_VFD1 | B53: SI1 | C53: PS1_05_VFD1_SI1 | D53: PS1_5_EPC1_2
A54: PS1_05_VFD1 | B54: SI2 | C54: PS1_05_VFD1_SI2 | D54: PS1_5_EPC2
A55: PS1_05_VFD1 | B55: SI3 | C55: PS1_05_VFD1_SI3 | D55: PS1_5_EPC2_2
A56: PS1_05_VFD1 | B56: SO0 | C56: PS1_05_VFD1_SO0 | D56: PS1_5_BCN1_R
A57: PS2_01_VFD1 | B57: I0 | C57: PS2_01_VFD1_I0 | D57: PS2_1_VFD1_DISC
A58: PS2_01_VFD1 | B58: I1 | C58: PS2_01_VFD1_I1
A59: PS2_01_VFD1 | B59: I2 | C59: PS2_01_VFD1_I2
A60: PS2_01_VFD1 | B60: I3 | C60: PS2_01_VFD1_I3
A61: PS2_01_VFD1 | B61: IO0 | C61: PS2_01_VFD1_IO0 | D61: PS2_1_S1_PB
A62: PS2_01_VFD1 | B62: IO1 | C62: PS2_01_VFD1_IO1 | D62: PS2_1_S1_PB_LT
A63: PS2_01_VFD1 | B63: SI0 | C63: PS2_01_VFD1_SI0 | D63: PS2_1_EPC1
A64: PS2_01_VFD1 | B64: SI1 | C64: PS2_01_VFD1_SI1 | D64: PS2_1_EPC1_2
A65: PS2_01_VFD1 | B65: SI2 | C65: PS2_01_VFD1_SI2 | D65: PS2_1_EPC2
A66: PS2_01_VFD1 | B66: SI3 | C66: PS2_01_VFD1_SI3 | D66: PS2_1_EPC2_2
A67: PS2_01_VFD1 | B67: SO0 | C67: PS2_01_VFD1_SO0
A68: PS2_02_VFD1 | B68: I0 | C68: PS2_02_VFD1_I0 | D68: PS2_2_VFD1_DISC
A69: PS2_02_VFD1 | B69: I1 | C69: PS2_02_VFD1_I1
A70: PS2_02_VFD1 | B70: I2 | C70: PS2_02_VFD1_I2 | D70: PS2_2_TPE1
A71: PS2_02_VFD1 | B71: I3 | C71: PS2_02_VFD1_I3 | D71: PS2_2_TPE2
A72: PS2_02_VFD1 | B72: IO0 | C72: PS2_02_VFD1_IO0 | D72: PS2_1_BCN1_R
A73: PS2_02_VFD1 | B73: IO1 | C73: PS2_02_VFD1_IO1 | D73: PS2_1_BCN2_R
A74: PS2_02_VFD1 | B74: SI0 | C74: PS2_02_VFD1_SI0
A75: PS2_02_VFD1 | B75: SI1 | C75: PS2_02_VFD1_SI1
A76: PS2_02_VFD1 | B76: SI2 | C76: PS2_02_VFD1_SI2
A77: PS2_02_VFD1 | B77: SI3 | C77: PS2_02_VFD1_SI3
A78: PS2_02_VFD1 | B78: SO0 | C78: PS2_02_VFD1_SO0
A79: PS2_03_VFD1 | B79: I0 | C79: PS2_03_VFD1_I0 | D79: PS2_3_VFD1_DISC
A80: PS2_03_VFD1 | B80: I1 | C80: PS2_03_VFD1_I1
A81: PS2_03_VFD1 | B81: I2 | C81: PS2_03_VFD1_I2 | D81: PS2_3_TPE2
A82: PS2_03_VFD1 | B82: I3 | C82: PS2_03_VFD1_I3
A83: PS2_03_VFD1 | B83: IO0 | C83: PS2_03_VFD1_IO0 | D83: PS2_1_S2_PB
A84: PS2_03_VFD1 | B84: IO1 | C84: PS2_03_VFD1_IO1 | D84: PS2_1_S2_PB_LT
A85: PS2_03_VFD1 | B85: SI0 | C85: PS2_03_VFD1_SI0
A86: PS2_03_VFD1 | B86: SI1 | C86: PS2_03_VFD1_SI1
A87: PS2_03_VFD1 | B87: SI2 | C87: PS2_03_VFD1_SI2
A88: PS2_03_VFD1 | B88: SI3 | C88: PS2_03_VFD1_SI3
A89: PS2_03_VFD1 | B89: SO0 | C89: PS2_03_VFD1_SO0 | D89: PS2_3_BCN1_A
A90: PS2_04_VFD1 | B90: I0 | C90: PS2_04_VFD1_I0 | D90: PS2_4_VFD1_DISC
A91: PS2_04_VFD1 | B91: I1 | C91: PS2_04_VFD1_I1
A92: PS2_04_VFD1 | B92: I2 | C92: PS2_04_VFD1_I2
A93: PS2_04_VFD1 | B93: I3 | C93: PS2_04_VFD1_I3
A94: PS2_04_VFD1 | B94: IO0 | C94: PS2_04_VFD1_IO0 | D94: PS2_3_JR1_PB
A95: PS2_04_VFD1 | B95: IO1 | C95: PS2_04_VFD1_IO1 | D95: PS2_3_JR1_PB_LT
A96: PS2_04_VFD1 | B96: SI0 | C96: PS2_04_VFD1_SI0
A97: PS2_04_VFD1 | B97: SI1 | C97: PS2_04_VFD1_SI1
A98: PS2_04_VFD1 | B98: SI2 | C98: PS2_04_VFD1_SI2
A99: PS2_04_VFD1 | B99: SI3 | C99: PS2_04_VFD1_SI3
A100: PS2_04_VFD1 | B100: SO0 | C100: PS2_04_VFD1_SO0
...

Sheet NETWORK
B1: MCM01
A2: SLOT0 | B2: 1756-L83ES | C2: IP | D2: RING | F2: STAR
A3: SLOT1 | B3: 1756-N2 | D3: DPM | E3: DPM_IP | F3: Name | G3: PartNumber | H3: IP | I3: PDP | J3: DPM | K3: HP | L3: VFD PART NUMBER | P3: =_xlfn.CONCAT(Q3,"_VFD1") | Q3: PS1_1 | R3: 2 | S3: =VLOOKUP(R3,'Part number'!$C$1:$D$13,2,FALSE)
A4: SLOT2 | B4: 1756-EN4TR | C4: 11.200.1.1 | D4: UL1_4_DPM1 | E4: 11.200.1.2 | F4: UL1_1_EX1 | G4: FMH | H4: 11.200.1.30 | I4: PDP01 | J4: DPM1_UL1_4_P1 | K4: =VLOOKUP(G4,'Part number'!$B$2:$C$13,2,0) | N4: MCM01 | O4: PDP1 | P4: =_xlfn.CONCAT(Q4,"_VFD1") | Q4: PS1_2 | R4: 2 | S4: =VLOOKUP(R4,'Part number'!$C$1:$D$13,2,FALSE)
A5: SLOT3 | B5: 1756-N2 | F5: UL1_3_VFD1 | G5: =VLOOKUP(F5,$P$3:$S$176,4,FALSE) | H5: 11.200.1.31 | I5: PDP01 | J5: DPM1_UL1_4_P2 | K5: =VLOOKUP(G5,'Part number'!$B$2:$C$13,2,0) | O5: PDP2 | P5: =_xlfn.CONCAT(Q5,"_VFD1") | Q5: PS1_3 | R5: 2 | S5: =VLOOKUP(R5,'Part number'!$C$1:$D$13,2,FALSE)
A6: SLOT4 | B6: 1756-N2 | F6: UL1_4_VFD1 | G6: =VLOOKUP(F6,$P$3:$S$176,4,FALSE) | H6: 11.200.1.32 | I6: PDP01 | J6: DPM1_UL1_4_P3 | K6: =VLOOKUP(G6,'Part number'!$B$2:$C$13,2,0) | O6: PDP6 | P6: =_xlfn.CONCAT(Q6,"_VFD1") | Q6: PS1_4 | R6: 7.5 | S6: =VLOOKUP(R6,'Part number'!$C$1:$D$13,2,FALSE)
A7: SLOT5 | B7: 1756-IB16 | F7: UL1_5_VFD1 | G7: =VLOOKUP(F7,$P$3:$S$176,4,FALSE) | H7: 11.200.1.33 | I7: PDP01 | J7: DPM1_UL1_4_P4 | K7: =VLOOKUP(G7,'Part number'!$B$2:$C$13,2,0) | P7: PS1_4_DPM1 | Q7: PS1_4_DPM1 | R7: DPM | S7: =VLOOKUP(R7,'Part number'!$C$1:$D$13,2,FALSE)
A8: SLOT6 | B8: 1756-OB16E | F8: UL1_6_VFD1 | G8: =VLOOKUP(F8,$P$3:$S$176,4,FALSE) | H8: 11.200.1.34 | I8: PDP01 | J8: DPM1_UL1_4_P5 | K8: =VLOOKUP(G8,'Part number'!$B$2:$C$13,2,0) | P8: =_xlfn.CONCAT(Q8,"_VFD1") | Q8: PS1_5 | R8: 5 | S8: =VLOOKUP(R8,'Part number'!$C$1:$D$13,2,FALSE)
A9: SLOT7 | B9: 1756-IB16S | F9: UL1_7_VFD1 | G9: =VLOOKUP(F9,$P$3:$S$176,4,FALSE) | H9: 11.200.1.35 | I9: PDP01 | J9: DPM1_UL1_4_P6 | K9: =VLOOKUP(G9,'Part number'!$B$2:$C$13,2,0) | P9: =_xlfn.CONCAT(Q9,"_VFD1") | Q9: PS2_1 | R9: 2 | S9: =VLOOKUP(R9,'Part number'!$C$1:$D$13,2,FALSE)
A10: SLOT8 | B10: 1756-N2 | F10: UL1_8_VFD1 | G10: =VLOOKUP(F10,$P$3:$S$176,4,FALSE) | H10: 11.200.1.36 | I10: PDP01 | J10: DPM1_UL1_4_P7 | K10: =VLOOKUP(G10,'Part number'!$B$2:$C$13,2,0) | P10: =_xlfn.CONCAT(Q10,"_VFD1") | Q10: PS2_2 | R10: 3 | S10: =VLOOKUP(R10,'Part number'!$C$1:$D$13,2,FALSE)
A11: SLOT9 | B11: 1756-N2 | F11: UL1_9_VFD1 | G11: =VLOOKUP(F11,$P$3:$S$176,4,FALSE) | H11: 11.200.1.37 | I11: PDP01 | J11: DPM1_UL1_4_P8 | K11: =VLOOKUP(G11,'Part number'!$B$2:$C$13,2,0) | P11: =_xlfn.CONCAT(Q11,"_VFD1") | Q11: PS2_3 | R11: 5 | S11: =VLOOKUP(R11,'Part number'!$C$1:$D$13,2,FALSE)
F12: UL1_10A_VFD1 | G12: =VLOOKUP(F12,$P$3:$S$176,4,FALSE) | H12: 11.200.1.38 | I12: PDP01 | J12: DPM1_UL1_4_P9 | K12: =VLOOKUP(G12,'Part number'!$B$2:$C$13,2,0) | P12: =_xlfn.CONCAT(Q12,"_VFD1") | Q12: PS2_4 | R12: 2 | S12: =VLOOKUP(R12,'Part number'!$C$1:$D$13,2,FALSE)
F13: UL1_10B_VFD1 | G13: =VLOOKUP(F13,$P$3:$S$176,4,FALSE) | H13: 11.200.1.39 | I13: PDP01 | J13: DPM1_UL1_4_P10 | K13: =VLOOKUP(G13,'Part number'!$B$2:$C$13,2,0) | P13: =_xlfn.CONCAT(Q13,"_VFD1") | Q13: PS2_5 | R13: 7.5 | S13: =VLOOKUP(R13,'Part number'!$C$1:$D$13,2,FALSE)
A14: DPM COUNT | B14: 11 | F14: UL1_11_VFD1 | G14: =VLOOKUP(F14,$P$3:$S$176,4,FALSE) | H14: 11.200.1.40 | I14: PDP01 | J14: DPM1_UL1_4_P11 | K14: =VLOOKUP(G14,'Part number'!$B$2:$C$13,2,0) | P14: =_xlfn.CONCAT(Q14,"_VFD1") | Q14: PS2_6 | R14: 3 | S14: =VLOOKUP(R14,'Part number'!$C$1:$D$13,2,FALSE)
F15: UL1_12_VFD1 | G15: =VLOOKUP(F15,$P$3:$S$176,4,FALSE) | H15: 11.200.1.41 | I15: PDP01 | J15: DPM1_UL1_4_P12 | K15: =VLOOKUP(G15,'Part number'!$B$2:$C$13,2,0) | P15: =_xlfn.CONCAT(Q15,"_VFD1") | Q15: PS3_1 | R15: 2 | S15: =VLOOKUP(R15,'Part number'!$C$1:$D$13,2,FALSE)
F16: UL1_13_VFD1 | G16: =VLOOKUP(F16,$P$3:$S$176,4,FALSE) | H16: 11.200.1.42 | I16: PDP01 | J16: DPM1_UL1_4_P13 | K16: =VLOOKUP(G16,'Part number'!$B$2:$C$13,2,0) | P16: =_xlfn.CONCAT(Q16,"_VFD1") | Q16: PS3_10 | R16: 5 | S16: =VLOOKUP(R16,'Part number'!$C$1:$D$13,2,FALSE)
F17: UL1_3_FIO1 | G17: 5032-8IOLM12DR | H17: 11.200.1.43 | I17: PDP01 | J17: DPM1_UL1_4_P14 | K17: =VLOOKUP(G17,'Part number'!$B$2:$C$13,2,0) | P17: =_xlfn.CONCAT(Q17,"_VFD1") | Q17: PS3_11 | R17: 3 | S17: =VLOOKUP(R17,'Part number'!$C$1:$D$13,2,FALSE)
F18: UL1_13_FIO1 | G18: 5032-8IOLM12DR | H18: 11.200.1.216 | M18: ADDED 5/26 | P18: =_xlfn.CONCAT(Q18,"_VFD1") | Q18: PS3_12 | R18: 3 | S18: =VLOOKUP(R18,'Part number'!$C$1:$D$13,2,FALSE)
D19: UL2_4_DPM1 | E19: 11.200.1.3 | F19: UL2_1_EX1 | G19: FMH | H19: 11.200.1.44 | I19: PDP01 | J19: DPM2_UL2_4_P1 | K19: =VLOOKUP(G19,'Part number'!$B$2:$C$13,2,0) | P19: =_xlfn.CONCAT(Q19,"_VFD1") | Q19: PS3_2 | R19: 3 | S19: =VLOOKUP(R19,'Part number'!$C$1:$D$13,2,FALSE)
F20: UL2_3_VFD1 | G20: =VLOOKUP(F20,$P$3:$S$176,4,FALSE) | H20: 11.200.1.45 | I20: PDP01 | J20: DPM2_UL2_4_P2 | K20: =VLOOKUP(G20,'Part number'!$B$2:$C$13,2,0) | P20: =_xlfn.CONCAT(Q20,"_VFD1") | Q20: PS3_3 | R20: 3 | S20: =VLOOKUP(R20,'Part number'!$C$1:$D$13,2,FALSE)
F21: UL2_4_VFD1 | G21: =VLOOKUP(F21,$P$3:$S$176,4,FALSE) | H21: 11.200.1.46 | I21: PDP01 | J21: DPM2_UL2_4_P3 | K21: =VLOOKUP(G21,'Part number'!$B$2:$C$13,2,0) | P21: =_xlfn.CONCAT(Q21,"_VFD1") | Q21: PS3_4 | R21: 2 | S21: =VLOOKUP(R21,'Part number'!$C$1:$D$13,2,FALSE)
F22: UL2_5_VFD1 | G22: =VLOOKUP(F22,$P$3:$S$176,4,FALSE) | H22: 11.200.1.47 | I22: PDP01 | J22: DPM2_UL2_4_P4 | K22: =VLOOKUP(G22,'Part number'!$B$2:$C$13,2,0) | P22: =_xlfn.CONCAT(Q22,"_VFD1") | Q22: PS3_5 | R22: 5 | S22: =VLOOKUP(R22,'Part number'!$C$1:$D$13,2,FALSE)
F23: UL2_6_VFD1 | G23: =VLOOKUP(F23,$P$3:$S$176,4,FALSE) | H23: 11.200.1.48 | I23: PDP01 | J23: DPM2_UL2_4_P5 | K23: =VLOOKUP(G23,'Part number'!$B$2:$C$13,2,0) | P23: =_xlfn.CONCAT(Q23,"_VFD1") | Q23: PS3_6 | R23: 5 | S23: =VLOOKUP(R23,'Part number'!$C$1:$D$13,2,FALSE)
F24: UL2_7_VFD1 | G24: =VLOOKUP(F24,$P$3:$S$176,4,FALSE) | H24: 11.200.1.49 | I24: PDP01 | J24: DPM2_UL2_4_P6 | K24: =VLOOKUP(G24,'Part number'!$B$2:$C$13,2,0) | P24: PS3_6_DPM1 | Q24: PS3_6_DPM1 | R24: DPM | S24: =VLOOKUP(R24,'Part number'!$C$1:$D$13,2,FALSE)
F25: UL2_8_VFD1 | G25: =VLOOKUP(F25,$P$3:$S$176,4,FALSE) | H25: 11.200.1.50 | I25: PDP01 | J25: DPM2_UL2_4_P7 | K25: =VLOOKUP(G25,'Part number'!$B$2:$C$13,2,0) | P25: =_xlfn.CONCAT(Q25,"_VFD1") | Q25: PS3_7 | R25: 10 | S25: =VLOOKUP(R25,'Part number'!$C$1:$D$13,2,FALSE)
F26: UL2_9_VFD1 | G26: =VLOOKUP(F26,$P$3:$S$176,4,FALSE) | H26: 11.200.1.51 | I26: PDP01 | J26: DPM2_UL2_4_P8 | K26: =VLOOKUP(G26,'Part number'!$B$2:$C$13,2,0) | P26: =_xlfn.CONCAT(Q26,"_VFD1") | Q26: PS3_8 | R26: 3 | S26: =VLOOKUP(R26,'Part number'!$C$1:$D$13,2,FALSE)
F27: UL2_10_VFD1 | G27: =VLOOKUP(F27,$P$3:$S$176,4,FALSE) | H27: 11.200.1.52 | I27: PDP01 | J27: DPM2_UL2_4_P9 | K27: =VLOOKUP(G27,'Part number'!$B$2:$C$13,2,0) | P27: =_xlfn.CONCAT(Q27,"_VFD1") | Q27: PS3_9 | R27: 5 | S27: =VLOOKUP(R27,'Part number'!$C$1:$D$13,2,FALSE)
F28: UL3_1_VFD1 | G28: =VLOOKUP(F28,$P$3:$S$176,4,FALSE) | H28: 11.200.1.53 | I28: PDP01 | J28: DPM2_UL2_4_P10 | K28: =VLOOKUP(G28,'Part number'!$B$2:$C$13,2,0) | P28: =_xlfn.CONCAT(Q28,"_VFD1") | Q28: PS4_1 | R28: 2 | S28: =VLOOKUP(R28,'Part number'!$C$1:$D$13,2,FALSE)
F29: UL3_2_VFD1 | G29: =VLOOKUP(F29,$P$3:$S$176,4,FALSE) | H29: 11.200.1.54 | I29: PDP01 | J29: DPM2_UL2_4_P11 | K29: =VLOOKUP(G29,'Part number'!$B$2:$C$13,2,0) | P29: =_xlfn.CONCAT(Q29,"_VFD1") | Q29: PS4_10 | R29: 10 | S29: =VLOOKUP(R29,'Part number'!$C$1:$D$13,2,FALSE)
F30: UL3_3_VFD1 | G30: =VLOOKUP(F30,$P$3:$S$176,4,FALSE) | H30: 11.200.1.55 | I30: PDP01 | J30: DPM2_UL2_4_P12 | K30: =VLOOKUP(G30,'Part number'!$B$2:$C$13,2,0) | P30: =_xlfn.CONCAT(Q30,"_VFD1") | Q30: PS4_11 | R30: 5 | S30: =VLOOKUP(R30,'Part number'!$C$1:$D$13,2,FALSE)
F31: UL3_4_VFD1 | G31: =VLOOKUP(F31,$P$3:$S$176,4,FALSE) | H31: 11.200.1.56 | I31: PDP01 | J31: DPM2_UL2_4_P13 | K31: =VLOOKUP(G31,'Part number'!$B$2:$C$13,2,0) | P31: =_xlfn.CONCAT(Q31,"_VFD1") | Q31: PS4_12 | R31: 3 | S31: =VLOOKUP(R31,'Part number'!$C$1:$D$13,2,FALSE)
F32: UL3_5_VFD1 | G32: =VLOOKUP(F32,$P$3:$S$176,4,FALSE) | H32: 11.200.1.57 | I32: PDP01 | J32: DPM2_UL2_4_P14 | K32: =VLOOKUP(G32,'Part number'!$B$2:$C$13,2,0) | P32: =_xlfn.CONCAT(Q32,"_VFD1") | Q32: PS4_13 | R32: 3 | S32: =VLOOKUP(R32,'Part number'!$C$1:$D$13,2,FALSE)
F33: UL3_6_VFD1 | G33: =VLOOKUP(F33,$P$3:$S$176,4,FALSE) | H33: 11.200.1.58 | I33: PDP01 | J33: DPM2_UL2_4_P15 | K33: =VLOOKUP(G33,'Part number'!$B$2:$C$13,2,0) | P33: =_xlfn.CONCAT(Q33,"_VFD1") | Q33: PS4_14 | R33: 3 | S33: =VLOOKUP(R33,'Part number'!$C$1:$D$13,2,FALSE)
F34: UL3_7_VFD1 | G34: =VLOOKUP(F34,$P$3:$S$176,4,FALSE) | H34: 11.200.1.59 | I34: PDP01 | J34: DPM2_UL2_4_P16 | K34: =VLOOKUP(G34,'Part number'!$B$2:$C$13,2,0) | P34: =_xlfn.CONCAT(Q34,"_VFD1") | Q34: PS4_2 | R34: 3 | S34: =VLOOKUP(R34,'Part number'!$C$1:$D$13,2,FALSE)
F35: UL3_8_VFD1 | G35: =VLOOKUP(F35,$P$3:$S$176,4,FALSE) | H35: 11.200.1.60 | I35: PDP01 | J35: DPM2_UL2_4_P17 | K35: =VLOOKUP(G35,'Part number'!$B$2:$C$13,2,0) | P35: =_xlfn.CONCAT(Q35,"_VFD1") | Q35: PS4_3 | R35: 2 | S35: =VLOOKUP(R35,'Part number'!$C$1:$D$13,2,FALSE)
F36: UL3_9_VFD1 | G36: =VLOOKUP(F36,$P$3:$S$176,4,FALSE) | H36: 11.200.1.61 | I36: PDP01 | J36: DPM2_UL2_4_P18 | K36: =VLOOKUP(G36,'Part number'!$B$2:$C$13,2,0) | P36: =_xlfn.CONCAT(Q36,"_VFD1") | Q36: PS4_4 | R36: 3 | S36: =VLOOKUP(R36,'Part number'!$C$1:$D$13,2,FALSE)
F37: UL2_3_FIO1 | G37: 5032-8IOLM12DR | H37: 11.200.1.62 | I37: PDP01 | J37: DPM2_UL2_4_P19 | K37: =VLOOKUP(G37,'Part number'!$B$2:$C$13,2,0) | P37: =_xlfn.CONCAT(Q37,"_VFD1") | Q37: PS4_5 | R37: 5 | S37: =VLOOKUP(R37,'Part number'!$C$1:$D$13,2,FALSE)
F38: UL3_2_FIO1 | G38: 5032-8IOLM12DR | H38: 11.200.1.63 | I38: PDP01 | J38: DPM2_UL2_4_P20 | K38: =VLOOKUP(G38,'Part number'!$B$2:$C$13,2,0) | P38: =_xlfn.CONCAT(Q38,"_VFD1") | Q38: PS4_6 | R38: 7.5 | S38: =VLOOKUP(R38,'Part number'!$C$1:$D$13,2,FALSE)
D39: UL4_4_DPM1 | E39: 11.200.1.4 | F39: UL4_1_EX1 | G39: FMH | H39: 11.200.1.64 | I39: PDP01 | J39: DPM3_UL4_4_P1 | K39: =VLOOKUP(G39,'Part number'!$B$2:$C$13,2,0) | P39: =_xlfn.CONCAT(Q39,"_VFD1") | Q39: PS4_7 | R39: 7.5 | S39: =VLOOKUP(R39,'Part number'!$C$1:$D$13,2,FALSE)
F40: UL4_3_VFD1 | G40: =VLOOKUP(F40,$P$3:$S$176,4,FALSE) | H40: 11.200.1.65 | I40: PDP01 | J40: DPM3_UL4_4_P2 | K40: =VLOOKUP(G40,'Part number'!$B$2:$C$13,2,0) | P40: PS4_7_DPM1 | Q40: PS4_7_DPM1 | R40: DPM | S40: =VLOOKUP(R40,'Part number'!$C$1:$D$13,2,FALSE)
F41: UL4_4_VFD1 | G41: =VLOOKUP(F41,$P$3:$S$176,4,FALSE) | H41: 11.200.1.66 | I41: PDP01 | J41: DPM3_UL4_4_P3 | K41: =VLOOKUP(G41,'Part number'!$B$2:$C$13,2,0) | P41: =_xlfn.CONCAT(Q41,"_VFD1") | Q41: PS4_8 | R41: 5 | S41: =VLOOKUP(R41,'Part number'!$C$1:$D$13,2,FALSE)
F42: UL4_5_VFD1 | G42: =VLOOKUP(F42,$P$3:$S$176,4,FALSE) | H42: 11.200.1.67 | I42: PDP01 | J42: DPM3_UL4_4_P4 | K42: =VLOOKUP(G42,'Part number'!$B$2:$C$13,2,0) | P42: =_xlfn.CONCAT(Q42,"_VFD1") | Q42: PS4_9 | R42: 3 | S42: =VLOOKUP(R42,'Part number'!$C$1:$D$13,2,FALSE)
F43: UL4_6_VFD1 | G43: =VLOOKUP(F43,$P$3:$S$176,4,FALSE) | H43: 11.200.1.68 | I43: PDP01 | J43: DPM3_UL4_4_P5 | K43: =VLOOKUP(G43,'Part number'!$B$2:$C$13,2,0) | P43: =_xlfn.CONCAT(Q43,"_VFD1") | Q43: UL10_1 | R43: 2 | S43: =VLOOKUP(R43,'Part number'!$C$1:$D$13,2,FALSE)
F44: UL4_7_VFD1 | G44: =VLOOKUP(F44,$P$3:$S$176,4,FALSE) | H44: 11.200.1.69 | I44: PDP01 | J44: DPM3_UL4_4_P6 | K44: =VLOOKUP(G44,'Part number'!$B$2:$C$13,2,0) | P44: =_xlfn.CONCAT(Q44,"_VFD1") | Q44: UL10_10 | R44: 2 | S44: =VLOOKUP(R44,'Part number'!$C$1:$D$13,2,FALSE)
F45: UL4_8_VFD1 | G45: =VLOOKUP(F45,$P$3:$S$176,4,FALSE) | H45: 11.200.1.70 | I45: PDP01 | J45: DPM3_UL4_4_P7 | K45: =VLOOKUP(G45,'Part number'!$B$2:$C$13,2,0) | P45: =_xlfn.CONCAT(Q45,"_VFD1") | Q45: UL10_2 | R45: 7.5 | S45: =VLOOKUP(R45,'Part number'!$C$1:$D$13,2,FALSE)
F46: UL4_9_VFD1 | G46: =VLOOKUP(F46,$P$3:$S$176,4,FALSE) | H46: 11.200.1.71 | I46: PDP01 | J46: DPM3_UL4_4_P8 | K46: =VLOOKUP(G46,'Part number'!$B$2:$C$13,2,0) | P46: =_xlfn.CONCAT(Q46,"_VFD1") | Q46: UL10_3 | R46: 2 | S46: =VLOOKUP(R46,'Part number'!$C$1:$D$13,2,FALSE)
F47: UL4_10A_VFD1 | G47: =VLOOKUP(F47,$P$3:$S$176,4,FALSE) | H47: 11.200.1.72 | I47: PDP01 | J47: DPM3_UL4_4_P9 | K47: =VLOOKUP(G47,'Part number'!$B$2:$C$13,2,0) | P47: UL10_3_DPM1 | Q47: UL10_3_DPM1 | R47: DPM | S47: =VLOOKUP(R47,'Part number'!$C$1:$D$13,2,FALSE)
F48: UL4_10B_VFD1 | G48: =VLOOKUP(F48,$P$3:$S$176,4,FALSE) | H48: 11.200.1.73 | I48: PDP01 | J48: DPM3_UL4_4_P10 | K48: =VLOOKUP(G48,'Part number'!$B$2:$C$13,2,0) | P48: =_xlfn.CONCAT(Q48,"_VFD1") | Q48: UL10_4 | R48: 3 | S48: =VLOOKUP(R48,'Part number'!$C$1:$D$13,2,FALSE)
F49: UL4_11_VFD1 | G49: =VLOOKUP(F49,$P$3:$S$176,4,FALSE) | H49: 11.200.1.74 | I49: PDP01 | J49: DPM3_UL4_4_P11 | K49: =VLOOKUP(G49,'Part number'!$B$2:$C$13,2,0) | P49: =_xlfn.CONCAT(Q49,"_VFD1") | Q49: UL10_5 | R49: 3 | S49: =VLOOKUP(R49,'Part number'!$C$1:$D$13,2,FALSE)
F50: UL4_12_VFD1 | G50: =VLOOKUP(F50,$P$3:$S$176,4,FALSE) | H50: 11.200.1.75 | I50: PDP01 | J50: DPM3_UL4_4_P12 | K50: =VLOOKUP(G50,'Part number'!$B$2:$C$13,2,0) | P50: =_xlfn.CONCAT(Q50,"_VFD1") | Q50: UL10_6 | R50: 3 | S50: =VLOOKUP(R50,'Part number'!$C$1:$D$13,2,FALSE)
F51: UL4_13_VFD1 | G51: =VLOOKUP(F51,$P$3:$S$176,4,FALSE) | H51: 11.200.1.76 | I51: PDP01 | J51: DPM3_UL4_4_P13 | K51: =VLOOKUP(G51,'Part number'!$B$2:$C$13,2,0) | P51: =_xlfn.CONCAT(Q51,"_VFD1") | Q51: UL10_7 | R51: 3 | S51: =VLOOKUP(R51,'Part number'!$C$1:$D$13,2,FALSE)
F52: UL4_3_FIO1 | G52: 5032-8IOLM12DR | H52: 11.200.1.77 | I52: PDP01 | J52: DPM3_UL4_4_P14 | K52: =VLOOKUP(G52,'Part number'!$B$2:$C$13,2,0) | P52: =_xlfn.CONCAT(Q52,"_VFD1") | Q52: UL10_8 | R52: 3 | S52: =VLOOKUP(R52,'Part number'!$C$1:$D$13,2,FALSE)
F53: UL4_13_FIO1 | G53: 5032-8IOLM12DR | H53: 11.200.1.217 | L53: ADDED 5/26 | P53: =_xlfn.CONCAT(Q53,"_VFD1") | Q53: UL10_9 | R53: 3 | S53: =VLOOKUP(R53,'Part number'!$C$1:$D$13,2,FALSE)
D54: UL5_4_DPM1 | E54: 11.200.1.5 | F54: UL5_1_EX1 | G54: FMH | H54: 11.200.1.78 | I54: PDP01 | J54: DPM4_UL5_4_P1 | K54: =VLOOKUP(G54,'Part number'!$B$2:$C$13,2,0) | P54: =_xlfn.CONCAT(Q54,"_EX1") | Q54: UL1_1 | R54: EXTENDO | S54: =VLOOKUP(R54,'Part number'!$C$1:$D$13,2,FALSE)
F55: UL5_3_VFD1 | G55: =VLOOKUP(F55,$P$3:$S$176,4,FALSE) | H55: 11.200.1.79 | I55: PDP01 | J55: DPM4_UL5_4_P2 | K55: =VLOOKUP(G55,'Part number'!$B$2:$C$13,2,0) | P55: =_xlfn.CONCAT(Q55,"_VFD1") | Q55: UL1_10A | R55: 3 | S55: =VLOOKUP(R55,'Part number'!$C$1:$D$13,2,FALSE)
F56: UL5_4_VFD1 | G56: =VLOOKUP(F56,$P$3:$S$176,4,FALSE) | H56: 11.200.1.80 | I56: PDP01 | J56: DPM4_UL5_4_P3 | K56: =VLOOKUP(G56,'Part number'!$B$2:$C$13,2,0) | P56: =_xlfn.CONCAT(Q56,"_VFD1") | Q56: UL1_10B | R56: 3 | S56: =VLOOKUP(R56,'Part number'!$C$1:$D$13,2,FALSE)
F57: UL5_5_VFD1 | G57: =VLOOKUP(F57,$P$3:$S$176,4,FALSE) | H57: 11.200.1.81 | I57: PDP01 | J57: DPM4_UL5_4_P4 | K57: =VLOOKUP(G57,'Part number'!$B$2:$C$13,2,0) | P57: =_xlfn.CONCAT(Q57,"_EX1") | Q57: UL11_1 | R57: EXTENDO | S57: =VLOOKUP(R57,'Part number'!$C$1:$D$13,2,FALSE)
F58: UL5_6_VFD1 | G58: =VLOOKUP(F58,$P$3:$S$176,4,FALSE) | H58: 11.200.1.82 | I58: PDP01 | J58: DPM4_UL5_4_P5 | K58: =VLOOKUP(G58,'Part number'!$B$2:$C$13,2,0) | P58: =_xlfn.CONCAT(Q58,"_VFD1") | Q58: UL1_11 | R58: 2 | S58: =VLOOKUP(R58,'Part number'!$C$1:$D$13,2,FALSE)
F59: UL5_7_VFD1 | G59: =VLOOKUP(F59,$P$3:$S$176,4,FALSE) | H59: 11.200.1.83 | I59: PDP01 | J59: DPM4_UL5_4_P6 | K59: =VLOOKUP(G59,'Part number'!$B$2:$C$13,2,0) | P59: =_xlfn.CONCAT(Q59,"_VFD1") | Q59: UL11_10A | R59: 3 | S59: =VLOOKUP(R59,'Part number'!$C$1:$D$13,2,FALSE)
F60: UL5_8_VFD1 | G60: =VLOOKUP(F60,$P$3:$S$176,4,FALSE) | H60: 11.200.1.84 | I60: PDP01 | J60: DPM4_UL5_4_P7 | K60: =VLOOKUP(G60,'Part number'!$B$2:$C$13,2,0) | P60: =_xlfn.CONCAT(Q60,"_VFD1") | Q60: UL11_10B | R60: 3 | S60: =VLOOKUP(R60,'Part number'!$C$1:$D$13,2,FALSE)
F61: UL5_9_VFD1 | G61: =VLOOKUP(F61,$P$3:$S$176,4,FALSE) | H61: 11.200.1.85 | I61: PDP01 | J61: DPM4_UL5_4_P8 | K61: =VLOOKUP(G61,'Part number'!$B$2:$C$13,2,0) | P61: =_xlfn.CONCAT(Q61,"_VFD1") | Q61: UL11_11 | R61: 2 | S61: =VLOOKUP(R61,'Part number'!$C$1:$D$13,2,FALSE)
F62: UL5_10_VFD1 | G62: =VLOOKUP(F62,$P$3:$S$176,4,FALSE) | H62: 11.200.1.86 | I62: PDP01 | J62: DPM4_UL5_4_P9 | K62: =VLOOKUP(G62,'Part number'!$B$2:$C$13,2,0) | P62: =_xlfn.CONCAT(Q62,"_VFD1") | Q62: UL11_12 | R62: 2 | S62: =VLOOKUP(R62,'Part number'!$C$1:$D$13,2,FALSE)
F63: UL6_1_VFD1 | G63: =VLOOKUP(F63,$P$3:$S$176,4,FALSE) | H63: 11.200.1.87 | I63: PDP01 | J63: DPM4_UL5_4_P10 | K63: =VLOOKUP(G63,'Part number'!$B$2:$C$13,2,0) | P63: =_xlfn.CONCAT(Q63,"_VFD1") | Q63: UL11_13 | R63: 5 | S63: =VLOOKUP(R63,'Part number'!$C$1:$D$13,2,FALSE)
F64: UL6_2_VFD1 | G64: =VLOOKUP(F64,$P$3:$S$176,4,FALSE) | H64: 11.200.1.88 | I64: PDP01 | J64: DPM4_UL5_4_P11 | K64: =VLOOKUP(G64,'Part number'!$B$2:$C$13,2,0) | P64: =_xlfn.CONCAT(Q64,"_VFD1") | Q64: UL1_12 | R64: 2 | S64: =VLOOKUP(R64,'Part number'!$C$1:$D$13,2,FALSE)
F65: UL6_3_VFD1 | G65: =VLOOKUP(F65,$P$3:$S$176,4,FALSE) | H65: 11.200.1.89 | I65: PDP01 | J65: DPM4_UL5_4_P12 | K65: =VLOOKUP(G65,'Part number'!$B$2:$C$13,2,0) | P65: =_xlfn.CONCAT(Q65,"_VFD1") | Q65: UL11_3 | R65: 5 | S65: =VLOOKUP(R65,'Part number'!$C$1:$D$13,2,FALSE)
F66: UL6_4_VFD1 | G66: =VLOOKUP(F66,$P$3:$S$176,4,FALSE) | H66: 11.200.1.90 | I66: PDP01 | J66: DPM4_UL5_4_P13 | K66: =VLOOKUP(G66,'Part number'!$B$2:$C$13,2,0) | P66: =_xlfn.CONCAT(Q66,"_VFD1") | Q66: UL1_13 | R66: 5 | S66: =VLOOKUP(R66,'Part number'!$C$1:$D$13,2,FALSE)
F67: UL6_5_VFD1 | G67: =VLOOKUP(F67,$P$3:$S$176,4,FALSE) | H67: 11.200.1.91 | I67: PDP01 | J67: DPM4_UL5_4_P14 | K67: =VLOOKUP(G67,'Part number'!$B$2:$C$13,2,0) | P67: =_xlfn.CONCAT(Q67,"_VFD1") | Q67: UL11_4 | R67: 5 | S67: =VLOOKUP(R67,'Part number'!$C$1:$D$13,2,FALSE)
F68: UL6_6_VFD1 | G68: =VLOOKUP(F68,$P$3:$S$176,4,FALSE) | H68: 11.200.1.92 | I68: PDP01 | J68: DPM4_UL5_4_P15 | K68: =VLOOKUP(G68,'Part number'!$B$2:$C$13,2,0) | P68: UL11_4_DPM1 | Q68: UL11_4_DPM1 | R68: DPM | S68: =VLOOKUP(R68,'Part number'!$C$1:$D$13,2,FALSE)
F69: UL6_7_VFD1 | G69: =VLOOKUP(F69,$P$3:$S$176,4,FALSE) | H69: 11.200.1.93 | I69: PDP01 | J69: DPM4_UL5_4_P16 | K69: =VLOOKUP(G69,'Part number'!$B$2:$C$13,2,0) | P69: =_xlfn.CONCAT(Q69,"_VFD1") | Q69: UL11_5 | R69: 3 | S69: =VLOOKUP(R69,'Part number'!$C$1:$D$13,2,FALSE)
F70: UL6_8_VFD1 | G70: =VLOOKUP(F70,$P$3:$S$176,4,FALSE) | H70: 11.200.1.94 | I70: PDP01 | J70: DPM4_UL5_4_P17 | K70: =VLOOKUP(G70,'Part number'!$B$2:$C$13,2,0) | P70: =_xlfn.CONCAT(Q70,"_VFD1") | Q70: UL11_6 | R70: 3 | S70: =VLOOKUP(R70,'Part number'!$C$1:$D$13,2,FALSE)
F71: UL6_9_VFD1 | G71: =VLOOKUP(F71,$P$3:$S$176,4,FALSE) | H71: 11.200.1.95 | I71: PDP01 | J71: DPM4_UL5_4_P18 | K71: =VLOOKUP(G71,'Part number'!$B$2:$C$13,2,0) | P71: =_xlfn.CONCAT(Q71,"_VFD1") | Q71: UL11_7 | R71: 3 | S71: =VLOOKUP(R71,'Part number'!$C$1:$D$13,2,FALSE)
F72: UL5_3_FIO1 | G72: 5032-8IOLM12DR | H72: 11.200.1.96 | I72: PDP01 | J72: DPM4_UL5_4_P19 | K72: =VLOOKUP(G72,'Part number'!$B$2:$C$13,2,0) | P72: =_xlfn.CONCAT(Q72,"_VFD1") | Q72: UL11_8 | R72: 3 | S72: =VLOOKUP(R72,'Part number'!$C$1:$D$13,2,FALSE)
F73: UL6_2_FIO1 | G73: 5032-8IOLM12DR | H73: 11.200.1.97 | I73: PDP01 | J73: DPM4_UL5_4_P20 | K73: =VLOOKUP(G73,'Part number'!$B$2:$C$13,2,0) | P73: =_xlfn.CONCAT(Q73,"_VFD1") | Q73: UL11_9 | R73: 5 | S73: =VLOOKUP(R73,'Part number'!$C$1:$D$13,2,FALSE)
D74: UL7_4_DPM1 | E74: 11.200.1.6 | F74: UL7_1_EX1 | G74: FMH | H74: 11.200.1.98 | I74: PDP02 | J74: DPM5_UL7_4_P1 | K74: =VLOOKUP(G74,'Part number'!$B$2:$C$13,2,0) | P74: =_xlfn.CONCAT(Q74,"_EX1") | Q74: UL12_1 | R74: EXTENDO | S74: =VLOOKUP(R74,'Part number'!$C$1:$D$13,2,FALSE)
F75: UL7_3_VFD1 | G75: =VLOOKUP(F75,$P$3:$S$176,4,FALSE) | H75: 11.200.1.99 | I75: PDP02 | J75: DPM5_UL7_4_P2 | K75: =VLOOKUP(G75,'Part number'!$B$2:$C$13,2,0) | P75: =_xlfn.CONCAT(Q75,"_VFD1") | Q75: UL12_10 | R75: 2 | S75: =VLOOKUP(R75,'Part number'!$C$1:$D$13,2,FALSE)
F76: UL7_4_VFD1 | G76: =VLOOKUP(F76,$P$3:$S$176,4,FALSE) | H76: 11.200.1.100 | I76: PDP02 | J76: DPM5_UL7_4_P3 | K76: =VLOOKUP(G76,'Part number'!$B$2:$C$13,2,0) | P76: =_xlfn.CONCAT(Q76,"_VFD1") | Q76: UL12_3 | R76: 5 | S76: =VLOOKUP(R76,'Part number'!$C$1:$D$13,2,FALSE)
F77: UL7_5_VFD1 | G77: =VLOOKUP(F77,$P$3:$S$176,4,FALSE) | H77: 11.200.1.101 | I77: PDP02 | J77: DPM5_UL7_4_P4 | K77: =VLOOKUP(G77,'Part number'!$B$2:$C$13,2,0) | P77: =_xlfn.CONCAT(Q77,"_VFD1") | Q77: UL12_4 | R77: 5 | S77: =VLOOKUP(R77,'Part number'!$C$1:$D$13,2,FALSE)
F78: UL7_6_VFD1 | G78: =VLOOKUP(F78,$P$3:$S$176,4,FALSE) | H78: 11.200.1.102 | I78: PDP02 | J78: DPM5_UL7_4_P5 | K78: =VLOOKUP(G78,'Part number'!$B$2:$C$13,2,0) | P78: =_xlfn.CONCAT(Q78,"_VFD1") | Q78: UL12_5 | R78: 2 | S78: =VLOOKUP(R78,'Part number'!$C$1:$D$13,2,FALSE)
F79: UL7_7_VFD1 | G79: =VLOOKUP(F79,$P$3:$S$176,4,FALSE) | H79: 11.200.1.103 | I79: PDP02 | J79: DPM5_UL7_4_P6 | K79: =VLOOKUP(G79,'Part number'!$B$2:$C$13,2,0) | P79: =_xlfn.CONCAT(Q79,"_VFD1") | Q79: UL12_6 | R79: 3 | S79: =VLOOKUP(R79,'Part number'!$C$1:$D$13,2,FALSE)
F80: UL7_8_VFD1 | G80: =VLOOKUP(F80,$P$3:$S$176,4,FALSE) | H80: 11.200.1.104 | I80: PDP02 | J80: DPM5_UL7_4_P7 | K80: =VLOOKUP(G80,'Part number'!$B$2:$C$13,2,0) | P80: =_xlfn.CONCAT(Q80,"_VFD1") | Q80: UL12_7 | R80: 3 | S80: =VLOOKUP(R80,'Part number'!$C$1:$D$13,2,FALSE)
F81: UL7_9_VFD1 | G81: =VLOOKUP(F81,$P$3:$S$176,4,FALSE) | H81: 11.200.1.105 | I81: PDP02 | J81: DPM5_UL7_4_P8 | K81: =VLOOKUP(G81,'Part number'!$B$2:$C$13,2,0) | P81: =_xlfn.CONCAT(Q81,"_VFD1") | Q81: UL12_8 | R81: 3 | S81: =VLOOKUP(R81,'Part number'!$C$1:$D$13,2,FALSE)
F82: UL7_10A_VFD1 | G82: =VLOOKUP(F82,$P$3:$S$176,4,FALSE) | H82: 11.200.1.106 | I82: PDP02 | J82: DPM5_UL7_4_P9 | K82: =VLOOKUP(G82,'Part number'!$B$2:$C$13,2,0) | P82: =_xlfn.CONCAT(Q82,"_VFD1") | Q82: UL12_9 | R82: 3 | S82: =VLOOKUP(R82,'Part number'!$C$1:$D$13,2,FALSE)
F83: UL7_10B_VFD1 | G83: =VLOOKUP(F83,$P$3:$S$176,4,FALSE) | H83: 11.200.1.107 | I83: PDP02 | J83: DPM5_UL7_4_P10 | K83: =VLOOKUP(G83,'Part number'!$B$2:$C$13,2,0) | P83: =_xlfn.CONCAT(Q83,"_VFD1") | Q83: UL1_3 | R83: 5 | S83: =VLOOKUP(R83,'Part number'!$C$1:$D$13,2,FALSE)
F84: UL7_11_VFD1 | G84: =VLOOKUP(F84,$P$3:$S$176,4,FALSE) | H84: 11.200.1.108 | I84: PDP02 | J84: DPM5_UL7_4_P11 | K84: =VLOOKUP(G84,'Part number'!$B$2:$C$13,2,0) | P84: =_xlfn.CONCAT(Q84,"_VFD1") | Q84: UL1_4 | R84: 5 | S84: =VLOOKUP(R84,'Part number'!$C$1:$D$13,2,FALSE)
F85: UL7_12_VFD1 | G85: =VLOOKUP(F85,$P$3:$S$176,4,FALSE) | H85: 11.200.1.109 | I85: PDP02 | J85: DPM5_UL7_4_P12 | K85: =VLOOKUP(G85,'Part number'!$B$2:$C$13,2,0) | P85: =_xlfn.CONCAT(Q85,"_VFD1") | Q85: UL1_4_DPM1 | R85: DPM | S85: =VLOOKUP(R85,'Part number'!$C$1:$D$13,2,FALSE)
F86: UL7_13_VFD1 | G86: =VLOOKUP(F86,$P$3:$S$176,4,FALSE) | H86: 11.200.1.110 | I86: PDP02 | J86: DPM5_UL7_4_P13 | K86: =VLOOKUP(G86,'Part number'!$B$2:$C$13,2,0) | P86: =_xlfn.CONCAT(Q86,"_VFD1") | Q86: UL1_5 | R86: 3 | S86: =VLOOKUP(R86,'Part number'!$C$1:$D$13,2,FALSE)
F87: UL7_3_FIO1 | G87: 5032-8IOLM12DR | H87: 11.200.1.111 | I87: PDP02 | J87: DPM5_UL7_4_P14 | K87: =VLOOKUP(G87,'Part number'!$B$2:$C$13,2,0) | P87: =_xlfn.CONCAT(Q87,"_VFD1") | Q87: UL1_6 | R87: 3 | S87: =VLOOKUP(R87,'Part number'!$C$1:$D$13,2,FALSE)
F88: PDP1_FIO1 | G88: 5032-8IOLM12DR | H88: 11.200.1.210 | L88: PDP1&2 PMM | M88: UPDATED | P88: =_xlfn.CONCAT(Q88,"_VFD1") | Q88: UL1_7 | R88: 3 | S88: =VLOOKUP(R88,'Part number'!$C$1:$D$13,2,FALSE)
F89: PDP1_PMM1 | G89: 1420-V2-ENT | H89: 11.200.1.211 | P89: =_xlfn.CONCAT(Q89,"_VFD1") | Q89: UL1_8 | R89: 3 | S89: =VLOOKUP(R89,'Part number'!$C$1:$D$13,2,FALSE)
F90: PDP2_FIO1 | G90: 5032-8IOLM12DR | H90: 11.200.1.212 | P90: =_xlfn.CONCAT(Q90,"_VFD1") | Q90: UL1_9 | R90: 5 | S90: =VLOOKUP(R90,'Part number'!$C$1:$D$13,2,FALSE)
F91: PDP2_PMM1 | G91: 1420-V2-ENT | H91: 11.200.1.213 | P91: =_xlfn.CONCAT(Q91,"_EX1") | Q91: UL2_1 | R91: EXTENDO | S91: =VLOOKUP(R91,'Part number'!$C$1:$D$13,2,FALSE)
F92: UL7_13_FIO1 | G92: 5032-8IOLM12DR | H92: 11.200.1.218 | L92: ADDED 5/26 | P92: =_xlfn.CONCAT(Q92,"_VFD1") | Q92: UL2_10 | R92: 2 | S92: =VLOOKUP(R92,'Part number'!$C$1:$D$13,2,FALSE)
D93: UL8_3_DPM1 | E93: 11.200.1.7 | F93: UL8_1_VFD1 | G93: =VLOOKUP(F93,$P$3:$S$176,4,FALSE) | H93: 11.200.1.112 | I93: PDP02 | J93: DPM6_UL8_3_P1 | K93: =VLOOKUP(G93,'Part number'!$B$2:$C$13,2,0) | P93: =_xlfn.CONCAT(Q93,"_VFD1") | Q93: UL2_3 | R93: 5 | S93: =VLOOKUP(R93,'Part number'!$C$1:$D$13,2,FALSE)
F94: UL8_2_VFD1 | G94: =VLOOKUP(F94,$P$3:$S$176,4,FALSE) | H94: 11.200.1.113 | I94: PDP02 | J94: DPM6_UL8_3_P2 | K94: =VLOOKUP(G94,'Part number'!$B$2:$C$13,2,0) | P94: =_xlfn.CONCAT(Q94,"_VFD1") | Q94: UL2_4 | R94: 5 | S94: =VLOOKUP(R94,'Part number'!$C$1:$D$13,2,FALSE)
F95: UL8_3_VFD1 | G95: =VLOOKUP(F95,$P$3:$S$176,4,FALSE) | H95: 11.200.1.114 | I95: PDP02 | J95: DPM6_UL8_3_P3 | K95: =VLOOKUP(G95,'Part number'!$B$2:$C$13,2,0) | P95: UL2_4_DPM1 | Q95: UL2_4_DPM1 | R95: DPM | S95: =VLOOKUP(R95,'Part number'!$C$1:$D$13,2,FALSE)
F96: UL8_4_VFD1 | G96: =VLOOKUP(F96,$P$3:$S$176,4,FALSE) | H96: 11.200.1.115 | I96: PDP02 | J96: DPM6_UL8_3_P4 | K96: =VLOOKUP(G96,'Part number'!$B$2:$C$13,2,0) | P96: =_xlfn.CONCAT(Q96,"_VFD1") | Q96: UL2_5 | R96: 2 | S96: =VLOOKUP(R96,'Part number'!$C$1:$D$13,2,FALSE)
F97: UL8_5_VFD1 | G97: =VLOOKUP(F97,$P$3:$S$176,4,FALSE) | H97: 11.200.1.116 | I97: PDP02 | J97: DPM6_UL8_3_P5 | K97: =VLOOKUP(G97,'Part number'!$B$2:$C$13,2,0) | P97: =_xlfn.CONCAT(Q97,"_VFD1") | Q97: UL2_6 | R97: 3 | S97: =VLOOKUP(R97,'Part number'!$C$1:$D$13,2,FALSE)
F98: UL8_6_VFD1 | G98: =VLOOKUP(F98,$P$3:$S$176,4,FALSE) | H98: 11.200.1.117 | I98: PDP02 | J98: DPM6_UL8_3_P6 | K98: =VLOOKUP(G98,'Part number'!$B$2:$C$13,2,0) | P98: =_xlfn.CONCAT(Q98,"_VFD1") | Q98: UL2_7 | R98: 3 | S98: =VLOOKUP(R98,'Part number'!$C$1:$D$13,2,FALSE)
F99: UL8_7_VFD1 | G99: =VLOOKUP(F99,$P$3:$S$176,4,FALSE) | H99: 11.200.1.118 | I99: PDP02 | J99: DPM6_UL8_3_P7 | K99: =VLOOKUP(G99,'Part number'!$B$2:$C$13,2,0) | P99: =_xlfn.CONCAT(Q99,"_VFD1") | Q99: UL2_8 | R99: 3 | S99: =VLOOKUP(R99,'Part number'!$C$1:$D$13,2,FALSE)
F100: UL8_8_VFD1 | G100: =VLOOKUP(F100,$P$3:$S$176,4,FALSE) | H100: 11.200.1.119 | I100: PDP02 | J100: DPM6_UL8_3_P8 | K100: =VLOOKUP(G100,'Part number'!$B$2:$C$13,2,0) | P100: =_xlfn.CONCAT(Q100,"_VFD1") | Q100: UL2_9 | R100: 3 | S100: =VLOOKUP(R100,'Part number'!$C$1:$D$13,2,FALSE)
...

Sheet Part number
B1: PART NUMBER | C1: HP | D1: PART NUMBER
B2: 35S-6D2-P101 | C2: 2 | D2: 35S-6D2-P101
B3: 35S-6D3-P101 | C3: 3 | D3: 35S-6D3-P101
B4: 35S-6D4-P111 | C4: 5 | D4: 35S-6D4-P111
B5: 35S-6D5-P111 | C5: 7.5 | D5: 35S-6D5-P111
B6: 35S-6D6-P111 | C6: 10 | D6: 35S-6D6-P111
B7: 25B-D024N104 | C7: 15 | D7: 25B-D024N104
B8: 25B-D030N104 | C8: 20 | D8: 25B-D030N104
B9: 25B-D043N114 | C9: 30 | D9: 25B-D043N114
B10: CALJAN | C10: EXTENDO | D10: CALJAN
B11: PIONEER | C11: TIPPER | D11: PIONEER
B12: ZMX-3DE2500HF-Q7-AMZCHD | C12: ZMX | D12: ZMX-3DE2500HF-Q7-AMZCHD
B13: 5032-8IOLM12DR | C13: FIO | D13: 5032-8IOLM12DR

Sheet MCM01_DESC
A1: TAGNAME | B1: ADDR | C1: TERM | D1: TERMDESC | E1: DESCA | F1: DESCB | H1: CONTROLLERS
A2: PS1_01_VFD1 | B2: PS1_01_VFD1_I0 | C2: I0 | E2: PS1_1_VFD1_DISC | F2: DISCONNECT AUX | H2: PS1_01_VFD1 | I2: 600
A3: PS1_01_VFD1 | B3: PS1_01_VFD1_I1 | C3: I1 | E3: SPARE | H3: PS1_02_VFD1
A4: PS1_01_VFD1 | B4: PS1_01_VFD1_I2 | C4: I2 | E4: SPARE | H4: PS1_03_VFD1
A5: PS1_01_VFD1 | B5: PS1_01_VFD1_I3 | C5: I3 | E5: SPARE | H5: PS1_04_VFD1
A6: PS1_01_VFD1 | B6: PS1_01_VFD1_IO0 | C6: IO0 | E6: PS1_1_S1_PB | F6: START PUSHBUTTON
A7: PS1_01_VFD1 | B7: PS1_01_VFD1_IO1 | C7: IO1 | E7: PS1_1_S1_PB_LT | F7: START PUSHBUTTON LIGHT | H7: PS1_05_VFD1 | I7: 601
A8: PS1_01_VFD1 | B8: PS1_01_VFD1_SI0 | C8: SI0 | E8: PS1_1_EPC1 | F8: E-STOP PULLCORD | H8: PS2_01_VFD1
A9: PS1_01_VFD1 | B9: PS1_01_VFD1_SI1 | C9: SI1 | E9: PS1_1_EPC1_2 | F9: E-STOP PULLCORD | H9: PS2_02_VFD1
A10: PS1_01_VFD1 | B10: PS1_01_VFD1_SI2 | C10: SI2 | E10: PS1_1_EPC2 | F10: E-STOP PULLCORD | H10: PS2_03_VFD1
A11: PS1_01_VFD1 | B11: PS1_01_VFD1_SI3 | C11: SI3 | E11: PS1_1_EPC2_2 | F11: E-STOP PULLCORD
A12: PS1_01_VFD1 | B12: PS1_01_VFD1_SO0 | C12: SO0 | E12: SPARE | H12: PS2_04_VFD1 | I12: 602
A13: PS1_02_VFD1 | B13: PS1_02_VFD1_I0 | C13: I0 | E13: PS1_2_VFD1_DISC | F13: DISCONNECT AUX | H13: PS2_05_VFD1
A14: PS1_02_VFD1 | B14: PS1_02_VFD1_I1 | C14: I1 | E14: SPARE | H14: PS2_06_VFD1
A15: PS1_02_VFD1 | B15: PS1_02_VFD1_I2 | C15: I2 | E15: PS1_2_TPE1 | F15: TRACKING PHOTOEYE | H15: PS3_01_VFD1
A16: PS1_02_VFD1 | B16: PS1_02_VFD1_I3 | C16: I3 | E16: PS1_2_TPE2 | F16: TRACKING PHOTOEYE
A17: PS1_02_VFD1 | B17: PS1_02_VFD1_IO0 | C17: IO0 | E17: PS1_1_BCN1_R | F17: RED BEACON LIGHT | H17: PS3_02_VFD1 | I17: 603
A18: PS1_02_VFD1 | B18: PS1_02_VFD1_IO1 | C18: IO1 | E18: PS1_1_BCN2_R | F18: RED BEACON LIGHT | H18: PS3_03_VFD1
A19: PS1_02_VFD1 | B19: PS1_02_VFD1_SI0 | C19: SI0 | E19: SPARE | H19: PS3_04_VFD1
A20: PS1_02_VFD1 | B20: PS1_02_VFD1_SI1 | C20: SI1 | E20: SPARE | H20: PS3_05_VFD1
A21: PS1_02_VFD1 | B21: PS1_02_VFD1_SI2 | C21: SI2 | E21: SPARE
A22: PS1_02_VFD1 | B22: PS1_02_VFD1_SI3 | C22: SI3 | E22: SPARE | H22: PS3_06_VFD1 | I22: 604
A23: PS1_02_VFD1 | B23: PS1_02_VFD1_SO0 | C23: SO0 | E23: SPARE | H23: PS3_07_VFD1
A24: PS1_03_VFD1 | B24: PS1_03_VFD1_I0 | C24: I0 | E24: PS1_3_VFD1_DISC | F24: DISCONNECT AUX | H24: PS3_08_VFD1
A25: PS1_03_VFD1 | B25: PS1_03_VFD1_I1 | C25: I1 | E25: SPARE | H25: PS3_09_VFD1
A26: PS1_03_VFD1 | B26: PS1_03_VFD1_I2 | C26: I2 | E26: SPARE
A27: PS1_03_VFD1 | B27: PS1_03_VFD1_I3 | C27: I3 | E27: SPARE | H27: PS3_10_VFD1 | I27: 605
A28: PS1_03_VFD1 | B28: PS1_03_VFD1_IO0 | C28: IO0 | E28: PS1_1_S2_PB | F28: START PUSHBUTTON | H28: PS3_11_VFD1
A29: PS1_03_VFD1 | B29: PS1_03_VFD1_IO1 | C29: IO1 | E29: PS1_1_S2_PB_LT | F29: START PUSHBUTTON LIGHT | H29: PS3_12_VFD1
A30: PS1_03_VFD1 | B30: PS1_03_VFD1_SI0 | C30: SI0 | E30: SPARE | H30: PS4_01_VFD1
A31: PS1_03_VFD1 | B31: PS1_03_VFD1_SI1 | C31: SI1 | E31: SPARE
A32: PS1_03_VFD1 | B32: PS1_03_VFD1_SI2 | C32: SI2 | E32: SPARE | H32: PS4_02_VFD1 | I32: 606
A33: PS1_03_VFD1 | B33: PS1_03_VFD1_SI3 | C33: SI3 | E33: SPARE | H33: PS4_03_VFD1
A34: PS1_03_VFD1 | B34: PS1_03_VFD1_SO0 | C34: SO0 | E34: SPARE | H34: PS4_04_VFD1
A35: PS1_04_VFD1 | B35: PS1_04_VFD1_I0 | C35: I0 | E35: PS1_4_VFD1_DISC | F35: DISCONNECT AUX | H35: PS4_05_VFD1
A36: PS1_04_VFD1 | B36: PS1_04_VFD1_I1 | C36: I1 | E36: SPARE
A37: PS1_04_VFD1 | B37: PS1_04_VFD1_I2 | C37: I2 | E37: PS1_4_TPE1 | F37: TRACKING PHOTOEYE | H37: PS4_06_VFD1 | I37: 607
A38: PS1_04_VFD1 | B38: PS1_04_VFD1_I3 | C38: I3 | E38: PS1_4_TPE2 | F38: TRACKING PHOTOEYE | H38: PS4_07_VFD1
A39: PS1_04_VFD1 | B39: PS1_04_VFD1_IO0 | C39: IO0 | E39: PS1_5_S1_PB | F39: START PUSHBUTTON | H39: PS4_08_VFD1
A40: PS1_04_VFD1 | B40: PS1_04_VFD1_IO1 | C40: IO1 | E40: PS1_5_S1_PB_LT | F40: START PUSHBUTTON LIGHT | H40: PS4_09_VFD1
A41: PS1_04_VFD1 | B41: PS1_04_VFD1_SI0 | C41: SI0 | E41: SPARE
A42: PS1_04_VFD1 | B42: PS1_04_VFD1_SI1 | C42: SI1 | E42: SPARE | H42: PS4_10_VFD1 | I42: 608
A43: PS1_04_VFD1 | B43: PS1_04_VFD1_SI2 | C43: SI2 | E43: SPARE | H43: PS4_11_VFD1
A44: PS1_04_VFD1 | B44: PS1_04_VFD1_SI3 | C44: SI3 | E44: SPARE | H44: PS4_12_VFD1
A45: PS1_04_VFD1 | B45: PS1_04_VFD1_SO0 | C45: SO0 | E45: PS1_5_BCN2_R | F45: RED BEACON LIGHT | H45: PS4_13_VFD1
A46: PS1_05_VFD1 | B46: PS1_05_VFD1_I0 | C46: I0 | E46: PS1_5_VFD1_DISC | F46: DISCONNECT AUX
A47: PS1_05_VFD1 | B47: PS1_05_VFD1_I1 | C47: I1 | E47: SPARE | H47: PS4_14_VFD1 | I47: 609 | K47: PS4_02_VFD1
A48: PS1_05_VFD1 | B48: PS1_05_VFD1_I2 | C48: I2 | E48: PS1_5_TPE1 | F48: TRACKING PHOTOEYE | H48: UL1_03_FIO1 | K48: PS4_03_VFD1
A49: PS1_05_VFD1 | B49: PS1_05_VFD1_I3 | C49: I3 | E49: SPARE | H49: UL1_03_VFD1 | K49: PS4_04_VFD1
A50: PS1_05_VFD1 | B50: PS1_05_VFD1_IO0 | C50: IO0 | E50: PS1_5_S2_PB | F50: START PUSHBUTTON | H50: UL1_04_VFD1 | K50: PS4_05_VFD1
A51: PS1_05_VFD1 | B51: PS1_05_VFD1_IO1 | C51: IO1 | E51: PS1_5_S2_PB_LT | F51: START PUSHBUTTON LIGHT
A52: PS1_05_VFD1 | B52: PS1_05_VFD1_SI0 | C52: SI0 | E52: PS1_5_EPC1 | F52: E-STOP PULLCORD | H52: UL1_05_VFD1 | I52: 610 | K52: PS4_02_VFD1
A53: PS1_05_VFD1 | B53: PS1_05_VFD1_SI1 | C53: SI1 | E53: PS1_5_EPC1_2 | F53: E-STOP PULLCORD | H53: UL1_06_VFD1 | K53: PS4_03_VFD1
A54: PS1_05_VFD1 | B54: PS1_05_VFD1_SI2 | C54: SI2 | E54: PS1_5_EPC2 | F54: E-STOP PULLCORD | H54: UL1_07_VFD1 | K54: PS4_04_VFD1
A55: PS1_05_VFD1 | B55: PS1_05_VFD1_SI3 | C55: SI3 | E55: PS1_5_EPC2_2 | F55: E-STOP PULLCORD | H55: UL1_08_VFD1 | K55: PS4_05_VFD1
A56: PS1_05_VFD1 | B56: PS1_05_VFD1_SO0 | C56: SO0 | E56: PS1_5_BCN1_R | F56: RED BEACON LIGHT
A57: PS2_01_VFD1 | B57: PS2_01_VFD1_I0 | C57: I0 | E57: PS2_1_VFD1_DISC | F57: DISCONNECT AUX | H57: UL1_09_VFD1 | I57: 611 | K57: PS4_02_VFD1
A58: PS2_01_VFD1 | B58: PS2_01_VFD1_I1 | C58: I1 | E58: SPARE | H58: UL1_10A_VFD1 | K58: PS4_03_VFD1
A59: PS2_01_VFD1 | B59: PS2_01_VFD1_I2 | C59: I2 | E59: SPARE | H59: UL1_10B_VFD1 | K59: PS4_04_VFD1
A60: PS2_01_VFD1 | B60: PS2_01_VFD1_I3 | C60: I3 | E60: SPARE | H60: UL1_11_VFD1 | K60: PS4_05_VFD1
A61: PS2_01_VFD1 | B61: PS2_01_VFD1_IO0 | C61: IO0 | E61: PS2_1_S1_PB | F61: START PUSHBUTTON
A62: PS2_01_VFD1 | B62: PS2_01_VFD1_IO1 | C62: IO1 | E62: PS2_1_S1_PB_LT | F62: START PUSHBUTTON LIGHT | H62: UL1_12_VFD1 | I62: 612 | K62: PS4_02_VFD1
A63: PS2_01_VFD1 | B63: PS2_01_VFD1_SI0 | C63: SI0 | E63: PS2_1_EPC1 | F63: E-STOP PULLCORD | H63: UL1_13_VFD1 | K63: PS4_03_VFD1
A64: PS2_01_VFD1 | B64: PS2_01_VFD1_SI1 | C64: SI1 | E64: PS2_1_EPC1_2 | F64: E-STOP PULLCORD | H64: UL10_01_VFD1 | K64: PS4_04_VFD1
A65: PS2_01_VFD1 | B65: PS2_01_VFD1_SI2 | C65: SI2 | E65: PS2_1_EPC2 | F65: E-STOP PULLCORD | H65: UL10_02_FIO1 | K65: PS4_05_VFD1
A66: PS2_01_VFD1 | B66: PS2_01_VFD1_SI3 | C66: SI3 | E66: PS2_1_EPC2_2 | F66: E-STOP PULLCORD
A67: PS2_01_VFD1 | B67: PS2_01_VFD1_SO0 | C67: SO0 | E67: SPARE | H67: UL10_02_VFD1 | I67: 613 | K67: PS4_02_VFD1
A68: PS2_02_VFD1 | B68: PS2_02_VFD1_I0 | C68: I0 | E68: PS2_2_VFD1_DISC | F68: DISCONNECT AUX | H68: UL10_03_VFD1 | K68: PS4_03_VFD1
A69: PS2_02_VFD1 | B69: PS2_02_VFD1_I1 | C69: I1 | E69: SPARE | H69: UL10_04_VFD1 | K69: PS4_04_VFD1
A70: PS2_02_VFD1 | B70: PS2_02_VFD1_I2 | C70: I2 | E70: PS2_2_TPE1 | F70: TRACKING PHOTOEYE | H70: UL10_05_VFD1 | K70: PS4_05_VFD1
A71: PS2_02_VFD1 | B71: PS2_02_VFD1_I3 | C71: I3 | E71: PS2_2_TPE2 | F71: TRACKING PHOTOEYE
A72: PS2_02_VFD1 | B72: PS2_02_VFD1_IO0 | C72: IO0 | E72: PS2_1_BCN1_R | F72: RED BEACON LIGHT | H72: UL10_06_VFD1 | I72: 614 | K72: PS4_02_VFD1
A73: PS2_02_VFD1 | B73: PS2_02_VFD1_IO1 | C73: IO1 | E73: PS2_1_BCN2_R | F73: RED BEACON LIGHT | H73: UL10_07_VFD1 | K73: PS4_03_VFD1
A74: PS2_02_VFD1 | B74: PS2_02_VFD1_SI0 | C74: SI0 | E74: SPARE | H74: UL10_08_VFD1 | K74: PS4_04_VFD1
A75: PS2_02_VFD1 | B75: PS2_02_VFD1_SI1 | C75: SI1 | E75: SPARE | H75: UL10_09_VFD1 | K75: PS4_05_VFD1
A76: PS2_02_VFD1 | B76: PS2_02_VFD1_SI2 | C76: SI2 | E76: SPARE
A77: PS2_02_VFD1 | B77: PS2_02_VFD1_SI3 | C77: SI3 | E77: SPARE | H77: UL10_10_VFD1 | I77: 615 | K77: PS4_02_VFD1
A78: PS2_02_VFD1 | B78: PS2_02_VFD1_SO0 | C78: SO0 | E78: SPARE | H78: UL11_03_FIO1 | K78: PS4_03_VFD1
A79: PS2_03_VFD1 | B79: PS2_03_VFD1_I0 | C79: I0 | E79: PS2_3_VFD1_DISC | F79: DISCONNECT AUX | H79: UL11_03_VFD1 | K79: PS4_04_VFD1
A80: PS2_03_VFD1 | B80: PS2_03_VFD1_I1 | C80: I1 | E80: SPARE | H80: UL11_04_VFD1 | K80: PS4_05_VFD1
A81: PS2_03_VFD1 | B81: PS2_03_VFD1_I2 | C81: I2 | E81: PS2_3_TPE2 | F81: TRACKING PHOTOEYE
A82: PS2_03_VFD1 | B82: PS2_03_VFD1_I3 | C82: I3 | E82: SPARE | H82: UL11_05_VFD1 | I82: 616 | K82: PS4_02_VFD1
A83: PS2_03_VFD1 | B83: PS2_03_VFD1_IO0 | C83: IO0 | E83: PS2_1_S2_PB | F83: START PUSHBUTTON | H83: UL11_06_VFD1 | K83: PS4_03_VFD1
A84: PS2_03_VFD1 | B84: PS2_03_VFD1_IO1 | C84: IO1 | E84: PS2_1_S2_PB_LT | F84: START PUSHBUTTON LIGHT | H84: UL11_07_VFD1 | K84: PS4_04_VFD1
A85: PS2_03_VFD1 | B85: PS2_03_VFD1_SI0 | C85: SI0 | E85: SPARE | H85: UL11_08_VFD1 | K85: PS4_05_VFD1
A86: PS2_03_VFD1 | B86: PS2_03_VFD1_SI1 | C86: SI1 | E86: SPARE
A87: PS2_03_VFD1 | B87: PS2_03_VFD1_SI2 | C87: SI2 | E87: SPARE | H87: UL11_09_VFD1 | I87: 617 | K87: PS4_02_VFD1
A88: PS2_03_VFD1 | B88: PS2_03_VFD1_SI3 | C88: SI3 | E88: SPARE | H88: UL11_10_VFD1 | K88: PS4_03_VFD1
A89: PS2_03_VFD1 | B89: PS2_03_VFD1_SO0 | C89: SO0 | E89: PS2_3_BCN1_A | F89: AMBER BEACON LIGHT | H89: UL11_11A_VFD1 | K89: PS4_04_VFD1
A90: PS2_04_VFD1 | B90: PS2_04_VFD1_I0 | C90: I0 | E90: PS2_4_VFD1_DISC | F90: DISCONNECT AUX | H90: UL11_11B_VFD1 | K90: PS4_05_VFD1
A91: PS2_04_VFD1 | B91: PS2_04_VFD1_I1 | C91: I1 | E91: SPARE
A92: PS2_04_VFD1 | B92: PS2_04_VFD1_I2 | C92: I2 | E92: SPARE | H92: UL11_12_VFD1 | I92: 618 | K92: PS4_02_VFD1
A93: PS2_04_VFD1 | B93: PS2_04_VFD1_I3 | C93: I3 | E93: SPARE | H93: UL11_13_VFD1 | K93: PS4_03_VFD1
A94: PS2_04_VFD1 | B94: PS2_04_VFD1_IO0 | C94: IO0 | E94: PS2_3_JR1_PB | F94: JAM RESET PUSHBUTTON | H94: UL11_14_VFD1 | K94: PS4_04_VFD1
A95: PS2_04_VFD1 | B95: PS2_04_VFD1_IO1 | C95: IO1 | E95: PS2_3_JR1_PB_LT | F95: JAM RESET PUSHBUTTON LIGHT | H95: UL12_03_FIO1 | K95: PS4_05_VFD1
A96: PS2_04_VFD1 | B96: PS2_04_VFD1_SI0 | C96: SI0 | E96: SPARE
A97: PS2_04_VFD1 | B97: PS2_04_VFD1_SI1 | C97: SI1 | E97: SPARE | H97: UL12_03_VFD1 | I97: 619 | K97: PS4_02_VFD1
A98: PS2_04_VFD1 | B98: PS2_04_VFD1_SI2 | C98: SI2 | E98: SPARE | H98: UL12_04_VFD1 | K98: PS4_03_VFD1
A99: PS2_04_VFD1 | B99: PS2_04_VFD1_SI3 | C99: SI3 | E99: SPARE | H99: UL12_05_VFD1 | K99: PS4_04_VFD1
A100: PS2_04_VFD1 | B100: PS2_04_VFD1_SO0 | C100: SO0 | E100: SPARE | H100: UL12_06_VFD1 | K100: PS4_05_VFD1
...

Sheet Sheet2
A1: PS1_01_VFD1 | B1: 600 | D1: PS4_02_VFD1
A2: PS1_02_VFD1 | D2: PS4_03_VFD1
A3: PS1_03_VFD1 | D3: PS4_04_VFD1
A4: PS1_04_VFD1 | D4: PS4_05_VFD1
A5: PS1_05_VFD1 | B5: 601 | D5: PS4_02_VFD1
A6: PS2_01_VFD1 | D6: PS4_03_VFD1
A7: PS2_02_VFD1 | D7: PS4_04_VFD1
A8: PS2_03_VFD1 | D8: PS4_05_VFD1
A9: PS2_04_VFD1 | B9: 602 | D9: PS4_02_VFD1
A10: PS2_05_VFD1 | D10: PS4_03_VFD1
A11: PS2_06_VFD1 | D11: PS4_04_VFD1
A12: PS3_01_VFD1 | D12: PS4_05_VFD1
A13: PS3_02_VFD1 | B13: 603 | D13: PS4_02_VFD1
A14: PS3_03_VFD1 | D14: PS4_03_VFD1
A15: PS3_04_VFD1 | D15: PS4_04_VFD1
A16: PS3_05_VFD1 | D16: PS4_05_VFD1
A17: PS3_06_VFD1 | B17: 604 | D17: PS4_02_VFD1
A18: PS3_07_VFD1 | D18: PS4_03_VFD1
A19: PS3_08_VFD1 | D19: PS4_04_VFD1
A20: PS3_09_VFD1 | D20: PS4_05_VFD1
A21: PS3_10_VFD1 | B21: 605 | D21: PS4_02_VFD1
A22: PS3_11_VFD1 | D22: PS4_03_VFD1
A23: PS3_12_VFD1 | D23: PS4_04_VFD1
A24: PS4_01_VFD1 | D24: PS4_05_VFD1
A25: PS4_02_VFD1 | B25: 606 | D25: PS4_02_VFD1
A26: PS4_03_VFD1 | D26: PS4_03_VFD1
A27: PS4_04_VFD1 | D27: PS4_04_VFD1
A28: PS4_05_VFD1 | D28: PS4_05_VFD1
A29: PS4_06_VFD1 | B29: 607 | D29: PS4_02_VFD1
A30: PS4_07_VFD1 | D30: PS4_03_VFD1
A31: PS4_08_VFD1 | D31: PS4_04_VFD1
A32: PS4_09_VFD1 | D32: PS4_05_VFD1
A33: PS4_10_VFD1 | B33: 608 | D33: PS4_02_VFD1
A34: PS4_11_VFD1 | D34: PS4_03_VFD1
A35: PS4_12_VFD1 | D35: PS4_04_VFD1
A36: PS4_13_VFD1 | D36: PS4_05_VFD1
A37: PS4_14_VFD1 | B37: 609 | D37: PS4_02_VFD1
A38: UL1_03_FIO1 | D38: PS4_03_VFD1
A39: UL1_03_VFD1 | D39: PS4_04_VFD1
A40: UL1_04_VFD1 | D40: PS4_05_VFD1
A41: UL1_05_VFD1 | B41: 610 | D41: PS4_02_VFD1
A42: UL1_06_VFD1 | D42: PS4_03_VFD1
A43: UL1_07_VFD1 | D43: PS4_04_VFD1
A44: UL1_08_VFD1 | D44: PS4_05_VFD1
A45: UL1_09_VFD1 | B45: 611 | D45: PS4_02_VFD1
A46: UL1_10A_VFD1 | D46: PS4_03_VFD1
A47: UL1_10B_VFD1 | D47: PS4_04_VFD1
A48: UL1_11_VFD1 | D48: PS4_05_VFD1
A49: UL1_12_VFD1 | B49: 612 | D49: PS4_02_VFD1
A50: UL1_13_VFD1 | D50: PS4_03_VFD1
A51: UL10_01_VFD1 | D51: PS4_04_VFD1
A52: UL10_02_FIO1 | D52: PS4_05_VFD1
A53: UL10_02_VFD1 | B53: 613 | D53: PS4_02_VFD1
A54: UL10_03_VFD1 | D54: PS4_03_VFD1
A55: UL10_04_VFD1 | D55: PS4_04_VFD1
A56: UL10_05_VFD1 | D56: PS4_05_VFD1
A57: UL10_06_VFD1 | B57: 614 | D57: PS4_02_VFD1
A58: UL10_07_VFD1 | D58: PS4_03_VFD1
A59: UL10_08_VFD1 | D59: PS4_04_VFD1
A60: UL10_09_VFD1 | D60: PS4_05_VFD1
A61: UL10_10_VFD1 | B61: 615 | D61: PS4_02_VFD1
A62: UL11_03_FIO1 | D62: PS4_03_VFD1
A63: UL11_03_VFD1 | D63: PS4_04_VFD1
A64: UL11_04_VFD1 | D64: PS4_05_VFD1
A65: UL11_05_VFD1 | B65: 616 | D65: PS4_02_VFD1
A66: UL11_06_VFD1 | D66: PS4_03_VFD1
A67: UL11_07_VFD1 | D67: PS4_04_VFD1
A68: UL11_08_VFD1 | D68: PS4_05_VFD1
A69: UL11_09_VFD1 | B69: 617 | D69: PS4_02_VFD1
A70: UL11_10_VFD1 | D70: PS4_03_VFD1
A71: UL11_11A_VFD1 | D71: PS4_04_VFD1
A72: UL11_11B_VFD1 | D72: PS4_05_VFD1
A73: UL11_12_VFD1 | B73: 618 | D73: PS4_02_VFD1
A74: UL11_13_VFD1 | D74: PS4_03_VFD1
A75: UL11_14_VFD1 | D75: PS4_04_VFD1
A76: UL12_03_FIO1 | D76: PS4_05_VFD1
A77: UL12_03_VFD1 | B77: 619 | D77: PS4_02_VFD1
A78: UL12_04_VFD1 | D78: PS4_03_VFD1
A79: UL12_05_VFD1 | D79: PS4_04_VFD1
A80: UL12_06_VFD1 | D80: PS4_05_VFD1
A81: UL12_07_VFD1 | B81: 620 | D81: PS4_02_VFD1
A82: UL12_08_VFD1 | D82: PS4_03_VFD1
A83: UL12_09_VFD1 | D83: PS4_04_VFD1
A84: UL12_10_VFD1 | D84: PS4_05_VFD1
A85: UL2_03_FIO1 | B85: 621 | D85: PS4_02_VFD1
A86: UL2_03_VFD1 | D86: PS4_03_VFD1
A87: UL2_04_VFD1 | D87: PS4_04_VFD1
A88: UL2_05_VFD1 | D88: PS4_05_VFD1
A89: UL2_06_VFD1 | B89: 622 | D89: PS4_02_VFD1
A90: UL2_07_VFD1 | D90: PS4_03_VFD1
A91: UL2_08_VFD1 | D91: PS4_04_VFD1
A92: UL2_09_VFD1 | D92: PS4_05_VFD1
A93: UL2_10_VFD1 | B93: 623 | D93: PS4_02_VFD1
A94: UL3_01_VFD1 | D94: PS4_03_VFD1
A95: UL3_02_FIO1 | D95: PS4_04_VFD1
A96: UL3_02_VFD1 | D96: PS4_05_VFD1
A97: UL3_03_VFD1 | B97: 624 | D97: PS4_02_VFD1
A98: UL3_04_VFD1 | D98: PS4_03_VFD1
A99: UL3_05_VFD1 | D99: PS4_04_VFD1
A100: UL3_06_VFD1 | D100: PS4_05_VFD1
...

Sheet MCM01_DESC_V2
A1: TAGNAME | B1: ADDR | C1: TERM | D1: TERMDESC | E1: DESCA | F1: DESCB | H1: CONTROLLERS
A2: PS1_01_VFD1 | B2: PS1_01_VFD1_I0 | C2: I0 | E2: PS1_1_VFD1_DISC | F2: DISCONNECT AUX | H2: PS1_01_VFD1
A3: PS1_01_VFD1 | B3: PS1_01_VFD1_I1 | C3: I1 | E3: SPARE | H3: PS1_02_VFD1
A4: PS1_01_VFD1 | B4: PS1_01_VFD1_I2 | C4: I2 | E4: SPARE | H4: PS1_03_VFD1
A5: PS1_01_VFD1 | B5: PS1_01_VFD1_I3 | C5: I3 | E5: SPARE | H5: PS1_04_VFD1
A6: PS1_01_VFD1 | B6: PS1_01_VFD1_IO0 | C6: IO0 | E6: PS1_1_S1_PB | F6: START PUSHBUTTON
A7: PS1_01_VFD1 | B7: PS1_01_VFD1_IO1 | C7: IO1 | E7: PS1_1_S1_PB_LT | F7: START PUSHBUTTON LIGHT | H7: PS1_05_VFD1
A8: PS1_01_VFD1 | B8: PS1_01_VFD1_SI0 | C8: SI0 | E8: PS1_1_EPC1 | F8: E-STOP PULLCORD | H8: PS2_01_VFD1
A9: PS1_01_VFD1 | B9: PS1_01_VFD1_SI1 | C9: SI1 | E9: PS1_1_EPC1_2 | F9: E-STOP PULLCORD | H9: PS2_02_VFD1
A10: PS1_01_VFD1 | B10: PS1_01_VFD1_SI2 | C10: SI2 | E10: PS1_1_EPC2 | F10: E-STOP PULLCORD | H10: PS2_03_VFD1
A11: PS1_01_VFD1 | B11: PS1_01_VFD1_SI3 | C11: SI3 | E11: PS1_1_EPC2_2 | F11: E-STOP PULLCORD
A12: PS1_01_VFD1 | B12: PS1_01_VFD1_SO0 | C12: SO0 | E12: SPARE | H12: PS2_04_VFD1
A13: PS1_02_VFD1 | B13: PS1_02_VFD1_I0 | C13: I0 | E13: PS1_2_VFD1_DISC | F13: DISCONNECT AUX | H13: PS2_05_VFD1
A14: PS1_02_VFD1 | B14: PS1_02_VFD1_I1 | C14: I1 | E14: SPARE | H14: PS2_06_VFD1
A15: PS1_02_VFD1 | B15: PS1_02_VFD1_I2 | C15: I2 | E15: PS1_2_TPE1 | F15: TRACKING PHOTOEYE | H15: PS3_01_VFD1
A16: PS1_02_VFD1 | B16: PS1_02_VFD1_I3 | C16: I3 | E16: PS1_2_TPE2 | F16: TRACKING PHOTOEYE
A17: PS1_02_VFD1 | B17: PS1_02_VFD1_IO0 | C17: IO0 | E17: PS1_1_BCN1_R | F17: RED BEACON LIGHT | H17: PS3_02_VFD1
A18: PS1_02_VFD1 | B18: PS1_02_VFD1_IO1 | C18: IO1 | E18: PS1_1_BCN2_R | F18: RED BEACON LIGHT | H18: PS3_03_VFD1
A19: PS1_02_VFD1 | B19: PS1_02_VFD1_SI0 | C19: SI0 | E19: SPARE | H19: PS3_04_VFD1
A20: PS1_02_VFD1 | B20: PS1_02_VFD1_SI1 | C20: SI1 | E20: SPARE | H20: PS3_05_VFD1
A21: PS1_02_VFD1 | B21: PS1_02_VFD1_SI2 | C21: SI2 | E21: SPARE
A22: PS1_02_VFD1 | B22: PS1_02_VFD1_SI3 | C22: SI3 | E22: SPARE | H22: PS3_06_VFD1
A23: PS1_02_VFD1 | B23: PS1_02_VFD1_SO0 | C23: SO0 | E23: SPARE | H23: PS3_07_VFD1
A24: PS1_03_VFD1 | B24: PS1_03_VFD1_I0 | C24: I0 | E24: PS1_3_VFD1_DISC | F24: DISCONNECT AUX | H24: PS3_08_VFD1
A25: PS1_03_VFD1 | B25: PS1_03_VFD1_I1 | C25: I1 | E25: SPARE | H25: PS3_09_VFD1
A26: PS1_03_VFD1 | B26: PS1_03_VFD1_I2 | C26: I2 | E26: SPARE
A27: PS1_03_VFD1 | B27: PS1_03_VFD1_I3 | C27: I3 | E27: SPARE | H27: PS3_10_VFD1
A28: PS1_03_VFD1 | B28: PS1_03_VFD1_IO0 | C28: IO0 | E28: PS1_1_S2_PB | F28: START PUSHBUTTON | H28: PS3_11_VFD1
A29: PS1_03_VFD1 | B29: PS1_03_VFD1_IO1 | C29: IO1 | E29: PS1_1_S2_PB_LT | F29: START PUSHBUTTON LIGHT | H29: PS3_12_VFD1
A30: PS1_03_VFD1 | B30: PS1_03_VFD1_SI0 | C30: SI0 | E30: SPARE | H30: PS4_01_VFD1
A31: PS1_03_VFD1 | B31: PS1_03_VFD1_SI1 | C31: SI1 | E31: SPARE
A32: PS1_03_VFD1 | B32: PS1_03_VFD1_SI2 | C32: SI2 | E32: SPARE | H32: PS4_02_VFD1
A33: PS1_03_VFD1 | B33: PS1_03_VFD1_SI3 | C33: SI3 | E33: SPARE | H33: PS4_03_VFD1
A34: PS1_03_VFD1 | B34: PS1_03_VFD1_SO0 | C34: SO0 | E34: SPARE | H34: PS4_04_VFD1
A35: PS1_04_VFD1 | B35: PS1_04_VFD1_I0 | C35: I0 | E35: PS1_4_VFD1_DISC | F35: DISCONNECT AUX | H35: PS4_05_VFD1
A36: PS1_04_VFD1 | B36: PS1_04_VFD1_I1 | C36: I1 | E36: SPARE
A37: PS1_04_VFD1 | B37: PS1_04_VFD1_I2 | C37: I2 | E37: PS1_4_TPE1 | F37: TRACKING PHOTOEYE | H37: PS4_06_VFD1
A38: PS1_04_VFD1 | B38: PS1_04_VFD1_I3 | C38: I3 | E38: PS1_4_TPE2 | F38: TRACKING PHOTOEYE | H38: PS4_07_VFD1
A39: PS1_04_VFD1 | B39: PS1_04_VFD1_IO0 | C39: IO0 | E39: PS1_5_S1_PB | F39: START PUSHBUTTON | H39: PS4_08_VFD1
A40: PS1_04_VFD1 | B40: PS1_04_VFD1_IO1 | C40: IO1 | E40: PS1_5_S1_PB_LT | F40: START PUSHBUTTON LIGHT | H40: PS4_09_VFD1
A41: PS1_04_VFD1 | B41: PS1_04_VFD1_SI0 | C41: SI0 | E41: SPARE
A42: PS1_04_VFD1 | B42: PS1_04_VFD1_SI1 | C42: SI1 | E42: SPARE | H42: PS4_10_VFD1
A43: PS1_04_VFD1 | B43: PS1_04_VFD1_SI2 | C43: SI2 | E43: SPARE | H43: PS4_11_VFD1
A44: PS1_04_VFD1 | B44: PS1_04_VFD1_SI3 | C44: SI3 | E44: SPARE | H44: PS4_12_VFD1
A45: PS1_04_VFD1 | B45: PS1_04_VFD1_SO0 | C45: SO0 | E45: PS1_5_BCN2_R | F45: RED BEACON LIGHT | H45: PS4_13_VFD1
A46: PS1_05_VFD1 | B46: PS1_05_VFD1_I0 | C46: I0 | E46: PS1_5_VFD1_DISC | F46: DISCONNECT AUX
A47: PS1_05_VFD1 | B47: PS1_05_VFD1_I1 | C47: I1 | E47: SPARE | H47: PS4_14_VFD1
A48: PS1_05_VFD1 | B48: PS1_05_VFD1_I2 | C48: I2 | E48: PS1_5_TPE1 | F48: TRACKING PHOTOEYE | H48: UL1_03_FIO1
A49: PS1_05_VFD1 | B49: PS1_05_VFD1_I3 | C49: I3 | E49: SPARE | H49: UL1_03_VFD1
A50: PS1_05_VFD1 | B50: PS1_05_VFD1_IO0 | C50: IO0 | E50: PS1_5_S2_PB | F50: START PUSHBUTTON | H50: UL1_04_VFD1
A51: PS1_05_VFD1 | B51: PS1_05_VFD1_IO1 | C51: IO1 | E51: PS1_5_S2_PB_LT | F51: START PUSHBUTTON LIGHT
A52: PS1_05_VFD1 | B52: PS1_05_VFD1_SI0 | C52: SI0 | E52: PS1_5_EPC1 | F52: E-STOP PULLCORD | H52: UL1_05_VFD1
A53: PS1_05_VFD1 | B53: PS1_05_VFD1_SI1 | C53: SI1 | E53: PS1_5_EPC1_2 | F53: E-STOP PULLCORD | H53: UL1_06_VFD1
A54: PS1_05_VFD1 | B54: PS1_05_VFD1_SI2 | C54: SI2 | E54: PS1_5_EPC2 | F54: E-STOP PULLCORD | H54: UL1_07_VFD1
A55: PS1_05_VFD1 | B55: PS1_05_VFD1_SI3 | C55: SI3 | E55: PS1_5_EPC2_2 | F55: E-STOP PULLCORD | H55: UL1_08_VFD1
A56: PS1_05_VFD1 | B56: PS1_05_VFD1_SO0 | C56: SO0 | E56: PS1_5_BCN1_R | F56: RED BEACON LIGHT
A57: PS2_01_VFD1 | B57: PS2_01_VFD1_I0 | C57: I0 | E57: PS2_1_VFD1_DISC | F57: DISCONNECT AUX | H57: UL1_09_VFD1
A58: PS2_01_VFD1 | B58: PS2_01_VFD1_I1 | C58: I1 | E58: SPARE | H58: UL1_10A_VFD1
A59: PS2_01_VFD1 | B59: PS2_01_VFD1_I2 | C59: I2 | E59: SPARE | H59: UL1_10B_VFD1
A60: PS2_01_VFD1 | B60: PS2_01_VFD1_I3 | C60: I3 | E60: SPARE | H60: UL1_11_VFD1
A61: PS2_01_VFD1 | B61: PS2_01_VFD1_IO0 | C61: IO0 | E61: PS2_1_S1_PB | F61: START PUSHBUTTON
A62: PS2_01_VFD1 | B62: PS2_01_VFD1_IO1 | C62: IO1 | E62: PS2_1_S1_PB_LT | F62: START PUSHBUTTON LIGHT | H62: UL1_12_VFD1
A63: PS2_01_VFD1 | B63: PS2_01_VFD1_SI0 | C63: SI0 | E63: PS2_1_EPC1 | F63: E-STOP PULLCORD | H63: UL1_13_VFD1
A64: PS2_01_VFD1 | B64: PS2_01_VFD1_SI1 | C64: SI1 | E64: PS2_1_EPC1_2 | F64: E-STOP PULLCORD | H64: UL10_01_VFD1
A65: PS2_01_VFD1 | B65: PS2_01_VFD1_SI2 | C65: SI2 | E65: PS2_1_EPC2 | F65: E-STOP PULLCORD | H65: UL10_02_FIO1
A66: PS2_01_VFD1 | B66: PS2_01_VFD1_SI3 | C66: SI3 | E66: PS2_1_EPC2_2 | F66: E-STOP PULLCORD
A67: PS2_01_VFD1 | B67: PS2_01_VFD1_SO0 | C67: SO0 | E67: SPARE | H67: UL10_02_VFD1
A68: PS2_02_VFD1 | B68: PS2_02_VFD1_I0 | C68: I0 | E68: PS2_2_VFD1_DISC | F68: DISCONNECT AUX | H68: UL10_03_VFD1
A69: PS2_02_VFD1 | B69: PS2_02_VFD1_I1 | C69: I1 | E69: SPARE | H69: UL10_04_VFD1
A70: PS2_02_VFD1 | B70: PS2_02_VFD1_I2 | C70: I2 | E70: PS2_2_TPE1 | F70: TRACKING PHOTOEYE | H70: UL10_05_VFD1
A71: PS2_02_VFD1 | B71: PS2_02_VFD1_I3 | C71: I3 | E71: PS2_2_TPE2 | F71: TRACKING PHOTOEYE
A72: PS2_02_VFD1 | B72: PS2_02_VFD1_IO0 | C72: IO0 | E72: PS2_1_BCN1_R | F72: RED BEACON LIGHT | H72: UL10_06_VFD1
A73: PS2_02_VFD1 | B73: PS2_02_VFD1_IO1 | C73: IO1 | E73: PS2_1_BCN2_R | F73: RED BEACON LIGHT | H73: UL10_07_VFD1
A74: PS2_02_VFD1 | B74: PS2_02_VFD1_SI0 | C74: SI0 | E74: SPARE | H74: UL10_08_VFD1
A75: PS2_02_VFD1 | B75: PS2_02_VFD1_SI1 | C75: SI1 | E75: SPARE | H75: UL10_09_VFD1
A76: PS2_02_VFD1 | B76: PS2_02_VFD1_SI2 | C76: SI2 | E76: SPARE
A77: PS2_02_VFD1 | B77: PS2_02_VFD1_SI3 | C77: SI3 | E77: SPARE | H77: UL10_10_VFD1
A78: PS2_02_VFD1 | B78: PS2_02_VFD1_SO0 | C78: SO0 | E78: SPARE | H78: UL11_03_FIO1
A79: PS2_03_VFD1 | B79: PS2_03_VFD1_I0 | C79: I0 | E79: PS2_3_VFD1_DISC | F79: DISCONNECT AUX | H79: UL11_03_VFD1
A80: PS2_03_VFD1 | B80: PS2_03_VFD1_I1 | C80: I1 | E80: SPARE | H80: UL11_04_VFD1
A81: PS2_03_VFD1 | B81: PS2_03_VFD1_I2 | C81: I2 | E81: PS2_3_TPE2 | F81: TRACKING PHOTOEYE
A82: PS2_03_VFD1 | B82: PS2_03_VFD1_I3 | C82: I3 | E82: SPARE | H82: UL11_05_VFD1
A83: PS2_03_VFD1 | B83: PS2_03_VFD1_IO0 | C83: IO0 | E83: PS2_1_S2_PB | F83: START PUSHBUTTON | H83: UL11_06_VFD1
A84: PS2_03_VFD1 | B84: PS2_03_VFD1_IO1 | C84: IO1 | E84: PS2_1_S2_PB_LT | F84: START PUSHBUTTON LIGHT | H84: UL11_07_VFD1
A85: PS2_03_VFD1 | B85: PS2_03_VFD1_SI0 | C85: SI0 | E85: SPARE | H85: UL11_08_VFD1
A86: PS2_03_VFD1 | B86: PS2_03_VFD1_SI1 | C86: SI1 | E86: SPARE
A87: PS2_03_VFD1 | B87: PS2_03_VFD1_SI2 | C87: SI2 | E87: SPARE | H87: UL11_09_VFD1
A88: PS2_03_VFD1 | B88: PS2_03_VFD1_SI3 | C88: SI3 | E88: SPARE | H88: UL11_10A_VFD1
A89: PS2_03_VFD1 | B89: PS2_03_VFD1_SO0 | C89: SO0 | E89: PS2_3_BCN1_A | F89: AMBER BEACON LIGHT | H89: UL11_10B_VFD1
A90: PS2_04_VFD1 | B90: PS2_04_VFD1_I0 | C90: I0 | E90: PS2_4_VFD1_DISC | F90: DISCONNECT AUX | H90: UL11_11_VFD1
A91: PS2_04_VFD1 | B91: PS2_04_VFD1_I1 | C91: I1 | E91: SPARE
A92: PS2_04_VFD1 | B92: PS2_04_VFD1_I2 | C92: I2 | E92: SPARE | H92: UL11_12_VFD1
A93: PS2_04_VFD1 | B93: PS2_04_VFD1_I3 | C93: I3 | E93: SPARE | H93: UL11_13_VFD1
A94: PS2_04_VFD1 | B94: PS2_04_VFD1_IO0 | C94: IO0 | E94: PS2_3_JR1_PB | F94: JAM RESET PUSHBUTTON | H94: UL12_03_FIO1
A95: PS2_04_VFD1 | B95: PS2_04_VFD1_IO1 | C95: IO1 | E95: PS2_3_JR1_PB_LT | F95: JAM RESET PUSHBUTTON LIGHT | H95: UL12_03_VFD1
A96: PS2_04_VFD1 | B96: PS2_04_VFD1_SI0 | C96: SI0 | E96: SPARE
A97: PS2_04_VFD1 | B97: PS2_04_VFD1_SI1 | C97: SI1 | E97: SPARE | H97: UL12_04_VFD1
A98: PS2_04_VFD1 | B98: PS2_04_VFD1_SI2 | C98: SI2 | E98: SPARE | H98: UL12_05_VFD1
A99: PS2_04_VFD1 | B99: PS2_04_VFD1_SI3 | C99: SI3 | E99: SPARE | H99: UL12_06_VFD1
A100: PS2_04_VFD1 | B100: PS2_04_VFD1_SO0 | C100: SO0 | E100: SPARE | H100: UL12_07_VFD1
...

Sheet DESC_PLC
A1: TAGNAME | B1: TERM | C1: DESCA | D1: DESCB | H1: {=_xlfn.UNIQUE(D:D)}
A2: PS1_1_VFD1 | B2: I0 | C2: PS1_1_VFD1_DISC | D2: DISCONNECT AUX | H2: DISCONNECT AUX
A3: PS1_1_VFD1 | B3: I1 | C3: SPARE | H3: 0
A4: PS1_1_VFD1 | B4: I2 | C4: SPARE | H4: START PUSHBUTTON
A5: PS1_1_VFD1 | B5: I3 | C5: SPARE | H5: START PUSHBUTTON LIGHT
A6: PS1_1_VFD1 | B6: IO0 | C6: PS1_1_S1_PB | D6: START PUSHBUTTON | H6: E-STOP PULLCORD
A7: PS1_1_VFD1 | B7: IO1 | C7: PS1_1_S1_PB_LT | D7: START PUSHBUTTON LIGHT | H7: TRACKING PHOTOEYE
A8: PS1_1_VFD1 | B8: SI0 | C8: PS1_1_EPC1 | D8: E-STOP PULLCORD | H8: RED BEACON LIGHT
A9: PS1_1_VFD1 | B9: SI1 | C9: PS1_1_EPC1_2 | D9: E-STOP PULLCORD | H9: ALARM HORN
A10: PS1_1_VFD1 | B10: SI2 | C10: PS1_1_EPC2 | D10: E-STOP PULLCORD | H10: AMBER BEACON LIGHT
A11: PS1_1_VFD1 | B11: SI3 | C11: PS1_1_EPC2_2 | D11: E-STOP PULLCORD | H11: JAM RESET PUSHBUTTON
A12: PS1_1_VFD1 | B12: SO0 | C12: SPARE | H12: JAM RESET PUSHBUTTON LIGHT
A13: PS1_2_VFD1 | B13: I0 | C13: PS1_2_VFD1_DISC | D13: DISCONNECT AUX | H13: LASEREYE
A14: PS1_2_VFD1 | B14: I1 | C14: SPARE | H14: ENCODER
A15: PS1_2_VFD1 | B15: I2 | C15: PS1_2_TPE1 | D15: TRACKING PHOTOEYE | H15: ESTOP OK
A16: PS1_2_VFD1 | B16: I3 | C16: PS1_2_TPE2 | D16: TRACKING PHOTOEYE | H16: FLOW SPLITTER ENCODER
A17: PS1_2_VFD1 | B17: IO0 | C17: PS1_1_BCN2_R | D17: RED BEACON LIGHT | H17: SS STATION START PUSHBUTTON
A18: PS1_2_VFD1 | B18: IO1 | C18: PS1_1_BCN2_H | D18: ALARM HORN | H18: SS STATION START PUSHBUTTON LIGHT
A19: PS1_2_VFD1 | B19: SI0 | C19: SPARE | H19: SS STATION STOP PUSHBUTTON
A20: PS1_2_VFD1 | B20: SI1 | C20: SPARE | H20: DEBRIS SENSOR
A21: PS1_2_VFD1 | B21: SI2 | C21: SPARE | H21: SEND
A22: PS1_2_VFD1 | B22: SI3 | C22: SPARE | H22: BELT ENGAGEMENT SENSOR
A23: PS1_2_VFD1 | B23: SO0 | C23: PS1_1_BCN1_R | D23: RED BEACON LIGHT | H23: DIVERT MODULE
A24: PS1_3_VFD1 | B24: I0 | C24: PS1_3_VFD1_DISC | D24: DISCONNECT AUX | H24: MDR RUN SIGNAL
A25: PS1_3_VFD1 | B25: I1 | C25: SPARE | H25: ENTRANCE PE
A26: PS1_3_VFD1 | B26: I2 | C26: SPARE | H26: EXIT PE
A27: PS1_3_VFD1 | B27: I3 | C27: SPARE | H27: PRESSURE SENSOR
A28: PS1_3_VFD1 | B28: IO0 | C28: PS1_1_S2_PB | D28: START PUSHBUTTON | H28: CIRCUIT BREAKER MONITORING
A29: PS1_3_VFD1 | B29: IO1 | C29: PS1_1_S2_PB_LT | D29: START PUSHBUTTON LIGHT | H29: PHASE MONITOR
A30: PS1_3_VFD1 | B30: SI0 | C30: SPARE | H30: FIO HUB
A31: PS1_3_VFD1 | B31: SI1 | C31: SPARE | H31: S_PBLT START
A32: PS1_3_VFD1 | B32: SI2 | C32: SPARE | H32: ST_PB STOP
A33: PS1_3_VFD1 | B33: SI3 | C33: SPARE | H33: MF_PBLT MOTOR FAULT RESET
A34: PS1_3_VFD1 | B34: SO0 | C34: SPARE | H34: JR_PBLT JAM RESET
A35: PS1_4_VFD1 | B35: I0 | C35: PS1_4_VFD1_DISC | D35: DISCONNECT AUX | H35: LAP_PBLT LOW AIR PRESSURE
A36: PS1_4_VFD1 | B36: I1 | C36: SPARE | H36: PBFR_PBLT POWER BRANCH FAULT RESET
A37: PS1_4_VFD1 | B37: I2 | C37: PS1_4_TPE1 | D37: TRACKING PHOTOEYE | H37: BATTERY_FAULT_UPS BATTERY FAULT
A38: PS1_4_VFD1 | B38: I3 | C38: PS1_4_TPE2 | D38: TRACKING PHOTOEYE | H38: ON_BATTERY ON BATTERY
A39: PS1_4_VFD1 | B39: IO0 | C39: PS1_5_S1_PB | D39: START PUSHBUTTON | H39: UPS_BATTERY_LOW UPS BATTERY LOW
A40: PS1_4_VFD1 | B40: IO1 | C40: PS1_5_S1_PB_LT | D40: START PUSHBUTTON LIGHT | H40: NAT_SWITCH ALARM NAT SWITCH
A41: PS1_4_VFD1 | B41: SI0 | C41: SPARE | H41: ES_LT EMERGENCY STOP ACTUATED
A42: PS1_4_VFD1 | B42: SI1 | C42: SPARE | H42: S_PBLT START LIGHT
A43: PS1_4_VFD1 | B43: SI2 | C43: SPARE | H43: MF_PBLT MOTOR FAULT LIGHT
A44: PS1_4_VFD1 | B44: SI3 | C44: SPARE | H44: JR_PBLT JAM RESTART LIGHT
A45: PS1_4_VFD1 | B45: SO0 | C45: PS1_5_BCN2_R | D45: RED BEACON LIGHT | H45: LAP_PBLT LOW AIR PRESSURE LIGHT
A46: PS1_5_VFD1 | B46: I0 | C46: PS1_5_VFD1_DISC | D46: DISCONNECT AUX | H46: PBFR_PBLT POWER BRANCH FAULT RESET LIGHT
A47: PS1_5_VFD1 | B47: I1 | C47: SPARE | H47: FIRE_ALARM FIRE ALARM
A48: PS1_5_VFD1 | B48: I2 | C48: PS1_5_TPE1 | D48: TRACKING PHOTOEYE | H48: ES_PB ES_PB_CH1
A49: PS1_5_VFD1 | B49: I3 | C49: SPARE | H49: ES_PB ES_PB_CH2
A50: PS1_5_VFD1 | B50: IO0 | C50: PS1_5_S2_PB | D50: START PUSHBUTTON
A51: PS1_5_VFD1 | B51: IO1 | C51: PS1_5_S2_PB_LT | D51: START PUSHBUTTON LIGHT
A52: PS1_5_VFD1 | B52: SI0 | C52: PS1_5_EPC1 | D52: E-STOP PULLCORD
A53: PS1_5_VFD1 | B53: SI1 | C53: PS1_5_EPC1_2 | D53: E-STOP PULLCORD
A54: PS1_5_VFD1 | B54: SI2 | C54: PS1_5_EPC2 | D54: E-STOP PULLCORD
A55: PS1_5_VFD1 | B55: SI3 | C55: PS1_5_EPC2_2 | D55: E-STOP PULLCORD
A56: PS1_5_VFD1 | B56: SO0 | C56: PS1_5_BCN1_R | D56: RED BEACON LIGHT
A57: PS2_1_VFD1 | B57: I0 | C57: PS2_1_VFD1_DISC | D57: DISCONNECT AUX
A58: PS2_1_VFD1 | B58: I1 | C58: SPARE
A59: PS2_1_VFD1 | B59: I2 | C59: SPARE
A60: PS2_1_VFD1 | B60: I3 | C60: SPARE
A61: PS2_1_VFD1 | B61: IO0 | C61: PS2_1_S1_PB | D61: START PUSHBUTTON
A62: PS2_1_VFD1 | B62: IO1 | C62: PS2_1_S1_PB_LT | D62: START PUSHBUTTON LIGHT
A63: PS2_1_VFD1 | B63: SI0 | C63: PS2_1_EPC1 | D63: E-STOP PULLCORD
A64: PS2_1_VFD1 | B64: SI1 | C64: PS2_1_EPC1_2 | D64: E-STOP PULLCORD
A65: PS2_1_VFD1 | B65: SI2 | C65: PS2_1_EPC2 | D65: E-STOP PULLCORD
A66: PS2_1_VFD1 | B66: SI3 | C66: PS2_1_EPC2_2 | D66: E-STOP PULLCORD
A67: PS2_1_VFD1 | B67: SO0 | C67: SPARE
A68: PS2_2_VFD1 | B68: I0 | C68: PS2_2_VFD1_DISC | D68: DISCONNECT AUX
A69: PS2_2_VFD1 | B69: I1 | C69: SPARE
A70: PS2_2_VFD1 | B70: I2 | C70: PS2_2_TPE1 | D70: TRACKING PHOTOEYE
A71: PS2_2_VFD1 | B71: I3 | C71: PS2_2_TPE2 | D71: TRACKING PHOTOEYE
A72: PS2_2_VFD1 | B72: IO0 | C72: PS2_1_BCN1_R | D72: RED BEACON LIGHT
A73: PS2_2_VFD1 | B73: IO1 | C73: PS2_1_BCN2_R | D73: RED BEACON LIGHT
A74: PS2_2_VFD1 | B74: SI0 | C74: SPARE
A75: PS2_2_VFD1 | B75: SI1 | C75: SPARE
A76: PS2_2_VFD1 | B76: SI2 | C76: SPARE
A77: PS2_2_VFD1 | B77: SI3 | C77: SPARE
A78: PS2_2_VFD1 | B78: SO0 | C78: SPARE
A79: PS2_3_VFD1 | B79: I0 | C79: PS2_3_VFD1_DISC | D79: DISCONNECT AUX
A80: PS2_3_VFD1 | B80: I1 | C80: SPARE
A81: PS2_3_VFD1 | B81: I2 | C81: PS2_3_TPE1 | D81: TRACKING PHOTOEYE
A82: PS2_3_VFD1 | B82: I3 | C82: SPARE
A83: PS2_3_VFD1 | B83: IO0 | C83: PS2_1_S2_PB | D83: START PUSHBUTTON
A84: PS2_3_VFD1 | B84: IO1 | C84: PS2_1_S2_PB_LT | D84: START PUSHBUTTON LIGHT
A85: PS2_3_VFD1 | B85: SI0 | C85: SPARE
A86: PS2_3_VFD1 | B86: SI1 | C86: SPARE
A87: PS2_3_VFD1 | B87: SI2 | C87: SPARE
A88: PS2_3_VFD1 | B88: SI3 | C88: SPARE
A89: PS2_3_VFD1 | B89: SO0 | C89: PS2_3_BCN1_A | D89: AMBER BEACON LIGHT
A90: PS2_4_VFD1 | B90: I0 | C90: PS2_4_VFD1_DISC | D90: DISCONNECT AUX
A91: PS2_4_VFD1 | B91: I1 | C91: SPARE
A92: PS2_4_VFD1 | B92: I2 | C92: SPARE
A93: PS2_4_VFD1 | B93: I3 | C93: SPARE
A94: PS2_4_VFD1 | B94: IO0 | C94: PS2_3_JR1_PB | D94: JAM RESET PUSHBUTTON
A95: PS2_4_VFD1 | B95: IO1 | C95: PS2_3_JR1_PB_LT | D95: JAM RESET PUSHBUTTON LIGHT
A96: PS2_4_VFD1 | B96: SI0 | C96: SPARE
A97: PS2_4_VFD1 | B97: SI1 | C97: SPARE
A98: PS2_4_VFD1 | B98: SI2 | C98: SPARE
A99: PS2_4_VFD1 | B99: SI3 | C99: SPARE
A100: PS2_4_VFD1 | B100: SO0 | C100: SPARE
...

Sheet NETWORK_PLC
A1: DPM | B1: DPM_IP | C1: Name | D1: PartNumber | E1: IP
A2: UL1_4_DPM1 | B2: 11.200.1.2 | C2: UL1_1_EX1 | D2: FMH | E2: 11.200.1.30
A3: UL1_4_DPM1 | B3: 11.200.1.2 | C3: UL1_3_VFD1 | D3: 35S-6D4-P111 | E3: 11.200.1.31
A4: UL1_4_DPM1 | B4: 11.200.1.2 | C4: UL1_4_VFD1 | D4: 35S-6D4-P111 | E4: 11.200.1.32
A5: UL1_4_DPM1 | B5: 11.200.1.2 | C5: UL1_5_VFD1 | D5: 35S-6D3-P101 | E5: 11.200.1.33
A6: UL1_4_DPM1 | B6: 11.200.1.2 | C6: UL1_6_VFD1 | D6: 35S-6D3-P101 | E6: 11.200.1.34
A7: UL1_4_DPM1 | B7: 11.200.1.2 | C7: UL1_7_VFD1 | D7: 35S-6D3-P101 | E7: 11.200.1.35
A8: UL1_4_DPM1 | B8: 11.200.1.2 | C8: UL1_8_VFD1 | D8: 35S-6D3-P101 | E8: 11.200.1.36
A9: UL1_4_DPM1 | B9: 11.200.1.2 | C9: UL1_9_VFD1 | D9: 35S-6D4-P111 | E9: 11.200.1.37
A10: UL1_4_DPM1 | B10: 11.200.1.2 | C10: UL1_10A_VFD1 | D10: 35S-6D3-P101 | E10: 11.200.1.38
A11: UL1_4_DPM1 | B11: 11.200.1.2 | C11: UL1_10B_VFD1 | D11: 35S-6D3-P101 | E11: 11.200.1.39
A12: UL1_4_DPM1 | B12: 11.200.1.2 | C12: UL1_11_VFD1 | D12: 35S-6D2-P101 | E12: 11.200.1.40
... A186: PS4_7_DPM1 | B186: 11.200.1.12 | C186: PS4_14_VFD1 | D186: 35S-6D3-P101 | E186: 11.200.1.205
