Workbook

Sheet Templates
A2: VFD IO TEMPLATE | C2: FIO IO Template
A3: I0 | C3: IO00
A4: I1 | C4: IO01
A5: I2 | C5: IO02
A6: I3 | C6: IO03
A7: IO0 | C7: IO04
A8: IO1 | C8: IO05
A9: SI0 | C9: IO06
A10: SI1 | C10: IO07
A11: SI2 | C11: IO08
A12: SI3 | C12: IO09
A13: SO0 | C13: IO10
C14: IO11
C15: IO12
C16: IO13
C17: IO14
C18: IO15
C19: IO16

Sheet Devices
H1: Which MCM we assign? | I1: MCM06
A2: NCP_11_TPE1
A3: NCP_11_TPE2
A4: NCP1_10A_DISC
A5: NCP1_10A_VFD1
A6: NCP1_10B_DISC
A7: NCP1_10B_VFD1
A8: NCP1_11_DISC
A9: NCP1_11_ENC1
A10: NCP1_11_VFD1
A11: NCP1_12_DISC
A12: NCP1_12_ENC1
A13: NCP1_12_TPE1
... A206: S02_2CH_JPE1

Sheet Instructions
A2: 1. | B2: Put all device tags to cell A2
A37: 2. | B37: In cell I1 write MCM number
A47: 3. | B47: Click on "Add Disconnects" button.
A57: 4. | B57: Replace all _VFD1_DISC with _DISC. Without this point it will generate IO points for _VFD1_DISC device
A69: 5. | B69: Click on "Split SS station". This will split all _SS to SS_STPB, SS_SPB and SS_STPB_LT
A78: 6. | B78: Click on "Split start PB". This will split all _S and _JR to _S_PB, _S_PB_LT, JR_PB and JR_PB_LT
A87: 7. | B87: Click on "Duplicate EPC Tag". This will add duplicate for all EPC and add _2 to copy
A97: 8. | B97: Click on "Create Assignment table template". This will add new sheet with name "IO Assignment MCM01 and fill with VFD and FIO names and their adresses
A107: 9. | B107: Click on "Assign Devices to VFD". This will add device tags to correspond VFD IO. Works for Disc, TPE, JPE, EPC, ENC
A116: 10. | B116: All Unassigned Pushbuttons and lights fill manually and all devices, that couldn't filled to VFD also will be here.

Sheet NETWORK(IOLINK)
B1: MCM05 | D1: RING | F1: STAR
A2: SLOT0 | B2: 1756_L83ES | C2: IP | D2: DPM | E2: IP | F2: VFD NAME | G2: TYPE | H2: VFD PART NUMBER | I2: IP
A3: SLOT1 | B3: 1756_N2 | D3: NCP1_15_DPM1 | E3: 11.200.1.2 | F3: NCP1_9_VFD1 | G3: 2HP | H3: =VLOOKUP(G3,'Part Number'!$A$1:$B$13,2,0) | I3: 11.200.1.30 | M3: NCP1_9_VFD1 | N3: =VLOOKUP(M3,[1]MCM06!$C$1:$M$157,11,0)
A4: SLOT2 | B4: 1756_EN4TR | C4: 11.200.1.1 | F4: NCP1_10A_VFD1 | G4: 2HP | H4: =VLOOKUP(G4,'Part Number'!$A$1:$B$13,2,0) | I4: 11.200.1.31 | M4: NCP1_10A_VFD1 | N4: =VLOOKUP(M4,[1]MCM06!$C$1:$M$157,11,0)
A5: SLOT3 | B5: 1756_EN2TR | C5: 11.200.1.1 | F5: NCP1_10B_VFD1 | G5: 2HP | H5: =VLOOKUP(G5,'Part Number'!$A$1:$B$13,2,0) | I5: 11.200.1.32 | M5: NCP1_10B_VFD1 | N5: =VLOOKUP(M5,[1]MCM06!$C$1:$M$157,11,0)
A6: SLOT4 | B6: 1756_EN2TR | C6: 11.200.1.1 | F6: NCP1_11_VFD1 | G6: 2HP | H6: =VLOOKUP(G6,'Part Number'!$A$1:$B$13,2,0) | I6: 11.200.1.33 | M6: NCP1_11_VFD1 | N6: =VLOOKUP(M6,[1]MCM06!$C$1:$M$157,11,0)
A7: SLOT5 | B7: 1756_IB16 | F7: NCP1_12_VFD1 | G7: 2HP | H7: =VLOOKUP(G7,'Part Number'!$A$1:$B$13,2,0) | I7: 11.200.1.34 | M7: NCP1_12_VFD1 | N7: =VLOOKUP(M7,[1]MCM06!$C$1:$M$157,11,0)
A8: SLOT6 | B8: 1756_OB16E | F8: NCP1_13_VFD1 | G8: 2HP | H8: =VLOOKUP(G8,'Part Number'!$A$1:$B$13,2,0) | I8: 11.200.1.35 | M8: NCP1_13_VFD1 | N8: =VLOOKUP(M8,[1]MCM06!$C$1:$M$157,11,0)
A9: SLOT7 | B9: 1756_IB16S | F9: NCP1_14A_VFD1 | G9: 2HP | H9: =VLOOKUP(G9,'Part Number'!$A$1:$B$13,2,0) | I9: 11.200.1.36 | M9: NCP1_14A_VFD1 | N9: =VLOOKUP(M9,[1]MCM06!$C$1:$M$157,11,0)
A10: SLOT8 | B10: 1756_EN2TR | C10: 11.200.1.1 | F10: NCP1_14B_VFD1 | G10: 2HP | H10: =VLOOKUP(G10,'Part Number'!$A$1:$B$13,2,0) | I10: 11.200.1.37 | M10: NCP1_14B_VFD1 | N10: =VLOOKUP(M10,[1]MCM06!$C$1:$M$157,11,0)
A11: SLOT9 | B11: 1756_EN2TR | C11: 11.200.1.1 | F11: NCP1_14C_VFD1 | G11: 2HP | H11: =VLOOKUP(G11,'Part Number'!$A$1:$B$13,2,0) | I11: 11.200.1.38 | M11: NCP1_14C_VFD1 | N11: =VLOOKUP(M11,[1]MCM06!$C$1:$M$157,11,0)
F12: NCP1_14D_VFD1 | G12: 2HP | H12: =VLOOKUP(G12,'Part Number'!$A$1:$B$13,2,0) | I12: 11.200.1.39 | M12: NCP1_14D_VFD1 | N12: =VLOOKUP(M12,[1]MCM06!$C$1:$M$157,11,0)
F13: NCP1_15_VFD1 | G13: 7.5HP | H13: =VLOOKUP(G13,'Part Number'!$A$1:$B$13,2,0) | I13: 11.200.1.40 | M13: NCP1_15_VFD1 | N13: =VLOOKUP(M13,[1]MCM06!$C$1:$M$157,11,0)
A14: DPM COUNT | B14: 7 | F14: NCP1_16_VFD1 | G14: 5HP | H14: =VLOOKUP(G14,'Part Number'!$A$1:$B$13,2,0) | I14: 11.200.1.41 | M14: NCP1_16_VFD1 | N14: =VLOOKUP(M14,[1]MCM06!$C$1:$M$157,11,0)
A15: FIO COUNT | B15: 53 | F15: NCP1_17_VFD1 | G15: 2HP | H15: =VLOOKUP(G15,'Part Number'!$A$1:$B$13,2,0) | I15: 11.200.1.42 | M15: NCP1_17_VFD1 | N15: =VLOOKUP(M15,[1]MCM06!$C$1:$M$157,11,0)
F16: NCP1_18A_VFD1 | G16: 2HP | H16: =VLOOKUP(G16,'Part Number'!$A$1:$B$13,2,0) | I16: 11.200.1.43 | M16: NCP1_18A_VFD1 | N16: =VLOOKUP(M16,[1]MCM06!$C$1:$M$157,11,0)
F17: NCP1_18B_VFD1 | G17: 2HP | H17: =VLOOKUP(G17,'Part Number'!$A$1:$B$13,2,0) | I17: 11.200.1.44 | M17: NCP1_18B_VFD1 | N17: =VLOOKUP(M17,[1]MCM06!$C$1:$M$157,11,0)
F18: NCP1_19_VFD1 | G18: 2HP | H18: =VLOOKUP(G18,'Part Number'!$A$1:$B$13,2,0) | I18: 11.200.1.45 | M18: NCP1_19_VFD1 | N18: =VLOOKUP(M18,[1]MCM06!$C$1:$M$157,11,0)
F19: NCP1_20_VFD1 | G19: 5HP | H19: =VLOOKUP(G19,'Part Number'!$A$1:$B$13,2,0) | I19: 11.200.1.46 | M19: NCP1_20_VFD1 | N19: =VLOOKUP(M19,[1]MCM06!$C$1:$M$157,11,0)
F20: NCP1_21_VFD1 | G20: 7.5HP | H20: =VLOOKUP(G20,'Part Number'!$A$1:$B$13,2,0) | I20: 11.200.1.47 | M20: NCP1_21_VFD1 | N20: =VLOOKUP(M20,[1]MCM06!$C$1:$M$157,11,0)
F21: NCP1_20_FIO1 | G21: FIO | H21: =VLOOKUP(G21,'Part Number'!$A$1:$B$13,2,0) | I21: 11.200.1.146 | J21: 5-26 ADDED
D22: NCS1_6_DPM1 | E22: 11.200.1.3 | F22: NCS1_1_VFD1 | G22: 2HP | H22: =VLOOKUP(G22,'Part Number'!$A$1:$B$13,2,0) | I22: 11.200.1.48
F23: NCS1_2_VFD1 | G23: 2HP | H23: =VLOOKUP(G23,'Part Number'!$A$1:$B$13,2,0) | I23: 11.200.1.49 | M23: NCS1_2_VFD1 | N23: =VLOOKUP(M23,[1]MCM06!$C$1:$M$157,11,0)
F24: NCS1_3_VFD1 | G24: 5HP | H24: =VLOOKUP(G24,'Part Number'!$A$1:$B$13,2,0) | I24: 11.200.1.50 | M24: NCS1_3_VFD1 | N24: =VLOOKUP(M24,[1]MCM06!$C$1:$M$157,11,0)
F25: NCS1_4_VFD1 | G25: 2HP | H25: =VLOOKUP(G25,'Part Number'!$A$1:$B$13,2,0) | I25: 11.200.1.51 | M25: NCS1_4_VFD1 | N25: =VLOOKUP(M25,[1]MCM06!$C$1:$M$157,11,0)
F26: NCS1_5A_VFD1 | G26: 2HP | H26: =VLOOKUP(G26,'Part Number'!$A$1:$B$13,2,0) | I26: 11.200.1.52 | M26: NCS1_5A_VFD1 | N26: =VLOOKUP(M26,[1]MCM06!$C$1:$M$157,11,0)
F27: NCS1_5B_VFD1 | G27: 2HP | H27: =VLOOKUP(G27,'Part Number'!$A$1:$B$13,2,0) | I27: 11.200.1.53 | M27: NCS1_5B_VFD1 | N27: =VLOOKUP(M27,[1]MCM06!$C$1:$M$157,11,0)
F28: NCS1_6_VFD1 | G28: 2HP | H28: =VLOOKUP(G28,'Part Number'!$A$1:$B$13,2,0) | I28: 11.200.1.54 | M28: NCS1_6_VFD1 | N28: =VLOOKUP(M28,[1]MCM06!$C$1:$M$157,11,0)
F29: NCS1_7_VFD1 | G29: 2HP | H29: =VLOOKUP(G29,'Part Number'!$A$1:$B$13,2,0) | I29: 11.200.1.55 | M29: NCS1_7_VFD1 | N29: =VLOOKUP(M29,[1]MCM06!$C$1:$M$157,11,0)
F30: NCS1_8_VFD1 | G30: 2HP | H30: =VLOOKUP(G30,'Part Number'!$A$1:$B$13,2,0) | I30: 11.200.1.56 | M30: NCS1_8_VFD1 | N30: =VLOOKUP(M30,[1]MCM06!$C$1:$M$157,11,0)
F31: NCS1_9_VFD1 | G31: 2HP | H31: =VLOOKUP(G31,'Part Number'!$A$1:$B$13,2,0) | I31: 11.200.1.57 | M31: NCS1_9_VFD1 | N31: =VLOOKUP(M31,[1]MCM06!$C$1:$M$157,11,0)
F32: PDP08_FIO1 | G32: FIO | H32: =VLOOKUP(G32,'Part Number'!$A$1:$B$13,2,0) | I32: 11.200.1.144 | J32: ADDED | K32: 45802
F33: PDP08_PMM1 | G33: PMM | H33: 1420-V2-ENT | I33: 11.200.1.145 | J33: ADDED | K33: 45802
D34: NCS2_4_DPM1 | E34: 11.200.1.4 | F34: NCS2_1_VFD1 | G34: 5HP | H34: =VLOOKUP(G34,'Part Number'!$A$1:$B$13,2,0) | I34: 11.200.1.58 | J34: added | M34: NCP2_1_VFD1 | N34: =VLOOKUP(M34,[1]MCM06!$C$1:$M$157,11,0)
F35: NCS2_2_VFD1 | G35: 2HP | H35: =VLOOKUP(G35,'Part Number'!$A$1:$B$13,2,0) | I35: 11.200.1.59 | M35: NCS2_2_VFD1 | N35: =VLOOKUP(M35,[1]MCM06!$C$1:$M$157,11,0)
F36: NCS2_3A_VFD1 | G36: 2HP | H36: =VLOOKUP(G36,'Part Number'!$A$1:$B$13,2,0) | I36: 11.200.1.60 | M36: NCS2_3A_VFD1 | N36: =VLOOKUP(M36,[1]MCM06!$C$1:$M$157,11,0)
F37: NCS2_3B_VFD1 | G37: 2HP | H37: =VLOOKUP(G37,'Part Number'!$A$1:$B$13,2,0) | I37: 11.200.1.61 | M37: NCS2_3B_VFD1 | N37: =VLOOKUP(M37,[1]MCM06!$C$1:$M$157,11,0)
F38: NCS2_4_VFD1 | G38: 2HP | H38: =VLOOKUP(G38,'Part Number'!$A$1:$B$13,2,0) | I38: 11.200.1.62 | M38: NCS2_4_VFD1 | N38: =VLOOKUP(M38,[1]MCM06!$C$1:$M$157,11,0)
F39: NCS2_5_VFD1 | G39: 2HP | H39: =VLOOKUP(G39,'Part Number'!$A$1:$B$13,2,0) | I39: 11.200.1.63 | M39: NCS2_5_VFD1 | N39: =VLOOKUP(M39,[1]MCM06!$C$1:$M$157,11,0)
F40: NCS2_6_VFD1 | G40: 2HP | H40: =VLOOKUP(G40,'Part Number'!$A$1:$B$13,2,0) | I40: 11.200.1.64 | M40: NCS2_6_VFD1 | N40: =VLOOKUP(M40,[1]MCM06!$C$1:$M$157,11,0)
...

Sheet NETWORK(EIP)
B1: MCM05 | D1: RING | F1: STAR
A2: SLOT0 | B2: 1756_L83ES | C2: IP | D2: DPM | E2: IP | F2: VFD NAME | G2: TYPE | H2: VFD PART NUMBER | I2: IP
A3: SLOT1 | B3: 1756_N2 | D3: NCP1_15_DPM1 | E3: 11.200.1.2 | F3: NCP1_9_VFD1 | G3: 2HP | H3: =VLOOKUP(G3,'Part Number'!$A$1:$B$13,2,0) | I3: 11.200.1.30 | M3: NCP1_9_VFD1 | N3: =VLOOKUP(M3,[1]MCM06!$C$1:$M$157,11,0)
A4: SLOT2 | B4: 1756_EN4TR | C4: 11.200.1.1 | F4: NCP1_10A_VFD1 | G4: 2HP | H4: =VLOOKUP(G4,'Part Number'!$A$1:$B$13,2,0) | I4: 11.200.1.31 | M4: NCP1_10A_VFD1 | N4: =VLOOKUP(M4,[1]MCM06!$C$1:$M$157,11,0)
A5: SLOT3 | B5: 1756_EN2TR | C5: 11.200.1.1 | F5: NCP1_10B_VFD1 | G5: 2HP | H5: =VLOOKUP(G5,'Part Number'!$A$1:$B$13,2,0) | I5: 11.200.1.32 | M5: NCP1_10B_VFD1 | N5: =VLOOKUP(M5,[1]MCM06!$C$1:$M$157,11,0)
A6: SLOT4 | B6: 1756_EN2TR | C6: 11.200.1.1 | F6: NCP1_11_VFD1 | G6: 2HP | H6: =VLOOKUP(G6,'Part Number'!$A$1:$B$13,2,0) | I6: 11.200.1.33 | M6: NCP1_11_VFD1 | N6: =VLOOKUP(M6,[1]MCM06!$C$1:$M$157,11,0)
A7: SLOT5 | B7: 1756_IB16 | F7: NCP1_12_VFD1 | G7: 2HP | H7: =VLOOKUP(G7,'Part Number'!$A$1:$B$13,2,0) | I7: 11.200.1.34 | M7: NCP1_12_VFD1 | N7: =VLOOKUP(M7,[1]MCM06!$C$1:$M$157,11,0)
A8: SLOT6 | B8: 1756_OB16E | F8: NCP1_13_VFD1 | G8: 2HP | H8: =VLOOKUP(G8,'Part Number'!$A$1:$B$13,2,0) | I8: 11.200.1.35 | M8: NCP1_13_VFD1 | N8: =VLOOKUP(M8,[1]MCM06!$C$1:$M$157,11,0)
A9: SLOT7 | B9: 1756_IB16S | F9: NCP1_14A_VFD1 | G9: 2HP | H9: =VLOOKUP(G9,'Part Number'!$A$1:$B$13,2,0) | I9: 11.200.1.36 | M9: NCP1_14A_VFD1 | N9: =VLOOKUP(M9,[1]MCM06!$C$1:$M$157,11,0)
A10: SLOT8 | B10: 1756_EN2TR | C10: 11.200.1.1 | F10: NCP1_14B_VFD1 | G10: 2HP | H10: =VLOOKUP(G10,'Part Number'!$A$1:$B$13,2,0) | I10: 11.200.1.37 | M10: NCP1_14B_VFD1 | N10: =VLOOKUP(M10,[1]MCM06!$C$1:$M$157,11,0)
A11: SLOT9 | B11: 1756_EN2TR | C11: 11.200.1.1 | F11: NCP1_14C_VFD1 | G11: 2HP | H11: =VLOOKUP(G11,'Part Number'!$A$1:$B$13,2,0) | I11: 11.200.1.38 | M11: NCP1_14C_VFD1 | N11: =VLOOKUP(M11,[1]MCM06!$C$1:$M$157,11,0)
F12: NCP1_14D_VFD1 | G12: 2HP | H12: =VLOOKUP(G12,'Part Number'!$A$1:$B$13,2,0) | I12: 11.200.1.39 | M12: NCP1_14D_VFD1 | N12: =VLOOKUP(M12,[1]MCM06!$C$1:$M$157,11,0)
F13: NCP1_15_VFD1 | G13: 7.5HP | H13: =VLOOKUP(G13,'Part Number'!$A$1:$B$13,2,0) | I13: 11.200.1.40 | M13: NCP1_15_VFD1 | N13: =VLOOKUP(M13,[1]MCM06!$C$1:$M$157,11,0)
A14: DPM COUNT | B14: 7 | F14: NCP1_16_VFD1 | G14: 5HP | H14: =VLOOKUP(G14,'Part Number'!$A$1:$B$13,2,0) | I14: 11.200.1.41 | M14: NCP1_16_VFD1 | N14: =VLOOKUP(M14,[1]MCM06!$C$1:$M$157,11,0)
A15: FIO COUNT | B15: 53 | F15: NCP1_17_VFD1 | G15: 2HP | H15: =VLOOKUP(G15,'Part Number'!$A$1:$B$13,2,0) | I15: 11.200.1.42 | M15: NCP1_17_VFD1 | N15: =VLOOKUP(M15,[1]MCM06!$C$1:$M$157,11,0)
F16: NCP1_18A_VFD1 | G16: 2HP | H16: =VLOOKUP(G16,'Part Number'!$A$1:$B$13,2,0) | I16: 11.200.1.43 | M16: NCP1_18A_VFD1 | N16: =VLOOKUP(M16,[1]MCM06!$C$1:$M$157,11,0)
F17: NCP1_18B_VFD1 | G17: 2HP | H17: =VLOOKUP(G17,'Part Number'!$A$1:$B$13,2,0) | I17: 11.200.1.44 | M17: NCP1_18B_VFD1 | N17: =VLOOKUP(M17,[1]MCM06!$C$1:$M$157,11,0)
F18: NCP1_19_VFD1 | G18: 2HP | H18: =VLOOKUP(G18,'Part Number'!$A$1:$B$13,2,0) | I18: 11.200.1.45 | M18: NCP1_19_VFD1 | N18: =VLOOKUP(M18,[1]MCM06!$C$1:$M$157,11,0)
F19: NCP1_20_VFD1 | G19: 5HP | H19: =VLOOKUP(G19,'Part Number'!$A$1:$B$13,2,0) | I19: 11.200.1.46 | M19: NCP1_20_VFD1 | N19: =VLOOKUP(M19,[1]MCM06!$C$1:$M$157,11,0)
F20: NCP1_21_VFD1 | G20: 7.5HP | H20: =VLOOKUP(G20,'Part Number'!$A$1:$B$13,2,0) | I20: 11.200.1.47 | M20: NCP1_21_VFD1 | N20: =VLOOKUP(M20,[1]MCM06!$C$1:$M$157,11,0)
D21: NCS1_6_DPM1 | E21: 11.200.1.3 | F21: NCS1_1_VFD1 | G21: 2HP | H21: =VLOOKUP(G21,'Part Number'!$A$1:$B$13,2,0) | I21: 11.200.1.48
F22: NCS1_2_VFD1 | G22: 2HP | H22: =VLOOKUP(G22,'Part Number'!$A$1:$B$13,2,0) | I22: 11.200.1.49 | M22: NCS1_2_VFD1 | N22: =VLOOKUP(M22,[1]MCM06!$C$1:$M$157,11,0)
F23: NCS1_3_VFD1 | G23: 5HP | H23: =VLOOKUP(G23,'Part Number'!$A$1:$B$13,2,0) | I23: 11.200.1.50 | M23: NCS1_3_VFD1 | N23: =VLOOKUP(M23,[1]MCM06!$C$1:$M$157,11,0)
F24: NCS1_4_VFD1 | G24: 2HP | H24: =VLOOKUP(G24,'Part Number'!$A$1:$B$13,2,0) | I24: 11.200.1.51 | M24: NCS1_4_VFD1 | N24: =VLOOKUP(M24,[1]MCM06!$C$1:$M$157,11,0)
F25: NCS1_5A_VFD1 | G25: 2HP | H25: =VLOOKUP(G25,'Part Number'!$A$1:$B$13,2,0) | I25: 11.200.1.52 | M25: NCS1_5A_VFD1 | N25: =VLOOKUP(M25,[1]MCM06!$C$1:$M$157,11,0)
F26: NCS1_5B_VFD1 | G26: 2HP | H26: =VLOOKUP(G26,'Part Number'!$A$1:$B$13,2,0) | I26: 11.200.1.53 | M26: NCS1_5B_VFD1 | N26: =VLOOKUP(M26,[1]MCM06!$C$1:$M$157,11,0)
F27: NCS1_6_VFD1 | G27: 2HP | H27: =VLOOKUP(G27,'Part Number'!$A$1:$B$13,2,0) | I27: 11.200.1.54 | M27: NCS1_6_VFD1 | N27: =VLOOKUP(M27,[1]MCM06!$C$1:$M$157,11,0)
F28: NCS1_7_VFD1 | G28: 2HP | H28: =VLOOKUP(G28,'Part Number'!$A$1:$B$13,2,0) | I28: 11.200.1.55 | M28: NCS1_7_VFD1 | N28: =VLOOKUP(M28,[1]MCM06!$C$1:$M$157,11,0)
F29: NCS1_8_VFD1 | G29: 2HP | H29: =VLOOKUP(G29,'Part Number'!$A$1:$B$13,2,0) | I29: 11.200.1.56 | M29: NCS1_8_VFD1 | N29: =VLOOKUP(M29,[1]MCM06!$C$1:$M$157,11,0)
F30: NCS1_9_VFD1 | G30: 2HP | H30: =VLOOKUP(G30,'Part Number'!$A$1:$B$13,2,0) | I30: 11.200.1.57 | M30: NCS1_9_VFD1 | N30: =VLOOKUP(M30,[1]MCM06!$C$1:$M$157,11,0)
D31: NCS2_4_DPM1 | E31: 11.200.1.4 | F31: NCS2_1_VFD1 | G31: 5HP | H31: =VLOOKUP(G31,'Part Number'!$A$1:$B$13,2,0) | I31: 11.200.1.58 | J31: added | M31: NCP2_1_VFD1 | N31: =VLOOKUP(M31,[1]MCM06!$C$1:$M$157,11,0)
F32: NCS2_2_VFD1 | G32: 2HP | H32: =VLOOKUP(G32,'Part Number'!$A$1:$B$13,2,0) | I32: 11.200.1.59 | M32: NCS2_2_VFD1 | N32: =VLOOKUP(M32,[1]MCM06!$C$1:$M$157,11,0)
F33: NCS2_3A_VFD1 | G33: 2HP | H33: =VLOOKUP(G33,'Part Number'!$A$1:$B$13,2,0) | I33: 11.200.1.60 | M33: NCS2_3A_VFD1 | N33: =VLOOKUP(M33,[1]MCM06!$C$1:$M$157,11,0)
F34: NCS2_3B_VFD1 | G34: 2HP | H34: =VLOOKUP(G34,'Part Number'!$A$1:$B$13,2,0) | I34: 11.200.1.61 | M34: NCS2_3B_VFD1 | N34: =VLOOKUP(M34,[1]MCM06!$C$1:$M$157,11,0)
F35: NCS2_4_VFD1 | G35: 2HP | H35: =VLOOKUP(G35,'Part Number'!$A$1:$B$13,2,0) | I35: 11.200.1.62 | M35: NCS2_4_VFD1 | N35: =VLOOKUP(M35,[1]MCM06!$C$1:$M$157,11,0)
F36: NCS2_5_VFD1 | G36: 2HP | H36: =VLOOKUP(G36,'Part Number'!$A$1:$B$13,2,0) | I36: 11.200.1.63 | M36: NCS2_5_VFD1 | N36: =VLOOKUP(M36,[1]MCM06!$C$1:$M$157,11,0)
F37: NCS2_6_VFD1 | G37: 2HP | H37: =VLOOKUP(G37,'Part Number'!$A$1:$B$13,2,0) | I37: 11.200.1.64 | M37: NCS2_6_VFD1 | N37: =VLOOKUP(M37,[1]MCM06!$C$1:$M$157,11,0)
F38: NCS2_7_VFD1 | G38: 2HP | H38: =VLOOKUP(G38,'Part Number'!$A$1:$B$13,2,0) | I38: 11.200.1.65 | M38: NCS2_7_VFD1 | N38: =VLOOKUP(M38,[1]MCM06!$C$1:$M$157,11,0)
D39: NCS1_DPM1 | E39: 11.200.1.5 | F39: S02_1_FIO1 | G39: FIO | H39: =VLOOKUP(G39,'Part Number'!$A$1:$B$13,2,0) | I39: 11.200.1.100 | M39: S02_1_FIO1 | N39: FIO
F40: S02_1_FIO2 | G40: FIO | H40: =VLOOKUP(G40,'Part Number'!$A$1:$B$13,2,0) | I40: 11.200.1.101 | M40: S02_1_FIO2 | N40: FIO
...

Sheet Part Number
A1: HP | B1: PART NUMBER
A2: 2HP | B2: 35S-6D2-P101
A3: 3HP | B3: 35S-6D3-P101
A4: 5HP | B4: 35S-6D4-P111
A5: 7.5HP | B5: 35S-6D5-P111
A6: 10HP | B6: 35S-6D6-P111
A7: 15HP | B7: 25B-D024N104
A8: 20HP | B8: 25B-D030N104
A9: 30HP | B9: 25B-D043N114
A10: EXTENDO | B10: CALJAN
A11: TIPPER | B11: PIONEER
A12: ZMX | B12: ZMX-3DE2500HF-Q7-AMZCHD
A13: FIO | B13: 5032-8IOLM12DR

Sheet IO Assignment MCM06
A1: Controller name | B1: Signal type | C1: Address name | D1: Assigned device | E1: Unassigned Device | K1: MCM06_DESC
A2: NCP1_10A_VFD1 | B2: I0 | C2: NCP1_10A_VFD1_I0 | D2: NCP1_10A_VFD1_DISC
A3: NCP1_10A_VFD1 | B3: I1 | C3: NCP1_10A_VFD1_I1
A4: NCP1_10A_VFD1 | B4: I2 | C4: NCP1_10A_VFD1_I2
A5: NCP1_10A_VFD1 | B5: I3 | C5: NCP1_10A_VFD1_I3
A6: NCP1_10A_VFD1 | B6: IO0 | C6: NCP1_10A_VFD1_IO0 | D6: NCP1_9_S1_PB
A7: NCP1_10A_VFD1 | B7: IO1 | C7: NCP1_10A_VFD1_IO1 | D7: NCP1_9_S1_PB_LT
A8: NCP1_10A_VFD1 | B8: SI0 | C8: NCP1_10A_VFD1_SI0
A9: NCP1_10A_VFD1 | B9: SI1 | C9: NCP1_10A_VFD1_SI1
A10: NCP1_10A_VFD1 | B10: SI2 | C10: NCP1_10A_VFD1_SI2
A11: NCP1_10A_VFD1 | B11: SI3 | C11: NCP1_10A_VFD1_SI3
A12: NCP1_10A_VFD1 | B12: SO0 | C12: NCP1_10A_VFD1_SO0
A13: NCP1_10B_VFD1 | B13: I0 | C13: NCP1_10B_VFD1_I0 | D13: NCP1_10B_VFD1_DISC
A14: NCP1_10B_VFD1 | B14: I1 | C14: NCP1_10B_VFD1_I1
A15: NCP1_10B_VFD1 | B15: I2 | C15: NCP1_10B_VFD1_I2
A16: NCP1_10B_VFD1 | B16: I3 | C16: NCP1_10B_VFD1_I3
A17: NCP1_10B_VFD1 | B17: IO0 | C17: NCP1_10B_VFD1_IO0 | D17: NCP1_9_S2_PB
A18: NCP1_10B_VFD1 | B18: IO1 | C18: NCP1_10B_VFD1_IO1 | D18: NCP1_9_S2_PB_LT
A19: NCP1_10B_VFD1 | B19: SI0 | C19: NCP1_10B_VFD1_SI0
A20: NCP1_10B_VFD1 | B20: SI1 | C20: NCP1_10B_VFD1_SI1
A21: NCP1_10B_VFD1 | B21: SI2 | C21: NCP1_10B_VFD1_SI2
A22: NCP1_10B_VFD1 | B22: SI3 | C22: NCP1_10B_VFD1_SI3
A23: NCP1_10B_VFD1 | B23: SO0 | C23: NCP1_10B_VFD1_SO0
A24: NCP1_11_VFD1 | B24: I0 | C24: NCP1_11_VFD1_I0 | D24: NCP1_11_VFD1_DISC
A25: NCP1_11_VFD1 | B25: I1 | C25: NCP1_11_VFD1_I1
A26: NCP1_11_VFD1 | B26: I2 | C26: NCP1_11_VFD1_I2 | D26: NCP_11_TPE1
A27: NCP1_11_VFD1 | B27: I3 | C27: NCP1_11_VFD1_I3 | D27: NCP_11_TPE2
A28: NCP1_11_VFD1 | B28: IO0 | C28: NCP1_11_VFD1_IO0
A29: NCP1_11_VFD1 | B29: IO1 | C29: NCP1_11_VFD1_IO1
A30: NCP1_11_VFD1 | B30: SI0 | C30: NCP1_11_VFD1_SI0
A31: NCP1_11_VFD1 | B31: SI1 | C31: NCP1_11_VFD1_SI1
A32: NCP1_11_VFD1 | B32: SI2 | C32: NCP1_11_VFD1_SI2
A33: NCP1_11_VFD1 | B33: SI3 | C33: NCP1_11_VFD1_SI3
A34: NCP1_11_VFD1 | B34: SO0 | C34: NCP1_11_VFD1_SO0
A35: NCP1_12_VFD1 | B35: I0 | C35: NCP1_12_VFD1_I0 | D35: NCP1_12_VFD1_DISC
A36: NCP1_12_VFD1 | B36: I1 | C36: NCP1_12_VFD1_I1
A37: NCP1_12_VFD1 | B37: I2 | C37: NCP1_12_VFD1_I2 | D37: NCP1_12_TPE1
A38: NCP1_12_VFD1 | B38: I3 | C38: NCP1_12_VFD1_I3
A39: NCP1_12_VFD1 | B39: IO0 | C39: NCP1_12_VFD1_IO0
A40: NCP1_12_VFD1 | B40: IO1 | C40: NCP1_12_VFD1_IO1
...

Sheet MCM06_DESC
A1: TAGNAME | B1: ADDR | C1: TERM | D1: TERMDESC | E1: DESCA | F1: DESCB | H1: CONTROLLERS
A2: NCP1_10A_VFD1 | B2: NCP1_10A_VFD1_I0 | C2: I0 | E2: NCP1_10A_VFD1_DISC | F2: DISCONNECT AUX | H2: NCP1_10A_VFD1 | I2: 600
A3: NCP1_10A_VFD1 | B3: NCP1_10A_VFD1_I1 | C3: I1 | E3: SPARE | H3: NCP1_10B_VFD1
A4: NCP1_10A_VFD1 | B4: NCP1_10A_VFD1_I2 | C4: I2 | E4: SPARE | H4: NCP1_11_VFD1
A5: NCP1_10A_VFD1 | B5: NCP1_10A_VFD1_I3 | C5: I3 | E5: SPARE | H5: NCP1_12_VFD1
A6: NCP1_10A_VFD1 | B6: NCP1_10A_VFD1_IO0 | C6: IO0 | E6: NCP1_9_S1_PB | F6: START PUSHBUTTON
A7: NCP1_10A_VFD1 | B7: NCP1_10A_VFD1_IO1 | C7: IO1 | E7: NCP1_9_S1_PB_LT | F7: START PUSHBUTTON LIGHT | H7: NCP1_13_VFD1 | I7: 601
A8: NCP1_10A_VFD1 | B8: NCP1_10A_VFD1_SI0 | C8: SI0 | E8: SPARE | H8: NCP1_14A_VFD1
A9: NCP1_10A_VFD1 | B9: NCP1_10A_VFD1_SI1 | C9: SI1 | E9: SPARE | H9: NCP1_14B_VFD1
A10: NCP1_10A_VFD1 | B10: NCP1_10A_VFD1_SI2 | C10: SI2 | E10: SPARE | H10: NCP1_14C_VFD1
A11: NCP1_10A_VFD1 | B11: NCP1_10A_VFD1_SI3 | C11: SI3 | E11: SPARE
A12: NCP1_10A_VFD1 | B12: NCP1_10A_VFD1_SO0 | C12: SO0 | E12: SPARE | H12: NCP1_14D_VFD1 | I12: 602
A13: NCP1_10B_VFD1 | B13: NCP1_10B_VFD1_I0 | C13: I0 | E13: NCP1_10B_VFD1_DISC | F13: DISCONNECT AUX | H13: NCP1_15_VFD1
A14: NCP1_10B_VFD1 | B14: NCP1_10B_VFD1_I1 | C14: I1 | E14: SPARE | H14: NCP1_16_VFD1
A15: NCP1_10B_VFD1 | B15: NCP1_10B_VFD1_I2 | C15: I2 | E15: SPARE | H15: NCP1_17_VFD1
A16: NCP1_10B_VFD1 | B16: NCP1_10B_VFD1_I3 | C16: I3 | E16: SPARE
A17: NCP1_10B_VFD1 | B17: NCP1_10B_VFD1_IO0 | C17: IO0 | E17: NCP1_9_S2_PB | F17: START PUSHBUTTON | H17: NCP1_18A_VFD1 | I17: 603
A18: NCP1_10B_VFD1 | B18: NCP1_10B_VFD1_IO1 | C18: IO1 | E18: NCP1_9_S2_PB_LT | F18: START PUSHBUTTON LIGHT | H18: NCP1_18B_VFD1
A19: NCP1_10B_VFD1 | B19: NCP1_10B_VFD1_SI0 | C19: SI0 | E19: SPARE | H19: NCP1_19_VFD1
A20: NCP1_10B_VFD1 | B20: NCP1_10B_VFD1_SI1 | C20: SI1 | E20: SPARE | H20: NCP1_20_VFD1
A21: NCP1_10B_VFD1 | B21: NCP1_10B_VFD1_SI2 | C21: SI2 | E21: SPARE
A22: NCP1_10B_VFD1 | B22: NCP1_10B_VFD1_SI3 | C22: SI3 | E22: SPARE | H22: NCP1_21_VFD1 | I22: 604
A23: NCP1_10B_VFD1 | B23: NCP1_10B_VFD1_SO0 | C23: SO0 | E23: SPARE | H23: NCP1_9_VFD1
A24: NCP1_11_VFD1 | B24: NCP1_11_VFD1_I0 | C24: I0 | E24: NCP1_11_VFD1_DISC | F24: DISCONNECT AUX | H24: NCS2_1_VFD1
A25: NCP1_11_VFD1 | B25: NCP1_11_VFD1_I1 | C25: I1 | E25: SPARE | H25: NCS1_2_VFD1
A26: NCP1_11_VFD1 | B26: NCP1_11_VFD1_I2 | C26: I2 | E26: NCP_11_TPE1 | F26: TRACKING PHOTOEYE
A27: NCP1_11_VFD1 | B27: NCP1_11_VFD1_I3 | C27: I3 | E27: NCP_11_TPE2 | F27: TRACKING PHOTOEYE | H27: NCS1_3_VFD1 | I27: 605
A28: NCP1_11_VFD1 | B28: NCP1_11_VFD1_IO0 | C28: IO0 | E28: SPARE | H28: NCS1_4_VFD1
A29: NCP1_11_VFD1 | B29: NCP1_11_VFD1_IO1 | C29: IO1 | E29: SPARE | H29: NCS1_5A_VFD1
A30: NCP1_11_VFD1 | B30: NCP1_11_VFD1_SI0 | C30: SI0 | E30: SPARE | H30: NCS1_5B_VFD1
A31: NCP1_11_VFD1 | B31: NCP1_11_VFD1_SI1 | C31: SI1 | E31: SPARE
A32: NCP1_11_VFD1 | B32: NCP1_11_VFD1_SI2 | C32: SI2 | E32: SPARE | H32: NCS1_6_VFD1 | I32: 606
A33: NCP1_11_VFD1 | B33: NCP1_11_VFD1_SI3 | C33: SI3 | E33: SPARE | H33: NCS1_7_VFD1
A34: NCP1_11_VFD1 | B34: NCP1_11_VFD1_SO0 | C34: SO0 | E34: SPARE | H34: NCS1_8_VFD1
A35: NCP1_12_VFD1 | B35: NCP1_12_VFD1_I0 | C35: I0 | E35: NCP1_12_VFD1_DISC | F35: DISCONNECT AUX | H35: NCS1_9_VFD1
A36: NCP1_12_VFD1 | B36: NCP1_12_VFD1_I1 | C36: I1 | E36: SPARE
A37: NCP1_12_VFD1 | B37: NCP1_12_VFD1_I2 | C37: I2 | E37: NCP1_12_TPE1 | F37: TRACKING PHOTOEYE | H37: NCS2_2_VFD1 | I37: 607
A38: NCP1_12_VFD1 | B38: NCP1_12_VFD1_I3 | C38: I3 | E38: SPARE | H38: NCS2_3A_VFD1
A39: NCP1_12_VFD1 | B39: NCP1_12_VFD1_IO0 | C39: IO0 | E39: SPARE | H39: NCS2_3B_VFD1
A40: NCP1_12_VFD1 | B40: NCP1_12_VFD1_IO1 | C40: IO1 | E40: SPARE | H40: NCS2_4_VFD1
...

Sheet DESC_PLC
A1: TAGNAME | B1: TERM | C1: DESCA | D1: DESCB
A2: NCP1_10A_VFD1 | B2: I0 | C2: NCP1_10A_VFD1_DISC | D2: DISCONNECT AUX
A3: NCP1_10A_VFD1 | B3: I1 | C3: SPARE
A4: NCP1_10A_VFD1 | B4: I2 | C4: SPARE
A5: NCP1_10A_VFD1 | B5: I3 | C5: SPARE
A6: NCP1_10A_VFD1 | B6: IO0 | C6: NCP1_9_S1_PB | D6: START PUSHBUTTON
A7: NCP1_10A_VFD1 | B7: IO1 | C7: NCP1_9_S1_PB_LT | D7: START PUSHBUTTON LIGHT
A8: NCP1_10A_VFD1 | B8: SI0 | C8: SPARE
A9: NCP1_10A_VFD1 | B9: SI1 | C9: SPARE
A10: NCP1_10A_VFD1 | B10: SI2 | C10: SPARE
A11: NCP1_10A_VFD1 | B11: SI3 | C11: SPARE
A12: NCP1_10A_VFD1 | B12: SO0 | C12: SPARE
A13: NCP1_10B_VFD1 | B13: I0 | C13: NCP1_10B_VFD1_DISC | D13: DISCONNECT AUX
A14: NCP1_10B_VFD1 | B14: I1 | C14: SPARE
A15: NCP1_10B_VFD1 | B15: I2 | C15: SPARE
A16: NCP1_10B_VFD1 | B16: I3 | C16: SPARE
A17: NCP1_10B_VFD1 | B17: IO0 | C17: NCP1_9_S2_PB | D17: START PUSHBUTTON
A18: NCP1_10B_VFD1 | B18: IO1 | C18: NCP1_9_S2_PB_LT | D18: START PUSHBUTTON LIGHT
A19: NCP1_10B_VFD1 | B19: SI0 | C19: SPARE
A20: NCP1_10B_VFD1 | B20: SI1 | C20: SPARE
A21: NCP1_10B_VFD1 | B21: SI2 | C21: SPARE
A22: NCP1_10B_VFD1 | B22: SI3 | C22: SPARE
A23: NCP1_10B_VFD1 | B23: SO0 | C23: SPARE
A24: NCP1_11_VFD1 | B24: I0 | C24: NCP1_11_VFD1_DISC | D24: DISCONNECT AUX
A25: NCP1_11_VFD1 | B25: I1 | C25: SPARE
A26: NCP1_11_VFD1 | B26: I2 | C26: NCP_11_TPE1 | D26: TRACKING PHOTOEYE
A27: NCP1_11_VFD1 | B27: I3 | C27: NCP_11_TPE2 | D27: TRACKING PHOTOEYE
A28: NCP1_11_VFD1 | B28: IO0 | C28: SPARE
A29: NCP1_11_VFD1 | B29: IO1 | C29: SPARE
A30: NCP1_11_VFD1 | B30: SI0 | C30: SPARE
A31: NCP1_11_VFD1 | B31: SI1 | C31: SPARE
A32: NCP1_11_VFD1 | B32: SI2 | C32: SPARE
A33: NCP1_11_VFD1 | B33: SI3 | C33: SPARE
A34: NCP1_11_VFD1 | B34: SO0 | C34: SPARE
A35: NCP1_12_VFD1 | B35: I0 | C35: NCP1_12_VFD1_DISC | D35: DISCONNECT AUX
A36: NCP1_12_VFD1 | B36: I1 | C36: SPARE
A37: NCP1_12_VFD1 | B37: I2 | C37: NCP1_12_TPE1 | D37: TRACKING PHOTOEYE
A38: NCP1_12_VFD1 | B38: I3 | C38: SPARE
A39: NCP1_12_VFD1 | B39: IO0 | C39: SPARE
A40: NCP1_12_VFD1 | B40: IO1 | C40: SPARE
...

Sheet NETWORK_PLC
A1: DPM | B1: DPM_IP | C1: Name | D1: PartNumber | E1: IP
A2: NCP1_15_DPM1 | B2: 11.200.1.2 | C2: NCP1_9_VFD1 | D2: 35S-6D2-P101 | E2: 11.200.1.30
A3: NCP1_15_DPM1 | B3: 11.200.1.2 | C3: NCP1_10A_VFD1 | D3: 35S-6D2-P101 | E3: 11.200.1.31
A4: NCP1_15_DPM1 | B4: 11.200.1.2 | C4: NCP1_10B_VFD1 | D4: 35S-6D2-P101 | E4: 11.200.1.32
A5: NCP1_15_DPM1 | B5: 11.200.1.2 | C5: NCP1_11_VFD1 | D5: 35S-6D2-P101 | E5: 11.200.1.33
A6: NCP1_15_DPM1 | B6: 11.200.1.2 | C6: NCP1_12_VFD1 | D6: 35S-6D2-P101 | E6: 11.200.1.34
A7: NCP1_15_DPM1 | B7: 11.200.1.2 | C7: NCP1_13_VFD1 | D7: 35S-6D2-P101 | E7: 11.200.1.35
A8: NCP1_15_DPM1 | B8: 11.200.1.2 | C8: NCP1_14A_VFD1 | D8: 35S-6D2-P101 | E8: 11.200.1.36
A9: NCP1_15_DPM1 | B9: 11.200.1.2 | C9: NCP1_14B_VFD1 | D9: 35S-6D2-P101 | E9: 11.200.1.37
A10: NCP1_15_DPM1 | B10: 11.200.1.2 | C10: NCP1_14C_VFD1 | D10: 35S-6D2-P101 | E10: 11.200.1.38
A11: NCP1_15_DPM1 | B11: 11.200.1.2 | C11: NCP1_14D_VFD1 | D11: 35S-6D2-P101 | E11: 11.200.1.39
A12: NCP1_15_DPM1 | B12: 11.200.1.2 | C12: NCP1_15_VFD1 | D12: 35S-6D5-P111 | E12: 11.200.1.40
... A84: NCS2_DPM2 | B84: 11.200.1.8 | C84: S02_2_FIO20 | D84: 5032-8IOLM12DR | E84: 11.200.1.143
