Workbook

Sheet Templates
A2: VFD IO TEMPLATE | C2: FIO IO Template
A3: I0 | C3: IO00
A4: I1 | C4: IO01
A5: I2 | C5: IO02
A6: I3 | C6: IO03
A7: IO0 | C7: IO04
A8: IO1 | C8: IO05
A9: SI0 | C9: IO06
A10: SI1 | C10: IO07
A11: SI2 | C11: IO08
A12: SI3 | C12: IO09
A13: SO0 | C13: IO10
C14: IO11
C15: IO12
C16: IO13
C17: IO14
C18: IO15
C19: IO16

Sheet Devices
H1: Which MCM we assign? | I1: MCM02
A2: PS5_1_BCN1_R
A3: PS5_1_DISC
A4: PS5_1_EPC1
A5: PS5_1_EPC1_2
A6: PS5_1_EPC2
A7: PS5_1_EPC2_2
A8: PS5_1_S1_PB
A9: PS5_1_S1_PB_LT
A10: PS5_1_S2_PB
A11: PS5_1_S2_PB_LT
A12: PS5_1_VFD1
A13: PS5_10_DISC
... A827: UL21_9_VFD1

Sheet Instructions
A2: 1. | B2: Put all device tags to cell A2
A37: 2. | B37: In cell I1 write MCM number
A47: 3. | B47: Click on "Add Disconnects" button.
A57: 4. | B57: Replace all _VFD1_DISC with _DISC. Without this point it will generate IO points for _VFD1_DISC device
A69: 5. | B69: Click on "Split SS station". This will split all _SS to SS_STPB, SS_SPB and SS_STPB_LT
A78: 6. | B78: Click on "Split start PB". This will split all _S and _JR to _S_PB, _S_PB_LT, JR_PB and JR_PB_LT
A87: 7. | B87: Click on "Duplicate EPC Tag". This will add duplicate for all EPC and add _2 to copy
A97: 8. | B97: Click on "Create Assignment table template". This will add new sheet with name "IO Assignment MCM01 and fill with VFD and FIO names and their adresses
A107: 9. | B107: Click on "Assign Devices to VFD". This will add device tags to correspond VFD IO. Works for Disc, TPE, JPE, EPC, ENC
A116: 10. | B116: All Unassigned Pushbuttons and lights fill manually and all devices, that couldn't filled to VFD also will be here.

Sheet NETWORK
B1: MCM07
A2: SLOT0 | B2: 1756-L83ES | C2: IP | D2: RING | F2: STAR | T2: VFD | V2: HP | W2: PART NUMBER
A3: SLOT1 | B3: 1756-N2 | D3: DPM | E3: IP | F3: VFD NAME | G3: VFD PART NUMBER | H3: IP | P3: UL13_8_DPM1 | Q3: =_xlfn.CONCAT(P3,"_ENET") | R3: UL13_8_DPM1_ENET | T3: =_xlfn.CONCAT(U3,"_VFD1") | U3: UL13_1 | V3: 2 | W3: =VLOOKUP(V3,'Part Number'!$C$1:$D$13,2,FALSE)
A4: SLOT2 | B4: 1756-EN4TR | C4: 11.200.1.1 | D4: UL13_8_DPM1 | E4: 11.200.1.2 | F4: UL13_1_VFD1 | G4: =VLOOKUP(F4,$T$2:$W$150,4,FALSE) | H4: 11.200.1.30 | P4: UL15_4_DPM1 | Q4: =_xlfn.CONCAT(P4,"_ENET") | R4: UL15_4_DPM1_ENET | T4: =_xlfn.CONCAT(U4,"_VFD1") | U4: UL13_2 | V4: 7.5 | W4: =VLOOKUP(V4,'Part Number'!$C$1:$D$13,2,FALSE)
A5: SLOT3 | B5: 1756-N2 | F5: UL13_2_VFD1 | G5: =VLOOKUP(F5,$T$2:$W$150,4,FALSE) | H5: 11.200.1.31 | P5: UL16_2_DPM1 | Q5: =_xlfn.CONCAT(P5,"_ENET") | R5: UL16_2_DPM1_ENET | T5: =_xlfn.CONCAT(U5,"_VFD1") | U5: UL13_3 | V5: 3 | W5: =VLOOKUP(V5,'Part Number'!$C$1:$D$13,2,FALSE)
A6: SLOT4 | B6: 1756-N2 | F6: UL13_3_VFD1 | G6: =VLOOKUP(F6,$T$2:$W$150,4,FALSE) | H6: 11.200.1.32 | P6: UL18_4_DPM1 | Q6: =_xlfn.CONCAT(P6,"_ENET") | R6: UL18_4_DPM1_ENET | T6: =_xlfn.CONCAT(U6,"_VFD1") | U6: UL13_4 | V6: 3 | W6: =VLOOKUP(V6,'Part Number'!$C$1:$D$13,2,FALSE)
A7: SLOT5 | B7: 1756-IB16 | F7: UL13_4_VFD1 | G7: =VLOOKUP(F7,$T$2:$W$150,4,FALSE) | H7: 11.200.1.33 | P7: UL19_2_DPM1 | Q7: =_xlfn.CONCAT(P7,"_ENET") | R7: UL19_2_DPM1_ENET | T7: =_xlfn.CONCAT(U7,"_VFD1") | U7: UL13_5 | V7: 3 | W7: =VLOOKUP(V7,'Part Number'!$C$1:$D$13,2,FALSE)
A8: SLOT6 | B8: 1756-OB16E | F8: UL13_5_VFD1 | G8: =VLOOKUP(F8,$T$2:$W$150,4,FALSE) | H8: 11.200.1.34 | P8: UL21_11_DPM1 | Q8: =_xlfn.CONCAT(P8,"_ENET") | R8: UL21_11_DPM1_ENET | T8: =_xlfn.CONCAT(U8,"_VFD1") | U8: UL13_6 | V8: 3 | W8: =VLOOKUP(V8,'Part Number'!$C$1:$D$13,2,FALSE)
A9: SLOT7 | B9: 1756-IB16S | F9: UL13_6_VFD1 | G9: =VLOOKUP(F9,$T$2:$W$150,4,FALSE) | H9: 11.200.1.35 | P9: PS5_7_DPM1 | Q9: =_xlfn.CONCAT(P9,"_ENET") | R9: PS5_7_DPM1_ENET | T9: =_xlfn.CONCAT(U9,"_VFD1") | U9: UL13_7 | V9: 3 | W9: =VLOOKUP(V9,'Part Number'!$C$1:$D$13,2,FALSE)
A10: SLOT8 | B10: 1756-N2 | F10: UL13_7_VFD1 | G10: =VLOOKUP(F10,$T$2:$W$150,4,FALSE) | H10: 11.200.1.36 | P10: PS6_7_DPM1 | Q10: =_xlfn.CONCAT(P10,"_ENET") | R10: PS6_7_DPM1_ENET | T10: =_xlfn.CONCAT(U10,"_VFD1") | U10: UL13_8 | V10: 5 | W10: =VLOOKUP(V10,'Part Number'!$C$1:$D$13,2,FALSE)
A11: SLOT9 | B11: 1756-N2 | F11: UL13_8_VFD1 | G11: =VLOOKUP(F11,$T$2:$W$150,4,FALSE) | H11: 11.200.1.37 | P11: PS7_7_DPM1 | Q11: =_xlfn.CONCAT(P11,"_ENET") | R11: PS7_7_DPM1_ENET | T11: =_xlfn.CONCAT(U11,"_VFD1") | U11: UL13_9A | V11: 3 | W11: =VLOOKUP(V11,'Part Number'!$C$1:$D$13,2,FALSE)
F12: UL13_9A_VFD1 | G12: =VLOOKUP(F12,$T$2:$W$150,4,FALSE) | H12: 11.200.1.38 | T12: =_xlfn.CONCAT(U12,"_VFD1") | U12: UL13_9B | V12: 3 | W12: =VLOOKUP(V12,'Part Number'!$C$1:$D$13,2,FALSE)
F13: UL13_9B_VFD1 | G13: =VLOOKUP(F13,$T$2:$W$150,4,FALSE) | H13: 11.200.1.39 | T13: =_xlfn.CONCAT(U13,"_VFD1") | U13: UL13_10 | V13: 2 | W13: =VLOOKUP(V13,'Part Number'!$C$1:$D$13,2,FALSE)
A14: DPM COUNT | B14: 9 | F14: UL13_10_VFD1 | G14: =VLOOKUP(F14,$T$2:$W$150,4,FALSE) | H14: 11.200.1.40 | T14: =_xlfn.CONCAT(U14,"_VFD1") | U14: UL13_11 | V14: 2 | W14: =VLOOKUP(V14,'Part Number'!$C$1:$D$13,2,FALSE)
F15: UL13_11_VFD1 | G15: =VLOOKUP(F15,$T$2:$W$150,4,FALSE) | H15: 11.200.1.41 | T15: =_xlfn.CONCAT(U15,"_VFD1") | U15: UL13_12 | V15: 5 | W15: =VLOOKUP(V15,'Part Number'!$C$1:$D$13,2,FALSE)
F16: UL13_12_VFD1 | G16: =VLOOKUP(F16,$T$2:$W$150,4,FALSE) | H16: 11.200.1.42 | I16: add | T16: =_xlfn.CONCAT(U16,"_VFD1") | U16: UL14_3 | V16: 5 | W16: =VLOOKUP(V16,'Part Number'!$C$1:$D$13,2,FALSE)
F17: UL14_1_EX1 | G17: =VLOOKUP(F17,$T$2:$W$150,4,FALSE) | H17: 11.200.1.43 | T17: =_xlfn.CONCAT(U17,"_VFD1") | U17: UL14_4 | V17: 5 | W17: =VLOOKUP(V17,'Part Number'!$C$1:$D$13,2,FALSE)
F18: UL14_3_VFD1 | G18: =VLOOKUP(F18,$T$2:$W$150,4,FALSE) | H18: 11.200.1.44 | T18: =_xlfn.CONCAT(U18,"_VFD1") | U18: UL14_5 | V18: 3 | W18: =VLOOKUP(V18,'Part Number'!$C$1:$D$13,2,FALSE)
F19: UL14_4_VFD1 | G19: =VLOOKUP(F19,$T$2:$W$150,4,FALSE) | H19: 11.200.1.45 | T19: =_xlfn.CONCAT(U19,"_VFD1") | U19: UL14_6 | V19: 2 | W19: =VLOOKUP(V19,'Part Number'!$C$1:$D$13,2,FALSE)
F20: UL14_5_VFD1 | G20: =VLOOKUP(F20,$T$2:$W$150,4,FALSE) | H20: 11.200.1.46 | T20: =_xlfn.CONCAT(U20,"_VFD1") | U20: UL14_7 | V20: 3 | W20: =VLOOKUP(V20,'Part Number'!$C$1:$D$13,2,FALSE)
F21: UL14_6_VFD1 | G21: =VLOOKUP(F21,$T$2:$W$150,4,FALSE) | H21: 11.200.1.47 | T21: =_xlfn.CONCAT(U21,"_VFD1") | U21: UL14_8 | V21: 3 | W21: =VLOOKUP(V21,'Part Number'!$C$1:$D$13,2,FALSE)
F22: UL14_7_VFD1 | G22: =VLOOKUP(F22,$T$2:$W$150,4,FALSE) | H22: 11.200.1.48 | T22: =_xlfn.CONCAT(U22,"_VFD1") | U22: UL14_9 | V22: 3 | W22: =VLOOKUP(V22,'Part Number'!$C$1:$D$13,2,FALSE)
F23: UL14_8_VFD1 | G23: =VLOOKUP(F23,$T$2:$W$150,4,FALSE) | H23: 11.200.1.49 | T23: =_xlfn.CONCAT(U23,"_VFD1") | U23: UL14_10 | V23: 2 | W23: =VLOOKUP(V23,'Part Number'!$C$1:$D$13,2,FALSE)
F24: UL14_9_VFD1 | G24: =VLOOKUP(F24,$T$2:$W$150,4,FALSE) | H24: 11.200.1.50 | T24: =_xlfn.CONCAT(U24,"_VFD1") | U24: UL15_3 | V24: 5 | W24: =VLOOKUP(V24,'Part Number'!$C$1:$D$13,2,FALSE)
F25: UL14_10_VFD1 | G25: =VLOOKUP(F25,$T$2:$W$150,4,FALSE) | H25: 11.200.1.51 | T25: =_xlfn.CONCAT(U25,"_VFD1") | U25: UL15_4 | V25: 5 | W25: =VLOOKUP(V25,'Part Number'!$C$1:$D$13,2,FALSE)
F26: UL13_2_FIO1 | G26: 5032-8IOLM12DR | H26: 11.200.1.52 | I26: name change | T26: =_xlfn.CONCAT(U26,"_VFD1") | U26: UL15_5 | V26: 2 | W26: =VLOOKUP(V26,'Part Number'!$C$1:$D$13,2,FALSE)
F27: UL14_3_FIO1 | G27: 5032-8IOLM12DR | H27: 11.200.1.53 | I27: name change | T27: =_xlfn.CONCAT(U27,"_VFD1") | U27: UL15_6 | V27: 3 | W27: =VLOOKUP(V27,'Part Number'!$C$1:$D$13,2,FALSE)
D28: UL15_4_DPM1 | E28: 11.200.1.3 | F28: UL15_1_EX1 | G28: =VLOOKUP(F28,$T$2:$W$150,4,FALSE) | H28: 11.200.1.54 | T28: =_xlfn.CONCAT(U28,"_VFD1") | U28: UL15_7 | V28: 3 | W28: =VLOOKUP(V28,'Part Number'!$C$1:$D$13,2,FALSE)
F29: UL15_3_VFD1 | G29: =VLOOKUP(F29,$T$2:$W$150,4,FALSE) | H29: 11.200.1.55 | T29: =_xlfn.CONCAT(U29,"_VFD1") | U29: UL15_8 | V29: 3 | W29: =VLOOKUP(V29,'Part Number'!$C$1:$D$13,2,FALSE)
F30: UL15_4_VFD1 | G30: =VLOOKUP(F30,$T$2:$W$150,4,FALSE) | H30: 11.200.1.56 | T30: =_xlfn.CONCAT(U30,"_VFD1") | U30: UL15_9 | V30: 3 | W30: =VLOOKUP(V30,'Part Number'!$C$1:$D$13,2,FALSE)
F31: UL15_5_VFD1 | G31: =VLOOKUP(F31,$T$2:$W$150,4,FALSE) | H31: 11.200.1.57 | T31: =_xlfn.CONCAT(U31,"_VFD1") | U31: UL15_10 | V31: 3 | W31: =VLOOKUP(V31,'Part Number'!$C$1:$D$13,2,FALSE)
F32: UL15_6_VFD1 | G32: =VLOOKUP(F32,$T$2:$W$150,4,FALSE) | H32: 11.200.1.58 | T32: =_xlfn.CONCAT(U32,"_VFD1") | U32: UL15_11 | V32: 2 | W32: =VLOOKUP(V32,'Part Number'!$C$1:$D$13,2,FALSE)
F33: UL15_7_VFD1 | G33: =VLOOKUP(F33,$T$2:$W$150,4,FALSE) | H33: 11.200.1.59 | T33: =_xlfn.CONCAT(U33,"_VFD1") | U33: UL16_1 | V33: 2 | W33: =VLOOKUP(V33,'Part Number'!$C$1:$D$13,2,FALSE)
F34: UL15_8_VFD1 | G34: =VLOOKUP(F34,$T$2:$W$150,4,FALSE) | H34: 11.200.1.60 | T34: =_xlfn.CONCAT(U34,"_VFD1") | U34: UL16_2 | V34: 7.5 | W34: =VLOOKUP(V34,'Part Number'!$C$1:$D$13,2,FALSE)
F35: UL15_9_VFD1 | G35: =VLOOKUP(F35,$T$2:$W$150,4,FALSE) | H35: 11.200.1.61 | T35: =_xlfn.CONCAT(U35,"_VFD1") | U35: UL16_3 | V35: 3 | W35: =VLOOKUP(V35,'Part Number'!$C$1:$D$13,2,FALSE)
F36: UL15_10_VFD1 | G36: =VLOOKUP(F36,$T$2:$W$150,4,FALSE) | H36: 11.200.1.62 | T36: =_xlfn.CONCAT(U36,"_VFD1") | U36: UL16_4 | V36: 3 | W36: =VLOOKUP(V36,'Part Number'!$C$1:$D$13,2,FALSE)
F37: UL15_11_VFD1 | G37: =VLOOKUP(F37,$T$2:$W$150,4,FALSE) | H37: 11.200.1.63 | T37: =_xlfn.CONCAT(U37,"_VFD1") | U37: UL16_5 | V37: 2 | W37: =VLOOKUP(V37,'Part Number'!$C$1:$D$13,2,FALSE)
F38: UL15_3_FIO1 | G38: 5032-8IOLM12DR | H38: 11.200.1.64 | I38: name change | T38: =_xlfn.CONCAT(U38,"_VFD1") | U38: UL16_6 | V38: 3 | W38: =VLOOKUP(V38,'Part Number'!$C$1:$D$13,2,FALSE)
F39: UL13_12_FIO1 | G39: 5032-8IOLM12DR | H39: 11.200.1.196 | I39: ADDED 5-26 | T39: =_xlfn.CONCAT(U39,"_VFD1") | U39: UL16_7 | V39: 3 | W39: =VLOOKUP(V39,'Part Number'!$C$1:$D$13,2,FALSE)
D40: UL16_2_DPM1 | E40: 11.200.1.4 | F40: UL16_1_VFD1 | G40: =VLOOKUP(F40,$T$2:$W$150,4,FALSE) | H40: 11.200.1.65 | T40: =_xlfn.CONCAT(U40,"_VFD1") | U40: UL16_8 | V40: 3 | W40: =VLOOKUP(V40,'Part Number'!$C$1:$D$13,2,FALSE)
...

Sheet Part Number
B1: PART NUMBER | C1: HP | D1: PART NUMBER
B2: 35S-6D2-P101 | C2: 2 | D2: 35S-6D2-P101
B3: 35S-6D3-P101 | C3: 3 | D3: 35S-6D3-P101
B4: 35S-6D4-P111 | C4: 5 | D4: 35S-6D4-P111
B5: 35S-6D5-P111 | C5: 7.5 | D5: 35S-6D5-P111
B6: 35S-6D6-P111 | C6: 10 | D6: 35S-6D6-P111
B7: 25B-D024N104 | C7: 15 | D7: 25B-D024N104
B8: 25B-D030N104 | C8: 20 | D8: 25B-D030N104
B9: 25B-D043N114 | C9: 30 | D9: 25B-D043N114
B10: CALJAN | C10: EXTENDO | D10: CALJAN
B11: PIONEER | C11: TIPPER | D11: PIONEER
B12: ZMX-3DE2500HF-Q7-AMZCHD | C12: ZMX | D12: ZMX-3DE2500HF-Q7-AMZCHD
B13: 5032-8IOLM12DR | C13: FIO | D13: 5032-8IOLM12DR

Sheet IO Assignment MCM02
A1: Controller name | B1: Signal type | C1: Address name | D1: Assigned device | E1: Unassigned Device | K1: MCM02_DESC
A2: PS5_1_VFD1 | B2: I0 | C2: PS5_1_VFD1_I0 | D2: PS5_1_DISC
A3: PS5_1_VFD1 | B3: I1 | C3: PS5_1_VFD1_I1
A4: PS5_1_VFD1 | B4: I2 | C4: PS5_1_VFD1_I2
A5: PS5_1_VFD1 | B5: I3 | C5: PS5_1_VFD1_I3
A6: PS5_1_VFD1 | B6: IO0 | C6: PS5_1_VFD1_IO0 | D6: PS5_1_S1_PB
A7: PS5_1_VFD1 | B7: IO1 | C7: PS5_1_VFD1_IO1 | D7: PS5_1_S1_PB_LT
A8: PS5_1_VFD1 | B8: SI0 | C8: PS5_1_VFD1_SI0 | D8: PS5_1_EPC1
A9: PS5_1_VFD1 | B9: SI1 | C9: PS5_1_VFD1_SI1 | D9: PS5_1_EPC1_2
A10: PS5_1_VFD1 | B10: SI2 | C10: PS5_1_VFD1_SI2 | D10: PS5_1_EPC2
A11: PS5_1_VFD1 | B11: SI3 | C11: PS5_1_VFD1_SI3 | D11: PS5_1_EPC2_2
A12: PS5_1_VFD1 | B12: SO0 | C12: PS5_1_VFD1_SO0 | D12: PS5_1_BCN1_R
A13: PS5_10_VFD1 | B13: I0 | C13: PS5_10_VFD1_I0 | D13: PS5_10_DISC
A14: PS5_10_VFD1 | B14: I1 | C14: PS5_10_VFD1_I1
A15: PS5_10_VFD1 | B15: I2 | C15: PS5_10_VFD1_I2 | D15: PS5_10_TPE1
A16: PS5_10_VFD1 | B16: I3 | C16: PS5_10_VFD1_I3 | D16: PS5_10_TPE2
A17: PS5_10_VFD1 | B17: IO0 | C17: PS5_10_VFD1_IO0 | D17: PS5_10_JR1_PB
A18: PS5_10_VFD1 | B18: IO1 | C18: PS5_10_VFD1_IO1 | D18: PS5_10_JR1_PB_LT
A19: PS5_10_VFD1 | B19: SI0 | C19: PS5_10_VFD1_SI0
A20: PS5_10_VFD1 | B20: SI1 | C20: PS5_10_VFD1_SI1
A21: PS5_10_VFD1 | B21: SI2 | C21: PS5_10_VFD1_SI2
A22: PS5_10_VFD1 | B22: SI3 | C22: PS5_10_VFD1_SI3
A23: PS5_10_VFD1 | B23: SO0 | C23: PS5_10_VFD1_SO0
A24: PS5_11_VFD1 | B24: I0 | C24: PS5_11_VFD1_I0 | D24: PS5_11_DISC
A25: PS5_11_VFD1 | B25: I1 | C25: PS5_11_VFD1_I1
A26: PS5_11_VFD1 | B26: I2 | C26: PS5_11_VFD1_I2
A27: PS5_11_VFD1 | B27: I3 | C27: PS5_11_VFD1_I3
A28: PS5_11_VFD1 | B28: IO0 | C28: PS5_11_VFD1_IO0 | D28: PS5_11_JR1_PB
A29: PS5_11_VFD1 | B29: IO1 | C29: PS5_11_VFD1_IO1 | D29: PS5_11_JR1_PB_LT
A30: PS5_11_VFD1 | B30: SI0 | C30: PS5_11_VFD1_SI0
A31: PS5_11_VFD1 | B31: SI1 | C31: PS5_11_VFD1_SI1
A32: PS5_11_VFD1 | B32: SI2 | C32: PS5_11_VFD1_SI2
A33: PS5_11_VFD1 | B33: SI3 | C33: PS5_11_VFD1_SI3
A34: PS5_11_VFD1 | B34: SO0 | C34: PS5_11_VFD1_SO0 | D34: PS5_11_BCN1_A
A35: PS5_12_VFD1 | B35: I0 | C35: PS5_12_VFD1_I0 | D35: PS5_12_DISC
A36: PS5_12_VFD1 | B36: I1 | C36: PS5_12_VFD1_I1
A37: PS5_12_VFD1 | B37: I2 | C37: PS5_12_VFD1_I2 | D37: PS5_12_TPE1
A38: PS5_12_VFD1 | B38: I3 | C38: PS5_12_VFD1_I3 | D38: PS5_12_TPE2
A39: PS5_12_VFD1 | B39: IO0 | C39: PS5_12_VFD1_IO0
A40: PS5_12_VFD1 | B40: IO1 | C40: PS5_12_VFD1_IO1
...

Sheet MCM02_DESC
A1: TAGNAME | B1: ADDR | C1: TERM | D1: TERMDESC | E1: DESCA | F1: DESCB | H1: CONTROLLERS
A2: PS5_1_VFD1 | B2: PS5_1_VFD1_I0 | C2: I0 | E2: PS5_1_DISC | F2: DISCONNECT AUX | H2: PS5_1_VFD1 | I2: 600 | K2: =_xlfn.CONCAT(H2,"/",H3,"/",H4,"/",H5," IO DRAWINGS") | V2: PS5_1_VFD1/PS5_10_VFD1/PS5_11_VFD1/PS5_12_VFD1 IO DRAWINGS
A3: PS5_1_VFD1 | B3: PS5_1_VFD1_I1 | C3: I1 | E3: SPARE | H3: PS5_10_VFD1 | K3: =_xlfn.CONCAT(H7,"/",H8,"/",H9,"/",H10," IO DRAWINGS") | V3: PS5_13_VFD1/PS5_2_VFD1/PS5_3_VFD1/PS5_4_VFD1 IO DRAWINGS
A4: PS5_1_VFD1 | B4: PS5_1_VFD1_I2 | C4: I2 | E4: SPARE | H4: PS5_11_VFD1 | K4: =_xlfn.CONCAT(H12,"/",H13,"/",H14,"/",H15," IO DRAWINGS") | V4: PS5_5_VFD1/PS5_6_VFD1/PS5_7_VFD1/PS5_8_VFD1 IO DRAWINGS
A5: PS5_1_VFD1 | B5: PS5_1_VFD1_I3 | C5: I3 | E5: SPARE | H5: PS5_12_VFD1 | K5: =_xlfn.CONCAT(H17,"/",H18,"/",H19,"/",H20," IO DRAWINGS") | V5: PS5_9_VFD1/PS6_1_VFD1/PS6_10_VFD1/PS6_11_VFD1 IO DRAWINGS
A6: PS5_1_VFD1 | B6: PS5_1_VFD1_IO0 | C6: IO0 | E6: PS5_1_S1_PB | F6: START PUSHBUTTON | K6: =_xlfn.CONCAT(H22,"/",H23,"/",H24,"/",H25," IO DRAWINGS") | V6: PS6_12_VFD1/PS6_13_VFD1/PS6_2_VFD1/PS6_3_VFD1 IO DRAWINGS
A7: PS5_1_VFD1 | B7: PS5_1_VFD1_IO1 | C7: IO1 | E7: PS5_1_S1_PB_LT | F7: START PUSHBUTTON LIGHT | H7: PS5_13_VFD1 | I7: 601 | K7: =_xlfn.CONCAT(H27,"/",H28,"/",H29,"/",H30," IO DRAWINGS") | V7: PS6_4_VFD1/PS6_5_VFD1/PS6_6_VFD1/PS6_7_VFD1 IO DRAWINGS
A8: PS5_1_VFD1 | B8: PS5_1_VFD1_SI0 | C8: SI0 | E8: PS5_1_EPC1 | F8: E-STOP PULLCORD | H8: PS5_2_VFD1 | K8: =_xlfn.CONCAT(H32,"/",H33,"/",H34,"/",H35," IO DRAWINGS") | V8: PS6_8_VFD1/PS6_9_VFD1/PS7_1_VFD1/PS7_10_VFD1 IO DRAWINGS
A9: PS5_1_VFD1 | B9: PS5_1_VFD1_SI1 | C9: SI1 | E9: PS5_1_EPC1_2 | F9: E-STOP PULLCORD | H9: PS5_3_VFD1 | K9: =_xlfn.CONCAT(H37,"/",H38,"/",H39,"/",H40," IO DRAWINGS") | V9: PS7_11_VFD1/PS7_12_VFD1/PS7_13_VFD1/PS7_14_VFD1 IO DRAWINGS
A10: PS5_1_VFD1 | B10: PS5_1_VFD1_SI2 | C10: SI2 | E10: PS5_1_EPC2 | F10: E-STOP PULLCORD | H10: PS5_4_VFD1 | K10: =_xlfn.CONCAT(H42,"/",H43,"/",H44,"/",H45," IO DRAWINGS") | V10: PS7_2_VFD1/PS7_3_VFD1/PS7_4_VFD1/PS7_5_VFD1 IO DRAWINGS
A11: PS5_1_VFD1 | B11: PS5_1_VFD1_SI3 | C11: SI3 | E11: PS5_1_EPC2_2 | F11: E-STOP PULLCORD | K11: =_xlfn.CONCAT(H47,"/",H48,"/",H49,"/",H50," IO DRAWINGS") | V11: PS7_6_VFD1/PS7_7_VFD1/PS7_8_VFD1/PS7_9_VFD1 IO DRAWINGS
A12: PS5_1_VFD1 | B12: PS5_1_VFD1_SO0 | C12: SO0 | E12: PS5_1_BCN1_R | F12: RED BEACON LIGHT | H12: PS5_5_VFD1 | I12: 602 | K12: =_xlfn.CONCAT(H52,"/",H53,"/",H54,"/",H55," IO DRAWINGS") | V12: UL13_1_VFD1/UL13_10_VFD1/UL13_11_VFD1/UL13_12_VFD1 IO DRAWINGS
A13: PS5_10_VFD1 | B13: PS5_10_VFD1_I0 | C13: I0 | E13: PS5_10_DISC | F13: DISCONNECT AUX | H13: PS5_6_VFD1 | K13: =_xlfn.CONCAT(H57,"/",H58,"/",H59,"/",H60," IO DRAWINGS") | V13: UL13_2_VFD1/UL13_3_VFD1/UL13_4_VFD1/UL13_5_VFD1 IO DRAWINGS
A14: PS5_10_VFD1 | B14: PS5_10_VFD1_I1 | C14: I1 | E14: SPARE | H14: PS5_7_VFD1 | K14: =_xlfn.CONCAT(H62,"/",H63,"/",H64,"/",H65," IO DRAWINGS") | V14: UL13_6_VFD1/UL13_7_VFD1/UL13_8_VFD1/UL13_9A_VFD1 IO DRAWINGS
A15: PS5_10_VFD1 | B15: PS5_10_VFD1_I2 | C15: I2 | E15: PS5_10_TPE1 | F15: TRACKING PHOTOEYE | H15: PS5_8_VFD1 | K15: =_xlfn.CONCAT(H67,"/",H68,"/",H69,"/",H70," IO DRAWINGS") | V15: UL13_9B_VFD1/UL14_10_VFD1/UL14_3_VFD1/UL14_4_VFD1 IO DRAWINGS
A16: PS5_10_VFD1 | B16: PS5_10_VFD1_I3 | C16: I3 | E16: PS5_10_TPE2 | F16: TRACKING PHOTOEYE | K16: =_xlfn.CONCAT(H72,"/",H73,"/",H74,"/",H75," IO DRAWINGS") | V16: UL14_5_VFD1/UL14_6_VFD1/UL14_7_VFD1/UL14_8_VFD1 IO DRAWINGS
A17: PS5_10_VFD1 | B17: PS5_10_VFD1_IO0 | C17: IO0 | E17: PS5_10_JR1_PB | F17: JAM RESET PUSHBUTTON | H17: PS5_9_VFD1 | I17: 603 | K17: =_xlfn.CONCAT(H77,"/",H78,"/",H79,"/",H80," IO DRAWINGS") | V17: UL14_9_VFD1/UL15_10_VFD1/UL15_11_VFD1/UL15_3_VFD1 IO DRAWINGS
A18: PS5_10_VFD1 | B18: PS5_10_VFD1_IO1 | C18: IO1 | E18: PS5_10_JR1_PB_LT | F18: JAM RESET PUSHBUTTON LIGHT | H18: PS6_1_VFD1 | K18: =_xlfn.CONCAT(H82,"/",H83,"/",H84,"/",H85," IO DRAWINGS") | V18: UL15_4_VFD1/UL15_5_VFD1/UL15_6_VFD1/UL15_7_VFD1 IO DRAWINGS
A19: PS5_10_VFD1 | B19: PS5_10_VFD1_SI0 | C19: SI0 | E19: SPARE | H19: PS6_10_VFD1 | K19: =_xlfn.CONCAT(H87,"/",H88,"/",H89,"/",H90," IO DRAWINGS") | V19: UL15_8_VFD1/UL15_9_VFD1/UL16_1_VFD1/UL16_2_VFD1 IO DRAWINGS
A20: PS5_10_VFD1 | B20: PS5_10_VFD1_SI1 | C20: SI1 | E20: SPARE | H20: PS6_11_VFD1 | K20: =_xlfn.CONCAT(H92,"/",H93,"/",H94,"/",H95," IO DRAWINGS") | V20: UL16_3_VFD1/UL16_4_VFD1/UL16_5_VFD1/UL16_6_VFD1 IO DRAWINGS
A21: PS5_10_VFD1 | B21: PS5_10_VFD1_SI2 | C21: SI2 | E21: SPARE | K21: =_xlfn.CONCAT(H97,"/",H98,"/",H99,"/",H100," IO DRAWINGS") | V21: UL16_7_VFD1/UL16_8_VFD1/UL16_9_VFD1/UL17_10_VFD1 IO DRAWINGS
A22: PS5_10_VFD1 | B22: PS5_10_VFD1_SI3 | C22: SI3 | E22: SPARE | H22: PS6_12_VFD1 | I22: 604 | K22: =_xlfn.CONCAT(H102,"/",H103,"/",H104,"/",H105," IO DRAWINGS") | V22: UL17_3_VFD1/UL17_4_VFD1/UL17_5_VFD1/UL17_6_VFD1 IO DRAWINGS
A23: PS5_10_VFD1 | B23: PS5_10_VFD1_SO0 | C23: SO0 | E23: SPARE | H23: PS6_13_VFD1 | K23: =_xlfn.CONCAT(H107,"/",H108,"/",H109,"/",H110," IO DRAWINGS") | V23: UL17_7_VFD1/UL17_8_VFD1/UL17_9_VFD1/UL18_10_VFD1 IO DRAWINGS
A24: PS5_11_VFD1 | B24: PS5_11_VFD1_I0 | C24: I0 | E24: PS5_11_DISC | F24: DISCONNECT AUX | H24: PS6_2_VFD1 | K24: =_xlfn.CONCAT(H112,"/",H113,"/",H114,"/",H115," IO DRAWINGS") | V24: UL18_11_VFD1/UL18_12_VFD1/UL18_13A_VFD1/UL18_13B_VFD1 IO DRAWINGS
A25: PS5_11_VFD1 | B25: PS5_11_VFD1_I1 | C25: I1 | E25: SPARE | H25: PS6_3_VFD1 | K25: =_xlfn.CONCAT(H117,"/",H118,"/",H119,"/",H120," IO DRAWINGS") | V25: UL18_14_VFD1/UL18_15_VFD1/UL18_16_VFD1/UL18_3_VFD1 IO DRAWINGS
A26: PS5_11_VFD1 | B26: PS5_11_VFD1_I2 | C26: I2 | E26: SPARE | K26: =_xlfn.CONCAT(H122,"/",H123,"/",H124,"/",H125," IO DRAWINGS") | V26: UL18_4_VFD1/UL18_5_VFD1/UL18_6_VFD1/UL18_7_VFD1 IO DRAWINGS
A27: PS5_11_VFD1 | B27: PS5_11_VFD1_I3 | C27: I3 | E27: SPARE | H27: PS6_4_VFD1 | I27: 605 | K27: =_xlfn.CONCAT(H127,"/",H128,"/",H129,"/",H130," IO DRAWINGS") | V27: UL18_8_VFD1/UL18_9_VFD1/UL19_1_VFD1/UL19_2_VFD1 IO DRAWINGS
A28: PS5_11_VFD1 | B28: PS5_11_VFD1_IO0 | C28: IO0 | E28: PS5_11_JR1_PB | F28: JAM RESET PUSHBUTTON | H28: PS6_5_VFD1 | K28: =_xlfn.CONCAT(H132,"/",H133,"/",H134,"/",H135," IO DRAWINGS") | V28: UL19_3_VFD1/UL19_4_VFD1/UL19_5_VFD1/UL19_6_VFD1 IO DRAWINGS
A29: PS5_11_VFD1 | B29: PS5_11_VFD1_IO1 | C29: IO1 | E29: PS5_11_JR1_PB_LT | F29: JAM RESET PUSHBUTTON LIGHT | H29: PS6_6_VFD1 | K29: =_xlfn.CONCAT(H137,"/",H138,"/",H139,"/",H140," IO DRAWINGS") | V29: UL19_7_VFD1/UL19_8_VFD1/UL19_9_VFD1/UL20_10_VFD1 IO DRAWINGS
A30: PS5_11_VFD1 | B30: PS5_11_VFD1_SI0 | C30: SI0 | E30: SPARE | H30: PS6_7_VFD1 | K30: =_xlfn.CONCAT(H142,"/",H143,"/",H144,"/",H145," IO DRAWINGS") | V30: UL20_11_VFD1/UL20_3_VFD1/UL20_4_VFD1/UL20_5_VFD1 IO DRAWINGS
A31: PS5_11_VFD1 | B31: PS5_11_VFD1_SI1 | C31: SI1 | E31: SPARE | K31: =_xlfn.CONCAT(H147,"/",H148,"/",H149,"/",H150," IO DRAWINGS") | V31: UL20_6_VFD1/UL20_7_VFD1/UL20_8_VFD1/UL20_9_VFD1 IO DRAWINGS
A32: PS5_11_VFD1 | B32: PS5_11_VFD1_SI2 | C32: SI2 | E32: SPARE | H32: PS6_8_VFD1 | I32: 606 | K32: =_xlfn.CONCAT(H152,"/",H153,"/",H154,"/",H155," IO DRAWINGS") | V32: UL21_10_VFD1/UL21_11_VFD1/UL21_12_VFD1/UL21_13_VFD1 IO DRAWINGS
A33: PS5_11_VFD1 | B33: PS5_11_VFD1_SI3 | C33: SI3 | E33: SPARE | H33: PS6_9_VFD1 | K33: =_xlfn.CONCAT(H157,"/",H158,"/",H159,"/",H160," IO DRAWINGS") | V33: UL21_14A_VFD1/UL21_14B_VFD1/UL21_15_VFD1/UL21_16_VFD1 IO DRAWINGS
A34: PS5_11_VFD1 | B34: PS5_11_VFD1_SO0 | C34: SO0 | E34: PS5_11_BCN1_A | F34: AMBER BEACON LIGHT | H34: PS7_1_VFD1 | K34: =_xlfn.CONCAT(H162,"/",H163,"/",H164,"/",H165," IO DRAWINGS") | V34: UL21_17_VFD1/UL21_3_VFD1/UL21_4_VFD1/UL21_5_VFD1 IO DRAWINGS
A35: PS5_12_VFD1 | B35: PS5_12_VFD1_I0 | C35: I0 | E35: PS5_12_DISC | F35: DISCONNECT AUX | H35: PS7_10_VFD1 | K35: =_xlfn.CONCAT(H167,"/",H168,"/",H169,"/",H170," IO DRAWINGS") | V35: UL21_6_VFD1/UL21_7_VFD1/UL21_8_VFD1/UL21_9_VFD1 IO DRAWINGS
A36: PS5_12_VFD1 | B36: PS5_12_VFD1_I1 | C36: I1 | E36: SPARE | K36: =_xlfn.CONCAT(H172,"/",H173,"/",H174,"/",H175," IO DRAWINGS") | V36: UL13_2_FIO1/UL14_3_FIO1/UL15_3_FIO1/UL16_2_FIO1 IO DRAWINGS
A37: PS5_12_VFD1 | B37: PS5_12_VFD1_I2 | C37: I2 | E37: PS5_12_TPE1 | F37: TRACKING PHOTOEYE | H37: PS7_11_VFD1 | I37: 607 | K37: =_xlfn.CONCAT(H177,"/",H178,"/",H179,"/",H180," IO DRAWINGS") | V37: UL17_3_FIO1/UL18_3_FIO1/UL19_2_FIO1/UL20_3_FIO1 IO DRAWINGS
A38: PS5_12_VFD1 | B38: PS5_12_VFD1_I3 | C38: I3 | E38: PS5_12_TPE2 | F38: TRACKING PHOTOEYE | H38: PS7_12_VFD1 | K38: =_xlfn.CONCAT(H182," IO DRAWINGS") | V38: UL21_3_FIO1 IO DRAWINGS
A39: PS5_12_VFD1 | B39: PS5_12_VFD1_IO0 | C39: IO0 | E39: SPARE | H39: PS7_13_VFD1
A40: PS5_12_VFD1 | B40: PS5_12_VFD1_IO1 | C40: IO1 | E40: SPARE | H40: PS7_14_VFD1
...

Sheet DESC_PLC
A1: TAGNAME | B1: TERM | C1: DESCA | D1: DESCB
A2: PS5_1_VFD1 | B2: I0 | C2: PS5_1_DISC | D2: DISCONNECT AUX
A3: PS5_1_VFD1 | B3: I1 | C3: SPARE
A4: PS5_1_VFD1 | B4: I2 | C4: SPARE
A5: PS5_1_VFD1 | B5: I3 | C5: SPARE
A6: PS5_1_VFD1 | B6: IO0 | C6: PS5_1_S1_PB | D6: START PUSHBUTTON
A7: PS5_1_VFD1 | B7: IO1 | C7: PS5_1_S1_PB_LT | D7: START PUSHBUTTON LIGHT
A8: PS5_1_VFD1 | B8: SI0 | C8: PS5_1_EPC1 | D8: E-STOP PULLCORD
A9: PS5_1_VFD1 | B9: SI1 | C9: PS5_1_EPC1_2 | D9: E-STOP PULLCORD
A10: PS5_1_VFD1 | B10: SI2 | C10: PS5_1_EPC2 | D10: E-STOP PULLCORD
A11: PS5_1_VFD1 | B11: SI3 | C11: PS5_1_EPC2_2 | D11: E-STOP PULLCORD
A12: PS5_1_VFD1 | B12: SO0 | C12: PS5_1_BCN1_R | D12: RED BEACON LIGHT
A13: PS5_10_VFD1 | B13: I0 | C13: PS5_10_DISC | D13: DISCONNECT AUX
A14: PS5_10_VFD1 | B14: I1 | C14: SPARE
A15: PS5_10_VFD1 | B15: I2 | C15: PS5_10_TPE1 | D15: TRACKING PHOTOEYE
A16: PS5_10_VFD1 | B16: I3 | C16: PS5_10_TPE2 | D16: TRACKING PHOTOEYE
A17: PS5_10_VFD1 | B17: IO0 | C17: PS5_10_JR1_PB | D17: JAM RESET PUSHBUTTON
A18: PS5_10_VFD1 | B18: IO1 | C18: PS5_10_JR1_PB_LT | D18: JAM RESET PUSHBUTTON LIGHT
A19: PS5_10_VFD1 | B19: SI0 | C19: SPARE
A20: PS5_10_VFD1 | B20: SI1 | C20: SPARE
A21: PS5_10_VFD1 | B21: SI2 | C21: SPARE
A22: PS5_10_VFD1 | B22: SI3 | C22: SPARE
A23: PS5_10_VFD1 | B23: SO0 | C23: SPARE
A24: PS5_11_VFD1 | B24: I0 | C24: PS5_11_DISC | D24: DISCONNECT AUX
A25: PS5_11_VFD1 | B25: I1 | C25: SPARE
A26: PS5_11_VFD1 | B26: I2 | C26: SPARE
A27: PS5_11_VFD1 | B27: I3 | C27: SPARE
A28: PS5_11_VFD1 | B28: IO0 | C28: PS5_11_JR1_PB | D28: JAM RESET PUSHBUTTON
A29: PS5_11_VFD1 | B29: IO1 | C29: PS5_11_JR1_PB_LT | D29: JAM RESET PUSHBUTTON LIGHT
A30: PS5_11_VFD1 | B30: SI0 | C30: SPARE
A31: PS5_11_VFD1 | B31: SI1 | C31: SPARE
A32: PS5_11_VFD1 | B32: SI2 | C32: SPARE
A33: PS5_11_VFD1 | B33: SI3 | C33: SPARE
A34: PS5_11_VFD1 | B34: SO0 | C34: PS5_11_BCN1_A | D34: AMBER BEACON LIGHT
A35: PS5_12_VFD1 | B35: I0 | C35: PS5_12_DISC | D35: DISCONNECT AUX
A36: PS5_12_VFD1 | B36: I1 | C36: SPARE
A37: PS5_12_VFD1 | B37: I2 | C37: PS5_12_TPE1 | D37: TRACKING PHOTOEYE
A38: PS5_12_VFD1 | B38: I3 | C38: PS5_12_TPE2 | D38: TRACKING PHOTOEYE
A39: PS5_12_VFD1 | B39: IO0 | C39: SPARE
A40: PS5_12_VFD1 | B40: IO1 | C40: SPARE
...

Sheet NETWORK_PLC
A1: DPM | B1: DPM_IP | C1: Name | D1: PartNumber | E1: IP
A2: UL13_8_DPM1 | B2: 11.200.1.2 | C2: UL13_1_VFD1 | D2: 35S-6D2-P101 | E2: 11.200.1.30
A3: UL13_8_DPM1 | B3: 11.200.1.2 | C3: UL13_2_VFD1 | D3: 35S-6D5-P111 | E3: 11.200.1.31
A4: UL13_8_DPM1 | B4: 11.200.1.2 | C4: UL13_3_VFD1 | D4: 35S-6D3-P101 | E4: 11.200.1.32
A5: UL13_8_DPM1 | B5: 11.200.1.2 | C5: UL13_4_VFD1 | D5: 35S-6D3-P101 | E5: 11.200.1.33
A6: UL13_8_DPM1 | B6: 11.200.1.2 | C6: UL13_5_VFD1 | D6: 35S-6D3-P101 | E6: 11.200.1.34
A7: UL13_8_DPM1 | B7: 11.200.1.2 | C7: UL13_6_VFD1 | D7: 35S-6D3-P101 | E7: 11.200.1.35
A8: UL13_8_DPM1 | B8: 11.200.1.2 | C8: UL13_7_VFD1 | D8: 35S-6D3-P101 | E8: 11.200.1.36
A9: UL13_8_DPM1 | B9: 11.200.1.2 | C9: UL13_8_VFD1 | D9: 35S-6D4-P111 | E9: 11.200.1.37
A10: UL13_8_DPM1 | B10: 11.200.1.2 | C10: UL13_9A_VFD1 | D10: 35S-6D3-P101 | E10: 11.200.1.38
A11: UL13_8_DPM1 | B11: 11.200.1.2 | C11: UL13_9B_VFD1 | D11: 35S-6D3-P101 | E11: 11.200.1.39
A12: UL13_8_DPM1 | B12: 11.200.1.2 | C12: UL13_10_VFD1 | D12: 35S-6D2-P101 | E12: 11.200.1.40
... A161: PS7_7_DPM1 | B161: 11.200.1.10 | C161: PS7_14_VFD1 | D161: 35S-6D5-P111 | E161: 11.200.1.180
