Workbook

Sheet Templates
A2: VFD IO TEMPLATE | C2: FIO IO Template
A3: I0 | C3: IO00
A4: I1 | C4: IO01
A5: I2 | C5: IO02
A6: I3 | C6: IO03
A7: IO0 | C7: IO04
A8: IO1 | C8: IO05
A9: SI0 | C9: IO06
A10: SI1 | C10: IO07
A11: SI2 | C11: IO08
A12: SI3 | C12: IO09
A13: SO0 | C13: IO10
C14: IO11
C15: IO12
C16: IO13
C17: IO14
C18: IO15
C19: IO16

Sheet Devices
H1: Which MCM we assign? | I1: MCM02
A2: PS5_1_BCN1_R
A3: PS5_1_DISC
A4: PS5_1_EPC1
A5: PS5_1_EPC1_2
A6: PS5_1_EPC2
A7: PS5_1_EPC2_2
A8: PS5_1_S1_PB
A9: PS5_1_S1_PB_LT
A10: PS5_1_S2_PB
A11: PS5_1_S2_PB_LT
A12: PS5_1_VFD1
A13: PS5_10_DISC
... A827: UL21_9_VFD1

Sheet Instructions
A2: 1. | B2: Put all device tags to cell A2
A37: 2. | B37: In cell I1 write MCM number
A47: 3. | B47: Click on "Add Disconnects" button.
A57: 4. | B57: Replace all _VFD1_DISC with _DISC. Without this point it will generate IO points for _VFD1_DISC device
A69: 5. | B69: Click on "Split SS station". This will split all _SS to SS_STPB, SS_SPB and SS_STPB_LT
A78: 6. | B78: Click on "Split start PB". This will split all _S and _JR to _S_PB, _S_PB_LT, JR_PB and JR_PB_LT
A87: 7. | B87: Click on "Duplicate EPC Tag". This will add duplicate for all EPC and add _2 to copy
A97: 8. | B97: Click on "Create Assignment table template". This will add new sheet with name "IO Assignment MCM01 and fill with VFD and FIO names and their adresses
A107: 9. | B107: Click on "Assign Devices to VFD". This will add device tags to correspond VFD IO. Works for Disc, TPE, JPE, EPC, ENC
A116: 10. | B116: All Unassigned Pushbuttons and lights fill manually and all devices, that couldn't filled to VFD also will be here.

Sheet NETWORK
B1: MCM07
A2: SLOT0 | B2: 1756-L83ES | C2: IP | D2: RING | F2: STAR | T2: VFD | V2: HP | W2: PART NUMBER
A3: SLOT1 | B3: 1756-N2 | D3: DPM | E3: IP | F3: VFD NAME | G3: VFD PART NUMBER | H3: IP | P3: UL13_8_DPM1 | Q3: =_xlfn.CONCAT(P3,"_ENET") | R3: UL13_8_DPM1_ENET | T3: =_xlfn.CONCAT(U3,"_VFD1") | U3: UL13_1 | V3: 2 | W3: =VLOOKUP(V3,'Part Number'!$C$1:$D$13,2,FALSE)
A4: SLOT2 | B4: 1756-EN4TR | C4: 11.200.1.1 | D4: UL13_8_DPM1 | E4: 11.200.1.2 | F4: UL13_1_VFD1 | G4: =VLOOKUP(F4,$T$2:$W$150,4,FALSE) | H4: 11.200.1.30 | P4: UL15_4_DPM1 | Q4: =_xlfn.CONCAT(P4,"_ENET") | R4: UL15_4_DPM1_ENET | T4: =_xlfn.CONCAT(U4,"_VFD1") | U4: UL13_2 | V4: 7.5 | W4: =VLOOKUP(V4,'Part Number'!$C$1:$D$13,2,FALSE)
A5: SLOT3 | B5: 1756-N2 | F5: UL13_2_VFD1 | G5: =VLOOKUP(F5,$T$2:$W$150,4,FALSE) | H5: 11.200.1.31 | P5: UL16_2_DPM1 | Q5: =_xlfn.CONCAT(P5,"_ENET") | R5: UL16_2_DPM1_ENET | T5: =_xlfn.CONCAT(U5,"_VFD1") | U5: UL13_3 | V5: 3 | W5: =VLOOKUP(V5,'Part Number'!$C$1:$D$13,2,FALSE)
A6: SLOT4 | B6: 1756-N2 | F6: UL13_3_VFD1 | G6: =VLOOKUP(F6,$T$2:$W$150,4,FALSE) | H6: 11.200.1.32 | P6: UL18_4_DPM1 | Q6: =_xlfn.CONCAT(P6,"_ENET") | R6: UL18_4_DPM1_ENET | T6: =_xlfn.CONCAT(U6,"_VFD1") | U6: UL13_4 | V6: 3 | W6: =VLOOKUP(V6,'Part Number'!$C$1:$D$13,2,FALSE)
A7: SLOT5 | B7: 1756-IB16 | F7: UL13_4_VFD1 | G7: =VLOOKUP(F7,$T$2:$W$150,4,FALSE) | H7: 11.200.1.33 | P7: UL19_2_DPM1 | Q7: =_xlfn.CONCAT(P7,"_ENET") | R7: UL19_2_DPM1_ENET | T7: =_xlfn.CONCAT(U7,"_VFD1") | U7: UL13_5 | V7: 3 | W7: =VLOOKUP(V7,'Part Number'!$C$1:$D$13,2,FALSE)
A8: SLOT6 | B8: 1756-OB16E | F8: UL13_5_VFD1 | G8: =VLOOKUP(F8,$T$2:$W$150,4,FALSE) | H8: 11.200.1.34 | P8: UL21_11_DPM1 | Q8: =_xlfn.CONCAT(P8,"_ENET") | R8: UL21_11_DPM1_ENET | T8: =_xlfn.CONCAT(U8,"_VFD1") | U8: UL13_6 | V8: 3 | W8: =VLOOKUP(V8,'Part Number'!$C$1:$D$13,2,FALSE)
A9: SLOT7 | B9: 1756-IB16S | F9: UL13_6_VFD1 | G9: =VLOOKUP(F9,$T$2:$W$150,4,FALSE) | H9: 11.200.1.35 | P9: PS5_7_DPM1 | Q9: =_xlfn.CONCAT(P9,"_ENET") | R9: PS5_7_DPM1_ENET | T9: =_xlfn.CONCAT(U9,"_VFD1") | U9: UL13_7 | V9: 3 | W9: =VLOOKUP(V9,'Part Number'!$C$1:$D$13,2,FALSE)
A10: SLOT8 | B10: 1756-N2 | F10: UL13_7_VFD1 | G10: =VLOOKUP(F10,$T$2:$W$150,4,FALSE) | H10: 11.200.1.36 | P10: PS6_7_DPM1 | Q10: =_xlfn.CONCAT(P10,"_ENET") | R10: PS6_7_DPM1_ENET | T10: =_xlfn.CONCAT(U10,"_VFD1") | U10: UL13_8 | V10: 5 | W10: =VLOOKUP(V10,'Part Number'!$C$1:$D$13,2,FALSE)
A11: SLOT9 | B11: 1756-N2 | F11: UL13_8_VFD1 | G11: =VLOOKUP(F11,$T$2:$W$150,4,FALSE) | H11: 11.200.1.37 | P11: PS7_7_DPM1 | Q11: =_xlfn.CONCAT(P11,"_ENET") | R11: PS7_7_DPM1_ENET | T11: =_xlfn.CONCAT(U11,"_VFD1") | U11: UL13_9A | V11: 3 | W11: =VLOOKUP(V11,'Part Number'!$C$1:$D$13,2,FALSE)
F12: UL13_9A_VFD1 | G12: =VLOOKUP(F12,$T$2:$W$150,4,FALSE) | H12: 11.200.1.38 | T12: =_xlfn.CONCAT(U12,"_VFD1") | U12: UL13_9B | V12: 3 | W12: =VLOOKUP(V12,'Part Number'!$C$1:$D$13,2,FALSE)
F13: UL13_9B_VFD1 | G13: =VLOOKUP(F13,$T$2:$W$150,4,FALSE) | H13: 11.200.1.39 | T13: =_xlfn.CONCAT(U13,"_VFD1") | U13: UL13_10 | V13: 2 | W13: =VLOOKUP(V13,'Part Number'!$C$1:$D$13,2,FALSE)
A14: DPM COUNT | B14: 9 | F14: UL13_10_VFD1 | G14: =VLOOKUP(F14,$T$2:$W$150,4,FALSE) | H14: 11.200.1.40 | T14: =_xlfn.CONCAT(U14,"_VFD1") | U14: UL13_11 | V14: 2 | W14: =VLOOKUP(V14,'Part Number'!$C$1:$D$13,2,FALSE)
F15: UL13_11_VFD1 | G15: =VLOOKUP(F15,$T$2:$W$150,4,FALSE) | H15: 11.200.1.41 | T15: =_xlfn.CONCAT(U15,"_VFD1") | U15: UL13_12 | V15: 5 | W15: =VLOOKUP(V15,'Part Number'!$C$1:$D$13,2,FALSE)
F16: UL13_12_VFD1 | G16: =VLOOKUP(F16,$T$2:$W$150,4,FALSE) | H16: 11.200.1.42 | I16: add | T16: =_xlfn.CONCAT(U16,"_VFD1") | U16: UL14_3 | V16: 5 | W16: =VLOOKUP(V16,'Part Number'!$C$1:$D$13,2,FALSE)
F17: UL14_1_EX1 | G17: =VLOOKUP(F17,$T$2:$W$150,4,FALSE) | H17: 11.200.1.43 | T17: =_xlfn.CONCAT(U17,"_VFD1") | U17: UL14_4 | V17: 5 | W17: =VLOOKUP(V17,'Part Number'!$C$1:$D$13,2,FALSE)
F18: UL14_3_VFD1 | G18: =VLOOKUP(F18,$T$2:$W$150,4,FALSE) | H18: 11.200.1.44 | T18: =_xlfn.CONCAT(U18,"_VFD1") | U18: UL14_5 | V18: 3 | W18: =VLOOKUP(V18,'Part Number'!$C$1:$D$13,2,FALSE)
F19: UL14_4_VFD1 | G19: =VLOOKUP(F19,$T$2:$W$150,4,FALSE) | H19: 11.200.1.45 | T19: =_xlfn.CONCAT(U19,"_VFD1") | U19: UL14_6 | V19: 2 | W19: =VLOOKUP(V19,'Part Number'!$C$1:$D$13,2,FALSE)
F20: UL14_5_VFD1 | G20: =VLOOKUP(F20,$T$2:$W$150,4,FALSE) | H20: 11.200.1.46 | T20: =_xlfn.CONCAT(U20,"_VFD1") | U20: UL14_7 | V20: 3 | W20: =VLOOKUP(V20,'Part Number'!$C$1:$D$13,2,FALSE)
F21: UL14_6_VFD1 | G21: =VLOOKUP(F21,$T$2:$W$150,4,FALSE) | H21: 11.200.1.47 | T21: =_xlfn.CONCAT(U21,"_VFD1") | U21: UL14_8 | V21: 3 | W21: =VLOOKUP(V21,'Part Number'!$C$1:$D$13,2,FALSE)
F22: UL14_7_VFD1 | G22: =VLOOKUP(F22,$T$2:$W$150,4,FALSE) | H22: 11.200.1.48 | T22: =_xlfn.CONCAT(U22,"_VFD1") | U22: UL14_9 | V22: 3 | W22: =VLOOKUP(V22,'Part Number'!$C$1:$D$13,2,FALSE)
F23: UL14_8_VFD1 | G23: =VLOOKUP(F23,$T$2:$W$150,4,FALSE) | H23: 11.200.1.49 | T23: =_xlfn.CONCAT(U23,"_VFD1") | U23: UL14_10 | V23: 2 | W23: =VLOOKUP(V23,'Part Number'!$C$1:$D$13,2,FALSE)
F24: UL14_9_VFD1 | G24: =VLOOKUP(F24,$T$2:$W$150,4,FALSE) | H24: 11.200.1.50 | T24: =_xlfn.CONCAT(U24,"_VFD1") | U24: UL15_3 | V24: 5 | W24: =VLOOKUP(V24,'Part Number'!$C$1:$D$13,2,FALSE)
F25: UL14_10_VFD1 | G25: =VLOOKUP(F25,$T$2:$W$150,4,FALSE) | H25: 11.200.1.51 | T25: =_xlfn.CONCAT(U25,"_VFD1") | U25: UL15_4 | V25: 5 | W25: =VLOOKUP(V25,'Part Number'!$C$1:$D$13,2,FALSE)
F26: UL13_2_FIO1 | G26: 5032-8IOLM12DR | H26: 11.200.1.52 | I26: name change | T26: =_xlfn.CONCAT(U26,"_VFD1") | U26: UL15_5 | V26: 2 | W26: =VLOOKUP(V26,'Part Number'!$C$1:$D$13,2,FALSE)
F27: UL14_3_FIO1 | G27: 5032-8IOLM12DR | H27: 11.200.1.53 | I27: name change | T27: =_xlfn.CONCAT(U27,"_VFD1") | U27: UL15_6 | V27: 3 | W27: =VLOOKUP(V27,'Part Number'!$C$1:$D$13,2,FALSE)
D28: UL15_4_DPM1 | E28: 11.200.1.3 | F28: UL15_1_EX1 | G28: =VLOOKUP(F28,$T$2:$W$150,4,FALSE) | H28: 11.200.1.54 | T28: =_xlfn.CONCAT(U28,"_VFD1") | U28: UL15_7 | V28: 3 | W28: =VLOOKUP(V28,'Part Number'!$C$1:$D$13,2,FALSE)
F29: UL15_3_VFD1 | G29: =VLOOKUP(F29,$T$2:$W$150,4,FALSE) | H29: 11.200.1.55 | T29: =_xlfn.CONCAT(U29,"_VFD1") | U29: UL15_8 | V29: 3 | W29: =VLOOKUP(V29,'Part Number'!$C$1:$D$13,2,FALSE)
F30: UL15_4_VFD1 | G30: =VLOOKUP(F30,$T$2:$W$150,4,FALSE) | H30: 11.200.1.56 | T30: =_xlfn.CONCAT(U30,"_VFD1") | U30: UL15_9 | V30: 3 | W30: =VLOOKUP(V30,'Part Number'!$C$1:$D$13,2,FALSE)
F31: UL15_5_VFD1 | G31: =VLOOKUP(F31,$T$2:$W$150,4,FALSE) | H31: 11.200.1.57 | T31: =_xlfn.CONCAT(U31,"_VFD1") | U31: UL15_10 | V31: 3 | W31: =VLOOKUP(V31,'Part Number'!$C$1:$D$13,2,FALSE)
F32: UL15_6_VFD1 | G32: =VLOOKUP(F32,$T$2:$W$150,4,FALSE) | H32: 11.200.1.58 | T32: =_xlfn.CONCAT(U32,"_VFD1") | U32: UL15_11 | V32: 2 | W32: =VLOOKUP(V32,'Part Number'!$C$1:$D$13,2,FALSE)
F33: UL15_7_VFD1 | G33: =VLOOKUP(F33,$T$2:$W$150,4,FALSE) | H33: 11.200.1.59 | T33: =_xlfn.CONCAT(U33,"_VFD1") | U33: UL16_1 | V33: 2 | W33: =VLOOKUP(V33,'Part Number'!$C$1:$D$13,2,FALSE)
F34: UL15_8_VFD1 | G34: =VLOOKUP(F34,$T$2:$W$150,4,FALSE) | H34: 11.200.1.60 | T34: =_xlfn.CONCAT(U34,"_VFD1") | U34: UL16_2 | V34: 7.5 | W34: =VLOOKUP(V34,'Part Number'!$C$1:$D$13,2,FALSE)
F35: UL15_9_VFD1 | G35: =VLOOKUP(F35,$T$2:$W$150,4,FALSE) | H35: 11.200.1.61 | T35: =_xlfn.CONCAT(U35,"_VFD1") | U35: UL16_3 | V35: 3 | W35: =VLOOKUP(V35,'Part Number'!$C$1:$D$13,2,FALSE)
F36: UL15_10_VFD1 | G36: =VLOOKUP(F36,$T$2:$W$150,4,FALSE) | H36: 11.200.1.62 | T36: =_xlfn.CONCAT(U36,"_VFD1") | U36: UL16_4 | V36: 3 | W36: =VLOOKUP(V36,'Part Number'!$C$1:$D$13,2,FALSE)
F37: UL15_11_VFD1 | G37: =VLOOKUP(F37,$T$2:$W$150,4,FALSE) | H37: 11.200.1.63 | T37: =_xlfn.CONCAT(U37,"_VFD1") | U37: UL16_5 | V37: 2 | W37: =VLOOKUP(V37,'Part Number'!$C$1:$D$13,2,FALSE)
F38: UL15_3_FIO1 | G38: 5032-8IOLM12DR | H38: 11.200.1.64 | I38: name change | T38: =_xlfn.CONCAT(U38,"_VFD1") | U38: UL16_6 | V38: 3 | W38: =VLOOKUP(V38,'Part Number'!$C$1:$D$13,2,FALSE)
F39: UL13_12_FIO1 | G39: 5032-8IOLM12DR | H39: 11.200.1.196 | I39: ADDED 5-26 | T39: =_xlfn.CONCAT(U39,"_VFD1") | U39: UL16_7 | V39: 3 | W39: =VLOOKUP(V39,'Part Number'!$C$1:$D$13,2,FALSE)
D40: UL16_2_DPM1 | E40: 11.200.1.4 | F40: UL16_1_VFD1 | G40: =VLOOKUP(F40,$T$2:$W$150,4,FALSE) | H40: 11.200.1.65 | T40: =_xlfn.CONCAT(U40,"_VFD1") | U40: UL16_8 | V40: 3 | W40: =VLOOKUP(V40,'Part Number'!$C$1:$D$13,2,FALSE)
F41: UL16_2_VFD1 | G41: =VLOOKUP(F41,$T$2:$W$150,4,FALSE) | H41: 11.200.1.66 | T41: =_xlfn.CONCAT(U41,"_VFD1") | U41: UL16_9 | V41: 2 | W41: =VLOOKUP(V41,'Part Number'!$C$1:$D$13,2,FALSE)
F42: UL16_3_VFD1 | G42: =VLOOKUP(F42,$T$2:$W$150,4,FALSE) | H42: 11.200.1.67 | I42: add | T42: =_xlfn.CONCAT(U42,"_VFD1") | U42: UL17_3 | V42: 5 | W42: =VLOOKUP(V42,'Part Number'!$C$1:$D$13,2,FALSE)
F43: UL16_4_VFD1 | G43: =VLOOKUP(F43,$T$2:$W$150,4,FALSE) | H43: 11.200.1.68 | T43: =_xlfn.CONCAT(U43,"_VFD1") | U43: UL17_4 | V43: 5 | W43: =VLOOKUP(V43,'Part Number'!$C$1:$D$13,2,FALSE)
F44: UL16_5_VFD1 | G44: =VLOOKUP(F44,$T$2:$W$150,4,FALSE) | H44: 11.200.1.69 | T44: =_xlfn.CONCAT(U44,"_VFD1") | U44: UL17_5 | V44: 3 | W44: =VLOOKUP(V44,'Part Number'!$C$1:$D$13,2,FALSE)
F45: UL16_6_VFD1 | G45: =VLOOKUP(F45,$T$2:$W$150,4,FALSE) | H45: 11.200.1.70 | T45: =_xlfn.CONCAT(U45,"_VFD1") | U45: UL17_6 | V45: 2 | W45: =VLOOKUP(V45,'Part Number'!$C$1:$D$13,2,FALSE)
F46: UL16_7_VFD1 | G46: =VLOOKUP(F46,$T$2:$W$150,4,FALSE) | H46: 11.200.1.71 | T46: =_xlfn.CONCAT(U46,"_VFD1") | U46: UL17_7 | V46: 3 | W46: =VLOOKUP(V46,'Part Number'!$C$1:$D$13,2,FALSE)
F47: UL16_8_VFD1 | G47: =VLOOKUP(F47,$T$2:$W$150,4,FALSE) | H47: 11.200.1.72 | T47: =_xlfn.CONCAT(U47,"_VFD1") | U47: UL17_8 | V47: 3 | W47: =VLOOKUP(V47,'Part Number'!$C$1:$D$13,2,FALSE)
F48: UL16_9_VFD1 | G48: =VLOOKUP(F48,$T$2:$W$150,4,FALSE) | H48: 11.200.1.73 | T48: =_xlfn.CONCAT(U48,"_VFD1") | U48: UL17_9 | V48: 3 | W48: =VLOOKUP(V48,'Part Number'!$C$1:$D$13,2,FALSE)
F49: UL17_1_EX1 | G49: =VLOOKUP(F49,$T$2:$W$150,4,FALSE) | H49: 11.200.1.74 | T49: =_xlfn.CONCAT(U49,"_VFD1") | U49: UL17_10 | V49: 2 | W49: =VLOOKUP(V49,'Part Number'!$C$1:$D$13,2,FALSE)
F50: UL17_3_VFD1 | G50: =VLOOKUP(F50,$T$2:$W$150,4,FALSE) | H50: 11.200.1.75 | T50: =_xlfn.CONCAT(U50,"_VFD1") | U50: UL18_3 | V50: 5 | W50: =VLOOKUP(V50,'Part Number'!$C$1:$D$13,2,FALSE)
F51: UL17_4_VFD1 | G51: =VLOOKUP(F51,$T$2:$W$150,4,FALSE) | H51: 11.200.1.76 | T51: =_xlfn.CONCAT(U51,"_VFD1") | U51: UL18_4 | V51: 5 | W51: =VLOOKUP(V51,'Part Number'!$C$1:$D$13,2,FALSE)
F52: UL17_5_VFD1 | G52: =VLOOKUP(F52,$T$2:$W$150,4,FALSE) | H52: 11.200.1.77 | T52: =_xlfn.CONCAT(U52,"_VFD1") | U52: UL18_5 | V52: 3 | W52: =VLOOKUP(V52,'Part Number'!$C$1:$D$13,2,FALSE)
F53: UL17_6_VFD1 | G53: =VLOOKUP(F53,$T$2:$W$150,4,FALSE) | H53: 11.200.1.78 | T53: =_xlfn.CONCAT(U53,"_VFD1") | U53: UL18_6 | V53: 5 | W53: =VLOOKUP(V53,'Part Number'!$C$1:$D$13,2,FALSE)
F54: UL17_7_VFD1 | G54: =VLOOKUP(F54,$T$2:$W$150,4,FALSE) | H54: 11.200.1.79 | T54: =_xlfn.CONCAT(U54,"_VFD1") | U54: UL18_7 | V54: 3 | W54: =VLOOKUP(V54,'Part Number'!$C$1:$D$13,2,FALSE)
... F57: UL17_10_VFD1 | G57: =VLOOKUP(F57,$T$2:$W$150,4,FALSE) | H57: 11.200.1.82 | T57: =_xlfn.CONCAT(U57,"_VFD1") | U57: UL18_10 | V57: 5 | W57: =VLOOKUP(V57,'Part Number'!$C$1:$D$13,2,FALSE)
F58: UL16_2_FIO1 | G58: 5032-8IOLM12DR | H58: 11.200.1.83 | I58: name change | T58: =_xlfn.CONCAT(U58,"_VFD1") | U58: UL18_11 | V58: 5 | W58: =VLOOKUP(V58,'Part Number'!$C$1:$D$13,2,FALSE)
F59: UL17_3_FIO1 | G59: 5032-8IOLM12DR | H59: 11.200.1.84 | I59: name change | T59: =_xlfn.CONCAT(U59,"_VFD1") | U59: UL18_12 | V59: 3 | W59: =VLOOKUP(V59,'Part Number'!$C$1:$D$13,2,FALSE)
D60: UL18_4_DPM1 | E60: 11.200.1.5 | F60: UL18_1_EX1 | G60: =VLOOKUP(F60,$T$2:$W$150,4,FALSE) | H60: 11.200.1.85 | T60: =_xlfn.CONCAT(U60,"_VFD1") | U60: UL18_13A | V60: 3 | W60: =VLOOKUP(V60,'Part Number'!$C$1:$D$13,2,FALSE)
F61: UL18_3_VFD1 | G61: =VLOOKUP(F61,$T$2:$W$150,4,FALSE) | H61: 11.200.1.86 | T61: =_xlfn.CONCAT(U61,"_VFD1") | U61: UL18_13B | V61: 3 | W61: =VLOOKUP(V61,'Part Number'!$C$1:$D$13,2,FALSE)
F62: UL18_4_VFD1 | G62: =VLOOKUP(F62,$T$2:$W$150,4,FALSE) | H62: 11.200.1.87 | T62: =_xlfn.CONCAT(U62,"_VFD1") | U62: UL18_14 | V62: 2 | W62: =VLOOKUP(V62,'Part Number'!$C$1:$D$13,2,FALSE)
F63: UL18_5_VFD1 | G63: =VLOOKUP(F63,$T$2:$W$150,4,FALSE) | H63: 11.200.1.88 | T63: =_xlfn.CONCAT(U63,"_VFD1") | U63: UL18_15 | V63: 2 | W63: =VLOOKUP(V63,'Part Number'!$C$1:$D$13,2,FALSE)
F64: UL18_6_VFD1 | G64: =VLOOKUP(F64,$T$2:$W$150,4,FALSE) | H64: 11.200.1.89 | T64: =_xlfn.CONCAT(U64,"_VFD1") | U64: UL18_16 | V64: 5 | W64: =VLOOKUP(V64,'Part Number'!$C$1:$D$13,2,FALSE)
F65: UL18_7_VFD1 | G65: =VLOOKUP(F65,$T$2:$W$150,4,FALSE) | H65: 11.200.1.90 | T65: =_xlfn.CONCAT(U65,"_VFD1") | U65: UL13_8_DPM1 | V65: DPM | W65: =VLOOKUP(V65,'Part Number'!$C$1:$D$13,2,FALSE)
F66: UL18_8_VFD1 | G66: =VLOOKUP(F66,$T$2:$W$150,4,FALSE) | H66: 11.200.1.91 | T66: =_xlfn.CONCAT(U66,"_VFD1") | U66: UL15_4_DPM1 | V66: DPM | W66: =VLOOKUP(V66,'Part Number'!$C$1:$D$13,2,FALSE)
F67: UL18_9_VFD1 | G67: =VLOOKUP(F67,$T$2:$W$150,4,FALSE) | H67: 11.200.1.92 | T67: =_xlfn.CONCAT(U67,"_VFD1") | U67: UL16_2_DPM1 | V67: DPM | W67: =VLOOKUP(V67,'Part Number'!$C$1:$D$13,2,FALSE)
F68: UL18_10_VFD1 | G68: =VLOOKUP(F68,$T$2:$W$150,4,FALSE) | H68: 11.200.1.93 | T68: =_xlfn.CONCAT(U68,"_VFD1") | U68: UL18_4_DPM1 | V68: DPM | W68: =VLOOKUP(V68,'Part Number'!$C$1:$D$13,2,FALSE)
F69: UL18_11_VFD1 | G69: =VLOOKUP(F69,$T$2:$W$150,4,FALSE) | H69: 11.200.1.94 | T69: =_xlfn.CONCAT(U69,"_VFD1") | U69: UL19_1 | V69: 2 | W69: =VLOOKUP(V69,'Part Number'!$C$1:$D$13,2,FALSE)
F70: UL18_12_VFD1 | G70: =VLOOKUP(F70,$T$2:$W$150,4,FALSE) | H70: 11.200.1.95 | T70: =_xlfn.CONCAT(U70,"_VFD1") | U70: UL19_2 | V70: 7.5 | W70: =VLOOKUP(V70,'Part Number'!$C$1:$D$13,2,FALSE)
F71: UL18_13A_VFD1 | G71: =VLOOKUP(F71,$T$2:$W$150,4,FALSE) | H71: 11.200.1.96 | T71: =_xlfn.CONCAT(U71,"_VFD1") | U71: UL19_3 | V71: 2 | W71: =VLOOKUP(V71,'Part Number'!$C$1:$D$13,2,FALSE)
F72: UL18_13B_VFD1 | G72: =VLOOKUP(F72,$T$2:$W$150,4,FALSE) | H72: 11.200.1.97 | T72: =_xlfn.CONCAT(U72,"_VFD1") | U72: UL19_4 | V72: 2 | W72: =VLOOKUP(V72,'Part Number'!$C$1:$D$13,2,FALSE)
F73: UL18_14_VFD1 | G73: =VLOOKUP(F73,$T$2:$W$150,4,FALSE) | H73: 11.200.1.98 | T73: =_xlfn.CONCAT(U73,"_VFD1") | U73: UL19_5 | V73: 3 | W73: =VLOOKUP(V73,'Part Number'!$C$1:$D$13,2,FALSE)
F74: UL18_15_VFD1 | G74: =VLOOKUP(F74,$T$2:$W$150,4,FALSE) | H74: 11.200.1.99 | T74: =_xlfn.CONCAT(U74,"_VFD1") | U74: UL19_6 | V74: 3 | W74: =VLOOKUP(V74,'Part Number'!$C$1:$D$13,2,FALSE)
F75: UL18_16_VFD1 | G75: =VLOOKUP(F75,$T$2:$W$150,4,FALSE) | H75: 11.200.1.100 | T75: =_xlfn.CONCAT(U75,"_VFD1") | U75: UL19_7 | V75: 3 | W75: =VLOOKUP(V75,'Part Number'!$C$1:$D$13,2,FALSE)
F76: UL18_3_FIO1 | G76: 5032-8IOLM12DR | H76: 11.200.1.101 | I76: name change | T76: =_xlfn.CONCAT(U76,"_VFD1") | U76: UL19_8 | V76: 3 | W76: =VLOOKUP(V76,'Part Number'!$C$1:$D$13,2,FALSE)
F77: PDP3_FIO1 | G77: 5032-8IOLM12DR | H77: 11.200.1.190 | I77: NEWLY ADDED | T77: =_xlfn.CONCAT(U77,"_VFD1") | U77: UL19_9 | V77: 2 | W77: =VLOOKUP(V77,'Part Number'!$C$1:$D$13,2,FALSE)
F78: PDP3_PMM1 | G78: 1420-V2-ENT | H78: 11.200.1.191 | T78: =_xlfn.CONCAT(U78,"_VFD1") | U78: UL20_3 | V78: 5 | W78: =VLOOKUP(V78,'Part Number'!$C$1:$D$13,2,FALSE)
F79: PDP4_FIO1 | G79: 5032-8IOLM12DR | H79: 11.200.1.192 | T79: =_xlfn.CONCAT(U79,"_VFD1") | U79: UL20_4 | V79: 5 | W79: =VLOOKUP(V79,'Part Number'!$C$1:$D$13,2,FALSE)
F80: PDP4_PMM1 | G80: 1420-V2-ENT | H80: 11.200.1.193 | T80: =_xlfn.CONCAT(U80,"_VFD1") | U80: UL20_5 | V80: 2 | W80: =VLOOKUP(V80,'Part Number'!$C$1:$D$13,2,FALSE)
F81: UL18_16_FIO1 | G81: 5032-8IOLM12DR | H81: 11.200.1.197 | I81: ADDED 5-26 | T81: =_xlfn.CONCAT(U81,"_VFD1") | U81: UL20_6 | V81: 2 | W81: =VLOOKUP(V81,'Part Number'!$C$1:$D$13,2,FALSE)
C82: Merged Cells 5-27 | D82: UL19_2_DPM1 | E82: 11.200.1.6 | F82: UL19_1_VFD1 | G82: =VLOOKUP(F82,$T$2:$W$150,4,FALSE) | H82: 11.200.1.102 | T82: =_xlfn.CONCAT(U82,"_VFD1") | U82: UL20_7 | V82: 3 | W82: =VLOOKUP(V82,'Part Number'!$C$1:$D$13,2,FALSE)
F83: UL19_2_VFD1 | G83: =VLOOKUP(F83,$T$2:$W$150,4,FALSE) | H83: 11.200.1.103 | T83: =_xlfn.CONCAT(U83,"_VFD1") | U83: UL20_8 | V83: 3 | W83: =VLOOKUP(V83,'Part Number'!$C$1:$D$13,2,FALSE)
F84: UL19_3_VFD1 | G84: =VLOOKUP(F84,$T$2:$W$150,4,FALSE) | H84: 11.200.1.104 | T84: =_xlfn.CONCAT(U84,"_VFD1") | U84: UL20_9 | V84: 3 | W84: =VLOOKUP(V84,'Part Number'!$C$1:$D$13,2,FALSE)
F85: UL19_4_VFD1 | G85: =VLOOKUP(F85,$T$2:$W$150,4,FALSE) | H85: 11.200.1.105 | T85: =_xlfn.CONCAT(U85,"_VFD1") | U85: UL20_10 | V85: 3 | W85: =VLOOKUP(V85,'Part Number'!$C$1:$D$13,2,FALSE)
F86: UL19_5_VFD1 | G86: =VLOOKUP(F86,$T$2:$W$150,4,FALSE) | H86: 11.200.1.106 | T86: =_xlfn.CONCAT(U86,"_VFD1") | U86: UL20_11 | V86: 2 | W86: =VLOOKUP(V86,'Part Number'!$C$1:$D$13,2,FALSE)
F87: UL19_6_VFD1 | G87: =VLOOKUP(F87,$T$2:$W$150,4,FALSE) | H87: 11.200.1.107 | T87: =_xlfn.CONCAT(U87,"_VFD1") | U87: UL21_3 | V87: 5 | W87: =VLOOKUP(V87,'Part Number'!$C$1:$D$13,2,FALSE)
F88: UL19_7_VFD1 | G88: =VLOOKUP(F88,$T$2:$W$150,4,FALSE) | H88: 11.200.1.108 | T88: =_xlfn.CONCAT(U88,"_VFD1") | U88: UL21_4 | V88: 5 | W88: =VLOOKUP(V88,'Part Number'!$C$1:$D$13,2,FALSE)
F89: UL19_8_VFD1 | G89: =VLOOKUP(F89,$T$2:$W$150,4,FALSE) | H89: 11.200.1.109 | T89: =_xlfn.CONCAT(U89,"_VFD1") | U89: UL21_5 | V89: 5 | W89: =VLOOKUP(V89,'Part Number'!$C$1:$D$13,2,FALSE)
F90: UL19_9_VFD1 | G90: =VLOOKUP(F90,$T$2:$W$150,4,FALSE) | H90: 11.200.1.110 | T90: =_xlfn.CONCAT(U90,"_VFD1") | U90: UL21_6 | V90: 3 | W90: =VLOOKUP(V90,'Part Number'!$C$1:$D$13,2,FALSE)
F91: UL20_1_EX1 | G91: =VLOOKUP(F91,$T$2:$W$150,4,FALSE) | H91: 11.200.1.111 | T91: =_xlfn.CONCAT(U91,"_VFD1") | U91: UL21_7 | V91: 3 | W91: =VLOOKUP(V91,'Part Number'!$C$1:$D$13,2,FALSE)
F92: UL20_3_VFD1 | G92: =VLOOKUP(F92,$T$2:$W$150,4,FALSE) | H92: 11.200.1.112 | T92: =_xlfn.CONCAT(U92,"_VFD1") | U92: UL21_8 | V92: 3 | W92: =VLOOKUP(V92,'Part Number'!$C$1:$D$13,2,FALSE)
F93: UL20_4_VFD1 | G93: =VLOOKUP(F93,$T$2:$W$150,4,FALSE) | H93: 11.200.1.113 | T93: =_xlfn.CONCAT(U93,"_VFD1") | U93: UL21_9 | V93: 3 | W93: =VLOOKUP(V93,'Part Number'!$C$1:$D$13,2,FALSE)
F94: UL20_5_VFD1 | G94: =VLOOKUP(F94,$T$2:$W$150,4,FALSE) | H94: 11.200.1.114 | T94: =_xlfn.CONCAT(U94,"_VFD1") | U94: UL21_10 | V94: 3 | W94: =VLOOKUP(V94,'Part Number'!$C$1:$D$13,2,FALSE)
... F98: UL20_9_VFD1 | G98: =VLOOKUP(F98,$T$2:$W$150,4,FALSE) | H98: 11.200.1.118 | T98: =_xlfn.CONCAT(U98,"_VFD1") | U98: UL21_14A | V98: 3 | W98: =VLOOKUP(V98,'Part Number'!$C$1:$D$13,2,FALSE)
F99: UL20_10_VFD1 | G99: =VLOOKUP(F99,$T$2:$W$150,4,FALSE) | H99: 11.200.1.119 | I99: add | T99: =_xlfn.CONCAT(U99,"_VFD1") | U99: UL21_14B | V99: 3 | W99: =VLOOKUP(V99,'Part Number'!$C$1:$D$13,2,FALSE)
F100: UL20_11_VFD1 | G100: =VLOOKUP(F100,$T$2:$W$150,4,FALSE) | H100: 11.200.1.120 | I100: add | T100: =_xlfn.CONCAT(U100,"_VFD1") | U100: UL21_15 | V100: 2 | W100: =VLOOKUP(V100,'Part Number'!$C$1:$D$13,2,FALSE)
F101: UL19_2_FIO1 | G101: 5032-8IOLM12DR | H101: 11.200.1.121 | I101: name change | T101: =_xlfn.CONCAT(U101,"_VFD1") | U101: UL21_16 | V101: 2 | W101: =VLOOKUP(V101,'Part Number'!$C$1:$D$13,2,FALSE)
F102: UL20_3_FIO1 | G102: 5032-8IOLM12DR | H102: 11.200.1.122 | I102: name change | T102: =_xlfn.CONCAT(U102,"_VFD1") | U102: UL21_17 | V102: 5 | W102: =VLOOKUP(V102,'Part Number'!$C$1:$D$13,2,FALSE)
D103: UL21_11_DPM1 | E103: 11.200.1.7 | F103: UL21_1_EX1 | G103: =VLOOKUP(F103,$T$2:$W$150,4,FALSE) | H103: 11.200.1.123 | T103: =_xlfn.CONCAT(U103,"_EX1") | U103: UL14_1 | V103: EXTENDO | W103: =VLOOKUP(V103,'Part Number'!$C$1:$D$13,2,FALSE)
F104: UL21_3_VFD1 | G104: =VLOOKUP(F104,$T$2:$W$150,4,FALSE) | H104: 11.200.1.124 | T104: =_xlfn.CONCAT(U104,"_EX1") | U104: UL15_1 | V104: EXTENDO | W104: =VLOOKUP(V104,'Part Number'!$C$1:$D$13,2,FALSE)
F105: UL21_4_VFD1 | G105: =VLOOKUP(F105,$T$2:$W$150,4,FALSE) | H105: 11.200.1.125 | T105: =_xlfn.CONCAT(U105,"_EX1") | U105: UL17_1 | V105: EXTENDO | W105: =VLOOKUP(V105,'Part Number'!$C$1:$D$13,2,FALSE)
...

Sheet Part Number
B1: PART NUMBER | C1: HP | D1: PART NUMBER
B2: 35S-6D2-P101 | C2: 2 | D2: 35S-6D2-P101
B3: 35S-6D3-P101 | C3: 3 | D3: 35S-6D3-P101
B4: 35S-6D4-P111 | C4: 5 | D4: 35S-6D4-P111
B5: 35S-6D5-P111 | C5: 7.5 | D5: 35S-6D5-P111
B6: 35S-6D6-P111 | C6: 10 | D6: 35S-6D6-P111
B7: 25B-D024N104 | C7: 15 | D7: 25B-D024N104
B8: 25B-D030N104 | C8: 20 | D8: 25B-D030N104
B9: 25B-D043N114 | C9: 30 | D9: 25B-D043N114
B10: CALJAN | C10: EXTENDO | D10: CALJAN
B11: PIONEER | C11: TIPPER | D11: PIONEER
B12: ZMX-3DE2500HF-Q7-AMZCHD | C12: ZMX | D12: ZMX-3DE2500HF-Q7-AMZCHD
B13: 5032-8IOLM12DR | C13: FIO | D13: 5032-8IOLM12DR

Sheet IO Assignment MCM02
A1: Controller name | B1: Signal type | C1: Address name | D1: Assigned device | E1: Unassigned Device | K1: MCM02_DESC
A2: PS5_1_VFD1 | B2: I0 | C2: PS5_1_VFD1_I0 | D2: PS5_1_DISC
A3: PS5_1_VFD1 | B3: I1 | C3: PS5_1_VFD1_I1
A4: PS5_1_VFD1 | B4: I2 | C4: PS5_1_VFD1_I2
A5: PS5_1_VFD1 | B5: I3 | C5: PS5_1_VFD1_I3
A6: PS5_1_VFD1 | B6: IO0 | C6: PS5_1_VFD1_IO0 | D6: PS5_1_S1_PB
A7: PS5_1_VFD1 | B7: IO1 | C7: PS5_1_VFD1_IO1 | D7: PS5_1_S1_PB_LT
A8: PS5_1_VFD1 | B8: SI0 | C8: PS5_1_VFD1_SI0 | D8: PS5_1_EPC1
A9: PS5_1_VFD1 | B9: SI1 | C9: PS5_1_VFD1_SI1 | D9: PS5_1_EPC1_2
A10: PS5_1_VFD1 | B10: SI2 | C10: PS5_1_VFD1_SI2 | D10: PS5_1_EPC2
A11: PS5_1_VFD1 | B11: SI3 | C11: PS5_1_VFD1_SI3 | D11: PS5_1_EPC2_2
A12: PS5_1_VFD1 | B12: SO0 | C12: PS5_1_VFD1_SO0 | D12: PS5_1_BCN1_R
A13: PS5_10_VFD1 | B13: I0 | C13: PS5_10_VFD1_I0 | D13: PS5_10_DISC
A14: PS5_10_VFD1 | B14: I1 | C14: PS5_10_VFD1_I1
A15: PS5_10_VFD1 | B15: I2 | C15: PS5_10_VFD1_I2 | D15: PS5_10_TPE1
A16: PS5_10_VFD1 | B16: I3 | C16: PS5_10_VFD1_I3 | D16: PS5_10_TPE2
A17: PS5_10_VFD1 | B17: IO0 | C17: PS5_10_VFD1_IO0 | D17: PS5_10_JR1_PB
A18: PS5_10_VFD1 | B18: IO1 | C18: PS5_10_VFD1_IO1 | D18: PS5_10_JR1_PB_LT
A19: PS5_10_VFD1 | B19: SI0 | C19: PS5_10_VFD1_SI0
A20: PS5_10_VFD1 | B20: SI1 | C20: PS5_10_VFD1_SI1
A21: PS5_10_VFD1 | B21: SI2 | C21: PS5_10_VFD1_SI2
A22: PS5_10_VFD1 | B22: SI3 | C22: PS5_10_VFD1_SI3
A23: PS5_10_VFD1 | B23: SO0 | C23: PS5_10_VFD1_SO0
A24: PS5_11_VFD1 | B24: I0 | C24: PS5_11_VFD1_I0 | D24: PS5_11_DISC
A25: PS5_11_VFD1 | B25: I1 | C25: PS5_11_VFD1_I1
A26: PS5_11_VFD1 | B26: I2 | C26: PS5_11_VFD1_I2
A27: PS5_11_VFD1 | B27: I3 | C27: PS5_11_VFD1_I3
A28: PS5_11_VFD1 | B28: IO0 | C28: PS5_11_VFD1_IO0 | D28: PS5_11_JR1_PB
A29: PS5_11_VFD1 | B29: IO1 | C29: PS5_11_VFD1_IO1 | D29: PS5_11_JR1_PB_LT
A30: PS5_11_VFD1 | B30: SI0 | C30: PS5_11_VFD1_SI0
A31: PS5_11_VFD1 | B31: SI1 | C31: PS5_11_VFD1_SI1
A32: PS5_11_VFD1 | B32: SI2 | C32: PS5_11_VFD1_SI2
A33: PS5_11_VFD1 | B33: SI3 | C33: PS5_11_VFD1_SI3
A34: PS5_11_VFD1 | B34: SO0 | C34: PS5_11_VFD1_SO0 | D34: PS5_11_BCN1_A
A35: PS5_12_VFD1 | B35: I0 | C35: PS5_12_VFD1_I0 | D35: PS5_12_DISC
A36: PS5_12_VFD1 | B36: I1 | C36: PS5_12_VFD1_I1
A37: PS5_12_VFD1 | B37: I2 | C37: PS5_12_VFD1_I2 | D37: PS5_12_TPE1
A38: PS5_12_VFD1 | B38: I3 | C38: PS5_12_VFD1_I3 | D38: PS5_12_TPE2
A39: PS5_12_VFD1 | B39: IO0 | C39: PS5_12_VFD1_IO0
A40: PS5_12_VFD1 | B40: IO1 | C40: PS5_12_VFD1_IO1
A41: PS5_12_VFD1 | B41: SI0 | C41: PS5_12_VFD1_SI0
A42: PS5_12_VFD1 | B42: SI1 | C42: PS5_12_VFD1_SI1
A43: PS5_12_VFD1 | B43: SI2 | C43: PS5_12_VFD1_SI2
A44: PS5_12_VFD1 | B44: SI3 | C44: PS5_12_VFD1_SI3
A45: PS5_12_VFD1 | B45: SO0 | C45: PS5_12_VFD1_SO0
A46: PS5_13_VFD1 | B46: I0 | C46: PS5_13_VFD1_I0 | D46: PS5_13_DISC
A47: PS5_13_VFD1 | B47: I1 | C47: PS5_13_VFD1_I1
A48: PS5_13_VFD1 | B48: I2 | C48: PS5_13_VFD1_I2 | D48: PS5_13_TPE1
A49: PS5_13_VFD1 | B49: I3 | C49: PS5_13_VFD1_I3
A50: PS5_13_VFD1 | B50: IO0 | C50: PS5_13_VFD1_IO0
A51: PS5_13_VFD1 | B51: IO1 | C51: PS5_13_VFD1_IO1
A52: PS5_13_VFD1 | B52: SI0 | C52: PS5_13_VFD1_SI0
A53: PS5_13_VFD1 | B53: SI1 | C53: PS5_13_VFD1_SI1
A54: PS5_13_VFD1 | B54: SI2 | C54: PS5_13_VFD1_SI2
A55: PS5_13_VFD1 | B55: SI3 | C55: PS5_13_VFD1_SI3
A56: PS5_13_VFD1 | B56: SO0 | C56: PS5_13_VFD1_SO0
A57: PS5_2_VFD1 | B57: I0 | C57: PS5_2_VFD1_I0 | D57: PS5_2_DISC
A58: PS5_2_VFD1 | B58: I1 | C58: PS5_2_VFD1_I1
A59: PS5_2_VFD1 | B59: I2 | C59: PS5_2_VFD1_I2 | D59: PS5_2_TPE1
A60: PS5_2_VFD1 | B60: I3 | C60: PS5_2_VFD1_I3 | D60: PS5_2_TPE2
A61: PS5_2_VFD1 | B61: IO0 | C61: PS5_2_VFD1_IO0 | D61: PS5_1_S2_PB
A62: PS5_2_VFD1 | B62: IO1 | C62: PS5_2_VFD1_IO1 | D62: PS5_1_S2_PB_LT
A63: PS5_2_VFD1 | B63: SI0 | C63: PS5_2_VFD1_SI0
A64: PS5_2_VFD1 | B64: SI1 | C64: PS5_2_VFD1_SI1
A65: PS5_2_VFD1 | B65: SI2 | C65: PS5_2_VFD1_SI2
A66: PS5_2_VFD1 | B66: SI3 | C66: PS5_2_VFD1_SI3
A67: PS5_2_VFD1 | B67: SO0 | C67: PS5_2_VFD1_SO0
A68: PS5_3_VFD1 | B68: I0 | C68: PS5_3_VFD1_I0 | D68: PS5_3_DISC
A69: PS5_3_VFD1 | B69: I1 | C69: PS5_3_VFD1_I1
A70: PS5_3_VFD1 | B70: I2 | C70: PS5_3_VFD1_I2
A71: PS5_3_VFD1 | B71: I3 | C71: PS5_3_VFD1_I3
A72: PS5_3_VFD1 | B72: IO0 | C72: PS5_3_VFD1_IO0 | D72: PS5_2_BCN1_A
A73: PS5_3_VFD1 | B73: IO1 | C73: PS5_3_VFD1_IO1 | D73: PS5_2_BCN1_R
A74: PS5_3_VFD1 | B74: SI0 | C74: PS5_3_VFD1_SI0
A75: PS5_3_VFD1 | B75: SI1 | C75: PS5_3_VFD1_SI1
A76: PS5_3_VFD1 | B76: SI2 | C76: PS5_3_VFD1_SI2
A77: PS5_3_VFD1 | B77: SI3 | C77: PS5_3_VFD1_SI3
A78: PS5_3_VFD1 | B78: SO0 | C78: PS5_3_VFD1_SO0
A79: PS5_4_VFD1 | B79: I0 | C79: PS5_4_VFD1_I0 | D79: PS5_4_DISC
A80: PS5_4_VFD1 | B80: I1 | C80: PS5_4_VFD1_I1
A81: PS5_4_VFD1 | B81: I2 | C81: PS5_4_VFD1_I2 | D81: PS5_4_TPE1
A82: PS5_4_VFD1 | B82: I3 | C82: PS5_4_VFD1_I3 | D82: PS5_4_TPE2
A83: PS5_4_VFD1 | B83: IO0 | C83: PS5_4_VFD1_IO0
A84: PS5_4_VFD1 | B84: IO1 | C84: PS5_4_VFD1_IO1
A85: PS5_4_VFD1 | B85: SI0 | C85: PS5_4_VFD1_SI0
A86: PS5_4_VFD1 | B86: SI1 | C86: PS5_4_VFD1_SI1
A87: PS5_4_VFD1 | B87: SI2 | C87: PS5_4_VFD1_SI2
A88: PS5_4_VFD1 | B88: SI3 | C88: PS5_4_VFD1_SI3
A89: PS5_4_VFD1 | B89: SO0 | C89: PS5_4_VFD1_SO0
A90: PS5_5_VFD1 | B90: I0 | C90: PS5_5_VFD1_I0 | D90: PS5_5_DISC
A91: PS5_5_VFD1 | B91: I1 | C91: PS5_5_VFD1_I1
A92: PS5_5_VFD1 | B92: I2 | C92: PS5_5_VFD1_I2 | D92: PS5_5_TPE1
A93: PS5_5_VFD1 | B93: I3 | C93: PS5_5_VFD1_I3
A94: PS5_5_VFD1 | B94: IO0 | C94: PS5_5_VFD1_IO0
A95: PS5_5_VFD1 | B95: IO1 | C95: PS5_5_VFD1_IO1
A96: PS5_5_VFD1 | B96: SI0 | C96: PS5_5_VFD1_SI0
A97: PS5_5_VFD1 | B97: SI1 | C97: PS5_5_VFD1_SI1
A98: PS5_5_VFD1 | B98: SI2 | C98: PS5_5_VFD1_SI2
A99: PS5_5_VFD1 | B99: SI3 | C99: PS5_5_VFD1_SI3
A100: PS5_5_VFD1 | B100: SO0 | C100: PS5_5_VFD1_SO0
...

Sheet MCM02_DESC
A1: TAGNAME | B1: ADDR | C1: TERM | D1: TERMDESC | E1: DESCA | F1: DESCB | H1: CONTROLLERS
A2: PS5_1_VFD1 | B2: PS5_1_VFD1_I0 | C2: I0 | E2: PS5_1_DISC | F2: DISCONNECT AUX | H2: PS5_1_VFD1 | I2: 600 | K2: =_xlfn.CONCAT(H2,"/",H3,"/",H4,"/",H5," IO DRAWINGS") | V2: PS5_1_VFD1/PS5_10_VFD1/PS5_11_VFD1/PS5_12_VFD1 IO DRAWINGS
A3: PS5_1_VFD1 | B3: PS5_1_VFD1_I1 | C3: I1 | E3: SPARE | H3: PS5_10_VFD1 | K3: =_xlfn.CONCAT(H7,"/",H8,"/",H9,"/",H10," IO DRAWINGS") | V3: PS5_13_VFD1/PS5_2_VFD1/PS5_3_VFD1/PS5_4_VFD1 IO DRAWINGS
A4: PS5_1_VFD1 | B4: PS5_1_VFD1_I2 | C4: I2 | E4: SPARE | H4: PS5_11_VFD1 | K4: =_xlfn.CONCAT(H12,"/",H13,"/",H14,"/",H15," IO DRAWINGS") | V4: PS5_5_VFD1/PS5_6_VFD1/PS5_7_VFD1/PS5_8_VFD1 IO DRAWINGS
A5: PS5_1_VFD1 | B5: PS5_1_VFD1_I3 | C5: I3 | E5: SPARE | H5: PS5_12_VFD1 | K5: =_xlfn.CONCAT(H17,"/",H18,"/",H19,"/",H20," IO DRAWINGS") | V5: PS5_9_VFD1/PS6_1_VFD1/PS6_10_VFD1/PS6_11_VFD1 IO DRAWINGS
A6: PS5_1_VFD1 | B6: PS5_1_VFD1_IO0 | C6: IO0 | E6: PS5_1_S1_PB | F6: START PUSHBUTTON | K6: =_xlfn.CONCAT(H22,"/",H23,"/",H24,"/",H25," IO DRAWINGS") | V6: PS6_12_VFD1/PS6_13_VFD1/PS6_2_VFD1/PS6_3_VFD1 IO DRAWINGS
A7: PS5_1_VFD1 | B7: PS5_1_VFD1_IO1 | C7: IO1 | E7: PS5_1_S1_PB_LT | F7: START PUSHBUTTON LIGHT | H7: PS5_13_VFD1 | I7: 601 | K7: =_xlfn.CONCAT(H27,"/",H28,"/",H29,"/",H30," IO DRAWINGS") | V7: PS6_4_VFD1/PS6_5_VFD1/PS6_6_VFD1/PS6_7_VFD1 IO DRAWINGS
A8: PS5_1_VFD1 | B8: PS5_1_VFD1_SI0 | C8: SI0 | E8: PS5_1_EPC1 | F8: E-STOP PULLCORD | H8: PS5_2_VFD1 | K8: =_xlfn.CONCAT(H32,"/",H33,"/",H34,"/",H35," IO DRAWINGS") | V8: PS6_8_VFD1/PS6_9_VFD1/PS7_1_VFD1/PS7_10_VFD1 IO DRAWINGS
A9: PS5_1_VFD1 | B9: PS5_1_VFD1_SI1 | C9: SI1 | E9: PS5_1_EPC1_2 | F9: E-STOP PULLCORD | H9: PS5_3_VFD1 | K9: =_xlfn.CONCAT(H37,"/",H38,"/",H39,"/",H40," IO DRAWINGS") | V9: PS7_11_VFD1/PS7_12_VFD1/PS7_13_VFD1/PS7_14_VFD1 IO DRAWINGS
A10: PS5_1_VFD1 | B10: PS5_1_VFD1_SI2 | C10: SI2 | E10: PS5_1_EPC2 | F10: E-STOP PULLCORD | H10: PS5_4_VFD1 | K10: =_xlfn.CONCAT(H42,"/",H43,"/",H44,"/",H45," IO DRAWINGS") | V10: PS7_2_VFD1/PS7_3_VFD1/PS7_4_VFD1/PS7_5_VFD1 IO DRAWINGS
A11: PS5_1_VFD1 | B11: PS5_1_VFD1_SI3 | C11: SI3 | E11: PS5_1_EPC2_2 | F11: E-STOP PULLCORD | K11: =_xlfn.CONCAT(H47,"/",H48,"/",H49,"/",H50," IO DRAWINGS") | V11: PS7_6_VFD1/PS7_7_VFD1/PS7_8_VFD1/PS7_9_VFD1 IO DRAWINGS
A12: PS5_1_VFD1 | B12: PS5_1_VFD1_SO0 | C12: SO0 | E12: PS5_1_BCN1_R | F12: RED BEACON LIGHT | H12: PS5_5_VFD1 | I12: 602 | K12: =_xlfn.CONCAT(H52,"/",H53,"/",H54,"/",H55," IO DRAWINGS") | V12: UL13_1_VFD1/UL13_10_VFD1/UL13_11_VFD1/UL13_12_VFD1 IO DRAWINGS
A13: PS5_10_VFD1 | B13: PS5_10_VFD1_I0 | C13: I0 | E13: PS5_10_DISC | F13: DISCONNECT AUX | H13: PS5_6_VFD1 | K13: =_xlfn.CONCAT(H57,"/",H58,"/",H59,"/",H60," IO DRAWINGS") | V13: UL13_2_VFD1/UL13_3_VFD1/UL13_4_VFD1/UL13_5_VFD1 IO DRAWINGS
A14: PS5_10_VFD1 | B14: PS5_10_VFD1_I1 | C14: I1 | E14: SPARE | H14: PS5_7_VFD1 | K14: =_xlfn.CONCAT(H62,"/",H63,"/",H64,"/",H65," IO DRAWINGS") | V14: UL13_6_VFD1/UL13_7_VFD1/UL13_8_VFD1/UL13_9A_VFD1 IO DRAWINGS
A15: PS5_10_VFD1 | B15: PS5_10_VFD1_I2 | C15: I2 | E15: PS5_10_TPE1 | F15: TRACKING PHOTOEYE | H15: PS5_8_VFD1 | K15: =_xlfn.CONCAT(H67,"/",H68,"/",H69,"/",H70," IO DRAWINGS") | V15: UL13_9B_VFD1/UL14_10_VFD1/UL14_3_VFD1/UL14_4_VFD1 IO DRAWINGS
A16: PS5_10_VFD1 | B16: PS5_10_VFD1_I3 | C16: I3 | E16: PS5_10_TPE2 | F16: TRACKING PHOTOEYE | K16: =_xlfn.CONCAT(H72,"/",H73,"/",H74,"/",H75," IO DRAWINGS") | V16: UL14_5_VFD1/UL14_6_VFD1/UL14_7_VFD1/UL14_8_VFD1 IO DRAWINGS
A17: PS5_10_VFD1 | B17: PS5_10_VFD1_IO0 | C17: IO0 | E17: PS5_10_JR1_PB | F17: JAM RESET PUSHBUTTON | H17: PS5_9_VFD1 | I17: 603 | K17: =_xlfn.CONCAT(H77,"/",H78,"/",H79,"/",H80," IO DRAWINGS") | V17: UL14_9_VFD1/UL15_10_VFD1/UL15_11_VFD1/UL15_3_VFD1 IO DRAWINGS
A18: PS5_10_VFD1 | B18: PS5_10_VFD1_IO1 | C18: IO1 | E18: PS5_10_JR1_PB_LT | F18: JAM RESET PUSHBUTTON LIGHT | H18: PS6_1_VFD1 | K18: =_xlfn.CONCAT(H82,"/",H83,"/",H84,"/",H85," IO DRAWINGS") | V18: UL15_4_VFD1/UL15_5_VFD1/UL15_6_VFD1/UL15_7_VFD1 IO DRAWINGS
A19: PS5_10_VFD1 | B19: PS5_10_VFD1_SI0 | C19: SI0 | E19: SPARE | H19: PS6_10_VFD1 | K19: =_xlfn.CONCAT(H87,"/",H88,"/",H89,"/",H90," IO DRAWINGS") | V19: UL15_8_VFD1/UL15_9_VFD1/UL16_1_VFD1/UL16_2_VFD1 IO DRAWINGS
A20: PS5_10_VFD1 | B20: PS5_10_VFD1_SI1 | C20: SI1 | E20: SPARE | H20: PS6_11_VFD1 | K20: =_xlfn.CONCAT(H92,"/",H93,"/",H94,"/",H95," IO DRAWINGS") | V20: UL16_3_VFD1/UL16_4_VFD1/UL16_5_VFD1/UL16_6_VFD1 IO DRAWINGS
A21: PS5_10_VFD1 | B21: PS5_10_VFD1_SI2 | C21: SI2 | E21: SPARE | K21: =_xlfn.CONCAT(H97,"/",H98,"/",H99,"/",H100," IO DRAWINGS") | V21: UL16_7_VFD1/UL16_8_VFD1/UL16_9_VFD1/UL17_10_VFD1 IO DRAWINGS
A22: PS5_10_VFD1 | B22: PS5_10_VFD1_SI3 | C22: SI3 | E22: SPARE | H22: PS6_12_VFD1 | I22: 604 | K22: =_xlfn.CONCAT(H102,"/",H103,"/",H104,"/",H105," IO DRAWINGS") | V22: UL17_3_VFD1/UL17_4_VFD1/UL17_5_VFD1/UL17_6_VFD1 IO DRAWINGS
A23: PS5_10_VFD1 | B23: PS5_10_VFD1_SO0 | C23: SO0 | E23: SPARE | H23: PS6_13_VFD1 | K23: =_xlfn.CONCAT(H107,"/",H108,"/",H109,"/",H110," IO DRAWINGS") | V23: UL17_7_VFD1/UL17_8_VFD1/UL17_9_VFD1/UL18_10_VFD1 IO DRAWINGS
A24: PS5_11_VFD1 | B24: PS5_11_VFD1_I0 | C24: I0 | E24: PS5_11_DISC | F24: DISCONNECT AUX | H24: PS6_2_VFD1 | K24: =_xlfn.CONCAT(H112,"/",H113,"/",H114,"/",H115," IO DRAWINGS") | V24: UL18_11_VFD1/UL18_12_VFD1/UL18_13A_VFD1/UL18_13B_VFD1 IO DRAWINGS
A25: PS5_11_VFD1 | B25: PS5_11_VFD1_I1 | C25: I1 | E25: SPARE | H25: PS6_3_VFD1 | K25: =_xlfn.CONCAT(H117,"/",H118,"/",H119,"/",H120," IO DRAWINGS") | V25: UL18_14_VFD1/UL18_15_VFD1/UL18_16_VFD1/UL18_3_VFD1 IO DRAWINGS
A26: PS5_11_VFD1 | B26: PS5_11_VFD1_I2 | C26: I2 | E26: SPARE | K26: =_xlfn.CONCAT(H122,"/",H123,"/",H124,"/",H125," IO DRAWINGS") | V26: UL18_4_VFD1/UL18_5_VFD1/UL18_6_VFD1/UL18_7_VFD1 IO DRAWINGS
A27: PS5_11_VFD1 | B27: PS5_11_VFD1_I3 | C27: I3 | E27: SPARE | H27: PS6_4_VFD1 | I27: 605 | K27: =_xlfn.CONCAT(H127,"/",H128,"/",H129,"/",H130," IO DRAWINGS") | V27: UL18_8_VFD1/UL18_9_VFD1/UL19_1_VFD1/UL19_2_VFD1 IO DRAWINGS
A28: PS5_11_VFD1 | B28: PS5_11_VFD1_IO0 | C28: IO0 | E28: PS5_11_JR1_PB | F28: JAM RESET PUSHBUTTON | H28: PS6_5_VFD1 | K28: =_xlfn.CONCAT(H132,"/",H133,"/",H134,"/",H135," IO DRAWINGS") | V28: UL19_3_VFD1/UL19_4_VFD1/UL19_5_VFD1/UL19_6_VFD1 IO DRAWINGS
A29: PS5_11_VFD1 | B29: PS5_11_VFD1_IO1 | C29: IO1 | E29: PS5_11_JR1_PB_LT | F29: JAM RESET PUSHBUTTON LIGHT | H29: PS6_6_VFD1 | K29: =_xlfn.CONCAT(H137,"/",H138,"/",H139,"/",H140," IO DRAWINGS") | V29: UL19_7_VFD1/UL19_8_VFD1/UL19_9_VFD1/UL20_10_VFD1 IO DRAWINGS
A30: PS5_11_VFD1 | B30: PS5_11_VFD1_SI0 | C30: SI0 | E30: SPARE | H30: PS6_7_VFD1 | K30: =_xlfn.CONCAT(H142,"/",H143,"/",H144,"/",H145," IO DRAWINGS") | V30: UL20_11_VFD1/UL20_3_VFD1/UL20_4_VFD1/UL20_5_VFD1 IO DRAWINGS
A31: PS5_11_VFD1 | B31: PS5_11_VFD1_SI1 | C31: SI1 | E31: SPARE | K31: =_xlfn.CONCAT(H147,"/",H148,"/",H149,"/",H150," IO DRAWINGS") | V31: UL20_6_VFD1/UL20_7_VFD1/UL20_8_VFD1/UL20_9_VFD1 IO DRAWINGS
A32: PS5_11_VFD1 | B32: PS5_11_VFD1_SI2 | C32: SI2 | E32: SPARE | H32: PS6_8_VFD1 | I32: 606 | K32: =_xlfn.CONCAT(H152,"/",H153,"/",H154,"/",H155," IO DRAWINGS") | V32: UL21_10_VFD1/UL21_11_VFD1/UL21_12_VFD1/UL21_13_VFD1 IO DRAWINGS
A33: PS5_11_VFD1 | B33: PS5_11_VFD1_SI3 | C33: SI3 | E33: SPARE | H33: PS6_9_VFD1 | K33: =_xlfn.CONCAT(H157,"/",H158,"/",H159,"/",H160," IO DRAWINGS") | V33: UL21_14A_VFD1/UL21_14B_VFD1/UL21_15_VFD1/UL21_16_VFD1 IO DRAWINGS
A34: PS5_11_VFD1 | B34: PS5_11_VFD1_SO0 | C34: SO0 | E34: PS5_11_BCN1_A | F34: AMBER BEACON LIGHT | H34: PS7_1_VFD1 | K34: =_xlfn.CONCAT(H162,"/",H163,"/",H164,"/",H165," IO DRAWINGS") | V34: UL21_17_VFD1/UL21_3_VFD1/UL21_4_VFD1/UL21_5_VFD1 IO DRAWINGS
A35: PS5_12_VFD1 | B35: PS5_12_VFD1_I0 | C35: I0 | E35: PS5_12_DISC | F35: DISCONNECT AUX | H35: PS7_10_VFD1 | K35: =_xlfn.CONCAT(H167,"/",H168,"/",H169,"/",H170," IO DRAWINGS") | V35: UL21_6_VFD1/UL21_7_VFD1/UL21_8_VFD1/UL21_9_VFD1 IO DRAWINGS
A36: PS5_12_VFD1 | B36: PS5_12_VFD1_I1 | C36: I1 | E36: SPARE | K36: =_xlfn.CONCAT(H172,"/",H173,"/",H174,"/",H175," IO DRAWINGS") | V36: UL13_2_FIO1/UL14_3_FIO1/UL15_3_FIO1/UL16_2_FIO1 IO DRAWINGS
A37: PS5_12_VFD1 | B37: PS5_12_VFD1_I2 | C37: I2 | E37: PS5_12_TPE1 | F37: TRACKING PHOTOEYE | H37: PS7_11_VFD1 | I37: 607 | K37: =_xlfn.CONCAT(H177,"/",H178,"/",H179,"/",H180," IO DRAWINGS") | V37: UL17_3_FIO1/UL18_3_FIO1/UL19_2_FIO1/UL20_3_FIO1 IO DRAWINGS
A38: PS5_12_VFD1 | B38: PS5_12_VFD1_I3 | C38: I3 | E38: PS5_12_TPE2 | F38: TRACKING PHOTOEYE | H38: PS7_12_VFD1 | K38: =_xlfn.CONCAT(H182," IO DRAWINGS") | V38: UL21_3_FIO1 IO DRAWINGS
A39: PS5_12_VFD1 | B39: PS5_12_VFD1_IO0 | C39: IO0 | E39: SPARE | H39: PS7_13_VFD1
A40: PS5_12_VFD1 | B40: PS5_12_VFD1_IO1 | C40: IO1 | E40: SPARE | H40: PS7_14_VFD1
A41: PS5_12_VFD1 | B41: PS5_12_VFD1_SI0 | C41: SI0 | E41: SPARE
A42: PS5_12_VFD1 | B42: PS5_12_VFD1_SI1 | C42: SI1 | E42: SPARE | H42: PS7_2_VFD1 | I42: 608
A43: PS5_12_VFD1 | B43: PS5_12_VFD1_SI2 | C43: SI2 | E43: SPARE | H43: PS7_3_VFD1
A44: PS5_12_VFD1 | B44: PS5_12_VFD1_SI3 | C44: SI3 | E44: SPARE | H44: PS7_4_VFD1
A45: PS5_12_VFD1 | B45: PS5_12_VFD1_SO0 | C45: SO0 | E45: SPARE | H45: PS7_5_VFD1
A46: PS5_13_VFD1 | B46: PS5_13_VFD1_I0 | C46: I0 | E46: PS5_13_DISC | F46: DISCONNECT AUX
A47: PS5_13_VFD1 | B47: PS5_13_VFD1_I1 | C47: I1 | E47: SPARE | H47: PS7_6_VFD1 | I47: 609
A48: PS5_13_VFD1 | B48: PS5_13_VFD1_I2 | C48: I2 | E48: PS5_13_TPE1 | F48: TRACKING PHOTOEYE | H48: PS7_7_VFD1
A49: PS5_13_VFD1 | B49: PS5_13_VFD1_I3 | C49: I3 | E49: SPARE | H49: PS7_8_VFD1
A50: PS5_13_VFD1 | B50: PS5_13_VFD1_IO0 | C50: IO0 | E50: SPARE | H50: PS7_9_VFD1
A51: PS5_13_VFD1 | B51: PS5_13_VFD1_IO1 | C51: IO1 | E51: SPARE
A52: PS5_13_VFD1 | B52: PS5_13_VFD1_SI0 | C52: SI0 | E52: SPARE | H52: UL13_1_VFD1 | I52: 610
A53: PS5_13_VFD1 | B53: PS5_13_VFD1_SI1 | C53: SI1 | E53: SPARE | H53: UL13_10_VFD1
A54: PS5_13_VFD1 | B54: PS5_13_VFD1_SI2 | C54: SI2 | E54: SPARE | H54: UL13_11_VFD1
A55: PS5_13_VFD1 | B55: PS5_13_VFD1_SI3 | C55: SI3 | E55: SPARE | H55: UL13_12_VFD1
A56: PS5_13_VFD1 | B56: PS5_13_VFD1_SO0 | C56: SO0 | E56: SPARE
A57: PS5_2_VFD1 | B57: PS5_2_VFD1_I0 | C57: I0 | E57: PS5_2_DISC | F57: DISCONNECT AUX | H57: UL13_2_VFD1 | I57: 611
A58: PS5_2_VFD1 | B58: PS5_2_VFD1_I1 | C58: I1 | E58: SPARE | H58: UL13_3_VFD1
A59: PS5_2_VFD1 | B59: PS5_2_VFD1_I2 | C59: I2 | E59: PS5_2_TPE1 | F59: TRACKING PHOTOEYE | H59: UL13_4_VFD1
A60: PS5_2_VFD1 | B60: PS5_2_VFD1_I3 | C60: I3 | E60: PS5_2_TPE2 | F60: TRACKING PHOTOEYE | H60: UL13_5_VFD1
A61: PS5_2_VFD1 | B61: PS5_2_VFD1_IO0 | C61: IO0 | E61: PS5_1_S2_PB | F61: START PUSHBUTTON
A62: PS5_2_VFD1 | B62: PS5_2_VFD1_IO1 | C62: IO1 | E62: PS5_1_S2_PB_LT | F62: START PUSHBUTTON LIGHT | H62: UL13_6_VFD1 | I62: 612
A63: PS5_2_VFD1 | B63: PS5_2_VFD1_SI0 | C63: SI0 | E63: SPARE | H63: UL13_7_VFD1
A64: PS5_2_VFD1 | B64: PS5_2_VFD1_SI1 | C64: SI1 | E64: SPARE | H64: UL13_8_VFD1
A65: PS5_2_VFD1 | B65: PS5_2_VFD1_SI2 | C65: SI2 | E65: SPARE | H65: UL13_9A_VFD1
A66: PS5_2_VFD1 | B66: PS5_2_VFD1_SI3 | C66: SI3 | E66: SPARE
A67: PS5_2_VFD1 | B67: PS5_2_VFD1_SO0 | C67: SO0 | E67: SPARE | H67: UL13_9B_VFD1 | I67: 613
A68: PS5_3_VFD1 | B68: PS5_3_VFD1_I0 | C68: I0 | E68: PS5_3_DISC | F68: DISCONNECT AUX | H68: UL14_10_VFD1
A69: PS5_3_VFD1 | B69: PS5_3_VFD1_I1 | C69: I1 | E69: SPARE | H69: UL14_3_VFD1
A70: PS5_3_VFD1 | B70: PS5_3_VFD1_I2 | C70: I2 | E70: SPARE | H70: UL14_4_VFD1
A71: PS5_3_VFD1 | B71: PS5_3_VFD1_I3 | C71: I3 | E71: SPARE
A72: PS5_3_VFD1 | B72: PS5_3_VFD1_IO0 | C72: IO0 | E72: PS5_2_BCN1_A | F72: AMBER BEACON LIGHT | H72: UL14_5_VFD1 | I72: 614
A73: PS5_3_VFD1 | B73: PS5_3_VFD1_IO1 | C73: IO1 | E73: PS5_2_BCN1_R | F73: RED BEACON LIGHT | H73: UL14_6_VFD1
A74: PS5_3_VFD1 | B74: PS5_3_VFD1_SI0 | C74: SI0 | E74: SPARE | H74: UL14_7_VFD1
A75: PS5_3_VFD1 | B75: PS5_3_VFD1_SI1 | C75: SI1 | E75: SPARE | H75: UL14_8_VFD1
A76: PS5_3_VFD1 | B76: PS5_3_VFD1_SI2 | C76: SI2 | E76: SPARE
A77: PS5_3_VFD1 | B77: PS5_3_VFD1_SI3 | C77: SI3 | E77: SPARE | H77: UL14_9_VFD1 | I77: 615
A78: PS5_3_VFD1 | B78: PS5_3_VFD1_SO0 | C78: SO0 | E78: SPARE | H78: UL15_10_VFD1
A79: PS5_4_VFD1 | B79: PS5_4_VFD1_I0 | C79: I0 | E79: PS5_4_DISC | F79: DISCONNECT AUX | H79: UL15_11_VFD1
A80: PS5_4_VFD1 | B80: PS5_4_VFD1_I1 | C80: I1 | E80: SPARE | H80: UL15_3_VFD1
A81: PS5_4_VFD1 | B81: PS5_4_VFD1_I2 | C81: I2 | E81: PS5_4_TPE1 | F81: TRACKING PHOTOEYE
A82: PS5_4_VFD1 | B82: PS5_4_VFD1_I3 | C82: I3 | E82: PS5_4_TPE2 | F82: TRACKING PHOTOEYE | H82: UL15_4_VFD1 | I82: 616
A83: PS5_4_VFD1 | B83: PS5_4_VFD1_IO0 | C83: IO0 | E83: SPARE | H83: UL15_5_VFD1
A84: PS5_4_VFD1 | B84: PS5_4_VFD1_IO1 | C84: IO1 | E84: SPARE | H84: UL15_6_VFD1
A85: PS5_4_VFD1 | B85: PS5_4_VFD1_SI0 | C85: SI0 | E85: SPARE | H85: UL15_7_VFD1
A86: PS5_4_VFD1 | B86: PS5_4_VFD1_SI1 | C86: SI1 | E86: SPARE
A87: PS5_4_VFD1 | B87: PS5_4_VFD1_SI2 | C87: SI2 | E87: SPARE | H87: UL15_8_VFD1 | I87: 617
A88: PS5_4_VFD1 | B88: PS5_4_VFD1_SI3 | C88: SI3 | E88: SPARE | H88: UL15_9_VFD1
A89: PS5_4_VFD1 | B89: PS5_4_VFD1_SO0 | C89: SO0 | E89: SPARE | H89: UL16_1_VFD1
A90: PS5_5_VFD1 | B90: PS5_5_VFD1_I0 | C90: I0 | E90: PS5_5_DISC | F90: DISCONNECT AUX | H90: UL16_2_VFD1
A91: PS5_5_VFD1 | B91: PS5_5_VFD1_I1 | C91: I1 | E91: SPARE
A92: PS5_5_VFD1 | B92: PS5_5_VFD1_I2 | C92: I2 | E92: PS5_5_TPE1 | F92: TRACKING PHOTOEYE | H92: UL16_3_VFD1 | I92: 618
A93: PS5_5_VFD1 | B93: PS5_5_VFD1_I3 | C93: I3 | E93: SPARE | H93: UL16_4_VFD1
A94: PS5_5_VFD1 | B94: PS5_5_VFD1_IO0 | C94: IO0 | E94: SPARE | H94: UL16_5_VFD1
A95: PS5_5_VFD1 | B95: PS5_5_VFD1_IO1 | C95: IO1 | E95: SPARE | H95: UL16_6_VFD1
A96: PS5_5_VFD1 | B96: PS5_5_VFD1_SI0 | C96: SI0 | E96: SPARE
A97: PS5_5_VFD1 | B97: PS5_5_VFD1_SI1 | C97: SI1 | E97: SPARE | H97: UL16_7_VFD1 | I97: 619
A98: PS5_5_VFD1 | B98: PS5_5_VFD1_SI2 | C98: SI2 | E98: SPARE | H98: UL16_8_VFD1
A99: PS5_5_VFD1 | B99: PS5_5_VFD1_SI3 | C99: SI3 | E99: SPARE | H99: UL16_9_VFD1
A100: PS5_5_VFD1 | B100: PS5_5_VFD1_SO0 | C100: SO0 | E100: SPARE | H100: UL17_10_VFD1
...

Sheet DESC_PLC
A1: TAGNAME | B1: TERM | C1: DESCA | D1: DESCB
A2: PS5_1_VFD1 | B2: I0 | C2: PS5_1_DISC | D2: DISCONNECT AUX
A3: PS5_1_VFD1 | B3: I1 | C3: SPARE
A4: PS5_1_VFD1 | B4: I2 | C4: SPARE
A5: PS5_1_VFD1 | B5: I3 | C5: SPARE
A6: PS5_1_VFD1 | B6: IO0 | C6: PS5_1_S1_PB | D6: START PUSHBUTTON
A7: PS5_1_VFD1 | B7: IO1 | C7: PS5_1_S1_PB_LT | D7: START PUSHBUTTON LIGHT
A8: PS5_1_VFD1 | B8: SI0 | C8: PS5_1_EPC1 | D8: E-STOP PULLCORD
A9: PS5_1_VFD1 | B9: SI1 | C9: PS5_1_EPC1_2 | D9: E-STOP PULLCORD
A10: PS5_1_VFD1 | B10: SI2 | C10: PS5_1_EPC2 | D10: E-STOP PULLCORD
A11: PS5_1_VFD1 | B11: SI3 | C11: PS5_1_EPC2_2 | D11: E-STOP PULLCORD
A12: PS5_1_VFD1 | B12: SO0 | C12: PS5_1_BCN1_R | D12: RED BEACON LIGHT
A13: PS5_10_VFD1 | B13: I0 | C13: PS5_10_DISC | D13: DISCONNECT AUX
A14: PS5_10_VFD1 | B14: I1 | C14: SPARE
A15: PS5_10_VFD1 | B15: I2 | C15: PS5_10_TPE1 | D15: TRACKING PHOTOEYE
A16: PS5_10_VFD1 | B16: I3 | C16: PS5_10_TPE2 | D16: TRACKING PHOTOEYE
A17: PS5_10_VFD1 | B17: IO0 | C17: PS5_10_JR1_PB | D17: JAM RESET PUSHBUTTON
A18: PS5_10_VFD1 | B18: IO1 | C18: PS5_10_JR1_PB_LT | D18: JAM RESET PUSHBUTTON LIGHT
A19: PS5_10_VFD1 | B19: SI0 | C19: SPARE
A20: PS5_10_VFD1 | B20: SI1 | C20: SPARE
A21: PS5_10_VFD1 | B21: SI2 | C21: SPARE
A22: PS5_10_VFD1 | B22: SI3 | C22: SPARE
A23: PS5_10_VFD1 | B23: SO0 | C23: SPARE
A24: PS5_11_VFD1 | B24: I0 | C24: PS5_11_DISC | D24: DISCONNECT AUX
A25: PS5_11_VFD1 | B25: I1 | C25: SPARE
A26: PS5_11_VFD1 | B26: I2 | C26: SPARE
A27: PS5_11_VFD1 | B27: I3 | C27: SPARE
A28: PS5_11_VFD1 | B28: IO0 | C28: PS5_11_JR1_PB | D28: JAM RESET PUSHBUTTON
A29: PS5_11_VFD1 | B29: IO1 | C29: PS5_11_JR1_PB_LT | D29: JAM RESET PUSHBUTTON LIGHT
A30: PS5_11_VFD1 | B30: SI0 | C30: SPARE
A31: PS5_11_VFD1 | B31: SI1 | C31: SPARE
A32: PS5_11_VFD1 | B32: SI2 | C32: SPARE
A33: PS5_11_VFD1 | B33: SI3 | C33: SPARE
A34: PS5_11_VFD1 | B34: SO0 | C34: PS5_11_BCN1_A | D34: AMBER BEACON LIGHT
A35: PS5_12_VFD1 | B35: I0 | C35: PS5_12_DISC | D35: DISCONNECT AUX
A36: PS5_12_VFD1 | B36: I1 | C36: SPARE
A37: PS5_12_VFD1 | B37: I2 | C37: PS5_12_TPE1 | D37: TRACKING PHOTOEYE
A38: PS5_12_VFD1 | B38: I3 | C38: PS5_12_TPE2 | D38: TRACKING PHOTOEYE
A39: PS5_12_VFD1 | B39: IO0 | C39: SPARE
A40: PS5_12_VFD1 | B40: IO1 | C40: SPARE
A41: PS5_12_VFD1 | B41: SI0 | C41: SPARE
A42: PS5_12_VFD1 | B42: SI1 | C42: SPARE
A43: PS5_12_VFD1 | B43: SI2 | C43: SPARE
A44: PS5_12_VFD1 | B44: SI3 | C44: SPARE
A45: PS5_12_VFD1 | B45: SO0 | C45: SPARE
A46: PS5_13_VFD1 | B46: I0 | C46: PS5_13_DISC | D46: DISCONNECT AUX
A47: PS5_13_VFD1 | B47: I1 | C47: SPARE
A48: PS5_13_VFD1 | B48: I2 | C48: PS5_13_TPE1 | D48: TRACKING PHOTOEYE
A49: PS5_13_VFD1 | B49: I3 | C49: SPARE
A50: PS5_13_VFD1 | B50: IO0 | C50: SPARE
A51: PS5_13_VFD1 | B51: IO1 | C51: SPARE
A52: PS5_13_VFD1 | B52: SI0 | C52: SPARE
A53: PS5_13_VFD1 | B53: SI1 | C53: SPARE
A54: PS5_13_VFD1 | B54: SI2 | C54: SPARE
A55: PS5_13_VFD1 | B55: SI3 | C55: SPARE
A56: PS5_13_VFD1 | B56: SO0 | C56: SPARE
A57: PS5_2_VFD1 | B57: I0 | C57: PS5_2_DISC | D57: DISCONNECT AUX
A58: PS5_2_VFD1 | B58: I1 | C58: SPARE
A59: PS5_2_VFD1 | B59: I2 | C59: PS5_2_TPE1 | D59: TRACKING PHOTOEYE
A60: PS5_2_VFD1 | B60: I3 | C60: PS5_2_TPE2 | D60: TRACKING PHOTOEYE
A61: PS5_2_VFD1 | B61: IO0 | C61: PS5_1_S2_PB | D61: START PUSHBUTTON
A62: PS5_2_VFD1 | B62: IO1 | C62: PS5_1_S2_PB_LT | D62: START PUSHBUTTON LIGHT
A63: PS5_2_VFD1 | B63: SI0 | C63: SPARE
A64: PS5_2_VFD1 | B64: SI1 | C64: SPARE
A65: PS5_2_VFD1 | B65: SI2 | C65: SPARE
A66: PS5_2_VFD1 | B66: SI3 | C66: SPARE
A67: PS5_2_VFD1 | B67: SO0 | C67: SPARE
A68: PS5_3_VFD1 | B68: I0 | C68: PS5_3_DISC | D68: DISCONNECT AUX
A69: PS5_3_VFD1 | B69: I1 | C69: SPARE
A70: PS5_3_VFD1 | B70: I2 | C70: SPARE
A71: PS5_3_VFD1 | B71: I3 | C71: SPARE
A72: PS5_3_VFD1 | B72: IO0 | C72: PS5_2_BCN1_A | D72: AMBER BEACON LIGHT
A73: PS5_3_VFD1 | B73: IO1 | C73: PS5_2_BCN1_R | D73: RED BEACON LIGHT
A74: PS5_3_VFD1 | B74: SI0 | C74: SPARE
A75: PS5_3_VFD1 | B75: SI1 | C75: SPARE
A76: PS5_3_VFD1 | B76: SI2 | C76: SPARE
A77: PS5_3_VFD1 | B77: SI3 | C77: SPARE
A78: PS5_3_VFD1 | B78: SO0 | C78: SPARE
A79: PS5_4_VFD1 | B79: I0 | C79: PS5_4_DISC | D79: DISCONNECT AUX
A80: PS5_4_VFD1 | B80: I1 | C80: SPARE
A81: PS5_4_VFD1 | B81: I2 | C81: PS5_4_TPE1 | D81: TRACKING PHOTOEYE
A82: PS5_4_VFD1 | B82: I3 | C82: PS5_4_TPE2 | D82: TRACKING PHOTOEYE
A83: PS5_4_VFD1 | B83: IO0 | C83: SPARE
A84: PS5_4_VFD1 | B84: IO1 | C84: SPARE
A85: PS5_4_VFD1 | B85: SI0 | C85: SPARE
A86: PS5_4_VFD1 | B86: SI1 | C86: SPARE
A87: PS5_4_VFD1 | B87: SI2 | C87: SPARE
A88: PS5_4_VFD1 | B88: SI3 | C88: SPARE
A89: PS5_4_VFD1 | B89: SO0 | C89: SPARE
A90: PS5_5_VFD1 | B90: I0 | C90: PS5_5_DISC | D90: DISCONNECT AUX
A91: PS5_5_VFD1 | B91: I1 | C91: SPARE
A92: PS5_5_VFD1 | B92: I2 | C92: PS5_5_TPE1 | D92: TRACKING PHOTOEYE
A93: PS5_5_VFD1 | B93: I3 | C93: SPARE
A94: PS5_5_VFD1 | B94: IO0 | C94: SPARE
A95: PS5_5_VFD1 | B95: IO1 | C95: SPARE
A96: PS5_5_VFD1 | B96: SI0 | C96: SPARE
A97: PS5_5_VFD1 | B97: SI1 | C97: SPARE
A98: PS5_5_VFD1 | B98: SI2 | C98: SPARE
A99: PS5_5_VFD1 | B99: SI3 | C99: SPARE
A100: PS5_5_VFD1 | B100: SO0 | C100: SPARE
...

Sheet NETWORK_PLC
A1: DPM | B1: DPM_IP | C1: Name | D1: PartNumber | E1: IP
A2: UL13_8_DPM1 | B2: 11.200.1.2 | C2: UL13_1_VFD1 | D2: 35S-6D2-P101 | E2: 11.200.1.30
A3: UL13_8_DPM1 | B3: 11.200.1.2 | C3: UL13_2_VFD1 | D3: 35S-6D5-P111 | E3: 11.200.1.31
A4: UL13_8_DPM1 | B4: 11.200.1.2 | C4: UL13_3_VFD1 | D4: 35S-6D3-P101 | E4: 11.200.1.32
A5: UL13_8_DPM1 | B5: 11.200.1.2 | C5: UL13_4_VFD1 | D5: 35S-6D3-P101 | E5: 11.200.1.33
A6: UL13_8_DPM1 | B6: 11.200.1.2 | C6: UL13_5_VFD1 | D6: 35S-6D3-P101 | E6: 11.200.1.34
A7: UL13_8_DPM1 | B7: 11.200.1.2 | C7: UL13_6_VFD1 | D7: 35S-6D3-P101 | E7: 11.200.1.35
A8: UL13_8_DPM1 | B8: 11.200.1.2 | C8: UL13_7_VFD1 | D8: 35S-6D3-P101 | E8: 11.200.1.36
A9: UL13_8_DPM1 | B9: 11.200.1.2 | C9: UL13_8_VFD1 | D9: 35S-6D4-P111 | E9: 11.200.1.37
A10: UL13_8_DPM1 | B10: 11.200.1.2 | C10: UL13_9A_VFD1 | D10: 35S-6D3-P101 | E10: 11.200.1.38
A11: UL13_8_DPM1 | B11: 11.200.1.2 | C11: UL13_9B_VFD1 | D11: 35S-6D3-P101 | E11: 11.200.1.39
A12: UL13_8_DPM1 | B12: 11.200.1.2 | C12: UL13_10_VFD1 | D12: 35S-6D2-P101 | E12: 11.200.1.40
... A161: PS7_7_DPM1 | B161: 11.200.1.10 | C161: PS7_14_VFD1 | D161: 35S-6D5-P111 | E161: 11.200.1.180
