Workbook

Sheet Templates
A2: VFD IO TEMPLATE | C2: FIO IO Template
A3: I0 | C3: IO00
A4: I1 | C4: IO01
A5: I2 | C5: IO02
A6: I3 | C6: IO03
A7: IO0 | C7: IO04
A8: IO1 | C8: IO05
A9: SI0 | C9: IO06
A10: SI1 | C10: IO07
A11: SI2 | C11: IO08
A12: SI3 | C12: IO09
A13: SO0 | C13: IO10
C14: IO11
C15: IO12
C16: IO13
C17: IO14
C18: IO15
C19: IO16

Sheet Devices
H1: Which MCM we assign? | I1: MCM01
A2: PRS3_1ACH_BCN1_A
A3: PRS3_1ACH_BCN1_B
A4: PRS3_1ACH_JPE1
A5: PRS3_1ACH_JR1_PB
A6: PRS3_1ACH_JR1_PB_LT
A7: PRS3_1BCH_BCN1_A
A8: PRS3_1BCH_BCN1_B
A9: PRS3_1BCH_JPE1
A10: PRS3_1BCH_JR1_PB
A11: PRS3_1BCH_JR1_PB_LT
A12: PRS3_2A_BCN1_A
A13: PRS3_2A_DISC
... A506: ULC8_3_VFD1

Sheet Instructions
A2: 1. | B2: Put all device tags to cell A2
A37: 2. | B37: In cell I1 write MCM number
A47: 3. | B47: Click on "Add Disconnects" button.
A57: 4. | B57: Replace all _VFD1_DISC with _DISC. Without this point it will generate IO points for _VFD1_DISC device
A69: 5. | B69: Click on "Split SS station". This will split all _SS to SS_STPB, SS_SPB and SS_STPB_LT
A78: 6. | B78: Click on "Split start PB". This will split all _S and _JR to _S_PB, _S_PB_LT, JR_PB and JR_PB_LT
A87: 7. | B87: Click on "Duplicate EPC Tag". This will add duplicate for all EPC and add _2 to copy
A97: 8. | B97: Click on "Create Assignment table template". This will add new sheet with name "IO Assignment MCM01 and fill with VFD and FIO names and their adresses
A107: 9. | B107: Click on "Assign Devices to VFD". This will add device tags to correspond VFD IO. Works for Disc, TPE, JPE, EPC, ENC
A116: 10. | B116: All Unassigned Pushbuttons and lights fill manually and all devices, that couldn't filled to VFD also will be here.

Sheet IO Assignment MCM04
A1: Controller name | B1: Signal type | C1: Address name | D1: Assigned device | E1: Unassigned Device | K1: MCM04_DESC_v2
A2: PRS3_2A_VFD1 | B2: I0 | C2: PRS3_2A_VFD1_I0 | D2: PRS3_2A_VFD1_DISC
A3: PRS3_2A_VFD1 | B3: I1 | C3: PRS3_2A_VFD1_I1
A4: PRS3_2A_VFD1 | B4: I2 | C4: PRS3_2A_VFD1_I2 | D4: PRS3_2A_JPE1
A5: PRS3_2A_VFD1 | B5: I3 | C5: PRS3_2A_VFD1_I3
A6: PRS3_2A_VFD1 | B6: IO0 | C6: PRS3_2A_VFD1_IO0
A7: PRS3_2A_VFD1 | B7: IO1 | C7: PRS3_2A_VFD1_IO1
A8: PRS3_2A_VFD1 | B8: SI0 | C8: PRS3_2A_VFD1_SI0
A9: PRS3_2A_VFD1 | B9: SI1 | C9: PRS3_2A_VFD1_SI1
A10: PRS3_2A_VFD1 | B10: SI2 | C10: PRS3_2A_VFD1_SI2
A11: PRS3_2A_VFD1 | B11: SI3 | C11: PRS3_2A_VFD1_SI3
A12: PRS3_2A_VFD1 | B12: SO0 | C12: PRS3_2A_VFD1_SO0
A13: PRS3_2B_VFD1 | B13: I0 | C13: PRS3_2B_VFD1_I0 | D13: PRS3_2B_VFD1_DISC
A14: PRS3_2B_VFD1 | B14: I1 | C14: PRS3_2B_VFD1_I1
A15: PRS3_2B_VFD1 | B15: I2 | C15: PRS3_2B_VFD1_I2 | D15: PRS3_2B_JPE1
A16: PRS3_2B_VFD1 | B16: I3 | C16: PRS3_2B_VFD1_I3
A17: PRS3_2B_VFD1 | B17: IO0 | C17: PRS3_2B_VFD1_IO0
A18: PRS3_2B_VFD1 | B18: IO1 | C18: PRS3_2B_VFD1_IO1
A19: PRS3_2B_VFD1 | B19: SI0 | C19: PRS3_2B_VFD1_SI0
A20: PRS3_2B_VFD1 | B20: SI1 | C20: PRS3_2B_VFD1_SI1
A21: PRS3_2B_VFD1 | B21: SI2 | C21: PRS3_2B_VFD1_SI2
A22: PRS3_2B_VFD1 | B22: SI3 | C22: PRS3_2B_VFD1_SI3
A23: PRS3_2B_VFD1 | B23: SO0 | C23: PRS3_2B_VFD1_SO0
A24: PRS3_3A_VFD1 | B24: I0 | C24: PRS3_3A_VFD1_I0 | D24: PRS3_3A_VFD1_DISC
A25: PRS3_3A_VFD1 | B25: I1 | C25: PRS3_3A_VFD1_I1
A26: PRS3_3A_VFD1 | B26: I2 | C26: PRS3_3A_VFD1_I2 | D26: PRS3_3A_JPE1
A27: PRS3_3A_VFD1 | B27: I3 | C27: PRS3_3A_VFD1_I3 | D27: PRS3_3A_JPE2
A28: PRS3_3A_VFD1 | B28: IO0 | C28: PRS3_3A_VFD1_IO0 | D28: PRS3_3A_BCN1_A
A29: PRS3_3A_VFD1 | B29: IO1 | C29: PRS3_3A_VFD1_IO1 | D29: PRS3_3A_BCN1_B
A30: PRS3_3A_VFD1 | B30: SI0 | C30: PRS3_3A_VFD1_SI0
A31: PRS3_3A_VFD1 | B31: SI1 | C31: PRS3_3A_VFD1_SI1
A32: PRS3_3A_VFD1 | B32: SI2 | C32: PRS3_3A_VFD1_SI2
A33: PRS3_3A_VFD1 | B33: SI3 | C33: PRS3_3A_VFD1_SI3
A34: PRS3_3A_VFD1 | B34: SO0 | C34: PRS3_3A_VFD1_SO0
A35: PRS3_3B_VFD1 | B35: I0 | C35: PRS3_3B_VFD1_I0 | D35: PRS3_3B_VFD1_DISC
A36: PRS3_3B_VFD1 | B36: I1 | C36: PRS3_3B_VFD1_I1
A37: PRS3_3B_VFD1 | B37: I2 | C37: PRS3_3B_VFD1_I2 | D37: PRS3_3B_JPE1
A38: PRS3_3B_VFD1 | B38: I3 | C38: PRS3_3B_VFD1_I3 | D38: PRS3_3B_JPE2
A39: PRS3_3B_VFD1 | B39: IO0 | C39: PRS3_3B_VFD1_IO0 | D39: PRS3_3B_BCN1_A
A40: PRS3_3B_VFD1 | B40: IO1 | C40: PRS3_3B_VFD1_IO1 | D40: PRS3_3B_BCN1_B
A41: PRS3_3B_VFD1 | B41: SI0 | C41: PRS3_3B_VFD1_SI0
A42: PRS3_3B_VFD1 | B42: SI1 | C42: PRS3_3B_VFD1_SI1
A43: PRS3_3B_VFD1 | B43: SI2 | C43: PRS3_3B_VFD1_SI2
A44: PRS3_3B_VFD1 | B44: SI3 | C44: PRS3_3B_VFD1_SI3
A45: PRS3_3B_VFD1 | B45: SO0 | C45: PRS3_3B_VFD1_SO0
A46: PRS3_5_VFD1 | B46: I0 | C46: PRS3_5_VFD1_I0 | D46: PRS3_5_VFD1_DISC
A47: PRS3_5_VFD1 | B47: I1 | C47: PRS3_5_VFD1_I1
A48: PRS3_5_VFD1 | B48: I2 | C48: PRS3_5_VFD1_I2 | D48: PRS3_5_JPE1
A49: PRS3_5_VFD1 | B49: I3 | C49: PRS3_5_VFD1_I3 | D49: PRS3_5_JPE2
A50: PRS3_5_VFD1 | B50: IO0 | C50: PRS3_5_VFD1_IO0
A51: PRS3_5_VFD1 | B51: IO1 | C51: PRS3_5_VFD1_IO1
A52: PRS3_5_VFD1 | B52: SI0 | C52: PRS3_5_VFD1_SI0 | D52: PRS3_5_EPC1
A53: PRS3_5_VFD1 | B53: SI1 | C53: PRS3_5_VFD1_SI1 | D53: PRS3_5_EPC1_2
A54: PRS3_5_VFD1 | B54: SI2 | C54: PRS3_5_VFD1_SI2 | D54: PRS3_5_EPC2
A55: PRS3_5_VFD1 | B55: SI3 | C55: PRS3_5_VFD1_SI3 | D55: PRS3_5_EPC2_2
A56: PRS3_5_VFD1 | B56: SO0 | C56: PRS3_5_VFD1_SO0
A57: PRS4_1_VFD1 | B57: I0 | C57: PRS4_1_VFD1_I0 | D57: PRS4_1_VFD1_DISC
A58: PRS4_1_VFD1 | B58: I1 | C58: PRS4_1_VFD1_I1 | D58: PRS4_1_ENC1
A59: PRS4_1_VFD1 | B59: I2 | C59: PRS4_1_VFD1_I2 | D59: PRS4_1_JPE1
A60: PRS4_1_VFD1 | B60: I3 | C60: PRS4_1_VFD1_I3
A61: PRS4_1_VFD1 | B61: IO0 | C61: PRS4_1_VFD1_IO0
A62: PRS4_1_VFD1 | B62: IO1 | C62: PRS4_1_VFD1_IO1
A63: PRS4_1_VFD1 | B63: SI0 | C63: PRS4_1_VFD1_SI0 | D63: PRS4_1_EPC1
A64: PRS4_1_VFD1 | B64: SI1 | C64: PRS4_1_VFD1_SI1 | D64: PRS4_1_EPC1_2
A65: PRS4_1_VFD1 | B65: SI2 | C65: PRS4_1_VFD1_SI2 | D65: PRS4_1_EPC2
A66: PRS4_1_VFD1 | B66: SI3 | C66: PRS4_1_VFD1_SI3 | D66: PRS4_1_EPC2_2
A67: PRS4_1_VFD1 | B67: SO0 | C67: PRS4_1_VFD1_SO0
A68: PRS4_2_VFD1 | B68: I0 | C68: PRS4_2_VFD1_I0 | D68: PRS4_2_VFD1_DISC
A69: PRS4_2_VFD1 | B69: I1 | C69: PRS4_2_VFD1_I1 | D69: PRS4_2_ENC1
A70: PRS4_2_VFD1 | B70: I2 | C70: PRS4_2_VFD1_I2 | D70: PRS4_2_JPE1
A71: PRS4_2_VFD1 | B71: I3 | C71: PRS4_2_VFD1_I3 | D71: PRS4_2_JPE2
A72: PRS4_2_VFD1 | B72: IO0 | C72: PRS4_2_VFD1_IO0
A73: PRS4_2_VFD1 | B73: IO1 | C73: PRS4_2_VFD1_IO1
A74: PRS4_2_VFD1 | B74: SI0 | C74: PRS4_2_VFD1_SI0 | D74: PRS4_2_EPC1
A75: PRS4_2_VFD1 | B75: SI1 | C75: PRS4_2_VFD1_SI1 | D75: PRS4_2_EPC1_2
A76: PRS4_2_VFD1 | B76: SI2 | C76: PRS4_2_VFD1_SI2 | D76: PRS4_2_EPC2
A77: PRS4_2_VFD1 | B77: SI3 | C77: PRS4_2_VFD1_SI3 | D77: PRS4_2_EPC2_2
A78: PRS4_2_VFD1 | B78: SO0 | C78: PRS4_2_VFD1_SO0
A79: PS10_1_VFD1 | B79: I0 | C79: PS10_1_VFD1_I0 | D79: PS10_1_VFD1_DISC
A80: PS10_1_VFD1 | B80: I1 | C80: PS10_1_VFD1_I1 | D80: PS10_1_ENC1
A81: PS10_1_VFD1 | B81: I2 | C81: PS10_1_VFD1_I2 | D81: PS10_1_JPE1
A82: PS10_1_VFD1 | B82: I3 | C82: PS10_1_VFD1_I3 | D82: PS10_1_JPE2
A83: PS10_1_VFD1 | B83: IO0 | C83: PS10_1_VFD1_IO0 | D83: PS10_1_BCN1_A
A84: PS10_1_VFD1 | B84: IO1 | C84: PS10_1_VFD1_IO1 | D84: PS10_1_BCN1_R
A85: PS10_1_VFD1 | B85: SI0 | C85: PS10_1_VFD1_SI0 | D85: PS10_1_EPC1
A86: PS10_1_VFD1 | B86: SI1 | C86: PS10_1_VFD1_SI1 | D86: PS10_1_EPC1_2
A87: PS10_1_VFD1 | B87: SI2 | C87: PS10_1_VFD1_SI2
A88: PS10_1_VFD1 | B88: SI3 | C88: PS10_1_VFD1_SI3
A89: PS10_1_VFD1 | B89: SO0 | C89: PS10_1_VFD1_SO0
A90: PS10_2_VFD1 | B90: I0 | C90: PS10_2_VFD1_I0 | D90: PS10_2_VFD1_DISC
A91: PS10_3_VFD1 | B91: I0 | C91: PS10_3_VFD1_I0 | D91: PS10_3_VFD1_DISC
A92: PS10_5_VFD1 | B92: I0 | C92: PS10_5_VFD1_I0 | D92: PS10_5_VFD1_DISC
A93: PS10_5_SIO1 | B93: SI0 | C93: =_xlfn.CONCAT(A93,"_",B93) | D93: PS10_5_EPC1
A94: PS10_5_SIO1 | B94: SI1 | C94: =_xlfn.CONCAT(A94,"_",B94) | D94: PS10_5_EPC1_2
A95: PS10_5_SIO1 | B95: SI2 | C95: =_xlfn.CONCAT(A95,"_",B95)
A96: PS10_5_SIO1 | B96: SI3 | C96: =_xlfn.CONCAT(A96,"_",B96)
A97: PS10_5_SIO1 | B97: SI4 | C97: =_xlfn.CONCAT(A97,"_",B97)
A98: PS10_5_SIO1 | B98: SI5 | C98: =_xlfn.CONCAT(A98,"_",B98)
A99: PS10_5_SIO1 | B99: SI6 | C99: =_xlfn.CONCAT(A99,"_",B99)
A100: PS10_5_SIO1 | B100: SI7 | C100: =_xlfn.CONCAT(A100,"_",B100)
...

Sheet NETWORK
B1: MCM04 | D1: RING | F1: STAR
A2: SLOT0 | B2: 1756-L83ES | C2: IP | D2: DPM | E2: IP | F2: VFD NAME | G2: VFD HP | H2: VFD PART NUMBER | I2: IP | J2: HP | O2: PRS3_5_DPM1 | Q2: LOOP | R2: PORT 1 | S2: PORT 2
A3: SLOT1 | B3: 1756-N2 | D3: PRS3_5_DPM1 | E3: 11.200.1.2 | F3: PRS4_1_VFD1 | G3: 7.5 | H3: =VLOOKUP(G3,'[1]PART NUMBER'!$A$2:$B$9,2,FALSE) | I3: 11.200.1.30 | J3: =VLOOKUP(H3,'Part number'!$A$1:$B$13,2,0) | O3: PS11_7_DPM1 | Q3: MCM04
A4: SLOT2 | B4: 1756-EN4TR | C4: 11.200.1.1 | F4: PRS4_2_VFD1 | G4: 5 | H4: =VLOOKUP(G4,'[1]PART NUMBER'!$A$2:$B$9,2,FALSE) | I4: 11.200.1.31 | J4: =VLOOKUP(H4,'Part number'!$A$1:$B$13,2,0) | O4: PS10_2_DPM1 | Q4: PS10_2_DPM1 | R4: =_xlfn.CONCAT("FROM ",Q3," TO ", Q4) | S4: =_xlfn.CONCAT("FROM ",Q4," TO ", Q5)
A5: SLOT3 | B5: 1756-N2 | F5: PRS3_2B_VFD1 | G5: 2 | H5: =VLOOKUP(G5,'[1]PART NUMBER'!$A$2:$B$9,2,FALSE) | I5: 11.200.1.32 | J5: =VLOOKUP(H5,'Part number'!$A$1:$B$13,2,0) | O5: FL1034_2_DPM1 | Q5: VSA_DPM3 | R5: =_xlfn.CONCAT("FROM ",Q4," TO ", Q5) | S5: =_xlfn.CONCAT("FROM ",Q5," TO ", Q6)
A6: SLOT4 | B6: 1756-N2 | F6: PRS3_3B_VFD1 | G6: 2 | H6: =VLOOKUP(G6,'[1]PART NUMBER'!$A$2:$B$9,2,FALSE) | I6: 11.200.1.33 | J6: =VLOOKUP(H6,'Part number'!$A$1:$B$13,2,0) | O6: FL3016_2_DPM1 | Q6: VSA_DPM2 | R6: =_xlfn.CONCAT("FROM ",Q5," TO ", Q6) | S6: =_xlfn.CONCAT("FROM ",Q6," TO ", Q7)
A7: SLOT5 | B7: 1756-IB16 | F7: PRS3_2A_VFD1 | G7: 3 | H7: =VLOOKUP(G7,'[1]PART NUMBER'!$A$2:$B$9,2,FALSE) | I7: 11.200.1.34 | J7: =VLOOKUP(H7,'Part number'!$A$1:$B$13,2,0) | O7: VSA_DPM1 | Q7: FL1034_2_DPM1 | R7: =_xlfn.CONCAT("FROM ",Q6," TO ", Q7) | S7: =_xlfn.CONCAT("FROM ",Q7," TO ", Q8)
A8: SLOT6 | B8: 1756-OB16E | F8: PRS3_3A_VFD1 | G8: 2 | H8: =VLOOKUP(G8,'[1]PART NUMBER'!$A$2:$B$9,2,FALSE) | I8: 11.200.1.35 | J8: =VLOOKUP(H8,'Part number'!$A$1:$B$13,2,0) | O8: VSA_DPM2 | Q8: VSA_DPM1 | R8: =_xlfn.CONCAT("FROM ",Q7," TO ", Q8) | S8: =_xlfn.CONCAT("FROM ",Q8," TO ", Q9)
A9: SLOT7 | B9: 1756-IB16S | F9: PRS3_5_VFD1 | G9: 2 | H9: =VLOOKUP(G9,'[1]PART NUMBER'!$A$2:$B$9,2,FALSE) | I9: 11.200.1.36 | J9: =VLOOKUP(H9,'Part number'!$A$1:$B$13,2,0) | O9: VSA_DPM3 | Q9: VSC_DPM1 | R9: =_xlfn.CONCAT("FROM ",Q8," TO ", Q9) | S9: =_xlfn.CONCAT("FROM ",Q9," TO ", Q10)
A10: SLOT8 | B10: 1756-N2 | F10: PRS3_6_MDR1 | G10: MDR | H10: MDR | I10: 11.200.1.230 | J10: MDR | O10: VSC_DPM1 | Q10: FL3016_2_DPM1 | R10: =_xlfn.CONCAT("FROM ",Q9," TO ", Q10) | S10: =_xlfn.CONCAT("FROM ",Q10," TO ", Q11)
A11: SLOT9 | B11: 1756-N2 | F11: PS11_1_VFD1 | G11: 5 | H11: =VLOOKUP(G11,'[1]PART NUMBER'!$A$2:$B$20,2,FALSE) | I11: 11.200.1.37 | J11: =VLOOKUP(H11,'Part number'!$A$1:$B$13,2,0) | O11: VSC_DPM2 | Q11: VSC_DPM2 | R11: =_xlfn.CONCAT("FROM ",Q10," TO ", Q11) | S11: =_xlfn.CONCAT("FROM ",Q11," TO ", Q12)
F12: PS11_2_VFD1 | G12: 5 | H12: =VLOOKUP(G12,'[1]PART NUMBER'!$A$2:$B$20,2,FALSE) | I12: 11.200.1.38 | J12: =VLOOKUP(H12,'Part number'!$A$1:$B$13,2,0) | O12: VSC_DPM3 | Q12: VSC_DPM3 | R12: =_xlfn.CONCAT("FROM ",Q11," TO ", Q12) | S12: =_xlfn.CONCAT("FROM ",Q12," TO ", Q13)
F13: PS11_3_VFD1 | G13: 10 | H13: =VLOOKUP(G13,'[1]PART NUMBER'!$A$2:$B$20,2,FALSE) | I13: 11.200.1.39 | J13: =VLOOKUP(H13,'Part number'!$A$1:$B$13,2,0) | Q13: PS11_7_DPM1 | R13: =_xlfn.CONCAT("FROM ",Q12," TO ", Q13) | S13: =_xlfn.CONCAT("FROM ",Q13," TO ", Q14)
A14: DPM COUNT | B14: 11 | F14: PS11_4_VFD1 | G14: 10 | H14: =VLOOKUP(G14,'[1]PART NUMBER'!$A$2:$B$20,2,FALSE) | I14: 11.200.1.40 | J14: =VLOOKUP(H14,'Part number'!$A$1:$B$13,2,0) | Q14: PRS3_5_DPM1 | R14: =_xlfn.CONCAT("FROM ",Q13," TO ", Q14) | S14: =_xlfn.CONCAT("FROM ",Q14," TO ", Q15)
A15: FIO COUNT | B15: 48 | F15: PRS3_2A_FIO1 | G15: FIO | H15: =VLOOKUP(G15,'[1]PART NUMBER'!$A$2:$B$20,2,FALSE) | I15: 11.200.1.41 | J15: =VLOOKUP(H16,'Part number'!$A$1:$B$13,2,0) | Q15: MCM04
F16: PRS3_2B_FIO1 | G16: FIO | H16: =VLOOKUP(G16,'[1]PART NUMBER'!$A$2:$B$20,2,FALSE) | I16: 11.200.1.42 | J16: =VLOOKUP(H17,'Part number'!$A$1:$B$13,2,0)
F17: PRS3_4CH_FIO1 | G17: FIO | H17: =VLOOKUP(G17,'[1]PART NUMBER'!$A$2:$B$20,2,FALSE) | I17: 11.200.1.43 | J17: =VLOOKUP(H18,'Part number'!$A$1:$B$13,2,0)
F18: PRS4_2_FIO1 | G18: FIO | H18: =VLOOKUP(G18,'[1]PART NUMBER'!$A$2:$B$20,2,FALSE) | I18: 11.200.1.44 | J18: =VLOOKUP(H19,'Part number'!$A$1:$B$13,2,0) | Q18: MCM04
A19: PRS3_2A_VFD1 | B19: =_xlfn.XLOOKUP(A19,$F$3:$F$199,$H$3:$H$199, "NOT FOUND") | C19: 35S-6D3-P101 | F19: PS11_1_FIO1 | G19: FIO | H19: =VLOOKUP(G19,'[1]PART NUMBER'!$A$2:$B$20,2,FALSE) | I19: 11.200.1.45 | J19: =VLOOKUP(H20,'Part number'!$A$1:$B$13,2,0) | Q19: PS10_2_DPM1 | R19: FROM MCM04 TO PS10_2_DPM1 | S19: FROM PS10_2_DPM1 TO VSA_DPM3
A20: PRS3_2B_VFD1 | B20: =_xlfn.XLOOKUP(A20,$F$3:$F$199,$H$3:$H$199, "NOT FOUND") | C20: 35S-6D2-P101 | F20: PS11_3_FIO1 | G20: FIO | H20: =VLOOKUP(G20,'[1]PART NUMBER'!$A$2:$B$20,2,FALSE) | I20: 11.200.1.46 | J20: =VLOOKUP(H21,'Part number'!$A$1:$B$13,2,0) | Q20: VSA_DPM3 | R20: FROM PS10_2_DPM1 TO VSA_DPM3 | S20: FROM VSA_DPM3 TO VSA_DPM2
A21: PRS3_3A_VFD1 | B21: =_xlfn.XLOOKUP(A21,$F$3:$F$199,$H$3:$H$199, "NOT FOUND") | C21: 35S-6D2-P101 | F21: PS11_4_FIO1 | G21: FIO | H21: =VLOOKUP(G21,'[1]PART NUMBER'!$A$2:$B$20,2,FALSE) | I21: 11.200.1.47 | J21: FIO | Q21: VSA_DPM2 | R21: FROM VSA_DPM3 TO VSA_DPM2 | S21: FROM VSA_DPM2 TO FL1034_2_DPM1
A22: PRS3_3B_VFD1 | B22: =_xlfn.XLOOKUP(A22,$F$3:$F$199,$H$3:$H$199, "NOT FOUND") | C22: 35S-6D2-P101 | D22: PS11_7_DPM1 | E22: 11.200.1.3 | F22: PS11_6_VFD1 | G22: 10 | H22: =VLOOKUP(G22,'[1]PART NUMBER'!$A$2:$B$20,2,FALSE) | I22: 11.200.1.48 | J22: =VLOOKUP(H22,'Part number'!$A$1:$B$13,2,0) | Q22: FL1034_2_DPM1 | R22: FROM VSA_DPM2 TO FL1034_2_DPM1 | S22: FROM FL1034_2_DPM1 TO VSA_DPM1
A23: PRS3_5_VFD1 | B23: =_xlfn.XLOOKUP(A23,$F$3:$F$199,$H$3:$H$199, "NOT FOUND") | C23: 35S-6D2-P101 | F23: PS11_7_VFD1 | G23: 20 | H23: =VLOOKUP(G23,'[1]PART NUMBER'!$A$2:$B$20,2,FALSE) | I23: 11.200.1.49 | J23: =VLOOKUP(H23,'Part number'!$A$1:$B$13,2,0) | Q23: VSA_DPM1 | R23: FROM FL1034_2_DPM1 TO VSA_DPM1 | S23: FROM VSA_DPM1 TO VSC_DPM1
A24: PRS4_1_VFD1 | B24: =_xlfn.XLOOKUP(A24,$F$3:$F$199,$H$3:$H$199, "NOT FOUND") | C24: 35S-6D5-P111 | F24: PS11_8_VFD1 | G24: 15 | H24: =VLOOKUP(G24,'[1]PART NUMBER'!$A$2:$B$20,2,FALSE) | I24: 11.200.1.50 | J24: =VLOOKUP(H24,'Part number'!$A$1:$B$13,2,0) | Q24: VSC_DPM1 | R24: FROM VSA_DPM1 TO VSC_DPM1 | S24: FROM VSC_DPM1 TO FL3016_2_DPM1
A25: PRS4_2_VFD1 | B25: =_xlfn.XLOOKUP(A25,$F$3:$F$199,$H$3:$H$199, "NOT FOUND") | C25: 35S-6D4-P111 | F25: PS11_9_VFD1 | G25: 15 | H25: =VLOOKUP(G25,'[1]PART NUMBER'!$A$2:$B$20,2,FALSE) | I25: 11.200.1.51 | J25: =VLOOKUP(H25,'Part number'!$A$1:$B$13,2,0) | Q25: FL3016_2_DPM1 | R25: FROM VSC_DPM1 TO FL3016_2_DPM1 | S25: FROM FL3016_2_DPM1 TO VSC_DPM2
A26: PS10_1_VFD1 | B26: =_xlfn.XLOOKUP(A26,$F$3:$F$199,$H$3:$H$199, "NOT FOUND") | C26: 35S-6D4-P111 | F26: PS11_11_VFD1 | G26: 15 | H26: =VLOOKUP(G26,'[1]PART NUMBER'!$A$2:$B$20,2,FALSE) | I26: 11.200.1.52 | J26: =VLOOKUP(H26,'Part number'!$A$1:$B$13,2,0) | Q26: VSC_DPM2 | R26: FROM FL3016_2_DPM1 TO VSC_DPM2 | S26: FROM VSC_DPM2 TO VSC_DPM3
A27: PS10_2_VFD1 | B27: =_xlfn.XLOOKUP(A27,$F$3:$F$199,$H$3:$H$199, "NOT FOUND") | C27: 25B-D024N104 | F27: PS11_7_FIO1 | G27: FIO | H27: =VLOOKUP(G27,'[1]PART NUMBER'!$A$2:$B$20,2,FALSE) | I27: 11.200.1.53 | J27: =VLOOKUP(H27,'Part number'!$A$1:$B$13,2,0) | Q27: VSC_DPM3 | R27: FROM VSC_DPM2 TO VSC_DPM3 | S27: FROM VSC_DPM3 TO PS11_7_DPM1
A28: PS10_3_VFD1 | B28: =_xlfn.XLOOKUP(A28,$F$3:$F$199,$H$3:$H$199, "NOT FOUND") | C28: 25B-D024N104 | F28: PS11_8_SIO1 | G28: SIO | H28: 0980SSL3131-121-007D-202 | I28: 11.200.1.54 | J28: SIO | Q28: PS11_7_DPM1 | R28: FROM VSC_DPM3 TO PS11_7_DPM1 | S28: FROM PS11_7_DPM1 TO PRS3_5_DPM1
A29: PS10_5_VFD1 | B29: =_xlfn.XLOOKUP(A29,$F$3:$F$199,$H$3:$H$199, "NOT FOUND") | C29: 25B-D024N104 | F29: PS11_11_FIO1 | G29: FIO | H29: =VLOOKUP(G29,'[1]PART NUMBER'!$A$2:$B$20,2,FALSE) | I29: 11.200.1.55 | J29: =VLOOKUP(H29,'Part number'!$A$1:$B$13,2,0) | Q29: PRS3_5_DPM1 | R29: FROM PS11_7_DPM1 TO PRS3_5_DPM1 | S29: FROM PRS3_5_DPM1 TO MCM04
A30: PS11_1_VFD1 | B30: =_xlfn.XLOOKUP(A30,$F$3:$F$199,$H$3:$H$199, "NOT FOUND") | C30: 35S-6D4-P111 | F30: PS11_11_FIO2 | G30: FIO | H30: =VLOOKUP(G30,'[1]PART NUMBER'!$A$2:$B$20,2,FALSE) | I30: 11.200.1.93 | J30: =VLOOKUP(H30,'Part number'!$A$1:$B$13,2,0) | K30: add | L30: 45796 | Q30: MCM04
A31: PS11_2_VFD1 | B31: =_xlfn.XLOOKUP(A31,$F$3:$F$199,$H$3:$H$199, "NOT FOUND") | C31: 35S-6D4-P111 | F31: PS11_11_FIO3 | G31: FIO | H31: =VLOOKUP(G31,'[1]PART NUMBER'!$A$2:$B$20,2,FALSE) | I31: 11.200.1.94 | J31: =VLOOKUP(H31,'Part number'!$A$1:$B$13,2,0) | K31: add | L31: 45796
A32: PS11_3_VFD1 | B32: =_xlfn.XLOOKUP(A32,$F$3:$F$199,$H$3:$H$199, "NOT FOUND") | C32: 35S-6D6-P111 | F32: PDP9_FIO1 | G32: FIO | H32: =VLOOKUP(G32,'[1]PART NUMBER'!$A$2:$B$20,2,FALSE) | I32: 11.200.1.220 | J32: =VLOOKUP(H32,'Part number'!$A$1:$B$13,2,0) | K32: ADDED | L32: 45802
A33: PS11_4_VFD1 | B33: =_xlfn.XLOOKUP(A33,$F$3:$F$199,$H$3:$H$199, "NOT FOUND") | C33: 35S-6D6-P111 | F33: PDP9_PMM1 | G33: PMM | H33: 1420-V2-ENT | I33: 11.200.1.221 | J33: PMM | K33: ADDED | L33: 45803
A34: PS11_6_VFD1 | B34: =_xlfn.XLOOKUP(A34,$F$3:$F$199,$H$3:$H$199, "NOT FOUND") | C34: 35S-6D6-P111 | F34: PDP10_FIO1 | G34: FIO | H34: =VLOOKUP(G34,'[1]PART NUMBER'!$A$2:$B$20,2,FALSE) | I34: 11.200.1.222 | J34: FIO | K34: ADDED | L34: 45804
A35: PS11_7_VFD1 | B35: =_xlfn.XLOOKUP(A35,$F$3:$F$199,$H$3:$H$199, "NOT FOUND") | C35: 25B-D030N104 | F35: PDP10_PMM1 | G35: PMM | H35: 1420-V2-ENT | I35: 11.200.1.223 | J35: PMM | K35: ADDED | L35: 45805
A36: PS11_8_VFD1 | B36: =_xlfn.XLOOKUP(A36,$F$3:$F$199,$H$3:$H$199, "NOT FOUND") | C36: 25B-D024N104 | D36: PS10_2_DPM1 | E36: 11.200.1.4 | F36: PS10_1_VFD1 | G36: 5 | H36: =VLOOKUP(G36,'[1]PART NUMBER'!$A$2:$B$20,2,FALSE) | I36: 11.200.1.56 | J36: =VLOOKUP(H36,'Part number'!$A$1:$B$13,2,0)
A37: PS11_9_VFD1 | B37: =_xlfn.XLOOKUP(A37,$F$3:$F$199,$H$3:$H$199, "NOT FOUND") | C37: 25B-D024N104 | F37: PS10_2_VFD1 | G37: 15 | H37: =VLOOKUP(G37,'[1]PART NUMBER'!$A$2:$B$20,2,FALSE) | I37: 11.200.1.57 | J37: =VLOOKUP(H37,'Part number'!$A$1:$B$13,2,0)
A38: PS11_11_VFD1 | B38: =_xlfn.XLOOKUP(A38,$F$3:$F$199,$H$3:$H$199, "NOT FOUND") | C38: 25B-D024N104 | F38: PS10_3_VFD1 | G38: 15 | H38: =VLOOKUP(G38,'[1]PART NUMBER'!$A$2:$B$20,2,FALSE) | I38: 11.200.1.58 | J38: =VLOOKUP(H38,'Part number'!$A$1:$B$13,2,0)
A39: ULC5_3_VFD1 | B39: =_xlfn.XLOOKUP(A39,$F$3:$F$199,$H$3:$H$199, "NOT FOUND") | C39: 35S-6D2-P101 | F39: PS10_5_VFD1 | G39: 15 | H39: =VLOOKUP(G39,'[1]PART NUMBER'!$A$2:$B$20,2,FALSE) | I39: 11.200.1.59 | J39: =VLOOKUP(H39,'Part number'!$A$1:$B$13,2,0)
A40: ULC6_3_VFD1 | B40: =_xlfn.XLOOKUP(A40,$F$3:$F$199,$H$3:$H$199, "NOT FOUND") | C40: 35S-6D2-P101 | F40: ULC5_1_ST1 | G40: TIPPER | H40: =VLOOKUP(G40,'[1]PART NUMBER'!$A$2:$B$20,2,FALSE) | I40: 11.200.1.60 | J40: =VLOOKUP(H40,'Part number'!$A$1:$B$13,2,0)
A41: ULC7_3_VFD1 | B41: =_xlfn.XLOOKUP(A41,$F$3:$F$199,$H$3:$H$199, "NOT FOUND") | C41: 35S-6D2-P101 | F41: ULC5_3_VFD1 | G41: 2 | H41: =VLOOKUP(G41,'[1]PART NUMBER'!$A$2:$B$20,2,FALSE) | I41: 11.200.1.61 | J41: =VLOOKUP(H41,'Part number'!$A$1:$B$13,2,0)
A42: ULC8_3_VFD1 | B42: =_xlfn.XLOOKUP(A42,$F$3:$F$199,$H$3:$H$199, "NOT FOUND") | C42: 35S-6D2-P101 | F42: ULC6_1_ST1 | G42: TIPPER | H42: =VLOOKUP(G42,'[1]PART NUMBER'!$A$2:$B$20,2,FALSE) | I42: 11.200.1.62 | J42: =VLOOKUP(H42,'Part number'!$A$1:$B$13,2,0)
F43: ULC6_3_VFD1 | G43: 2 | H43: =VLOOKUP(G43,'[1]PART NUMBER'!$A$2:$B$20,2,FALSE) | I43: 11.200.1.63 | J43: =VLOOKUP(H43,'Part number'!$A$1:$B$13,2,0)
F44: ULC7_1_ST1 | G44: TIPPER | H44: =VLOOKUP(G44,'[1]PART NUMBER'!$A$2:$B$20,2,FALSE) | I44: 11.200.1.64 | J44: =VLOOKUP(H44,'Part number'!$A$1:$B$13,2,0)
F45: ULC7_3_VFD1 | G45: 2 | H45: =VLOOKUP(G45,'[1]PART NUMBER'!$A$2:$B$20,2,FALSE) | I45: 11.200.1.65 | J45: =VLOOKUP(H45,'Part number'!$A$1:$B$13,2,0)
F46: ULC8_1_ST1 | G46: TIPPER | H46: =VLOOKUP(G46,'[1]PART NUMBER'!$A$2:$B$20,2,FALSE) | I46: 11.200.1.66 | J46: =VLOOKUP(H46,'Part number'!$A$1:$B$13,2,0)
F47: ULC8_3_VFD1 | G47: 2 | H47: =VLOOKUP(G47,'[1]PART NUMBER'!$A$2:$B$20,2,FALSE) | I47: 11.200.1.67 | J47: =VLOOKUP(H47,'Part number'!$A$1:$B$13,2,0)
F48: PS10_1_FIO1 | G48: FIO | H48: =VLOOKUP(G48,'[1]PART NUMBER'!$A$2:$B$20,2,FALSE) | I48: 11.200.1.68 | J48: =VLOOKUP(H48,'Part number'!$A$1:$B$13,2,0)
F49: PS10_5_FIO1 | G49: FIO | H49: =VLOOKUP(G49,'[1]PART NUMBER'!$A$2:$B$20,2,FALSE) | I49: 11.200.1.69 | J49: =VLOOKUP(H49,'Part number'!$A$1:$B$13,2,0)
F50: PS10_5_FIO2 | G50: FIO | H50: =VLOOKUP(G50,'[1]PART NUMBER'!$A$2:$B$20,2,FALSE) | I50: 11.200.1.70 | J50: =VLOOKUP(H50,'Part number'!$A$1:$B$13,2,0)
F51: PS10_5_SIO1 | G51: SIO | H51: 0980SSL3131-121-007D-202 | I51: 11.200.1.71 | J51: SIO
D52: FL1034_2_DPM1 | E52: 11.200.1.5 | F52: FL1014_2_VFD1 | G52: 5 | H52: =VLOOKUP(G52,'[1]PART NUMBER'!$A$2:$B$20,2,FALSE) | I52: 11.200.1.72 | J52: =VLOOKUP(H52,'Part number'!$A$1:$B$13,2,0)
F53: FL1014_4_EX1 | G53: EXTENDO | H53: =VLOOKUP(G53,'[1]PART NUMBER'!$A$2:$B$20,2,FALSE) | I53: 11.200.1.73 | J53: =VLOOKUP(H53,'Part number'!$A$1:$B$13,2,0)
F54: FL1018_2_VFD1 | G54: 5 | H54: =VLOOKUP(G54,'[1]PART NUMBER'!$A$2:$B$20,2,FALSE) | I54: 11.200.1.74 | J54: =VLOOKUP(H54,'Part number'!$A$1:$B$13,2,0)
F55: FL1018_4_EX1 | G55: EXTENDO | H55: =VLOOKUP(G55,'[1]PART NUMBER'!$A$2:$B$20,2,FALSE) | I55: 11.200.1.75 | J55: =VLOOKUP(H55,'Part number'!$A$1:$B$13,2,0)
F56: FL1022_2_VFD1 | G56: 5 | H56: =VLOOKUP(G56,'[1]PART NUMBER'!$A$2:$B$20,2,FALSE) | I56: 11.200.1.76 | J56: =VLOOKUP(H56,'Part number'!$A$1:$B$13,2,0)
F57: FL1022_4_EX1 | G57: EXTENDO | H57: =VLOOKUP(G57,'[1]PART NUMBER'!$A$2:$B$20,2,FALSE) | I57: 11.200.1.77 | J57: =VLOOKUP(H57,'Part number'!$A$1:$B$13,2,0)
F58: FL1026_2_VFD1 | G58: 5 | H58: =VLOOKUP(G58,'[1]PART NUMBER'!$A$2:$B$20,2,FALSE) | I58: 11.200.1.78 | J58: =VLOOKUP(H58,'Part number'!$A$1:$B$13,2,0)
F59: FL1026_4_EX1 | G59: EXTENDO | H59: =VLOOKUP(G59,'[1]PART NUMBER'!$A$2:$B$20,2,FALSE) | I59: 11.200.1.79 | J59: =VLOOKUP(H59,'Part number'!$A$1:$B$13,2,0)
F60: FL1034_2_VFD1 | G60: 5 | H60: =VLOOKUP(G60,'[1]PART NUMBER'!$A$2:$B$20,2,FALSE) | I60: 11.200.1.80 | J60: =VLOOKUP(H60,'Part number'!$A$1:$B$13,2,0)
F61: FL1034_4_EX1 | G61: EXTENDO | H61: =VLOOKUP(G61,'[1]PART NUMBER'!$A$2:$B$20,2,FALSE) | I61: 11.200.1.81 | J61: =VLOOKUP(H61,'Part number'!$A$1:$B$13,2,0)
F62: FL1038_2_VFD1 | G62: 5 | H62: =VLOOKUP(G62,'[1]PART NUMBER'!$A$2:$B$20,2,FALSE) | I62: 11.200.1.82 | J62: =VLOOKUP(H62,'Part number'!$A$1:$B$13,2,0)
F63: FL1038_4_EX1 | G63: EXTENDO | H63: =VLOOKUP(G63,'[1]PART NUMBER'!$A$2:$B$20,2,FALSE) | I63: 11.200.1.83 | J63: =VLOOKUP(H63,'Part number'!$A$1:$B$13,2,0)
D64: FL3016_2_DPM1 | E64: 11.200.1.6 | F64: FL3012_2_VFD1 | G64: 5 | H64: =VLOOKUP(G64,'[1]PART NUMBER'!$A$2:$B$20,2,FALSE) | I64: 11.200.1.84 | J64: =VLOOKUP(H64,'Part number'!$A$1:$B$13,2,0)
F65: FL3012_4_EX1 | G65: EXTENDO | H65: =VLOOKUP(G65,'[1]PART NUMBER'!$A$2:$B$20,2,FALSE) | I65: 11.200.1.85 | J65: =VLOOKUP(H65,'Part number'!$A$1:$B$13,2,0)
F66: FL3016_2_VFD1 | G66: 5 | H66: =VLOOKUP(G66,'[1]PART NUMBER'!$A$2:$B$20,2,FALSE) | I66: 11.200.1.86 | J66: =VLOOKUP(H66,'Part number'!$A$1:$B$13,2,0)
F67: FL3016_4_EX1 | G67: EXTENDO | H67: =VLOOKUP(G67,'[1]PART NUMBER'!$A$2:$B$20,2,FALSE) | I67: 11.200.1.87 | J67: =VLOOKUP(H67,'Part number'!$A$1:$B$13,2,0)
F68: FL3020_2_VFD1 | G68: 5 | H68: =VLOOKUP(G68,'[1]PART NUMBER'!$A$2:$B$20,2,FALSE) | I68: 11.200.1.88 | J68: =VLOOKUP(H68,'Part number'!$A$1:$B$13,2,0)
F69: FL3020_4_EX1 | G69: EXTENDO | H69: =VLOOKUP(G69,'[1]PART NUMBER'!$A$2:$B$20,2,FALSE) | I69: 11.200.1.89 | J69: =VLOOKUP(H69,'Part number'!$A$1:$B$13,2,0)
F70: FL3024_2_VFD1 | G70: 5 | H70: =VLOOKUP(G70,'[1]PART NUMBER'!$A$2:$B$20,2,FALSE) | I70: 11.200.1.90 | J70: =VLOOKUP(H70,'Part number'!$A$1:$B$13,2,0)
F71: FL3024_4_EX1 | G71: EXTENDO | H71: =VLOOKUP(G71,'[1]PART NUMBER'!$A$2:$B$20,2,FALSE) | I71: 11.200.1.91 | J71: =VLOOKUP(H71,'Part number'!$A$1:$B$13,2,0)
D72: VSA_DPM1 | E72: 11.200.1.7 | F72: S011003_ZMX1 | G72: ZMX | H72: =VLOOKUP(G72,'[1]PART NUMBER'!$A$2:$B$20,2,FALSE) | I72: 11.200.1.100 | J72: =VLOOKUP(H72,'Part number'!$A$1:$B$13,2,0)
F73: S011005_ZMX1 | G73: ZMX | H73: =VLOOKUP(G73,'[1]PART NUMBER'!$A$2:$B$20,2,FALSE) | I73: 11.200.1.101 | J73: =VLOOKUP(H73,'Part number'!$A$1:$B$13,2,0)
F74: S011007_ZMX1 | G74: ZMX | H74: =VLOOKUP(G74,'[1]PART NUMBER'!$A$2:$B$20,2,FALSE) | I74: 11.200.1.102 | J74: =VLOOKUP(H74,'Part number'!$A$1:$B$13,2,0)
F75: S011009_ZMX1 | G75: ZMX | H75: =VLOOKUP(G75,'[1]PART NUMBER'!$A$2:$B$20,2,FALSE) | I75: 11.200.1.103 | J75: =VLOOKUP(H75,'Part number'!$A$1:$B$13,2,0)
F76: S011011_ZMX1 | G76: ZMX | H76: =VLOOKUP(G76,'[1]PART NUMBER'!$A$2:$B$20,2,FALSE) | I76: 11.200.1.104 | J76: =VLOOKUP(H76,'Part number'!$A$1:$B$13,2,0)
F77: S011013_ZMX1 | G77: ZMX | H77: =VLOOKUP(G77,'[1]PART NUMBER'!$A$2:$B$20,2,FALSE) | I77: 11.200.1.105 | J77: =VLOOKUP(H77,'Part number'!$A$1:$B$13,2,0)
F78: S011017_ZMX1 | G78: ZMX | H78: =VLOOKUP(G78,'[1]PART NUMBER'!$A$2:$B$20,2,FALSE) | I78: 11.200.1.106 | J78: =VLOOKUP(H78,'Part number'!$A$1:$B$13,2,0)
F79: S011019_ZMX1 | G79: ZMX | H79: =VLOOKUP(G79,'[1]PART NUMBER'!$A$2:$B$20,2,FALSE) | I79: 11.200.1.107 | J79: =VLOOKUP(H79,'Part number'!$A$1:$B$13,2,0)
F80: S011021_ZMX1 | G80: ZMX | H80: =VLOOKUP(G80,'[1]PART NUMBER'!$A$2:$B$20,2,FALSE) | I80: 11.200.1.108 | J80: =VLOOKUP(H80,'Part number'!$A$1:$B$13,2,0)
F81: S011023_ZMX1 | G81: ZMX | H81: =VLOOKUP(G81,'[1]PART NUMBER'!$A$2:$B$20,2,FALSE) | I81: 11.200.1.109 | J81: =VLOOKUP(H81,'Part number'!$A$1:$B$13,2,0)
F82: S011025_ZMX1 | G82: ZMX | H82: =VLOOKUP(G82,'[1]PART NUMBER'!$A$2:$B$20,2,FALSE) | I82: 11.200.1.110 | J82: =VLOOKUP(H82,'Part number'!$A$1:$B$13,2,0)
F83: VSA_DPM1_FIO1 | G83: FIO | H83: =VLOOKUP(G83,'[1]PART NUMBER'!$A$2:$B$20,2,FALSE) | I83: 11.200.1.111 | J83: =VLOOKUP(H83,'Part number'!$A$1:$B$13,2,0)
F84: VSA_DPM1_FIO2 | G84: FIO | H84: =VLOOKUP(G84,'[1]PART NUMBER'!$A$2:$B$20,2,FALSE) | I84: 11.200.1.112 | J84: =VLOOKUP(H84,'Part number'!$A$1:$B$13,2,0)
... F90: VSA_DPM1_FIO8 | G90: FIO | H90: =VLOOKUP(G90,'[1]PART NUMBER'!$A$2:$B$20,2,FALSE) | I90: 11.200.1.118 | J90: =VLOOKUP(H90,'Part number'!$A$1:$B$13,2,0)
D91: VSA_DPM2 | E91: 11.200.1.8 | F91: S011033_ZMX1 | G91: ZMX | H91: =VLOOKUP(G91,'[1]PART NUMBER'!$A$2:$B$20,2,FALSE) | I91: 11.200.1.119 | J91: =VLOOKUP(H91,'Part number'!$A$1:$B$13,2,0)
F92: S011035_ZMX1 | G92: ZMX | H92: =VLOOKUP(G92,'[1]PART NUMBER'!$A$2:$B$20,2,FALSE) | I92: 11.200.1.120 | J92: =VLOOKUP(H92,'Part number'!$A$1:$B$13,2,0)
F93: S011037_ZMX1 | G93: ZMX | H93: =VLOOKUP(G93,'[1]PART NUMBER'!$A$2:$B$20,2,FALSE) | I93: 11.200.1.121 | J93: =VLOOKUP(H93,'Part number'!$A$1:$B$13,2,0)
F94: S011039_ZMX1 | G94: ZMX | H94: =VLOOKUP(G94,'[1]PART NUMBER'!$A$2:$B$20,2,FALSE) | I94: 11.200.1.122 | J94: =VLOOKUP(H94,'Part number'!$A$1:$B$13,2,0)
F95: S011041_ZMX1 | G95: ZMX | H95: =VLOOKUP(G95,'[1]PART NUMBER'!$A$2:$B$20,2,FALSE) | I95: 11.200.1.123 | J95: =VLOOKUP(H95,'Part number'!$A$1:$B$13,2,0)
F96: S011043_ZMX1 | G96: ZMX | H96: =VLOOKUP(G96,'[1]PART NUMBER'!$A$2:$B$20,2,FALSE) | I96: 11.200.1.124 | J96: =VLOOKUP(H96,'Part number'!$A$1:$B$13,2,0)
F97: S011047_ZMX1 | G97: ZMX | H97: =VLOOKUP(G97,'[1]PART NUMBER'!$A$2:$B$20,2,FALSE) | I97: 11.200.1.125 | J97: =VLOOKUP(H97,'Part number'!$A$1:$B$13,2,0)
F98: S011049_ZMX1 | G98: ZMX | H98: =VLOOKUP(G98,'[1]PART NUMBER'!$A$2:$B$20,2,FALSE) | I98: 11.200.1.126 | J98: =VLOOKUP(H98,'Part number'!$A$1:$B$13,2,0)
F99: S011051_ZMX1 | G99: ZMX | H99: =VLOOKUP(G99,'[1]PART NUMBER'!$A$2:$B$20,2,FALSE) | I99: 11.200.1.127 | J99: =VLOOKUP(H99,'Part number'!$A$1:$B$13,2,0)
F100: S011053_ZMX1 | G100: ZMX | H100: =VLOOKUP(G100,'[1]PART NUMBER'!$A$2:$B$20,2,FALSE) | I100: 11.200.1.128 | J100: =VLOOKUP(H100,'Part number'!$A$1:$B$13,2,0)
F101: S011055_ZMX1 | G101: ZMX | H101: =VLOOKUP(G101,'[1]PART NUMBER'!$A$2:$B$20,2,FALSE) | I101: 11.200.1.129 | J101: =VLOOKUP(H101,'Part number'!$A$1:$B$13,2,0)
F102: S011057_ZMX1 | G102: ZMX | H102: ZMX-3DE2500HF-Q7-AMZCHD | I102: 11.200.1.130 | J102: =VLOOKUP(H102,'Part number'!$A$1:$B$13,2,0)
F103: VSA_DPM2_FIO1 | G103: FIO | H103: =VLOOKUP(G103,'[1]PART NUMBER'!$A$2:$B$20,2,FALSE) | I103: 11.200.1.131 | J103: =VLOOKUP(H103,'Part number'!$A$1:$B$13,2,0)
F104: VSA_DPM2_FIO2 | G104: FIO | H104: =VLOOKUP(G104,'[1]PART NUMBER'!$A$2:$B$20,2,FALSE) | I104: 11.200.1.132 | J104: =VLOOKUP(H104,'Part number'!$A$1:$B$13,2,0)
F105: VSA_DPM2_FIO3 | G105: FIO | H105: =VLOOKUP(G105,'[1]PART NUMBER'!$A$2:$B$20,2,FALSE) | I105: 11.200.1.133 | J105: =VLOOKUP(H105,'Part number'!$A$1:$B$13,2,0)
...

Sheet Part number
A1: PART NUMBER | B1: HP
A2: 35S-6D2-P101 | B2: 2
A3: 35S-6D3-P101 | B3: 3
A4: 35S-6D4-P111 | B4: 5
A5: 35S-6D5-P111 | B5: 7.5
A6: 35S-6D6-P111 | B6: 10
A7: 25B-D024N104 | B7: 15
A8: 25B-D030N104 | B8: 20
A9: 25B-D043N114 | B9: 30
A10: CALJAN | B10: EXTENDO
A11: PIONEER | B11: TIPPER
A12: ZMX-3DE2500HF-Q7-AMZCHD | B12: ZMX
A13: 5032-8IOLM12DR | B13: FIO

Sheet MCM04_DESC
A1: TAGNAME | B1: ADDR | C1: TERM | D1: TERMDESC | E1: DESCA | F1: DESCB | H1: CONTROLLERS
A2: PRS3_2A_VFD1 | B2: PRS3_2A_VFD1_I0 | C2: I0 | E2: PRS3_2A_VFD1_DISC | F2: DISCONNECT AUX | H2: PRS3_2A_VFD1 | I2: 600
A3: PRS3_2A_VFD1 | B3: PRS3_2A_VFD1_I1 | C3: I1 | E3: SPARE | H3: PRS3_2B_VFD1
A4: PRS3_2A_VFD1 | B4: PRS3_2A_VFD1_I2 | C4: I2 | E4: PRS3_2A_JPE1 | F4: JAM PHOTOEYE | H4: PRS3_3A_VFD1
A5: PRS3_2A_VFD1 | B5: PRS3_2A_VFD1_I3 | C5: I3 | E5: SPARE | H5: PRS3_3B_VFD1
A6: PRS3_2A_VFD1 | B6: PRS3_2A_VFD1_IO0 | C6: IO0 | E6: SPARE
A7: PRS3_2A_VFD1 | B7: PRS3_2A_VFD1_IO1 | C7: IO1 | E7: SPARE | H7: PRS3_5_VFD1 | I7: 601
A8: PRS3_2A_VFD1 | B8: PRS3_2A_VFD1_SI0 | C8: SI0 | E8: SPARE | H8: PRS4_1_VFD1
A9: PRS3_2A_VFD1 | B9: PRS3_2A_VFD1_SI1 | C9: SI1 | E9: SPARE | H9: PRS4_2_VFD1
A10: PRS3_2A_VFD1 | B10: PRS3_2A_VFD1_SI2 | C10: SI2 | E10: SPARE | H10: PS10_1_VFD1
A11: PRS3_2A_VFD1 | B11: PRS3_2A_VFD1_SI3 | C11: SI3 | E11: SPARE
A12: PRS3_2A_VFD1 | B12: PRS3_2A_VFD1_SO0 | C12: SO0 | E12: SPARE | H12: PS10_2_VFD1 | I12: 602
A13: PRS3_2B_VFD1 | B13: PRS3_2B_VFD1_I0 | C13: I0 | E13: PRS3_2B_VFD1_DISC | F13: DISCONNECT AUX | H13: PS10_3_VFD1
A14: PRS3_2B_VFD1 | B14: PRS3_2B_VFD1_I1 | C14: I1 | E14: SPARE | H14: PS10_5_VFD1
A15: PRS3_2B_VFD1 | B15: PRS3_2B_VFD1_I2 | C15: I2 | E15: PRS3_2B_JPE1 | F15: JAM PHOTOEYE | H15: PS10_5_SIO1
A16: PRS3_2B_VFD1 | B16: PRS3_2B_VFD1_I3 | C16: I3 | E16: SPARE
A17: PRS3_2B_VFD1 | B17: PRS3_2B_VFD1_IO0 | C17: IO0 | E17: SPARE | H17: PS11_1_VFD1 | I17: 603
A18: PRS3_2B_VFD1 | B18: PRS3_2B_VFD1_IO1 | C18: IO1 | E18: SPARE | H18: PS11_2_VFD1
A19: PRS3_2B_VFD1 | B19: PRS3_2B_VFD1_SI0 | C19: SI0 | E19: SPARE | H19: PS11_3_VFD1
A20: PRS3_2B_VFD1 | B20: PRS3_2B_VFD1_SI1 | C20: SI1 | E20: SPARE | H20: PS11_4_VFD1
A21: PRS3_2B_VFD1 | B21: PRS3_2B_VFD1_SI2 | C21: SI2 | E21: SPARE
A22: PRS3_2B_VFD1 | B22: PRS3_2B_VFD1_SI3 | C22: SI3 | E22: SPARE | H22: PS11_6_VFD1 | I22: 604
A23: PRS3_2B_VFD1 | B23: PRS3_2B_VFD1_SO0 | C23: SO0 | E23: SPARE | H23: PS11_7_VFD1
A24: PRS3_3A_VFD1 | B24: PRS3_3A_VFD1_I0 | C24: I0 | E24: PRS3_3A_VFD1_DISC | F24: DISCONNECT AUX | H24: PS11_8_VFD1
A25: PRS3_3A_VFD1 | B25: PRS3_3A_VFD1_I1 | C25: I1 | E25: SPARE | H25: PS11_9_VFD1
A26: PRS3_3A_VFD1 | B26: PRS3_3A_VFD1_I2 | C26: I2 | E26: PRS3_3A_JPE1 | F26: JAM PHOTOEYE
A27: PRS3_3A_VFD1 | B27: PRS3_3A_VFD1_I3 | C27: I3 | E27: PRS3_3A_JPE2 | F27: JAM PHOTOEYE | H27: PS11_11_VFD1 | I27: 605
A28: PRS3_3A_VFD1 | B28: PRS3_3A_VFD1_IO0 | C28: IO0 | E28: PRS3_3A_BCN1_A | F28: AMBER BEACON LIGHT | H28: PS11_8_SIO1
A29: PRS3_3A_VFD1 | B29: PRS3_3A_VFD1_IO1 | C29: IO1 | E29: PRS3_3A_BCN1_B | F29: BLUE BEACON LIGHT | H29: PS11_8_FIOH1
A30: PRS3_3A_VFD1 | B30: PRS3_3A_VFD1_SI0 | C30: SI0 | E30: SPARE | H30: ULC5_3_VFD1
A31: PRS3_3A_VFD1 | B31: PRS3_3A_VFD1_SI1 | C31: SI1 | E31: SPARE
A32: PRS3_3A_VFD1 | B32: PRS3_3A_VFD1_SI2 | C32: SI2 | E32: SPARE | H32: ULC6_3_VFD1 | I32: 606
A33: PRS3_3A_VFD1 | B33: PRS3_3A_VFD1_SI3 | C33: SI3 | E33: SPARE | H33: ULC7_3_VFD1
A34: PRS3_3A_VFD1 | B34: PRS3_3A_VFD1_SO0 | C34: SO0 | E34: SPARE | H34: ULC8_3_VFD1
A35: PRS3_3B_VFD1 | B35: PRS3_3B_VFD1_I0 | C35: I0 | E35: PRS3_3B_VFD1_DISC | F35: DISCONNECT AUX | H35: PRS3_2A_FIO1
A36: PRS3_3B_VFD1 | B36: PRS3_3B_VFD1_I1 | C36: I1 | E36: SPARE
A37: PRS3_3B_VFD1 | B37: PRS3_3B_VFD1_I2 | C37: I2 | E37: PRS3_3B_JPE1 | F37: JAM PHOTOEYE | H37: PRS3_2B_FIO1 | I37: 607
A38: PRS3_3B_VFD1 | B38: PRS3_3B_VFD1_I3 | C38: I3 | E38: PRS3_3B_JPE2 | F38: JAM PHOTOEYE | H38: PRS3_4CH_FIO1
A39: PRS3_3B_VFD1 | B39: PRS3_3B_VFD1_IO0 | C39: IO0 | E39: PRS3_3B_BCN1_A | F39: AMBER BEACON LIGHT | H39: PRS4_2_FIO1
A40: PRS3_3B_VFD1 | B40: PRS3_3B_VFD1_IO1 | C40: IO1 | E40: PRS3_3B_BCN1_B | F40: BLUE BEACON LIGHT | H40: PS10_1_FIO1
A41: PRS3_3B_VFD1 | B41: PRS3_3B_VFD1_SI0 | C41: SI0 | E41: SPARE
A42: PRS3_3B_VFD1 | B42: PRS3_3B_VFD1_SI1 | C42: SI1 | E42: SPARE | H42: PS10_1_FIOH1 | I42: 608
A43: PRS3_3B_VFD1 | B43: PRS3_3B_VFD1_SI2 | C43: SI2 | E43: SPARE | H43: PS10_1_FIOH2
A44: PRS3_3B_VFD1 | B44: PRS3_3B_VFD1_SI3 | C44: SI3 | E44: SPARE | H44: PS10_5_FIO1
A45: PRS3_3B_VFD1 | B45: PRS3_3B_VFD1_SO0 | C45: SO0 | E45: SPARE | H45: PS10_5_FIO2
A46: PRS3_5_VFD1 | B46: PRS3_5_VFD1_I0 | C46: I0 | E46: PRS3_5_VFD1_DISC | F46: DISCONNECT AUX
A47: PRS3_5_VFD1 | B47: PRS3_5_VFD1_I1 | C47: I1 | E47: SPARE | H47: PS10_5_FIOH1 | I47: 609
A48: PRS3_5_VFD1 | B48: PRS3_5_VFD1_I2 | C48: I2 | E48: PRS3_5_JPE1 | F48: JAM PHOTOEYE | H48: PS10_5_FIOH2
A49: PRS3_5_VFD1 | B49: PRS3_5_VFD1_I3 | C49: I3 | E49: PRS3_5_JPE2 | F49: JAM PHOTOEYE | H49: PS10_5_FIOH3
A50: PRS3_5_VFD1 | B50: PRS3_5_VFD1_IO0 | C50: IO0 | E50: SPARE | H50: PS10_5_FIOH4
A51: PRS3_5_VFD1 | B51: PRS3_5_VFD1_IO1 | C51: IO1 | E51: SPARE
A52: PRS3_5_VFD1 | B52: PRS3_5_VFD1_SI0 | C52: SI0 | E52: PRS3_5_EPC1 | F52: E-STOP PULLCORD | H52: PS11_1_FIO1 | I52: 610
A53: PRS3_5_VFD1 | B53: PRS3_5_VFD1_SI1 | C53: SI1 | E53: PRS3_5_EPC1_2 | F53: E-STOP PULLCORD | H53: PS11_1_FIOH1
A54: PRS3_5_VFD1 | B54: PRS3_5_VFD1_SI2 | C54: SI2 | E54: PRS3_5_EPC2 | F54: E-STOP PULLCORD | H54: PS11_11_FIO1
A55: PRS3_5_VFD1 | B55: PRS3_5_VFD1_SI3 | C55: SI3 | E55: PRS3_5_EPC2_2 | F55: E-STOP PULLCORD | H55: PS11_11_FIO2
A56: PRS3_5_VFD1 | B56: PRS3_5_VFD1_SO0 | C56: SO0 | E56: SPARE
A57: PRS4_1_VFD1 | B57: PRS4_1_VFD1_I0 | C57: I0 | E57: PRS4_1_VFD1_DISC | F57: DISCONNECT AUX | H57: PS11_11_FIO3 | I57: 611
A58: PRS4_1_VFD1 | B58: PRS4_1_VFD1_I1 | C58: I1 | E58: PRS4_1_ENC1 | F58: ENCODER | H58: PS11_11_FIOH1
A59: PRS4_1_VFD1 | B59: PRS4_1_VFD1_I2 | C59: I2 | E59: PRS4_1_JPE1 | F59: JAM PHOTOEYE | H59: PS11_11_FIOH2
A60: PRS4_1_VFD1 | B60: PRS4_1_VFD1_I3 | C60: I3 | E60: SPARE | H60: PS11_11_FIOH3
A61: PRS4_1_VFD1 | B61: PRS4_1_VFD1_IO0 | C61: IO0 | E61: SPARE
A62: PRS4_1_VFD1 | B62: PRS4_1_VFD1_IO1 | C62: IO1 | E62: SPARE | H62: PS11_11_FIOH4 | I62: 612
A63: PRS4_1_VFD1 | B63: PRS4_1_VFD1_SI0 | C63: SI0 | E63: PRS4_1_EPC1 | F63: E-STOP PULLCORD | H63: PS11_11_FIOH5
A64: PRS4_1_VFD1 | B64: PRS4_1_VFD1_SI1 | C64: SI1 | E64: PRS4_1_EPC1_2 | F64: E-STOP PULLCORD | H64: PS11_11_FIOH6
A65: PRS4_1_VFD1 | B65: PRS4_1_VFD1_SI2 | C65: SI2 | E65: PRS4_1_EPC2 | F65: E-STOP PULLCORD | H65: PS11_3_FIO1
A66: PRS4_1_VFD1 | B66: PRS4_1_VFD1_SI3 | C66: SI3 | E66: PRS4_1_EPC2_2 | F66: E-STOP PULLCORD
A67: PRS4_1_VFD1 | B67: PRS4_1_VFD1_SO0 | C67: SO0 | E67: SPARE | H67: PS11_4_FIO1 | I67: 613
A68: PRS4_2_VFD1 | B68: PRS4_2_VFD1_I0 | C68: I0 | E68: PRS4_2_VFD1_DISC | F68: DISCONNECT AUX | H68: PS11_7_FIO1
A69: PRS4_2_VFD1 | B69: PRS4_2_VFD1_I1 | C69: I1 | E69: PRS4_2_ENC1 | F69: ENCODER | H69: FL1014_FIOH1
A70: PRS4_2_VFD1 | B70: PRS4_2_VFD1_I2 | C70: I2 | E70: PRS4_2_JPE1 | F70: JAM PHOTOEYE | H70: S011020_FIOH1
A71: PRS4_2_VFD1 | B71: PRS4_2_VFD1_I3 | C71: I3 | E71: PRS4_2_JPE2 | F71: JAM PHOTOEYE
A72: PRS4_2_VFD1 | B72: PRS4_2_VFD1_IO0 | C72: IO0 | E72: SPARE | H72: S011020_FIOH2 | I72: 614
A73: PRS4_2_VFD1 | B73: PRS4_2_VFD1_IO1 | C73: IO1 | E73: SPARE | H73: S011020_FIOH3
A74: PRS4_2_VFD1 | B74: PRS4_2_VFD1_SI0 | C74: SI0 | E74: PRS4_2_EPC1 | F74: E-STOP PULLCORD | H74: S011020_FIOH4
A75: PRS4_2_VFD1 | B75: PRS4_2_VFD1_SI1 | C75: SI1 | E75: PRS4_2_EPC1_2 | F75: E-STOP PULLCORD | H75: S011020_FIOH5
A76: PRS4_2_VFD1 | B76: PRS4_2_VFD1_SI2 | C76: SI2 | E76: PRS4_2_EPC2 | F76: E-STOP PULLCORD
A77: PRS4_2_VFD1 | B77: PRS4_2_VFD1_SI3 | C77: SI3 | E77: PRS4_2_EPC2_2 | F77: E-STOP PULLCORD | H77: S011020_FIOH6 | I77: 615
A78: PRS4_2_VFD1 | B78: PRS4_2_VFD1_SO0 | C78: SO0 | E78: SPARE | H78: S011020_FIOH7
A79: PS10_1_VFD1 | B79: PS10_1_VFD1_I0 | C79: I0 | E79: PS10_1_VFD1_DISC | F79: DISCONNECT AUX | H79: S011020_FIOH8
A80: PS10_1_VFD1 | B80: PS10_1_VFD1_I1 | C80: I1 | E80: PS10_1_ENC1 | F80: ENCODER | H80: FL1022_FIOH1
A81: PS10_1_VFD1 | B81: PS10_1_VFD1_I2 | C81: I2 | E81: PS10_1_JPE1 | F81: JAM PHOTOEYE
A82: PS10_1_VFD1 | B82: PS10_1_VFD1_I3 | C82: I3 | E82: PS10_1_JPE2 | F82: JAM PHOTOEYE | H82: FL1026_FIOH1 | I82: 616
A83: PS10_1_VFD1 | B83: PS10_1_VFD1_IO0 | C83: IO0 | E83: PS10_1_BCN1_A | F83: AMBER BEACON LIGHT | H83: FL1034_FIOH1
A84: PS10_1_VFD1 | B84: PS10_1_VFD1_IO1 | C84: IO1 | E84: PS10_1_BCN1_R | F84: RED BEACON LIGHT | H84: S011040_FIOH1
A85: PS10_1_VFD1 | B85: PS10_1_VFD1_SI0 | C85: SI0 | E85: PS10_1_EPC1 | F85: E-STOP PULLCORD | H85: S013010_FIOH1
A86: PS10_1_VFD1 | B86: PS10_1_VFD1_SI1 | C86: SI1 | E86: PS10_1_EPC1_2 | F86: E-STOP PULLCORD
A87: PS10_1_VFD1 | B87: PS10_1_VFD1_SI2 | C87: SI2 | E87: SPARE | H87: FL3016_FIOH1 | I87: 617
A88: PS10_1_VFD1 | B88: PS10_1_VFD1_SI3 | C88: SI3 | E88: SPARE | H88: S013018_FIOH1
A89: PS10_1_VFD1 | B89: PS10_1_VFD1_SO0 | C89: SO0 | E89: SPARE | H89: FL3024_FIOH1
A90: PS10_2_VFD1 | B90: PS10_2_VFD1_I0 | C90: I0 | E90: PS10_2_VFD1_DISC | F90: DISCONNECT AUX
A91: PS10_3_VFD1 | B91: PS10_3_VFD1_I0 | C91: I0 | E91: PS10_3_VFD1_DISC | F91: DISCONNECT AUX
A92: PS10_5_VFD1 | B92: PS10_5_VFD1_I0 | C92: I0 | E92: PS10_5_VFD1_DISC | F92: DISCONNECT AUX
A93: PS10_5_SIO1 | B93: PS10_5_SIO1_SI0 | C93: SI0 | E93: PS10_5_EPC1 | F93: E-STOP PULLCORD
A94: PS10_5_SIO1 | B94: PS10_5_SIO1_SI1 | C94: SI1 | E94: PS10_5_EPC1_2 | F94: E-STOP PULLCORD
A95: PS10_5_SIO1 | B95: PS10_5_SIO1_SI2 | C95: SI2 | E95: SPARE
A96: PS10_5_SIO1 | B96: PS10_5_SIO1_SI3 | C96: SI3 | E96: SPARE
A97: PS10_5_SIO1 | B97: PS10_5_SIO1_SI4 | C97: SI4 | E97: SPARE
A98: PS10_5_SIO1 | B98: PS10_5_SIO1_SI5 | C98: SI5 | E98: SPARE
A99: PS10_5_SIO1 | B99: PS10_5_SIO1_SI6 | C99: SI6 | E99: SPARE
A100: PS10_5_SIO1 | B100: PS10_5_SIO1_SI7 | C100: SI7 | E100: SPARE
...

Sheet MCM04_DESC_v2
A1: TAGNAME | B1: ADDR | C1: TERM | D1: TERMDESC | E1: DESCA | F1: DESCB | H1: CONTROLLERS
A2: PRS3_2A_VFD1 | B2: PRS3_2A_VFD1_I0 | C2: I0 | E2: PRS3_2A_VFD1_DISC | F2: DISCONNECT AUX | H2: PRS3_2A_VFD1 | I2: 600 | L2: =_xlfn.CONCAT(H2,"/",H3,"/",H4,"/",H5) | R2: 600 | S2: PRS3_2A_VFD1/PRS3_2B_VFD1/PRS3_3A_VFD1/PRS3_3B_VFD1
A3: PRS3_2A_VFD1 | B3: PRS3_2A_VFD1_I1 | C3: I1 | E3: SPARE | H3: PRS3_2B_VFD1 | R3: 601 | S3: PRS3_5_VFD1/PRS4_1_VFD1/PRS4_2_VFD1/PS10_1_VFD1
A4: PRS3_2A_VFD1 | B4: PRS3_2A_VFD1_I2 | C4: I2 | E4: PRS3_2A_JPE1 | F4: JAM PHOTOEYE | H4: PRS3_3A_VFD1 | R4: 602 | S4: PS10_2_VFD1/PS10_3_VFD1/PS10_5_VFD1/PS10_5_SIO1
A5: PRS3_2A_VFD1 | B5: PRS3_2A_VFD1_I3 | C5: I3 | E5: SPARE | H5: PRS3_3B_VFD1 | R5: 603 | S5: PS11_1_VFD1/PS11_2_VFD1/PS11_3_VFD1/PS11_4_VFD1
A6: PRS3_2A_VFD1 | B6: PRS3_2A_VFD1_IO0 | C6: IO0 | E6: SPARE | R6: 604 | S6: PS11_6_VFD1/PS11_7_VFD1/PS11_8_VFD1/PS11_9_VFD1
A7: PRS3_2A_VFD1 | B7: PRS3_2A_VFD1_IO1 | C7: IO1 | E7: SPARE | H7: PRS3_5_VFD1 | I7: 601 | L7: =_xlfn.CONCAT(H7,"/",H8,"/",H9,"/",H10) | R7: 605 | S7: PS11_11_VFD1/PS11_8_SIO1/PS11_8_FIOH1/ULC5_3_VFD1
A8: PRS3_2A_VFD1 | B8: PRS3_2A_VFD1_SI0 | C8: SI0 | E8: SPARE | H8: PRS4_1_VFD1 | R8: 606 | S8: ULC6_3_VFD1/ULC7_3_VFD1/ULC8_3_VFD1/PRS3_2A_FIO1
A9: PRS3_2A_VFD1 | B9: PRS3_2A_VFD1_SI1 | C9: SI1 | E9: SPARE | H9: PRS4_2_VFD1 | R9: 607 | S9: PRS3_2B_FIO1/PRS3_4CH_FIO1/PRS4_2_FIO1/PS10_1_FIO1
A10: PRS3_2A_VFD1 | B10: PRS3_2A_VFD1_SI2 | C10: SI2 | E10: SPARE | H10: PS10_1_VFD1 | R10: 608 | S10: PS10_1_FIOH1/PS10_1_FIOH2/PS10_5_FIO1/PS10_5_FIO2
A11: PRS3_2A_VFD1 | B11: PRS3_2A_VFD1_SI3 | C11: SI3 | E11: SPARE | R11: 609 | S11: PS10_5_FIOH1/PS10_5_FIOH2/PS10_5_FIOH3/PS10_5_FIOH4
A12: PRS3_2A_VFD1 | B12: PRS3_2A_VFD1_SO0 | C12: SO0 | E12: SPARE | H12: PS10_2_VFD1 | I12: 602 | L12: =_xlfn.CONCAT(H12,"/",H13,"/",H14,"/",H15) | R12: 610 | S12: PS11_1_FIO1/PS11_1_FIOH1/PS11_11_FIO1/PS11_11_FIO2
A13: PRS3_2B_VFD1 | B13: PRS3_2B_VFD1_I0 | C13: I0 | E13: PRS3_2B_VFD1_DISC | F13: DISCONNECT AUX | H13: PS10_3_VFD1 | R13: 611 | S13: PS11_11_FIO3/PS11_11_FIOH1/PS11_11_FIOH2/PS11_11_FIOH3
A14: PRS3_2B_VFD1 | B14: PRS3_2B_VFD1_I1 | C14: I1 | E14: SPARE | H14: PS10_5_VFD1 | R14: 612 | S14: PS11_11_FIOH4/PS11_11_FIOH5/PS11_11_FIOH6/PS11_3_FIO1
A15: PRS3_2B_VFD1 | B15: PRS3_2B_VFD1_I2 | C15: I2 | E15: PRS3_2B_JPE1 | F15: JAM PHOTOEYE | H15: PS10_5_SIO1 | R15: 613 | S15: PS11_4_FIO1/PS11_7_FIO1/FL1014_FIOH1/S011020_FIOH1
A16: PRS3_2B_VFD1 | B16: PRS3_2B_VFD1_I3 | C16: I3 | E16: SPARE | R16: 614 | S16: FL1022_FIOH1/FL1026_FIOH1/FL1034_FIOH1/S011040_FIOH1
A17: PRS3_2B_VFD1 | B17: PRS3_2B_VFD1_IO0 | C17: IO0 | E17: SPARE | H17: PS11_1_VFD1 | I17: 603 | L17: =_xlfn.CONCAT(H17,"/",H18,"/",H19,"/",H20) | R17: 615 | S17: S013010_FIOH1/FL3016_FIOH1/S013018_FIOH1/FL3024_FIOH1
A18: PRS3_2B_VFD1 | B18: PRS3_2B_VFD1_IO1 | C18: IO1 | E18: SPARE | H18: PS11_2_VFD1
A19: PRS3_2B_VFD1 | B19: PRS3_2B_VFD1_SI0 | C19: SI0 | E19: SPARE | H19: PS11_3_VFD1
A20: PRS3_2B_VFD1 | B20: PRS3_2B_VFD1_SI1 | C20: SI1 | E20: SPARE | H20: PS11_4_VFD1
A21: PRS3_2B_VFD1 | B21: PRS3_2B_VFD1_SI2 | C21: SI2 | E21: SPARE
A22: PRS3_2B_VFD1 | B22: PRS3_2B_VFD1_SI3 | C22: SI3 | E22: SPARE | H22: PS11_6_VFD1 | I22: 604 | L22: =_xlfn.CONCAT(H22,"/",H23,"/",H24,"/",H25)
A23: PRS3_2B_VFD1 | B23: PRS3_2B_VFD1_SO0 | C23: SO0 | E23: SPARE | H23: PS11_7_VFD1
A24: PRS3_3A_VFD1 | B24: PRS3_3A_VFD1_I0 | C24: I0 | E24: PRS3_3A_VFD1_DISC | F24: DISCONNECT AUX | H24: PS11_8_VFD1
A25: PRS3_3A_VFD1 | B25: PRS3_3A_VFD1_I1 | C25: I1 | E25: SPARE | H25: PS11_9_VFD1
A26: PRS3_3A_VFD1 | B26: PRS3_3A_VFD1_I2 | C26: I2 | E26: PRS3_3A_JPE1 | F26: JAM PHOTOEYE
A27: PRS3_3A_VFD1 | B27: PRS3_3A_VFD1_I3 | C27: I3 | E27: PRS3_3A_JPE2 | F27: JAM PHOTOEYE | H27: PS11_11_VFD1 | I27: 605 | L27: =_xlfn.CONCAT(H27,"/",H28,"/",H29,"/",H30)
A28: PRS3_3A_VFD1 | B28: PRS3_3A_VFD1_IO0 | C28: IO0 | E28: PRS3_3A_BCN1_A | F28: AMBER BEACON LIGHT | H28: PS11_8_SIO1
A29: PRS3_3A_VFD1 | B29: PRS3_3A_VFD1_IO1 | C29: IO1 | E29: PRS3_3A_BCN1_B | F29: BLUE BEACON LIGHT | H29: PS11_8_FIOH1
A30: PRS3_3A_VFD1 | B30: PRS3_3A_VFD1_SI0 | C30: SI0 | E30: SPARE | H30: ULC5_3_VFD1
A31: PRS3_3A_VFD1 | B31: PRS3_3A_VFD1_SI1 | C31: SI1 | E31: SPARE
A32: PRS3_3A_VFD1 | B32: PRS3_3A_VFD1_SI2 | C32: SI2 | E32: SPARE | H32: ULC6_3_VFD1 | I32: 606 | L32: =_xlfn.CONCAT(H32,"/",H33,"/",H34,"/",H35)
A33: PRS3_3A_VFD1 | B33: PRS3_3A_VFD1_SI3 | C33: SI3 | E33: SPARE | H33: ULC7_3_VFD1
A34: PRS3_3A_VFD1 | B34: PRS3_3A_VFD1_SO0 | C34: SO0 | E34: SPARE | H34: ULC8_3_VFD1
A35: PRS3_3B_VFD1 | B35: PRS3_3B_VFD1_I0 | C35: I0 | E35: PRS3_3B_VFD1_DISC | F35: DISCONNECT AUX | H35: PRS3_2A_FIO1
A36: PRS3_3B_VFD1 | B36: PRS3_3B_VFD1_I1 | C36: I1 | E36: SPARE
A37: PRS3_3B_VFD1 | B37: PRS3_3B_VFD1_I2 | C37: I2 | E37: PRS3_3B_JPE1 | F37: JAM PHOTOEYE | H37: PRS3_2B_FIO1 | I37: 607 | L37: =_xlfn.CONCAT(H37,"/",H38,"/",H39,"/",H40)
A38: PRS3_3B_VFD1 | B38: PRS3_3B_VFD1_I3 | C38: I3 | E38: PRS3_3B_JPE2 | F38: JAM PHOTOEYE | H38: PRS3_4CH_FIO1
A39: PRS3_3B_VFD1 | B39: PRS3_3B_VFD1_IO0 | C39: IO0 | E39: PRS3_3B_BCN1_A | F39: AMBER BEACON LIGHT | H39: PRS4_2_FIO1
A40: PRS3_3B_VFD1 | B40: PRS3_3B_VFD1_IO1 | C40: IO1 | E40: PRS3_3B_BCN1_B | F40: BLUE BEACON LIGHT | H40: PS10_1_FIO1
A41: PRS3_3B_VFD1 | B41: PRS3_3B_VFD1_SI0 | C41: SI0 | E41: SPARE
A42: PRS3_3B_VFD1 | B42: PRS3_3B_VFD1_SI1 | C42: SI1 | E42: SPARE | H42: PS10_1_FIOH1 | I42: 608 | L42: =_xlfn.CONCAT(H42,"/",H43,"/",H44,"/",H45)
A43: PRS3_3B_VFD1 | B43: PRS3_3B_VFD1_SI2 | C43: SI2 | E43: SPARE | H43: PS10_1_FIOH2
A44: PRS3_3B_VFD1 | B44: PRS3_3B_VFD1_SI3 | C44: SI3 | E44: SPARE | H44: PS10_5_FIO1
A45: PRS3_3B_VFD1 | B45: PRS3_3B_VFD1_SO0 | C45: SO0 | E45: SPARE | H45: PS10_5_FIO2
A46: PRS3_5_VFD1 | B46: PRS3_5_VFD1_I0 | C46: I0 | E46: PRS3_5_VFD1_DISC | F46: DISCONNECT AUX
A47: PRS3_5_VFD1 | B47: PRS3_5_VFD1_I1 | C47: I1 | E47: SPARE | H47: PS10_5_FIOH1 | I47: 609 | L47: =_xlfn.CONCAT(H47,"/",H48,"/",H49,"/",H50)
A48: PRS3_5_VFD1 | B48: PRS3_5_VFD1_I2 | C48: I2 | E48: PRS3_5_JPE1 | F48: JAM PHOTOEYE | H48: PS10_5_FIOH2
A49: PRS3_5_VFD1 | B49: PRS3_5_VFD1_I3 | C49: I3 | E49: PRS3_5_JPE2 | F49: JAM PHOTOEYE | H49: PS10_5_FIOH3
A50: PRS3_5_VFD1 | B50: PRS3_5_VFD1_IO0 | C50: IO0 | E50: SPARE | H50: PS10_5_FIOH4
A51: PRS3_5_VFD1 | B51: PRS3_5_VFD1_IO1 | C51: IO1 | E51: SPARE
A52: PRS3_5_VFD1 | B52: PRS3_5_VFD1_SI0 | C52: SI0 | E52: PRS3_5_EPC1 | F52: E-STOP PULLCORD | H52: PS11_1_FIO1 | I52: 610 | L52: =_xlfn.CONCAT(H52,"/",H53,"/",H54,"/",H55)
A53: PRS3_5_VFD1 | B53: PRS3_5_VFD1_SI1 | C53: SI1 | E53: PRS3_5_EPC1_2 | F53: E-STOP PULLCORD | H53: PS11_1_FIOH1
A54: PRS3_5_VFD1 | B54: PRS3_5_VFD1_SI2 | C54: SI2 | E54: PRS3_5_EPC2 | F54: E-STOP PULLCORD | H54: PS11_11_FIO1
A55: PRS3_5_VFD1 | B55: PRS3_5_VFD1_SI3 | C55: SI3 | E55: PRS3_5_EPC2_2 | F55: E-STOP PULLCORD | H55: PS11_11_FIO2
A56: PRS3_5_VFD1 | B56: PRS3_5_VFD1_SO0 | C56: SO0 | E56: SPARE
A57: PRS4_1_VFD1 | B57: PRS4_1_VFD1_I0 | C57: I0 | E57: PRS4_1_VFD1_DISC | F57: DISCONNECT AUX | H57: PS11_11_FIO3 | I57: 611 | L57: =_xlfn.CONCAT(H57,"/",H58,"/",H59,"/",H60)
A58: PRS4_1_VFD1 | B58: PRS4_1_VFD1_I1 | C58: I1 | E58: PRS4_1_ENC1 | F58: ENCODER | H58: PS11_11_FIOH1
A59: PRS4_1_VFD1 | B59: PRS4_1_VFD1_I2 | C59: I2 | E59: PRS4_1_JPE1 | F59: JAM PHOTOEYE | H59: PS11_11_FIOH2
A60: PRS4_1_VFD1 | B60: PRS4_1_VFD1_I3 | C60: I3 | E60: SPARE | H60: PS11_11_FIOH3
A61: PRS4_1_VFD1 | B61: PRS4_1_VFD1_IO0 | C61: IO0 | E61: SPARE
A62: PRS4_1_VFD1 | B62: PRS4_1_VFD1_IO1 | C62: IO1 | E62: SPARE | H62: PS11_11_FIOH4 | I62: 612 | L62: =_xlfn.CONCAT(H62,"/",H63,"/",H64,"/",H65)
A63: PRS4_1_VFD1 | B63: PRS4_1_VFD1_SI0 | C63: SI0 | E63: PRS4_1_EPC1 | F63: E-STOP PULLCORD | H63: PS11_11_FIOH5
A64: PRS4_1_VFD1 | B64: PRS4_1_VFD1_SI1 | C64: SI1 | E64: PRS4_1_EPC1_2 | F64: E-STOP PULLCORD | H64: PS11_11_FIOH6
A65: PRS4_1_VFD1 | B65: PRS4_1_VFD1_SI2 | C65: SI2 | E65: PRS4_1_EPC2 | F65: E-STOP PULLCORD | H65: PS11_3_FIO1
A66: PRS4_1_VFD1 | B66: PRS4_1_VFD1_SI3 | C66: SI3 | E66: PRS4_1_EPC2_2 | F66: E-STOP PULLCORD
A67: PRS4_1_VFD1 | B67: PRS4_1_VFD1_SO0 | C67: SO0 | E67: SPARE | H67: PS11_4_FIO1 | I67: 613 | L67: =_xlfn.CONCAT(H67,"/",H68,"/",H69,"/",H70)
A68: PRS4_2_VFD1 | B68: PRS4_2_VFD1_I0 | C68: I0 | E68: PRS4_2_VFD1_DISC | F68: DISCONNECT AUX | H68: PS11_7_FIO1
A69: PRS4_2_VFD1 | B69: PRS4_2_VFD1_I1 | C69: I1 | E69: PRS4_2_ENC1 | F69: ENCODER | H69: FL1014_FIOH1
A70: PRS4_2_VFD1 | B70: PRS4_2_VFD1_I2 | C70: I2 | E70: PRS4_2_JPE1 | F70: JAM PHOTOEYE | H70: S011020_FIOH1
A71: PRS4_2_VFD1 | B71: PRS4_2_VFD1_I3 | C71: I3 | E71: PRS4_2_JPE2 | F71: JAM PHOTOEYE
A72: PRS4_2_VFD1 | B72: PRS4_2_VFD1_IO0 | C72: IO0 | E72: SPARE | H72: FL1022_FIOH1 | I72: 614 | L72: =_xlfn.CONCAT(H72,"/",H73,"/",H74,"/",H75)
A73: PRS4_2_VFD1 | B73: PRS4_2_VFD1_IO1 | C73: IO1 | E73: SPARE | H73: FL1026_FIOH1
A74: PRS4_2_VFD1 | B74: PRS4_2_VFD1_SI0 | C74: SI0 | E74: PRS4_2_EPC1 | F74: E-STOP PULLCORD | H74: FL1034_FIOH1
A75: PRS4_2_VFD1 | B75: PRS4_2_VFD1_SI1 | C75: SI1 | E75: PRS4_2_EPC1_2 | F75: E-STOP PULLCORD | H75: S011040_FIOH1
A76: PRS4_2_VFD1 | B76: PRS4_2_VFD1_SI2 | C76: SI2 | E76: PRS4_2_EPC2 | F76: E-STOP PULLCORD
A77: PRS4_2_VFD1 | B77: PRS4_2_VFD1_SI3 | C77: SI3 | E77: PRS4_2_EPC2_2 | F77: E-STOP PULLCORD | H77: S013010_FIOH1 | I77: 615 | L77: =_xlfn.CONCAT(H77,"/",H78,"/",H79,"/",H80)
A78: PRS4_2_VFD1 | B78: PRS4_2_VFD1_SO0 | C78: SO0 | E78: SPARE | H78: FL3016_FIOH1
A79: PS10_1_VFD1 | B79: PS10_1_VFD1_I0 | C79: I0 | E79: PS10_1_VFD1_DISC | F79: DISCONNECT AUX | H79: S013018_FIOH1
A80: PS10_1_VFD1 | B80: PS10_1_VFD1_I1 | C80: I1 | E80: PS10_1_ENC1 | F80: ENCODER | H80: FL3024_FIOH1
A81: PS10_1_VFD1 | B81: PS10_1_VFD1_I2 | C81: I2 | E81: PS10_1_JPE1 | F81: JAM PHOTOEYE
A82: PS10_1_VFD1 | B82: PS10_1_VFD1_I3 | C82: I3 | E82: PS10_1_JPE2 | F82: JAM PHOTOEYE
A83: PS10_1_VFD1 | B83: PS10_1_VFD1_IO0 | C83: IO0 | E83: PS10_1_BCN1_A | F83: AMBER BEACON LIGHT
A84: PS10_1_VFD1 | B84: PS10_1_VFD1_IO1 | C84: IO1 | E84: PS10_1_BCN1_R | F84: RED BEACON LIGHT
A85: PS10_1_VFD1 | B85: PS10_1_VFD1_SI0 | C85: SI0 | E85: PS10_1_EPC1 | F85: E-STOP PULLCORD
A86: PS10_1_VFD1 | B86: PS10_1_VFD1_SI1 | C86: SI1 | E86: PS10_1_EPC1_2 | F86: E-STOP PULLCORD
A87: PS10_1_VFD1 | B87: PS10_1_VFD1_SI2 | C87: SI2 | E87: SPARE
A88: PS10_1_VFD1 | B88: PS10_1_VFD1_SI3 | C88: SI3 | E88: SPARE
A89: PS10_1_VFD1 | B89: PS10_1_VFD1_SO0 | C89: SO0 | E89: SPARE
A90: PS10_2_VFD1 | B90: PS10_2_VFD1_I0 | C90: I0 | E90: PS10_2_VFD1_DISC | F90: DISCONNECT AUX
A91: PS10_3_VFD1 | B91: PS10_3_VFD1_I0 | C91: I0 | E91: PS10_3_VFD1_DISC | F91: DISCONNECT AUX
A92: PS10_5_VFD1 | B92: PS10_5_VFD1_I0 | C92: I0 | E92: PS10_5_VFD1_DISC | F92: DISCONNECT AUX
A93: PS10_5_SIO1 | B93: PS10_5_SIO1_SI0 | C93: SI0 | E93: PS10_5_EPC1 | F93: E-STOP PULLCORD
A94: PS10_5_SIO1 | B94: PS10_5_SIO1_SI1 | C94: SI1 | E94: PS10_5_EPC1_2 | F94: E-STOP PULLCORD
A95: PS10_5_SIO1 | B95: PS10_5_SIO1_SI2 | C95: SI2 | E95: SPARE
A96: PS10_5_SIO1 | B96: PS10_5_SIO1_SI3 | C96: SI3 | E96: SPARE
A97: PS10_5_SIO1 | B97: PS10_5_SIO1_SI4 | C97: SI4 | E97: SPARE
A98: PS10_5_SIO1 | B98: PS10_5_SIO1_SI5 | C98: SI5 | E98: SPARE
A99: PS10_5_SIO1 | B99: PS10_5_SIO1_SI6 | C99: SI6 | E99: SPARE
A100: PS10_5_SIO1 | B100: PS10_5_SIO1_SI7 | C100: SI7 | E100: SPARE
...

Sheet DESC_PLC
A1: TAGNAME | B1: TERM | C1: DESCA | D1: DESCB
A2: PRS3_2A_VFD1 | B2: I0 | C2: PRS3_2A_VFD1_DISC | D2: DISCONNECT AUX
A3: PRS3_2A_VFD1 | B3: I1 | C3: SPARE
A4: PRS3_2A_VFD1 | B4: I2 | C4: PRS3_2A_JPE1 | D4: JAM PHOTOEYE
A5: PRS3_2A_VFD1 | B5: I3 | C5: SPARE
A6: PRS3_2A_VFD1 | B6: IO0 | C6: SPARE
A7: PRS3_2A_VFD1 | B7: IO1 | C7: SPARE
A8: PRS3_2A_VFD1 | B8: SI0 | C8: SPARE
A9: PRS3_2A_VFD1 | B9: SI1 | C9: SPARE
A10: PRS3_2A_VFD1 | B10: SI2 | C10: SPARE
A11: PRS3_2A_VFD1 | B11: SI3 | C11: SPARE
A12: PRS3_2A_VFD1 | B12: SO0 | C12: SPARE
A13: PRS3_2B_VFD1 | B13: I0 | C13: PRS3_2B_VFD1_DISC | D13: DISCONNECT AUX
A14: PRS3_2B_VFD1 | B14: I1 | C14: SPARE
A15: PRS3_2B_VFD1 | B15: I2 | C15: PRS3_2B_JPE1 | D15: JAM PHOTOEYE
A16: PRS3_2B_VFD1 | B16: I3 | C16: SPARE
A17: PRS3_2B_VFD1 | B17: IO0 | C17: SPARE
A18: PRS3_2B_VFD1 | B18: IO1 | C18: SPARE
A19: PRS3_2B_VFD1 | B19: SI0 | C19: SPARE
A20: PRS3_2B_VFD1 | B20: SI1 | C20: SPARE
A21: PRS3_2B_VFD1 | B21: SI2 | C21: SPARE
A22: PRS3_2B_VFD1 | B22: SI3 | C22: SPARE
A23: PRS3_2B_VFD1 | B23: SO0 | C23: SPARE
A24: PRS3_3A_VFD1 | B24: I0 | C24: PRS3_3A_VFD1_DISC | D24: DISCONNECT AUX
A25: PRS3_3A_VFD1 | B25: I1 | C25: SPARE
A26: PRS3_3A_VFD1 | B26: I2 | C26: PRS3_3A_JPE1 | D26: JAM PHOTOEYE
A27: PRS3_3A_VFD1 | B27: I3 | C27: PRS3_3A_JPE2 | D27: JAM PHOTOEYE
A28: PRS3_3A_VFD1 | B28: IO0 | C28: PRS3_3A_BCN1_A | D28: AMBER BEACON LIGHT
A29: PRS3_3A_VFD1 | B29: IO1 | C29: PRS3_3A_BCN1_B | D29: BLUE BEACON LIGHT
A30: PRS3_3A_VFD1 | B30: SI0 | C30: SPARE
A31: PRS3_3A_VFD1 | B31: SI1 | C31: SPARE
A32: PRS3_3A_VFD1 | B32: SI2 | C32: SPARE
A33: PRS3_3A_VFD1 | B33: SI3 | C33: SPARE
A34: PRS3_3A_VFD1 | B34: SO0 | C34: SPARE
A35: PRS3_3B_VFD1 | B35: I0 | C35: PRS3_3B_VFD1_DISC | D35: DISCONNECT AUX
A36: PRS3_3B_VFD1 | B36: I1 | C36: SPARE
A37: PRS3_3B_VFD1 | B37: I2 | C37: PRS3_3B_JPE1 | D37: JAM PHOTOEYE
A38: PRS3_3B_VFD1 | B38: I3 | C38: PRS3_3B_JPE2 | D38: JAM PHOTOEYE
A39: PRS3_3B_VFD1 | B39: IO0 | C39: PRS3_3B_BCN1_A | D39: AMBER BEACON LIGHT
A40: PRS3_3B_VFD1 | B40: IO1 | C40: PRS3_3B_BCN1_B | D40: BLUE BEACON LIGHT
A41: PRS3_3B_VFD1 | B41: SI0 | C41: SPARE
A42: PRS3_3B_VFD1 | B42: SI1 | C42: SPARE
A43: PRS3_3B_VFD1 | B43: SI2 | C43: SPARE
A44: PRS3_3B_VFD1 | B44: SI3 | C44: SPARE
A45: PRS3_3B_VFD1 | B45: SO0 | C45: SPARE
A46: PRS3_5_VFD1 | B46: I0 | C46: PRS3_5_VFD1_DISC | D46: DISCONNECT AUX
A47: PRS3_5_VFD1 | B47: I1 | C47: SPARE
A48: PRS3_5_VFD1 | B48: I2 | C48: PRS3_5_JPE1 | D48: JAM PHOTOEYE
A49: PRS3_5_VFD1 | B49: I3 | C49: PRS3_5_JPE2 | D49: JAM PHOTOEYE
A50: PRS3_5_VFD1 | B50: IO0 | C50: SPARE
A51: PRS3_5_VFD1 | B51: IO1 | C51: SPARE
A52: PRS3_5_VFD1 | B52: SI0 | C52: PRS3_5_EPC1 | D52: E-STOP PULLCORD
A53: PRS3_5_VFD1 | B53: SI1 | C53: PRS3_5_EPC1_2 | D53: E-STOP PULLCORD
A54: PRS3_5_VFD1 | B54: SI2 | C54: PRS3_5_EPC2 | D54: E-STOP PULLCORD
A55: PRS3_5_VFD1 | B55: SI3 | C55: PRS3_5_EPC2_2 | D55: E-STOP PULLCORD
A56: PRS3_5_VFD1 | B56: SO0 | C56: PRS3_6_STO1 | D56: ESTOP OK
A57: PRS4_1_VFD1 | B57: I0 | C57: PRS4_1_VFD1_DISC | D57: DISCONNECT AUX
A58: PRS4_1_VFD1 | B58: I1 | C58: PRS4_1_ENC1 | D58: ENCODER
A59: PRS4_1_VFD1 | B59: I2 | C59: PRS4_1_JPE1 | D59: JAM PHOTOEYE
A60: PRS4_1_VFD1 | B60: I3 | C60: SPARE
A61: PRS4_1_VFD1 | B61: IO0 | C61: SPARE
A62: PRS4_1_VFD1 | B62: IO1 | C62: SPARE
A63: PRS4_1_VFD1 | B63: SI0 | C63: PRS4_1_EPC1 | D63: E-STOP PULLCORD
A64: PRS4_1_VFD1 | B64: SI1 | C64: PRS4_1_EPC1_2 | D64: E-STOP PULLCORD
A65: PRS4_1_VFD1 | B65: SI2 | C65: PRS4_1_EPC2 | D65: E-STOP PULLCORD
A66: PRS4_1_VFD1 | B66: SI3 | C66: PRS4_1_EPC2_2 | D66: E-STOP PULLCORD
A67: PRS4_1_VFD1 | B67: SO0 | C67: SPARE
A68: PRS4_2_VFD1 | B68: I0 | C68: PRS4_2_VFD1_DISC | D68: DISCONNECT AUX
A69: PRS4_2_VFD1 | B69: I1 | C69: PRS4_2_ENC1 | D69: ENCODER
A70: PRS4_2_VFD1 | B70: I2 | C70: PRS4_2_JPE1 | D70: JAM PHOTOEYE
A71: PRS4_2_VFD1 | B71: I3 | C71: PRS4_2_JPE2 | D71: JAM PHOTOEYE
A72: PRS4_2_VFD1 | B72: IO0 | C72: SPARE
A73: PRS4_2_VFD1 | B73: IO1 | C73: SPARE
A74: PRS4_2_VFD1 | B74: SI0 | C74: PRS4_2_EPC1 | D74: E-STOP PULLCORD
A75: PRS4_2_VFD1 | B75: SI1 | C75: PRS4_2_EPC1_2 | D75: E-STOP PULLCORD
A76: PRS4_2_VFD1 | B76: SI2 | C76: PRS4_2_EPC2 | D76: E-STOP PULLCORD
A77: PRS4_2_VFD1 | B77: SI3 | C77: PRS4_2_EPC2_2 | D77: E-STOP PULLCORD
A78: PRS4_2_VFD1 | B78: SO0 | C78: SPARE
A79: PS10_1_VFD1 | B79: I0 | C79: PS10_1_VFD1_DISC | D79: DISCONNECT AUX
A80: PS10_1_VFD1 | B80: I1 | C80: PS10_1_ENC1 | D80: ENCODER
A81: PS10_1_VFD1 | B81: I2 | C81: PS10_1_JPE1 | D81: JAM PHOTOEYE
A82: PS10_1_VFD1 | B82: I3 | C82: PS10_1_JPE2 | D82: JAM PHOTOEYE
A83: PS10_1_VFD1 | B83: IO0 | C83: PS10_1_BCN1_A | D83: AMBER BEACON LIGHT
A84: PS10_1_VFD1 | B84: IO1 | C84: PS10_1_BCN1_R | D84: RED BEACON LIGHT
A85: PS10_1_VFD1 | B85: SI0 | C85: PS10_1_EPC1 | D85: E-STOP PULLCORD
A86: PS10_1_VFD1 | B86: SI1 | C86: PS10_1_EPC1_2 | D86: E-STOP PULLCORD
A87: PS10_1_VFD1 | B87: SI2 | C87: SPARE
A88: PS10_1_VFD1 | B88: SI3 | C88: SPARE
A89: PS10_1_VFD1 | B89: SO0 | C89: SPARE
A90: PS10_2_VFD1 | B90: I0 | C90: PS10_2_VFD1_DISC | D90: DISCONNECT AUX
A91: PS10_3_VFD1 | B91: I0 | C91: PS10_3_VFD1_DISC | D91: DISCONNECT AUX
A92: PS10_5_VFD1 | B92: I0 | C92: PS10_5_VFD1_DISC | D92: DISCONNECT AUX
A93: PS10_5_SIO1 | B93: IO0 | C93: PS10_5_EPC1 | D93: E-STOP PULLCORD
A94: PS10_5_SIO1 | B94: IO1 | C94: PS10_5_EPC1_2 | D94: E-STOP PULLCORD
A95: PS10_5_SIO1 | B95: IO2 | C95: SPARE
A96: PS10_5_SIO1 | B96: IO3 | C96: SPARE
A97: PS10_5_SIO1 | B97: IO4 | C97: SPARE
A98: PS10_5_SIO1 | B98: IO5 | C98: SPARE
A99: PS10_5_SIO1 | B99: IO6 | C99: SPARE
A100: PS10_5_SIO1 | B100: IO7 | C100: SPARE
...

Sheet NETWORK_PLC
A1: DPM | B1: DPM_IP | C1: Name | D1: PartNumber | E1: IP
A2: PRS3_5_DPM1 | B2: 11.200.1.2 | C2: PRS4_1_VFD1 | D2: 35S-6D5-P111 | E2: 11.200.1.30
A3: PRS3_5_DPM1 | B3: 11.200.1.2 | C3: PRS4_2_VFD1 | D3: 35S-6D4-P111 | E3: 11.200.1.31
A4: PRS3_5_DPM1 | B4: 11.200.1.2 | C4: PRS3_2B_VFD1 | D4: 35S-6D2-P101 | E4: 11.200.1.32
A5: PRS3_5_DPM1 | B5: 11.200.1.2 | C5: PRS3_3B_VFD1 | D5: 35S-6D2-P101 | E5: 11.200.1.33
A6: PRS3_5_DPM1 | B6: 11.200.1.2 | C6: PRS3_2A_VFD1 | D6: 35S-6D3-P101 | E6: 11.200.1.34
A7: PRS3_5_DPM1 | B7: 11.200.1.2 | C7: PRS3_3A_VFD1 | D7: 35S-6D2-P101 | E7: 11.200.1.35
A8: PRS3_5_DPM1 | B8: 11.200.1.2 | C8: PRS3_5_VFD1 | D8: 35S-6D2-P101 | E8: 11.200.1.36
A9: PRS3_5_DPM1 | B9: 11.200.1.2 | C9: PRS3_6_MDR1 | D9: MDR | E9: 11.200.1.230
A10: PRS3_5_DPM1 | B10: 11.200.1.2 | C10: PS11_1_VFD1 | D10: 35S-6D4-P111 | E10: 11.200.1.37
A11: PRS3_5_DPM1 | B11: 11.200.1.2 | C11: PS11_2_VFD1 | D11: 35S-6D4-P111 | E11: 11.200.1.38
A12: PRS3_5_DPM1 | B12: 11.200.1.2 | C12: PS11_3_VFD1 | D12: 35S-6D6-P111 | E12: 11.200.1.39
... A198: VSC_DPM3 | B198: 11.200.1.12 | C198: VSC_DPM3_FIO8 | D198: 5032-8IOLM12DR | E198: 11.200.1.219
D199: 5032-8IOLM12DR | E199: 11.200.1.219
