Workbook

Sheet Templates
A2: VFD IO TEMPLATE | C2: FIO IO Template
A3: I0 | C3: IO00
A4: I1 | C4: IO01
A5: I2 | C5: IO02
A6: I3 | C6: IO03
A7: IO0 | C7: IO04
A8: IO1 | C8: IO05
A9: SI0 | C9: IO06
A10: SI1 | C10: IO07
A11: SI2 | C11: IO08
A12: SI3 | C12: IO09
A13: SO0 | C13: IO10
C14: IO11
C15: IO12
C16: IO13
C17: IO14
C18: IO15
C19: IO16

Sheet Devices
H1: Which MCM we assign? | I1: MCM05
A2: PRS1_1ACH_BCN1_A
A3: PRS1_1ACH_BCN1_B
A4: PRS1_1ACH_FPE1
A5: PRS1_1BCH_BCN1_A
A6: PRS1_1BCH_BCN1_B
A7: PRS1_1BCH_FPE1
A8: PRS1_2A_BCN1_A
A9: PRS1_2A_DISC
A10: PRS1_2A_JPE1
A11: PRS1_2A_JPE2
A12: PRS1_2A_JR1_PB
A13: PRS1_2A_JR1_PB_LT
... A390: ULC4_3_VFD1

Sheet Instructions
A2: 1. | B2: Put all device tags to cell A2
A37: 2. | B37: In cell I1 write MCM number
A47: 3. | B47: Click on "Add Disconnects" button.
A57: 4. | B57: Replace all _VFD1_DISC with _DISC. Without this point it will generate IO points for _VFD1_DISC device
A69: 5. | B69: Click on "Split SS station". This will split all _SS to SS_STPB, SS_SPB and SS_STPB_LT
A78: 6. | B78: Click on "Split start PB". This will split all _S and _JR to _S_PB, _S_PB_LT, JR_PB and JR_PB_LT
A87: 7. | B87: Click on "Duplicate EPC Tag". This will add duplicate for all EPC and add _2 to copy
A97: 8. | B97: Click on "Create Assignment table template". This will add new sheet with name "IO Assignment MCM01 and fill with VFD and FIO names and their adresses
A107: 9. | B107: Click on "Assign Devices to VFD". This will add device tags to correspond VFD IO. Works for Disc, TPE, JPE, EPC, ENC
A116: 10. | B116: All Unassigned Pushbuttons and lights fill manually and all devices, that couldn't filled to VFD also will be here.

Sheet IO Assignment MCM05
A1: Controller name | B1: Signal type | C1: Address name | D1: Assigned device | E1: Unassigned Device | K1: MCM05_DESC
A2: PRS1_2A_VFD1 | B2: I0 | C2: PRS1_2A_VFD1_I0 | D2: PRS1_2A_VFD1_DISC
A3: PRS1_2A_VFD1 | B3: I1 | C3: PRS1_2A_VFD1_I1
A4: PRS1_2A_VFD1 | B4: I2 | C4: PRS1_2A_VFD1_I2 | D4: PRS1_2A_JPE1
A5: PRS1_2A_VFD1 | B5: I3 | C5: PRS1_2A_VFD1_I3 | D5: PRS1_2A_JPE2
A6: PRS1_2A_VFD1 | B6: IO0 | C6: PRS1_2A_VFD1_IO0
A7: PRS1_2A_VFD1 | B7: IO1 | C7: PRS1_2A_VFD1_IO1
A8: PRS1_2A_VFD1 | B8: SI0 | C8: PRS1_2A_VFD1_SI0
A9: PRS1_2A_VFD1 | B9: SI1 | C9: PRS1_2A_VFD1_SI1
A10: PRS1_2A_VFD1 | B10: SI2 | C10: PRS1_2A_VFD1_SI2
A11: PRS1_2A_VFD1 | B11: SI3 | C11: PRS1_2A_VFD1_SI3
A12: PRS1_2A_VFD1 | B12: SO0 | C12: PRS1_2A_VFD1_SO0
A13: PRS1_2B_VFD1 | B13: I0 | C13: PRS1_2B_VFD1_I0 | D13: PRS1_2B_VFD1_DISC
A14: PRS1_2B_VFD1 | B14: I1 | C14: PRS1_2B_VFD1_I1
A15: PRS1_2B_VFD1 | B15: I2 | C15: PRS1_2B_VFD1_I2 | D15: PRS1_2B_JPE1
A16: PRS1_2B_VFD1 | B16: I3 | C16: PRS1_2B_VFD1_I3 | D16: PRS1_2B_JPE2
A17: PRS1_2B_VFD1 | B17: IO0 | C17: PRS1_2B_VFD1_IO0
A18: PRS1_2B_VFD1 | B18: IO1 | C18: PRS1_2B_VFD1_IO1
A19: PRS1_2B_VFD1 | B19: SI0 | C19: PRS1_2B_VFD1_SI0
A20: PRS1_2B_VFD1 | B20: SI1 | C20: PRS1_2B_VFD1_SI1
A21: PRS1_2B_VFD1 | B21: SI2 | C21: PRS1_2B_VFD1_SI2
A22: PRS1_2B_VFD1 | B22: SI3 | C22: PRS1_2B_VFD1_SI3
A23: PRS1_2B_VFD1 | B23: SO0 | C23: PRS1_2B_VFD1_SO0
A24: PRS1_3_VFD1 | B24: I0 | C24: PRS1_3_VFD1_I0 | D24: PRS1_3_VFD1_DISC
A25: PRS1_3_VFD1 | B25: I1 | C25: PRS1_3_VFD1_I1
A26: PRS1_3_VFD1 | B26: I2 | C26: PRS1_3_VFD1_I2 | D26: PRS1_3_JPE2
A27: PRS1_3_VFD1 | B27: I3 | C27: PRS1_3_VFD1_I3
A28: PRS1_3_VFD1 | B28: IO0 | C28: PRS1_3_VFD1_IO0 | D28: PRS1_3_JR1_PB
A29: PRS1_3_VFD1 | B29: IO1 | C29: PRS1_3_VFD1_IO1 | D29: PRS1_3_JR1_PB_LT
A30: PRS1_3_VFD1 | B30: SI0 | C30: PRS1_3_VFD1_SI0
A31: PRS1_3_VFD1 | B31: SI1 | C31: PRS1_3_VFD1_SI1
A32: PRS1_3_VFD1 | B32: SI2 | C32: PRS1_3_VFD1_SI2
A33: PRS1_3_VFD1 | B33: SI3 | C33: PRS1_3_VFD1_SI3
A34: PRS1_3_VFD1 | B34: SO0 | C34: PRS1_3_VFD1_SO0 | D34: PRS1_3_BCN1_A
A35: PRS1_4_VFD1 | B35: I0 | C35: PRS1_4_VFD1_I0 | D35: PRS1_4_VFD1_DISC
A36: PRS1_4_VFD1 | B36: I1 | C36: PRS1_4_VFD1_I1
A37: PRS1_4_VFD1 | B37: I2 | C37: PRS1_4_VFD1_I2 | D37: PRS1_4_JPE1
A38: PRS1_4_VFD1 | B38: I3 | C38: PRS1_4_VFD1_I3 | D38: PRS1_4_JPE2
A39: PRS1_4_VFD1 | B39: IO0 | C39: PRS1_4_VFD1_IO0
A40: PRS1_4_VFD1 | B40: IO1 | C40: PRS1_4_VFD1_IO1
...

Sheet NETWORK
B1: MCM05 | D1: RING | F1: STAR
A2: SLOT0 | B2: 1756_L83ES | C2: IP | D2: DPM | E2: IP | F2: VFD NAME | G2: TYPE | H2: VFD PART NUMBER | I2: IP
A3: SLOT1 | B3: 1756_N2 | D3: PRS1_3_DPM1 | E3: 11.200.1.2 | F3: PRS2_1_VFD1 | G3: 7.5 | H3: 35S_6D5_P111 | I3: 11.200.1.30
A4: SLOT2 | B4: 1756_EN4TR | C4: 11.200.1.1 | F4: PRS1_2A_VFD1 | G4: 5 | H4: 35S_6D4_P111 | I4: 11.200.1.31
A5: SLOT3 | B5: 1756_N2 | F5: PRS1_2B_VFD1 | G5: 3 | H5: 35S_6D3_P101 | I5: 11.200.1.32
A6: SLOT4 | B6: 1756_N2 | F6: PRS1_3_VFD1 | G6: 7.5 | H6: 35S_6D5_P111 | I6: 11.200.1.33
A7: SLOT5 | B7: 1756_IB16 | F7: PRS1_4_VFD1 | G7: 3 | H7: 35S_6D3_P101 | I7: 11.200.1.34 | L7: MCM05 | N7: PRS1_3_DPM1 | P7: PRS1_3_DPM1 | Q7: =_xlfn.CONCAT(P7," CONNECTIONS")
A8: SLOT6 | B8: 1756_OB16E | F8: PRS1_6_VFD1 | G8: 2 | H8: 35S_6D2_P101 | I8: 11.200.1.35 | P8: PS8_5_DPM1 | Q8: =_xlfn.CONCAT(P8," CONNECTIONS")
A9: SLOT7 | B9: 1756_IB16S | F9: PRS1_7_MDR1 | G9: PSU | H9: ITOH | N9: VSD_DPM3 | P9: FL2086_DPM1 | Q9: =_xlfn.CONCAT(P9," CONNECTIONS")
A10: SLOT8 | B10: 1756_N2 | F10: PS8_9_VFD1 | G10: 15 | H10: 25B_D024N104 | I10: 11.200.1.36 | P10: FL4070_DPM1 | Q10: =_xlfn.CONCAT(P10," CONNECTIONS")
A11: SLOT9 | B11: 1756_N2 | F11: PS8_11_VFD1 | G11: 10 | H11: 35S_6D6_P111 | I11: 11.200.1.37 | N11: VSD_DPM1 | P11: VSD_DPM1 | Q11: =_xlfn.CONCAT(P11," CONNECTIONS")
F12: PRS1_1ACH_FIO1 | G12: FIO | H12: =VLOOKUP(G12,'[1]PART NUMBER'!$A$2:$B$20,2,FALSE) | I12: 11.200.1.38 | P12: VSD_DPM2 | Q12: =_xlfn.CONCAT(P12," CONNECTIONS")
F13: PRS1_1BCH_FIO1 | G13: FIO | H13: =VLOOKUP(G13,'[1]PART NUMBER'!$A$2:$B$20,2,FALSE) | I13: 11.200.1.39 | N13: VSD_DPM2 | P13: VSD_DPM3 | Q13: =_xlfn.CONCAT(P13," CONNECTIONS")
A14: DPM COUNT | B14: 10 | F14: PRS1_4_FIO1 | G14: FIO | H14: =VLOOKUP(G14,'[1]PART NUMBER'!$A$2:$B$20,2,FALSE) | I14: 11.200.1.40 | P14: VSB_DPM1 | Q14: =_xlfn.CONCAT(P14," CONNECTIONS")
A15: FIO COUNT | B15: 53 | F15: PS8_1_FIO1 | G15: FIO | H15: =VLOOKUP(G15,'[1]PART NUMBER'!$A$2:$B$20,2,FALSE) | I15: 11.200.1.41 | N15: FL4070_DPM1 | P15: VSB_DPM2 | Q15: =_xlfn.CONCAT(P15," CONNECTIONS")
F16: PS8_1_FIO2 | G16: FIO | H16: =VLOOKUP(G16,'[1]PART NUMBER'!$A$2:$B$20,2,FALSE) | I16: 11.200.1.42 | P16: VSB_DPM3 | Q16: =_xlfn.CONCAT(P16," CONNECTIONS")
D17: PS8_5_DPM1 | E17: 11.200.1.3 | F17: ULC1_1_VFD1 | G17: TIPPER | H17: PIONEER | I17: 11.200.1.43 | N17: FL2086_DPM1
F18: ULC1_3_VFD1 | G18: 2 | H18: 35S_6D2_P101 | I18: 11.200.1.44
F19: ULC2_1_VFD1 | G19: TIPPER | H19: PIONEER | I19: 11.200.1.45 | N19: VSB_DPM3
F20: ULC2_3_VFD1 | G20: 2 | H20: 35S_6D2_P101 | I20: 11.200.1.46
F21: ULC3_1_VFD1 | G21: TIPPER | H21: PIONEER | I21: 11.200.1.47 | N21: VSB_DPM1
F22: ULC3_3_VFD1 | G22: 2 | H22: 35S_6D2_P101 | I22: 11.200.1.48
F23: ULC4_1_EX1 | G23: TIPPER | H23: PIONEER | I23: 11.200.1.49 | N23: VSB_DPM2
F24: ULC4_3_VFD1 | G24: 2 | H24: 35S_6D2_P101 | I24: 11.200.1.50
F25: PS8_1_VFD1 | G25: 7.5 | H25: 35S_6D5_P111 | I25: 11.200.1.51 | N25: PS8_5_DPM1
F26: PS8_2_VFD1 | G26: 10 | H26: 35S_6D6_P111 | I26: 11.200.1.52
F27: PS8_4_VFD1 | G27: 15 | H27: 25B_D024N104 | I27: 11.200.1.53
F28: PS8_5_VFD1 | G28: 15 | H28: 25B_D024N104 | I28: 11.200.1.54
F29: PS8_6_VFD1 | G29: 5 | H29: 35S_6D4_P111 | I29: 11.200.1.55
F30: PS8_8_VFD1 | G30: 7.5 | H30: 35S_6D5_P111 | I30: 11.200.1.56
F31: PS9_2_VFD1 | G31: 7.5 | H31: 35S_6D5_P111 | I31: 11.200.1.57
F32: PS9_3_VFD1 | G32: 7.5 | H32: 35S_6D5_P111 | I32: 11.200.1.58
F33: PS8_11_FIO1 | G33: FIO | H33: =VLOOKUP(G33,'[1]PART NUMBER'!$A$2:$B$20,2,FALSE) | I33: 11.200.1.59
F34: PS8_11_FIO2 | G34: FIO | H34: =VLOOKUP(G34,'[1]PART NUMBER'!$A$2:$B$20,2,FALSE) | I34: 11.200.1.60
F35: PS8_4_SIO1 | G35: SIO | H35: 0980SSL3131-121-007D-202 | I35: 11.200.1.61
F36: PS8_5_FIO1 | G36: FIO | H36: =VLOOKUP(G36,'[1]PART NUMBER'!$A$2:$B$20,2,FALSE) | I36: 11.200.1.62
F37: PS9_3_FIO1 | G37: FIO | H37: =VLOOKUP(G37,'[1]PART NUMBER'!$A$2:$B$20,2,FALSE) | I37: 11.200.1.63
F38: PS9_3_FIO2 | G38: FIO | H38: =VLOOKUP(G38,'[1]PART NUMBER'!$A$2:$B$20,2,FALSE) | I38: 11.200.1.64
F39: PS8_9_FIO1 | G39: FIO | H39: =VLOOKUP(G39,'[1]PART NUMBER'!$A$2:$B$20,2,FALSE) | I39: 11.200.1.196 | J39: ADDED | K39: 45796
F40: PDP11_FIO1 | G40: FIO | H40: =VLOOKUP(G40,'[1]PART NUMBER'!$A$2:$B$20,2,FALSE) | I40: 11.200.1.197 | J40: ADDED | K40: 45802
...

Sheet Part Number
A1: HP | B1: PART NUMBER
A2: 2HP | B2: 35S-6D2-P101
A3: 3HP | B3: 35S-6D3-P101
A4: 5HP | B4: 35S-6D4-P111
A5: 7.5HP | B5: 35S-6D5-P111
A6: 10HP | B6: 35S-6D6-P111
A7: 15HP | B7: 25B-D024N104
A8: 20HP | B8: 25B-D030N104
A9: 30HP | B9: 25B-D043N114
A10: EXTENDO | B10: CALJAN
A11: TIPPER | B11: PIONEER
A12: ZMX | B12: ZMX-3DE2500HF-Q7-AMZCHD
A13: FIO | B13: 5032-8IOLM12DR

Sheet MCM05_DESC
A1: TAGNAME | B1: ADDR | C1: TERM | D1: TERMDESC | E1: DESCA | F1: DESCB | H1: CONTROLLERS
A2: PRS1_2A_VFD1 | B2: PRS1_2A_VFD1_I0 | C2: I0 | E2: PRS1_2A_VFD1_DISC | F2: DISCONNECT AUX | H2: PRS1_2A_VFD1 | I2: 600 | J2: =_xlfn.XLOOKUP(H2,NETWORK!$F$3:$F$176,NETWORK!$H$3:$H$176,"not found") | M2: =_xlfn.CONCAT(H2,"/",H3,"/",H4,"/",H5) | S2: PRS1_2A_VFD1/PRS1_2B_VFD1/PRS1_3_VFD1/PRS1_4_VFD1
A3: PRS1_2A_VFD1 | B3: PRS1_2A_VFD1_I1 | C3: I1 | E3: SPARE | H3: PRS1_2B_VFD1 | J3: =_xlfn.XLOOKUP(H3,NETWORK!$F$3:$F$176,NETWORK!$H$3:$H$176,"not found") | S3: PRS1_6_VFD1/PRS2_1_VFD1/PS8_1_VFD1/PS8_11_VFD1
A4: PRS1_2A_VFD1 | B4: PRS1_2A_VFD1_I2 | C4: I2 | E4: PRS1_2A_JPE1 | F4: JAM PHOTOEYE | H4: PRS1_3_VFD1 | J4: =_xlfn.XLOOKUP(H4,NETWORK!$F$3:$F$176,NETWORK!$H$3:$H$176,"not found") | S4: PS8_2_VFD1/PS8_4_VFD1/PS8_5_VFD1/PS8_6_VFD1
A5: PRS1_2A_VFD1 | B5: PRS1_2A_VFD1_I3 | C5: I3 | E5: PRS1_2A_JPE2 | F5: JAM PHOTOEYE | H5: PRS1_4_VFD1 | J5: =_xlfn.XLOOKUP(H5,NETWORK!$F$3:$F$176,NETWORK!$H$3:$H$176,"not found") | S5: PS8_8_VFD1/PS8_9_VFD1/PS9_2_VFD1/PS9_3_VFD1
A6: PRS1_2A_VFD1 | B6: PRS1_2A_VFD1_IO0 | C6: IO0 | E6: SPARE | J6: =_xlfn.XLOOKUP(H6,NETWORK!$F$3:$F$176,NETWORK!$H$3:$H$176,"not found") | S6: ULC1_3_VFD1/ULC2_3_VFD1/ULC3_3_VFD1/ULC4_3_VFD1
A7: PRS1_2A_VFD1 | B7: PRS1_2A_VFD1_IO1 | C7: IO1 | E7: SPARE | H7: PRS1_6_VFD1 | I7: 601 | J7: =_xlfn.XLOOKUP(H7,NETWORK!$F$3:$F$176,NETWORK!$H$3:$H$176,"not found") | M7: =_xlfn.CONCAT(H7,"/",H8,"/",H9,"/",H10) | S7: PRS1_1ACH_FIO1/PRS1_1BCH_FIO1/PRS1_4_FIO1/PS8_1_FIO1
A8: PRS1_2A_VFD1 | B8: PRS1_2A_VFD1_SI0 | C8: SI0 | E8: SPARE | H8: PRS2_1_VFD1 | J8: =_xlfn.XLOOKUP(H8,NETWORK!$F$3:$F$176,NETWORK!$H$3:$H$176,"not found") | S8: PS8_1_FIO2/PS8_1_FIOH1/PS8_1_FIOH2/PS8_1_FIOH3
A9: PRS1_2A_VFD1 | B9: PRS1_2A_VFD1_SI1 | C9: SI1 | E9: SPARE | H9: PS8_1_VFD1 | J9: =_xlfn.XLOOKUP(H9,NETWORK!$F$3:$F$176,NETWORK!$H$3:$H$176,"not found") | S9: PS8_4_SIO1/PS8_4_FIOH1/PS8_5_FIO1/PS8_9_FIO1
A10: PRS1_2A_VFD1 | B10: PRS1_2A_VFD1_SI2 | C10: SI2 | E10: SPARE | H10: PS8_11_VFD1 | J10: =_xlfn.XLOOKUP(H10,NETWORK!$F$3:$F$176,NETWORK!$H$3:$H$176,"not found") | S10: PS8_11_FIO1/PS8_11_FIO2/PS8_11_FIOH1/PS8_11_FIOH2
A11: PRS1_2A_VFD1 | B11: PRS1_2A_VFD1_SI3 | C11: SI3 | E11: SPARE | J11: =_xlfn.XLOOKUP(H11,NETWORK!$F$3:$F$176,NETWORK!$H$3:$H$176,"not found") | S11: PS9_3_FIO1/PS9_3_FIO2/PS9_3_FIOH1/PS9_3_FIOH2
A12: PRS1_2A_VFD1 | B12: PRS1_2A_VFD1_SO0 | C12: SO0 | E12: SPARE | H12: PS8_2_VFD1 | I12: 602 | J12: =_xlfn.XLOOKUP(H12,NETWORK!$F$3:$F$176,NETWORK!$H$3:$H$176,"not found") | M12: =_xlfn.CONCAT(H12,"/",H13,"/",H14,"/",H15) | S12: FL2074_2_VFD1/FL2078_2_VFD1/FL2086_2_VFD1/FL2090_2_VFD1
A13: PRS1_2B_VFD1 | B13: PRS1_2B_VFD1_I0 | C13: I0 | E13: PRS1_2B_VFD1_DISC | F13: DISCONNECT AUX | H13: PS8_4_VFD1 | J13: =_xlfn.XLOOKUP(H13,NETWORK!$F$3:$F$176,NETWORK!$H$3:$H$176,"not found") | S13: FL2094_2_VFD1/FL4066_2_VFD1/FL4070_2_VFD1/FL4074_2_VFD1
A14: PRS1_2B_VFD1 | B14: PRS1_2B_VFD1_I1 | C14: I1 | E14: SPARE | H14: PS8_5_VFD1 | J14: =_xlfn.XLOOKUP(H14,NETWORK!$F$3:$F$176,NETWORK!$H$3:$H$176,"not found") | S14: FL4078_2_VFD1/FL4082_2_VFD1/FL2074_FIOH1/S012080_FIOH1
A15: PRS1_2B_VFD1 | B15: PRS1_2B_VFD1_I2 | C15: I2 | E15: PRS1_2B_JPE1 | F15: JAM PHOTOEYE | H15: PS8_6_VFD1 | J15: =_xlfn.XLOOKUP(H15,NETWORK!$F$3:$F$176,NETWORK!$H$3:$H$176,"not found") | S15: FL2086_FIOH1/FL2090_FIOH1/S012096_FIOH1/FL4082_FIOH1
A16: PRS1_2B_VFD1 | B16: PRS1_2B_VFD1_I3 | C16: I3 | E16: PRS1_2B_JPE2 | F16: JAM PHOTOEYE | J16: =_xlfn.XLOOKUP(H16,NETWORK!$F$3:$F$176,NETWORK!$H$3:$H$176,"not found") | S16: S014080_FIOH1/FL4074_FIOH1/FL4072_FIOH1/FL4066_FIOH1
A17: PRS1_2B_VFD1 | B17: PRS1_2B_VFD1_IO0 | C17: IO0 | E17: SPARE | H17: PS8_8_VFD1 | I17: 603 | J17: =_xlfn.XLOOKUP(H17,NETWORK!$F$3:$F$176,NETWORK!$H$3:$H$176,"not found") | M17: =_xlfn.CONCAT(H17,"/",H18,"/",H19,"/",H20)
A18: PRS1_2B_VFD1 | B18: PRS1_2B_VFD1_IO1 | C18: IO1 | E18: SPARE | H18: PS8_9_VFD1 | J18: =_xlfn.XLOOKUP(H18,NETWORK!$F$3:$F$176,NETWORK!$H$3:$H$176,"not found")
A19: PRS1_2B_VFD1 | B19: PRS1_2B_VFD1_SI0 | C19: SI0 | E19: SPARE | H19: PS9_2_VFD1 | J19: =_xlfn.XLOOKUP(H19,NETWORK!$F$3:$F$176,NETWORK!$H$3:$H$176,"not found")
A20: PRS1_2B_VFD1 | B20: PRS1_2B_VFD1_SI1 | C20: SI1 | E20: SPARE | H20: PS9_3_VFD1 | J20: =_xlfn.XLOOKUP(H20,NETWORK!$F$3:$F$176,NETWORK!$H$3:$H$176,"not found")
A21: PRS1_2B_VFD1 | B21: PRS1_2B_VFD1_SI2 | C21: SI2 | E21: SPARE | J21: =_xlfn.XLOOKUP(H21,NETWORK!$F$3:$F$176,NETWORK!$H$3:$H$176,"not found")
A22: PRS1_2B_VFD1 | B22: PRS1_2B_VFD1_SI3 | C22: SI3 | E22: SPARE | H22: ULC1_3_VFD1 | I22: 604 | J22: =_xlfn.XLOOKUP(H22,NETWORK!$F$3:$F$176,NETWORK!$H$3:$H$176,"not found") | M22: =_xlfn.CONCAT(H22,"/",H23,"/",H24,"/",H25)
A23: PRS1_2B_VFD1 | B23: PRS1_2B_VFD1_SO0 | C23: SO0 | E23: SPARE | H23: ULC2_3_VFD1 | J23: =_xlfn.XLOOKUP(H23,NETWORK!$F$3:$F$176,NETWORK!$H$3:$H$176,"not found")
A24: PRS1_3_VFD1 | B24: PRS1_3_VFD1_I0 | C24: I0 | E24: PRS1_3_VFD1_DISC | F24: DISCONNECT AUX | H24: ULC3_3_VFD1 | J24: =_xlfn.XLOOKUP(H24,NETWORK!$F$3:$F$176,NETWORK!$H$3:$H$176,"not found")
A25: PRS1_3_VFD1 | B25: PRS1_3_VFD1_I1 | C25: I1 | E25: SPARE | H25: ULC4_3_VFD1 | J25: =_xlfn.XLOOKUP(H25,NETWORK!$F$3:$F$176,NETWORK!$H$3:$H$176,"not found")
A26: PRS1_3_VFD1 | B26: PRS1_3_VFD1_I2 | C26: I2 | E26: PRS1_3_JPE2 | F26: JAM PHOTOEYE | J26: =_xlfn.XLOOKUP(H26,NETWORK!$F$3:$F$176,NETWORK!$H$3:$H$176,"not found")
A27: PRS1_3_VFD1 | B27: PRS1_3_VFD1_I3 | C27: I3 | E27: SPARE | H27: PRS1_1ACH_FIO1 | I27: 605 | J27: =_xlfn.XLOOKUP(H27,NETWORK!$F$3:$F$176,NETWORK!$H$3:$H$176,"not found") | M27: =_xlfn.CONCAT(H27,"/",H28,"/",H29,"/",H30)
A28: PRS1_3_VFD1 | B28: PRS1_3_VFD1_IO0 | C28: IO0 | E28: PRS1_3_JR1_PB | F28: JAM RESET PUSHBUTTON | H28: PRS1_1BCH_FIO1 | J28: =_xlfn.XLOOKUP(H28,NETWORK!$F$3:$F$176,NETWORK!$H$3:$H$176,"not found")
A29: PRS1_3_VFD1 | B29: PRS1_3_VFD1_IO1 | C29: IO1 | E29: PRS1_3_JR1_PB_LT | F29: JAM RESET PUSHBUTTON LIGHT | H29: PRS1_4_FIO1 | J29: =_xlfn.XLOOKUP(H29,NETWORK!$F$3:$F$176,NETWORK!$H$3:$H$176,"not found")
A30: PRS1_3_VFD1 | B30: PRS1_3_VFD1_SI0 | C30: SI0 | E30: SPARE | H30: PS8_1_FIO1 | J30: =_xlfn.XLOOKUP(H30,NETWORK!$F$3:$F$176,NETWORK!$H$3:$H$176,"not found")
A31: PRS1_3_VFD1 | B31: PRS1_3_VFD1_SI1 | C31: SI1 | E31: SPARE | J31: =_xlfn.XLOOKUP(H31,NETWORK!$F$3:$F$176,NETWORK!$H$3:$H$176,"not found")
A32: PRS1_3_VFD1 | B32: PRS1_3_VFD1_SI2 | C32: SI2 | E32: SPARE | H32: PS8_1_FIO2 | I32: 606 | J32: =_xlfn.XLOOKUP(H32,NETWORK!$F$3:$F$176,NETWORK!$H$3:$H$176,"not found") | M32: =_xlfn.CONCAT(H32,"/",H33,"/",H34,"/",H35)
A33: PRS1_3_VFD1 | B33: PRS1_3_VFD1_SI3 | C33: SI3 | E33: SPARE | H33: PS8_1_FIOH1 | J33: =_xlfn.XLOOKUP(H33,NETWORK!$F$3:$F$176,NETWORK!$H$3:$H$176,"not found")
A34: PRS1_3_VFD1 | B34: PRS1_3_VFD1_SO0 | C34: SO0 | E34: PRS1_3_BCN1_A | F34: AMBER BEACON LIGHT | H34: PS8_1_FIOH2 | J34: =_xlfn.XLOOKUP(H34,NETWORK!$F$3:$F$176,NETWORK!$H$3:$H$176,"not found")
A35: PRS1_4_VFD1 | B35: PRS1_4_VFD1_I0 | C35: I0 | E35: PRS1_4_VFD1_DISC | F35: DISCONNECT AUX | H35: PS8_1_FIOH3 | J35: =_xlfn.XLOOKUP(H35,NETWORK!$F$3:$F$176,NETWORK!$H$3:$H$176,"not found")
A36: PRS1_4_VFD1 | B36: PRS1_4_VFD1_I1 | C36: I1 | E36: SPARE | J36: =_xlfn.XLOOKUP(H36,NETWORK!$F$3:$F$176,NETWORK!$H$3:$H$176,"not found")
A37: PRS1_4_VFD1 | B37: PRS1_4_VFD1_I2 | C37: I2 | E37: PRS1_4_JPE1 | F37: JAM PHOTOEYE | H37: PS8_4_SIO1 | I37: 607 | J37: =_xlfn.XLOOKUP(H37,NETWORK!$F$3:$F$176,NETWORK!$H$3:$H$176,"not found") | M37: =_xlfn.CONCAT(H37,"/",H38,"/",H39,"/",H40)
A38: PRS1_4_VFD1 | B38: PRS1_4_VFD1_I3 | C38: I3 | E38: PRS1_4_JPE2 | F38: JAM PHOTOEYE | H38: PS8_4_FIOH1 | J38: =_xlfn.XLOOKUP(H38,NETWORK!$F$3:$F$176,NETWORK!$H$3:$H$176,"not found")
A39: PRS1_4_VFD1 | B39: PRS1_4_VFD1_IO0 | C39: IO0 | E39: SPARE | H39: PS8_5_FIO1 | J39: =_xlfn.XLOOKUP(H39,NETWORK!$F$3:$F$176,NETWORK!$H$3:$H$176,"not found")
A40: PRS1_4_VFD1 | B40: PRS1_4_VFD1_IO1 | C40: IO1 | E40: SPARE | H40: PS8_9_FIO1 | J40: =_xlfn.XLOOKUP(H40,NETWORK!$F$3:$F$176,NETWORK!$H$3:$H$176,"not found")
...

Sheet DESC_PLC
A1: TAGNAME | B1: TERM | C1: DESCA | D1: DESCB
A2: PRS1_2A_VFD1 | B2: I0 | C2: PRS1_2A_VFD1_DISC | D2: DISCONNECT AUX
A3: PRS1_2A_VFD1 | B3: I1 | C3: SPARE
A4: PRS1_2A_VFD1 | B4: I2 | C4: PRS1_2A_JPE1 | D4: JAM PHOTOEYE
A5: PRS1_2A_VFD1 | B5: I3 | C5: PRS1_2A_JPE2 | D5: JAM PHOTOEYE
A6: PRS1_2A_VFD1 | B6: IO0 | C6: SPARE
A7: PRS1_2A_VFD1 | B7: IO1 | C7: SPARE
A8: PRS1_2A_VFD1 | B8: SI0 | C8: SPARE
A9: PRS1_2A_VFD1 | B9: SI1 | C9: SPARE
A10: PRS1_2A_VFD1 | B10: SI2 | C10: SPARE
A11: PRS1_2A_VFD1 | B11: SI3 | C11: SPARE
A12: PRS1_2A_VFD1 | B12: SO0 | C12: SPARE
A13: PRS1_2B_VFD1 | B13: I0 | C13: PRS1_2B_VFD1_DISC | D13: DISCONNECT AUX
A14: PRS1_2B_VFD1 | B14: I1 | C14: SPARE
A15: PRS1_2B_VFD1 | B15: I2 | C15: PRS1_2B_JPE1 | D15: JAM PHOTOEYE
A16: PRS1_2B_VFD1 | B16: I3 | C16: PRS1_2B_JPE2 | D16: JAM PHOTOEYE
A17: PRS1_2B_VFD1 | B17: IO0 | C17: SPARE
A18: PRS1_2B_VFD1 | B18: IO1 | C18: SPARE
A19: PRS1_2B_VFD1 | B19: SI0 | C19: SPARE
A20: PRS1_2B_VFD1 | B20: SI1 | C20: SPARE
A21: PRS1_2B_VFD1 | B21: SI2 | C21: SPARE
A22: PRS1_2B_VFD1 | B22: SI3 | C22: SPARE
A23: PRS1_2B_VFD1 | B23: SO0 | C23: SPARE
A24: PRS1_3_VFD1 | B24: I0 | C24: PRS1_3_VFD1_DISC | D24: DISCONNECT AUX
A25: PRS1_3_VFD1 | B25: I1 | C25: SPARE
A26: PRS1_3_VFD1 | B26: I2 | C26: PRS1_3_JPE2 | D26: JAM PHOTOEYE
A27: PRS1_3_VFD1 | B27: I3 | C27: SPARE
A28: PRS1_3_VFD1 | B28: IO0 | C28: PRS1_3_JR1_PB | D28: JAM RESET PUSHBUTTON
A29: PRS1_3_VFD1 | B29: IO1 | C29: PRS1_3_JR1_PB_LT | D29: JAM RESET PUSHBUTTON LIGHT
A30: PRS1_3_VFD1 | B30: SI0 | C30: SPARE
A31: PRS1_3_VFD1 | B31: SI1 | C31: SPARE
A32: PRS1_3_VFD1 | B32: SI2 | C32: SPARE
A33: PRS1_3_VFD1 | B33: SI3 | C33: SPARE
A34: PRS1_3_VFD1 | B34: SO0 | C34: PRS1_3_BCN1_A | D34: AMBER BEACON LIGHT
A35: PRS1_4_VFD1 | B35: I0 | C35: PRS1_4_VFD1_DISC | D35: DISCONNECT AUX
A36: PRS1_4_VFD1 | B36: I1 | C36: SPARE
A37: PRS1_4_VFD1 | B37: I2 | C37: PRS1_4_JPE1 | D37: JAM PHOTOEYE
A38: PRS1_4_VFD1 | B38: I3 | C38: PRS1_4_JPE2 | D38: JAM PHOTOEYE
A39: PRS1_4_VFD1 | B39: IO0 | C39: SPARE
A40: PRS1_4_VFD1 | B40: IO1 | C40: SPARE
...

Sheet NETWORK_PLC
A1: DPM | B1: DPM_IP | C1: Name | D1: PartNumber | E1: IP
A2: PRS1_3_DPM1 | B2: 11.200.1.2 | C2: PRS2_1_VFD1 | D2: 35S_6D5_P111 | E2: 11.200.1.30
A3: PRS1_3_DPM1 | B3: 11.200.1.2 | C3: PRS1_2A_VFD1 | D3: 35S_6D4_P111 | E3: 11.200.1.31
A4: PRS1_3_DPM1 | B4: 11.200.1.2 | C4: PRS1_2B_VFD1 | D4: 35S_6D3_P101 | E4: 11.200.1.32
A5: PRS1_3_DPM1 | B5: 11.200.1.2 | C5: PRS1_3_VFD1 | D5: 35S_6D5_P111 | E5: 11.200.1.33
A6: PRS1_3_DPM1 | B6: 11.200.1.2 | C6: PRS1_4_VFD1 | D6: 35S_6D3_P101 | E6: 11.200.1.34
A7: PRS1_3_DPM1 | B7: 11.200.1.2 | C7: PRS1_6_VFD1 | D7: 35S_6D2_P101 | E7: 11.200.1.35
A8: PRS1_3_DPM1 | B8: 11.200.1.2 | C8: PRS1_7_MDR1 | D8: ITOH
A9: PRS1_3_DPM1 | B9: 11.200.1.2 | C9: PS8_9_VFD1 | D9: 25B_D024N104 | E9: 11.200.1.36
A10: PRS1_3_DPM1 | B10: 11.200.1.2 | C10: PS8_11_VFD1 | D10: 35S_6D6_P111 | E10: 11.200.1.37
A11: PRS1_3_DPM1 | B11: 11.200.1.2 | C11: PRS1_1ACH_FIO1 | D11: 5032-8IOLM12DR | E11: 11.200.1.38
A12: PRS1_3_DPM1 | B12: 11.200.1.2 | C12: PRS1_1BCH_FIO1 | D12: 5032-8IOLM12DR | E12: 11.200.1.39
A13: PRS1_3_DPM1 | B13: 11.200.1.2 | C13: PRS1_4_FIO1 | D13: 5032-8IOLM12DR | E13: 11.200.1.40
A14: PRS1_3_DPM1 | B14: 11.200.1.2 | C14: PS8_1_FIO1 | D14: 5032-8IOLM12DR | E14: 11.200.1.41
A15: PRS1_3_DPM1 | B15: 11.200.1.2 | C15: PS8_1_FIO2 | D15: 5032-8IOLM12DR | E15: 11.200.1.42
A16: PS8_5_DPM1 | B16: 11.200.1.3 | C16: ULC1_1_VFD1 | D16: PIONEER | E16: 11.200.1.43
A17: PS8_5_DPM1 | B17: 11.200.1.3 | C17: ULC1_3_VFD1 | D17: 35S_6D2_P101 | E17: 11.200.1.44
A18: PS8_5_DPM1 | B18: 11.200.1.3 | C18: ULC2_1_VFD1 | D18: PIONEER | E18: 11.200.1.45
A19: PS8_5_DPM1 | B19: 11.200.1.3 | C19: ULC2_3_VFD1 | D19: 35S_6D2_P101 | E19: 11.200.1.46
A20: PS8_5_DPM1 | B20: 11.200.1.3 | C20: ULC3_1_VFD1 | D20: PIONEER | E20: 11.200.1.47
... A175: VSB_DPM3 | B175: 11.200.1.11 | C175: VSB_DPM3_FIO8 | D175: 5032-8IOLM12DR | E175: 11.200.1.195
