Workbook

Sheet Templates
A2: VFD IO TEMPLATE | C2: FIO IO Template
A3: I0 | C3: IO00
A4: I1 | C4: IO01
A5: I2 | C5: IO02
A6: I3 | C6: IO03
A7: IO0 | C7: IO04
A8: IO1 | C8: IO05
A9: SI0 | C9: IO06
A10: SI1 | C10: IO07
A11: SI2 | C11: IO08
A12: SI3 | C12: IO09
A13: SO0 | C13: IO10
C14: IO11
C15: IO12
C16: IO13
C17: IO14
C18: IO15
C19: IO16

Sheet Devices
H1: Which MCM we assign? | I1: MCM05
A2: PRS1_1ACH_BCN1_A
A3: PRS1_1ACH_BCN1_B
A4: PRS1_1ACH_FPE1
A5: PRS1_1BCH_BCN1_A
A6: PRS1_1BCH_BCN1_B
A7: PRS1_1BCH_FPE1
A8: PRS1_2A_BCN1_A
A9: PRS1_2A_DISC
A10: PRS1_2A_JPE1
A11: PRS1_2A_JPE2
A12: PRS1_2A_JR1_PB
A13: PRS1_2A_JR1_PB_LT
... A390: ULC4_3_VFD1

Sheet Instructions
A2: 1. | B2: Put all device tags to cell A2
A37: 2. | B37: In cell I1 write MCM number
A47: 3. | B47: Click on "Add Disconnects" button.
A57: 4. | B57: Replace all _VFD1_DISC with _DISC. Without this point it will generate IO points for _VFD1_DISC device
A69: 5. | B69: Click on "Split SS station". This will split all _SS to SS_STPB, SS_SPB and SS_STPB_LT
A78: 6. | B78: Click on "Split start PB". This will split all _S and _JR to _S_PB, _S_PB_LT, JR_PB and JR_PB_LT
A87: 7. | B87: Click on "Duplicate EPC Tag". This will add duplicate for all EPC and add _2 to copy
A97: 8. | B97: Click on "Create Assignment table template". This will add new sheet with name "IO Assignment MCM01 and fill with VFD and FIO names and their adresses
A107: 9. | B107: Click on "Assign Devices to VFD". This will add device tags to correspond VFD IO. Works for Disc, TPE, JPE, EPC, ENC
A116: 10. | B116: All Unassigned Pushbuttons and lights fill manually and all devices, that couldn't filled to VFD also will be here.

Sheet IO Assignment MCM05
A1: Controller name | B1: Signal type | C1: Address name | D1: Assigned device | E1: Unassigned Device | K1: MCM05_DESC
A2: PRS1_2A_VFD1 | B2: I0 | C2: PRS1_2A_VFD1_I0 | D2: PRS1_2A_VFD1_DISC
A3: PRS1_2A_VFD1 | B3: I1 | C3: PRS1_2A_VFD1_I1
A4: PRS1_2A_VFD1 | B4: I2 | C4: PRS1_2A_VFD1_I2 | D4: PRS1_2A_JPE1
A5: PRS1_2A_VFD1 | B5: I3 | C5: PRS1_2A_VFD1_I3 | D5: PRS1_2A_JPE2
A6: PRS1_2A_VFD1 | B6: IO0 | C6: PRS1_2A_VFD1_IO0
A7: PRS1_2A_VFD1 | B7: IO1 | C7: PRS1_2A_VFD1_IO1
A8: PRS1_2A_VFD1 | B8: SI0 | C8: PRS1_2A_VFD1_SI0
A9: PRS1_2A_VFD1 | B9: SI1 | C9: PRS1_2A_VFD1_SI1
A10: PRS1_2A_VFD1 | B10: SI2 | C10: PRS1_2A_VFD1_SI2
A11: PRS1_2A_VFD1 | B11: SI3 | C11: PRS1_2A_VFD1_SI3
A12: PRS1_2A_VFD1 | B12: SO0 | C12: PRS1_2A_VFD1_SO0
A13: PRS1_2B_VFD1 | B13: I0 | C13: PRS1_2B_VFD1_I0 | D13: PRS1_2B_VFD1_DISC
A14: PRS1_2B_VFD1 | B14: I1 | C14: PRS1_2B_VFD1_I1
A15: PRS1_2B_VFD1 | B15: I2 | C15: PRS1_2B_VFD1_I2 | D15: PRS1_2B_JPE1
A16: PRS1_2B_VFD1 | B16: I3 | C16: PRS1_2B_VFD1_I3 | D16: PRS1_2B_JPE2
A17: PRS1_2B_VFD1 | B17: IO0 | C17: PRS1_2B_VFD1_IO0
A18: PRS1_2B_VFD1 | B18: IO1 | C18: PRS1_2B_VFD1_IO1
A19: PRS1_2B_VFD1 | B19: SI0 | C19: PRS1_2B_VFD1_SI0
A20: PRS1_2B_VFD1 | B20: SI1 | C20: PRS1_2B_VFD1_SI1
A21: PRS1_2B_VFD1 | B21: SI2 | C21: PRS1_2B_VFD1_SI2
A22: PRS1_2B_VFD1 | B22: SI3 | C22: PRS1_2B_VFD1_SI3
A23: PRS1_2B_VFD1 | B23: SO0 | C23: PRS1_2B_VFD1_SO0
A24: PRS1_3_VFD1 | B24: I0 | C24: PRS1_3_VFD1_I0 | D24: PRS1_3_VFD1_DISC
A25: PRS1_3_VFD1 | B25: I1 | C25: PRS1_3_VFD1_I1
A26: PRS1_3_VFD1 | B26: I2 | C26: PRS1_3_VFD1_I2 | D26: PRS1_3_JPE2
A27: PRS1_3_VFD1 | B27: I3 | C27: PRS1_3_VFD1_I3
A28: PRS1_3_VFD1 | B28: IO0 | C28: PRS1_3_VFD1_IO0 | D28: PRS1_3_JR1_PB
A29: PRS1_3_VFD1 | B29: IO1 | C29: PRS1_3_VFD1_IO1 | D29: PRS1_3_JR1_PB_LT
A30: PRS1_3_VFD1 | B30: SI0 | C30: PRS1_3_VFD1_SI0
A31: PRS1_3_VFD1 | B31: SI1 | C31: PRS1_3_VFD1_SI1
A32: PRS1_3_VFD1 | B32: SI2 | C32: PRS1_3_VFD1_SI2
A33: PRS1_3_VFD1 | B33: SI3 | C33: PRS1_3_VFD1_SI3
A34: PRS1_3_VFD1 | B34: SO0 | C34: PRS1_3_VFD1_SO0 | D34: PRS1_3_BCN1_A
A35: PRS1_4_VFD1 | B35: I0 | C35: PRS1_4_VFD1_I0 | D35: PRS1_4_VFD1_DISC
A36: PRS1_4_VFD1 | B36: I1 | C36: PRS1_4_VFD1_I1
A37: PRS1_4_VFD1 | B37: I2 | C37: PRS1_4_VFD1_I2 | D37: PRS1_4_JPE1
A38: PRS1_4_VFD1 | B38: I3 | C38: PRS1_4_VFD1_I3 | D38: PRS1_4_JPE2
A39: PRS1_4_VFD1 | B39: IO0 | C39: PRS1_4_VFD1_IO0
A40: PRS1_4_VFD1 | B40: IO1 | C40: PRS1_4_VFD1_IO1
A41: PRS1_4_VFD1 | B41: SI0 | C41: PRS1_4_VFD1_SI0
A42: PRS1_4_VFD1 | B42: SI1 | C42: PRS1_4_VFD1_SI1
A43: PRS1_4_VFD1 | B43: SI2 | C43: PRS1_4_VFD1_SI2
A44: PRS1_4_VFD1 | B44: SI3 | C44: PRS1_4_VFD1_SI3
A45: PRS1_4_VFD1 | B45: SO0 | C45: PRS1_4_VFD1_SO0
A46: PRS1_6_VFD1 | B46: I0 | C46: PRS1_6_VFD1_I0 | D46: PRS1_6_VFD1_DISC
A47: PRS1_6_VFD1 | B47: I1 | C47: PRS1_6_VFD1_I1
A48: PRS1_6_VFD1 | B48: I2 | C48: PRS1_6_VFD1_I2 | D48: PRS1_6_JPE1
A49: PRS1_6_VFD1 | B49: I3 | C49: PRS1_6_VFD1_I3 | D49: PRS1_6_JPE2
A50: PRS1_6_VFD1 | B50: IO0 | C50: PRS1_6_VFD1_IO0
A51: PRS1_6_VFD1 | B51: IO1 | C51: PRS1_6_VFD1_IO1
A52: PRS1_6_VFD1 | B52: SI0 | C52: PRS1_6_VFD1_SI0 | D52: PRS1_6_EPC1
A53: PRS1_6_VFD1 | B53: SI1 | C53: PRS1_6_VFD1_SI1 | D53: PRS1_6_EPC1_2
A54: PRS1_6_VFD1 | B54: SI2 | C54: PRS1_6_VFD1_SI2 | D54: PRS1_6_EPC2
A55: PRS1_6_VFD1 | B55: SI3 | C55: PRS1_6_VFD1_SI3 | D55: PRS1_6_EPC2_2
A56: PRS1_6_VFD1 | B56: SO0 | C56: PRS1_6_VFD1_SO0
A57: PRS2_1_VFD1 | B57: I0 | C57: PRS2_1_VFD1_I0 | D57: PRS2_1_VFD1_DISC
A58: PRS2_1_VFD1 | B58: I1 | C58: PRS2_1_VFD1_I1
A59: PRS2_1_VFD1 | B59: I2 | C59: PRS2_1_VFD1_I2 | D59: PRS2_1_JPE1
A60: PRS2_1_VFD1 | B60: I3 | C60: PRS2_1_VFD1_I3
A61: PRS2_1_VFD1 | B61: IO0 | C61: PRS2_1_VFD1_IO0
A62: PRS2_1_VFD1 | B62: IO1 | C62: PRS2_1_VFD1_IO1
A63: PRS2_1_VFD1 | B63: SI0 | C63: PRS2_1_VFD1_SI0 | D63: PRS2_1_EPC1
A64: PRS2_1_VFD1 | B64: SI1 | C64: PRS2_1_VFD1_SI1 | D64: PRS2_1_EPC1_2
A65: PRS2_1_VFD1 | B65: SI2 | C65: PRS2_1_VFD1_SI2 | D65: PRS2_1_EPC2
A66: PRS2_1_VFD1 | B66: SI3 | C66: PRS2_1_VFD1_SI3 | D66: PRS2_1_EPC2_2
A67: PRS2_1_VFD1 | B67: SO0 | C67: PRS2_1_VFD1_SO0
A68: PS8_1_VFD1 | B68: I0 | C68: PS8_1_VFD1_I0 | D68: PS8_1_VFD1_DISC
A69: PS8_1_VFD1 | B69: I1 | C69: PS8_1_VFD1_I1 | D69: PS8_1_ENC1
A70: PS8_1_VFD1 | B70: I2 | C70: PS8_1_VFD1_I2 | D70: PS8_1_JPE1
A71: PS8_1_VFD1 | B71: I3 | C71: PS8_1_VFD1_I3 | D71: PS8_1_JPE2
A72: PS8_1_VFD1 | B72: IO0 | C72: PS8_1_VFD1_IO0
A73: PS8_1_VFD1 | B73: IO1 | C73: PS8_1_VFD1_IO1
A74: PS8_1_VFD1 | B74: SI0 | C74: PS8_1_VFD1_SI0 | D74: PS8_1_EPC1
A75: PS8_1_VFD1 | B75: SI1 | C75: PS8_1_VFD1_SI1 | D75: PS8_1_EPC1_2
A76: PS8_1_VFD1 | B76: SI2 | C76: PS8_1_VFD1_SI2
A77: PS8_1_VFD1 | B77: SI3 | C77: PS8_1_VFD1_SI3
A78: PS8_1_VFD1 | B78: SO0 | C78: PS8_1_VFD1_SO0
A79: PS8_11_VFD1 | B79: I0 | C79: PS8_11_VFD1_I0 | D79: PS8_11_VFD1_DISC
A80: PS8_11_VFD1 | B80: I1 | C80: PS8_11_VFD1_I1 | D80: PS8_11_ENC1
A81: PS8_11_VFD1 | B81: I2 | C81: PS8_11_VFD1_I2 | D81: PS8_11_CH1_JPE1
A82: PS8_11_VFD1 | B82: I3 | C82: PS8_11_VFD1_I3 | D82: PS8_11_CH2_JPE1
A83: PS8_11_VFD1 | B83: IO0 | C83: PS8_11_VFD1_IO0 | D83: PS8_12CH_FPE1
A84: PS8_11_VFD1 | B84: IO1 | C84: PS8_11_VFD1_IO1 | D84: PS8_12CH-PS1
A85: PS8_11_VFD1 | B85: SI0 | C85: PS8_11_VFD1_SI0 | D85: PS8_11_EPC1
A86: PS8_11_VFD1 | B86: SI1 | C86: PS8_11_VFD1_SI1 | D86: PS8_11_EPC1_2
A87: PS8_11_VFD1 | B87: SI2 | C87: PS8_11_VFD1_SI2
A88: PS8_11_VFD1 | B88: SI3 | C88: PS8_11_VFD1_SI3
A89: PS8_11_VFD1 | B89: SO0 | C89: PS8_11_VFD1_SO0 | D89: PS8_11_BCN2_A
A90: PS8_2_VFD1 | B90: I0 | C90: PS8_2_VFD1_I0 | D90: PS8_2_VFD1_DISC
A91: PS8_2_VFD1 | B91: I1 | C91: PS8_2_VFD1_I1 | D91: PS8_2_ENC1
A92: PS8_2_VFD1 | B92: I2 | C92: PS8_2_VFD1_I2 | D92: PS8_2_JPE1
A93: PS8_2_VFD1 | B93: I3 | C93: PS8_2_VFD1_I3 | D93: PS8_2_JPE2 | E93: 45816
A94: PS8_2_VFD1 | B94: IO0 | C94: PS8_2_VFD1_IO0 | D94: PS8_2_BCN2_A
A95: PS8_2_VFD1 | B95: IO1 | C95: PS8_2_VFD1_IO1 | D95: PS8_2_BCN2_R
A96: PS8_2_VFD1 | B96: SI0 | C96: PS8_2_VFD1_SI0 | D96: PS8_2_EPC1
A97: PS8_2_VFD1 | B97: SI1 | C97: PS8_2_VFD1_SI1 | D97: PS8_2_EPC1_2
A98: PS8_2_VFD1 | B98: SI2 | C98: PS8_2_VFD1_SI2 | D98: PS8_2_EPC2
A99: PS8_2_VFD1 | B99: SI3 | C99: PS8_2_VFD1_SI3 | D99: PS8_2_EPC2_2
A100: PS8_2_VFD1 | B100: SO0 | C100: PS8_2_VFD1_SO0
...

Sheet NETWORK
B1: MCM05 | D1: RING | F1: STAR
A2: SLOT0 | B2: 1756_L83ES | C2: IP | D2: DPM | E2: IP | F2: VFD NAME | G2: TYPE | H2: VFD PART NUMBER | I2: IP
A3: SLOT1 | B3: 1756_N2 | D3: PRS1_3_DPM1 | E3: 11.200.1.2 | F3: PRS2_1_VFD1 | G3: 7.5 | H3: 35S_6D5_P111 | I3: 11.200.1.30
A4: SLOT2 | B4: 1756_EN4TR | C4: 11.200.1.1 | F4: PRS1_2A_VFD1 | G4: 5 | H4: 35S_6D4_P111 | I4: 11.200.1.31
A5: SLOT3 | B5: 1756_N2 | F5: PRS1_2B_VFD1 | G5: 3 | H5: 35S_6D3_P101 | I5: 11.200.1.32
A6: SLOT4 | B6: 1756_N2 | F6: PRS1_3_VFD1 | G6: 7.5 | H6: 35S_6D5_P111 | I6: 11.200.1.33
A7: SLOT5 | B7: 1756_IB16 | F7: PRS1_4_VFD1 | G7: 3 | H7: 35S_6D3_P101 | I7: 11.200.1.34 | L7: MCM05 | N7: PRS1_3_DPM1 | P7: PRS1_3_DPM1 | Q7: =_xlfn.CONCAT(P7," CONNECTIONS")
A8: SLOT6 | B8: 1756_OB16E | F8: PRS1_6_VFD1 | G8: 2 | H8: 35S_6D2_P101 | I8: 11.200.1.35 | P8: PS8_5_DPM1 | Q8: =_xlfn.CONCAT(P8," CONNECTIONS")
A9: SLOT7 | B9: 1756_IB16S | F9: PRS1_7_MDR1 | G9: PSU | H9: ITOH | N9: VSD_DPM3 | P9: FL2086_DPM1 | Q9: =_xlfn.CONCAT(P9," CONNECTIONS")
A10: SLOT8 | B10: 1756_N2 | F10: PS8_9_VFD1 | G10: 15 | H10: 25B_D024N104 | I10: 11.200.1.36 | P10: FL4070_DPM1 | Q10: =_xlfn.CONCAT(P10," CONNECTIONS")
A11: SLOT9 | B11: 1756_N2 | F11: PS8_11_VFD1 | G11: 10 | H11: 35S_6D6_P111 | I11: 11.200.1.37 | N11: VSD_DPM1 | P11: VSD_DPM1 | Q11: =_xlfn.CONCAT(P11," CONNECTIONS")
F12: PRS1_1ACH_FIO1 | G12: FIO | H12: =VLOOKUP(G12,'[1]PART NUMBER'!$A$2:$B$20,2,FALSE) | I12: 11.200.1.38 | P12: VSD_DPM2 | Q12: =_xlfn.CONCAT(P12," CONNECTIONS")
F13: PRS1_1BCH_FIO1 | G13: FIO | H13: =VLOOKUP(G13,'[1]PART NUMBER'!$A$2:$B$20,2,FALSE) | I13: 11.200.1.39 | N13: VSD_DPM2 | P13: VSD_DPM3 | Q13: =_xlfn.CONCAT(P13," CONNECTIONS")
A14: DPM COUNT | B14: 10 | F14: PRS1_4_FIO1 | G14: FIO | H14: =VLOOKUP(G14,'[1]PART NUMBER'!$A$2:$B$20,2,FALSE) | I14: 11.200.1.40 | P14: VSB_DPM1 | Q14: =_xlfn.CONCAT(P14," CONNECTIONS")
A15: FIO COUNT | B15: 53 | F15: PS8_1_FIO1 | G15: FIO | H15: =VLOOKUP(G15,'[1]PART NUMBER'!$A$2:$B$20,2,FALSE) | I15: 11.200.1.41 | N15: FL4070_DPM1 | P15: VSB_DPM2 | Q15: =_xlfn.CONCAT(P15," CONNECTIONS")
F16: PS8_1_FIO2 | G16: FIO | H16: =VLOOKUP(G16,'[1]PART NUMBER'!$A$2:$B$20,2,FALSE) | I16: 11.200.1.42 | P16: VSB_DPM3 | Q16: =_xlfn.CONCAT(P16," CONNECTIONS")
D17: PS8_5_DPM1 | E17: 11.200.1.3 | F17: ULC1_1_VFD1 | G17: TIPPER | H17: PIONEER | I17: 11.200.1.43 | N17: FL2086_DPM1
F18: ULC1_3_VFD1 | G18: 2 | H18: 35S_6D2_P101 | I18: 11.200.1.44
F19: ULC2_1_VFD1 | G19: TIPPER | H19: PIONEER | I19: 11.200.1.45 | N19: VSB_DPM3
F20: ULC2_3_VFD1 | G20: 2 | H20: 35S_6D2_P101 | I20: 11.200.1.46
F21: ULC3_1_VFD1 | G21: TIPPER | H21: PIONEER | I21: 11.200.1.47 | N21: VSB_DPM1
F22: ULC3_3_VFD1 | G22: 2 | H22: 35S_6D2_P101 | I22: 11.200.1.48
F23: ULC4_1_EX1 | G23: TIPPER | H23: PIONEER | I23: 11.200.1.49 | N23: VSB_DPM2
F24: ULC4_3_VFD1 | G24: 2 | H24: 35S_6D2_P101 | I24: 11.200.1.50
F25: PS8_1_VFD1 | G25: 7.5 | H25: 35S_6D5_P111 | I25: 11.200.1.51 | N25: PS8_5_DPM1
F26: PS8_2_VFD1 | G26: 10 | H26: 35S_6D6_P111 | I26: 11.200.1.52
F27: PS8_4_VFD1 | G27: 15 | H27: 25B_D024N104 | I27: 11.200.1.53
F28: PS8_5_VFD1 | G28: 15 | H28: 25B_D024N104 | I28: 11.200.1.54
F29: PS8_6_VFD1 | G29: 5 | H29: 35S_6D4_P111 | I29: 11.200.1.55
F30: PS8_8_VFD1 | G30: 7.5 | H30: 35S_6D5_P111 | I30: 11.200.1.56
F31: PS9_2_VFD1 | G31: 7.5 | H31: 35S_6D5_P111 | I31: 11.200.1.57
F32: PS9_3_VFD1 | G32: 7.5 | H32: 35S_6D5_P111 | I32: 11.200.1.58
F33: PS8_11_FIO1 | G33: FIO | H33: =VLOOKUP(G33,'[1]PART NUMBER'!$A$2:$B$20,2,FALSE) | I33: 11.200.1.59
F34: PS8_11_FIO2 | G34: FIO | H34: =VLOOKUP(G34,'[1]PART NUMBER'!$A$2:$B$20,2,FALSE) | I34: 11.200.1.60
F35: PS8_4_SIO1 | G35: SIO | H35: 0980SSL3131-121-007D-202 | I35: 11.200.1.61
F36: PS8_5_FIO1 | G36: FIO | H36: =VLOOKUP(G36,'[1]PART NUMBER'!$A$2:$B$20,2,FALSE) | I36: 11.200.1.62
F37: PS9_3_FIO1 | G37: FIO | H37: =VLOOKUP(G37,'[1]PART NUMBER'!$A$2:$B$20,2,FALSE) | I37: 11.200.1.63
F38: PS9_3_FIO2 | G38: FIO | H38: =VLOOKUP(G38,'[1]PART NUMBER'!$A$2:$B$20,2,FALSE) | I38: 11.200.1.64
F39: PS8_9_FIO1 | G39: FIO | H39: =VLOOKUP(G39,'[1]PART NUMBER'!$A$2:$B$20,2,FALSE) | I39: 11.200.1.196 | J39: ADDED | K39: 45796
F40: PDP11_FIO1 | G40: FIO | H40: =VLOOKUP(G40,'[1]PART NUMBER'!$A$2:$B$20,2,FALSE) | I40: 11.200.1.197 | J40: ADDED | K40: 45802
D41: FL2086_DPM1 | E41: 11.200.1.4 | F41: FL2074_2_VFD1 | G41: 5 | H41: 35S_6D4_P111 | I41: 11.200.1.65
F42: FL2074_4_EX1 | G42: EXTENDO | H42: CALJAN | I42: 11.200.1.66
F43: FL2078_2_VFD1 | G43: 5 | H43: 35S_6D4_P111 | I43: 11.200.1.67
F44: FL2078_4_EX1 | G44: EXTENDO | H44: CALJAN | I44: 11.200.1.68
F45: FL2086_2_VFD1 | G45: 5 | H45: 35S_6D4_P111 | I45: 11.200.1.69
F46: FL2086_4_EX1 | G46: EXTENDO | H46: CALJAN | I46: 11.200.1.70
F47: FL2090_2_VFD1 | G47: 5 | H47: 35S_6D4_P111 | I47: 11.200.1.71
F48: FL2090_4_EX1 | G48: EXTENDO | H48: CALJAN | I48: 11.200.1.72
F49: FL2094_2_VFD1 | G49: 5 | H49: 35S_6D4_P111 | I49: 11.200.1.73
F50: FL2094_4_EX1 | G50: EXTENDO | H50: CALJAN | I50: 11.200.1.74
D51: FL4070_DPM1 | E51: 11.200.1.5 | F51: FL4082_2_VFD1 | G51: 5 | H51: 35S_6D4_P111 | I51: 11.200.1.75
F52: FL4082_4_EX1 | G52: EXTENDO | H52: CALJAN | I52: 11.200.1.76
F53: FL4078_2_VFD1 | G53: 5 | H53: 35S_6D4_P111 | I53: 11.200.1.77
F54: FL4078_4_EX1 | G54: EXTENDO | H54: CALJAN | I54: 11.200.1.78
F55: FL4074_2_VFD1 | G55: 5 | H55: 35S_6D4_P111 | I55: 11.200.1.79
F56: FL4074_4_EX1 | G56: EXTENDO | H56: CALJAN | I56: 11.200.1.80
F57: FL4070_2_VFD1 | G57: 5 | H57: 35S_6D4_P111 | I57: 11.200.1.81
F58: FL4070_4_EX1 | G58: EXTENDO | H58: CALJAN | I58: 11.200.1.82
F59: FL4066_2_VFD1 | G59: 5 | H59: 35S_6D4_P111 | I59: 11.200.1.83
F60: FL4066_4_EX1 | G60: EXTENDO | H60: CALJAN | I60: 11.200.1.84
C61: Updated Part Number 5-28 | D61: VSD_DPM1 | E61: 11.200.1.6 | F61: S014003_ZMX1 | G61: ZMX | H61: ZMX-3DE2500HF-Q7-AMZCHD | I61: 11.200.1.85
F62: S014005_ZMX1 | G62: ZMX | H62: ZMX-3DE2500HF-Q7-AMZCHD | I62: 11.200.1.86
F63: S014007_ZMX1 | G63: ZMX | H63: ZMX-3DE2500HF-Q7-AMZCHD | I63: 11.200.1.87
F64: S014009_ZMX1 | G64: ZMX | H64: ZMX-3DE2500HF-Q7-AMZCHD | I64: 11.200.1.88
F65: S014011_ZMX1 | G65: ZMX | H65: ZMX-3DE2500HF-Q7-AMZCHD | I65: 11.200.1.89
F66: S014013_ZMX1 | G66: ZMX | H66: ZMX-3DE2500HF-Q7-AMZCHD | I66: 11.200.1.90
F67: S014015_ZMX1 | G67: ZMX | H67: ZMX-3DE2500HF-Q7-AMZCHD | I67: 11.200.1.91
F68: S014017_ZMX1 | G68: ZMX | H68: ZMX-3DE2500HF-Q7-AMZCHD | I68: 11.200.1.92
F69: S014021_ZMX1 | G69: ZMX | H69: ZMX-3DE2500HF-Q7-AMZCHD | I69: 11.200.1.93
F70: S014023_ZMX1 | G70: ZMX | H70: ZMX-3DE2500HF-Q7-AMZCHD | I70: 11.200.1.94
F71: S014025_ZMX1 | G71: ZMX | H71: ZMX-3DE2500HF-Q7-AMZCHD | I71: 11.200.1.95
F72: S014029_ZMX1 | G72: ZMX | H72: ZMX-3DE2500HF-Q7-AMZCHD | I72: 11.200.1.96
F73: S014031_ZMX1 | G73: ZMX | H73: ZMX-3DE2500HF-Q7-AMZCHD | I73: 11.200.1.97
... F81: VSD_DPM1_FIO8 | G81: FIO | H81: 5032-8IOLM12DR | I81: 11.200.1.105
D82: VSD_DPM2 | E82: 11.200.1.7 | F82: S014037_ZMX1 | G82: ZMX | H82: ZMX-3DE2500HF-Q7-AMZCHD | I82: 11.200.1.106
F83: S014039_ZMX1 | G83: ZMX | H83: ZMX-3DE2500HF-Q7-AMZCHD | I83: 11.200.1.107
F84: S014041_ZMX1 | G84: ZMX | H84: ZMX-3DE2500HF-Q7-AMZCHD | I84: 11.200.1.108
F85: S014043_ZMX1 | G85: ZMX | H85: ZMX-3DE2500HF-Q7-AMZCHD | I85: 11.200.1.109
F86: S014045_ZMX1 | G86: ZMX | H86: ZMX-3DE2500HF-Q7-AMZCHD | I86: 11.200.1.110
F87: S014047_ZMX1 | G87: ZMX | H87: ZMX-3DE2500HF-Q7-AMZCHD | I87: 11.200.1.111
F88: S014049_ZMX1 | G88: ZMX | H88: ZMX-3DE2500HF-Q7-AMZCHD | I88: 11.200.1.112
F89: S014053_ZMX1 | G89: ZMX | H89: ZMX-3DE2500HF-Q7-AMZCHD | I89: 11.200.1.113
F90: S014055_ZMX1 | G90: ZMX | H90: ZMX-3DE2500HF-Q7-AMZCHD | I90: 11.200.1.114
F91: S014057_ZMX1 | G91: ZMX | H91: ZMX-3DE2500HF-Q7-AMZCHD | I91: 11.200.1.115
F92: S014061_ZMX1 | G92: ZMX | H92: ZMX-3DE2500HF-Q7-AMZCHD | I92: 11.200.1.116
F93: S014063_ZMX1 | G93: ZMX | H93: ZMX-3DE2500HF-Q7-AMZCHD | I93: 11.200.1.117
F94: VSD_DPM2_FIO1 | G94: FIO | H94: 5032-8IOLM12DR | I94: 11.200.1.118
... F101: VSD_DPM2_FIO8 | G101: FIO | H101: 5032-8IOLM12DR | I101: 11.200.1.125
F102: S014033_ZMX1 | G102: ZMX | H102: ZMX-3DE2500HF-Q7-AMZCHD | I102: 11.200.1.202 | J102: ADDED | K102: 45821
D103: VSD_DPM3 | E103: 11.200.1.8 | F103: S014065_ZMX1 | G103: ZMX | H103: ZMX-3DE2500HF-Q7-AMZCHD | I103: 11.200.1.126
F104: S014069_ZMX1 | G104: ZMX | H104: ZMX-3DE2500HF-Q7-AMZCHD | I104: 11.200.1.127
F105: S014071_ZMX1 | G105: ZMX | H105: ZMX-3DE2500HF-Q7-AMZCHD | I105: 11.200.1.128
F106: S014073_ZMX1 | G106: ZMX | H106: ZMX-3DE2500HF-Q7-AMZCHD | I106: 11.200.1.129
F107: S014077_ZMX1 | G107: ZMX | H107: ZMX-3DE2500HF-Q7-AMZCHD | I107: 11.200.1.130
F108: S014079_ZMX1 | G108: ZMX | H108: ZMX-3DE2500HF-Q7-AMZCHD | I108: 11.200.1.131
F109: S014081_ZMX1 | G109: ZMX | H109: ZMX-3DE2500HF-Q7-AMZCHD | I109: 11.200.1.132
F110: VSD_DPM3_FIO1 | G110: FIO | H110: 5032-8IOLM12DR | I110: 11.200.1.133
F111: VSD_DPM3_FIO2 | G111: FIO | H111: 5032-8IOLM12DR | I111: 11.200.1.134
F112: VSD_DPM3_FIO3 | G112: FIO | H112: 5032-8IOLM12DR | I112: 11.200.1.135
F113: VSD_DPM3_FIO4 | G113: FIO | H113: 5032-8IOLM12DR | I113: 11.200.1.136
...

Sheet Part Number
A1: HP | B1: PART NUMBER
A2: 2HP | B2: 35S-6D2-P101
A3: 3HP | B3: 35S-6D3-P101
A4: 5HP | B4: 35S-6D4-P111
A5: 7.5HP | B5: 35S-6D5-P111
A6: 10HP | B6: 35S-6D6-P111
A7: 15HP | B7: 25B-D024N104
A8: 20HP | B8: 25B-D030N104
A9: 30HP | B9: 25B-D043N114
A10: EXTENDO | B10: CALJAN
A11: TIPPER | B11: PIONEER
A12: ZMX | B12: ZMX-3DE2500HF-Q7-AMZCHD
A13: FIO | B13: 5032-8IOLM12DR

Sheet MCM05_DESC
A1: TAGNAME | B1: ADDR | C1: TERM | D1: TERMDESC | E1: DESCA | F1: DESCB | H1: CONTROLLERS
A2: PRS1_2A_VFD1 | B2: PRS1_2A_VFD1_I0 | C2: I0 | E2: PRS1_2A_VFD1_DISC | F2: DISCONNECT AUX | H2: PRS1_2A_VFD1 | I2: 600 | J2: =_xlfn.XLOOKUP(H2,NETWORK!$F$3:$F$176,NETWORK!$H$3:$H$176,"not found") | M2: =_xlfn.CONCAT(H2,"/",H3,"/",H4,"/",H5) | S2: PRS1_2A_VFD1/PRS1_2B_VFD1/PRS1_3_VFD1/PRS1_4_VFD1
A3: PRS1_2A_VFD1 | B3: PRS1_2A_VFD1_I1 | C3: I1 | E3: SPARE | H3: PRS1_2B_VFD1 | J3: =_xlfn.XLOOKUP(H3,NETWORK!$F$3:$F$176,NETWORK!$H$3:$H$176,"not found") | S3: PRS1_6_VFD1/PRS2_1_VFD1/PS8_1_VFD1/PS8_11_VFD1
A4: PRS1_2A_VFD1 | B4: PRS1_2A_VFD1_I2 | C4: I2 | E4: PRS1_2A_JPE1 | F4: JAM PHOTOEYE | H4: PRS1_3_VFD1 | J4: =_xlfn.XLOOKUP(H4,NETWORK!$F$3:$F$176,NETWORK!$H$3:$H$176,"not found") | S4: PS8_2_VFD1/PS8_4_VFD1/PS8_5_VFD1/PS8_6_VFD1
A5: PRS1_2A_VFD1 | B5: PRS1_2A_VFD1_I3 | C5: I3 | E5: PRS1_2A_JPE2 | F5: JAM PHOTOEYE | H5: PRS1_4_VFD1 | J5: =_xlfn.XLOOKUP(H5,NETWORK!$F$3:$F$176,NETWORK!$H$3:$H$176,"not found") | S5: PS8_8_VFD1/PS8_9_VFD1/PS9_2_VFD1/PS9_3_VFD1
A6: PRS1_2A_VFD1 | B6: PRS1_2A_VFD1_IO0 | C6: IO0 | E6: SPARE | J6: =_xlfn.XLOOKUP(H6,NETWORK!$F$3:$F$176,NETWORK!$H$3:$H$176,"not found") | S6: ULC1_3_VFD1/ULC2_3_VFD1/ULC3_3_VFD1/ULC4_3_VFD1
A7: PRS1_2A_VFD1 | B7: PRS1_2A_VFD1_IO1 | C7: IO1 | E7: SPARE | H7: PRS1_6_VFD1 | I7: 601 | J7: =_xlfn.XLOOKUP(H7,NETWORK!$F$3:$F$176,NETWORK!$H$3:$H$176,"not found") | M7: =_xlfn.CONCAT(H7,"/",H8,"/",H9,"/",H10) | S7: PRS1_1ACH_FIO1/PRS1_1BCH_FIO1/PRS1_4_FIO1/PS8_1_FIO1
A8: PRS1_2A_VFD1 | B8: PRS1_2A_VFD1_SI0 | C8: SI0 | E8: SPARE | H8: PRS2_1_VFD1 | J8: =_xlfn.XLOOKUP(H8,NETWORK!$F$3:$F$176,NETWORK!$H$3:$H$176,"not found") | S8: PS8_1_FIO2/PS8_1_FIOH1/PS8_1_FIOH2/PS8_1_FIOH3
A9: PRS1_2A_VFD1 | B9: PRS1_2A_VFD1_SI1 | C9: SI1 | E9: SPARE | H9: PS8_1_VFD1 | J9: =_xlfn.XLOOKUP(H9,NETWORK!$F$3:$F$176,NETWORK!$H$3:$H$176,"not found") | S9: PS8_4_SIO1/PS8_4_FIOH1/PS8_5_FIO1/PS8_9_FIO1
A10: PRS1_2A_VFD1 | B10: PRS1_2A_VFD1_SI2 | C10: SI2 | E10: SPARE | H10: PS8_11_VFD1 | J10: =_xlfn.XLOOKUP(H10,NETWORK!$F$3:$F$176,NETWORK!$H$3:$H$176,"not found") | S10: PS8_11_FIO1/PS8_11_FIO2/PS8_11_FIOH1/PS8_11_FIOH2
A11: PRS1_2A_VFD1 | B11: PRS1_2A_VFD1_SI3 | C11: SI3 | E11: SPARE | J11: =_xlfn.XLOOKUP(H11,NETWORK!$F$3:$F$176,NETWORK!$H$3:$H$176,"not found") | S11: PS9_3_FIO1/PS9_3_FIO2/PS9_3_FIOH1/PS9_3_FIOH2
A12: PRS1_2A_VFD1 | B12: PRS1_2A_VFD1_SO0 | C12: SO0 | E12: SPARE | H12: PS8_2_VFD1 | I12: 602 | J12: =_xlfn.XLOOKUP(H12,NETWORK!$F$3:$F$176,NETWORK!$H$3:$H$176,"not found") | M12: =_xlfn.CONCAT(H12,"/",H13,"/",H14,"/",H15) | S12: FL2074_2_VFD1/FL2078_2_VFD1/FL2086_2_VFD1/FL2090_2_VFD1
A13: PRS1_2B_VFD1 | B13: PRS1_2B_VFD1_I0 | C13: I0 | E13: PRS1_2B_VFD1_DISC | F13: DISCONNECT AUX | H13: PS8_4_VFD1 | J13: =_xlfn.XLOOKUP(H13,NETWORK!$F$3:$F$176,NETWORK!$H$3:$H$176,"not found") | S13: FL2094_2_VFD1/FL4066_2_VFD1/FL4070_2_VFD1/FL4074_2_VFD1
A14: PRS1_2B_VFD1 | B14: PRS1_2B_VFD1_I1 | C14: I1 | E14: SPARE | H14: PS8_5_VFD1 | J14: =_xlfn.XLOOKUP(H14,NETWORK!$F$3:$F$176,NETWORK!$H$3:$H$176,"not found") | S14: FL4078_2_VFD1/FL4082_2_VFD1/FL2074_FIOH1/S012080_FIOH1
A15: PRS1_2B_VFD1 | B15: PRS1_2B_VFD1_I2 | C15: I2 | E15: PRS1_2B_JPE1 | F15: JAM PHOTOEYE | H15: PS8_6_VFD1 | J15: =_xlfn.XLOOKUP(H15,NETWORK!$F$3:$F$176,NETWORK!$H$3:$H$176,"not found") | S15: FL2086_FIOH1/FL2090_FIOH1/S012096_FIOH1/FL4082_FIOH1
A16: PRS1_2B_VFD1 | B16: PRS1_2B_VFD1_I3 | C16: I3 | E16: PRS1_2B_JPE2 | F16: JAM PHOTOEYE | J16: =_xlfn.XLOOKUP(H16,NETWORK!$F$3:$F$176,NETWORK!$H$3:$H$176,"not found") | S16: S014080_FIOH1/FL4074_FIOH1/FL4072_FIOH1/FL4066_FIOH1
A17: PRS1_2B_VFD1 | B17: PRS1_2B_VFD1_IO0 | C17: IO0 | E17: SPARE | H17: PS8_8_VFD1 | I17: 603 | J17: =_xlfn.XLOOKUP(H17,NETWORK!$F$3:$F$176,NETWORK!$H$3:$H$176,"not found") | M17: =_xlfn.CONCAT(H17,"/",H18,"/",H19,"/",H20)
A18: PRS1_2B_VFD1 | B18: PRS1_2B_VFD1_IO1 | C18: IO1 | E18: SPARE | H18: PS8_9_VFD1 | J18: =_xlfn.XLOOKUP(H18,NETWORK!$F$3:$F$176,NETWORK!$H$3:$H$176,"not found")
A19: PRS1_2B_VFD1 | B19: PRS1_2B_VFD1_SI0 | C19: SI0 | E19: SPARE | H19: PS9_2_VFD1 | J19: =_xlfn.XLOOKUP(H19,NETWORK!$F$3:$F$176,NETWORK!$H$3:$H$176,"not found")
A20: PRS1_2B_VFD1 | B20: PRS1_2B_VFD1_SI1 | C20: SI1 | E20: SPARE | H20: PS9_3_VFD1 | J20: =_xlfn.XLOOKUP(H20,NETWORK!$F$3:$F$176,NETWORK!$H$3:$H$176,"not found")
A21: PRS1_2B_VFD1 | B21: PRS1_2B_VFD1_SI2 | C21: SI2 | E21: SPARE | J21: =_xlfn.XLOOKUP(H21,NETWORK!$F$3:$F$176,NETWORK!$H$3:$H$176,"not found")
A22: PRS1_2B_VFD1 | B22: PRS1_2B_VFD1_SI3 | C22: SI3 | E22: SPARE | H22: ULC1_3_VFD1 | I22: 604 | J22: =_xlfn.XLOOKUP(H22,NETWORK!$F$3:$F$176,NETWORK!$H$3:$H$176,"not found") | M22: =_xlfn.CONCAT(H22,"/",H23,"/",H24,"/",H25)
A23: PRS1_2B_VFD1 | B23: PRS1_2B_VFD1_SO0 | C23: SO0 | E23: SPARE | H23: ULC2_3_VFD1 | J23: =_xlfn.XLOOKUP(H23,NETWORK!$F$3:$F$176,NETWORK!$H$3:$H$176,"not found")
A24: PRS1_3_VFD1 | B24: PRS1_3_VFD1_I0 | C24: I0 | E24: PRS1_3_VFD1_DISC | F24: DISCONNECT AUX | H24: ULC3_3_VFD1 | J24: =_xlfn.XLOOKUP(H24,NETWORK!$F$3:$F$176,NETWORK!$H$3:$H$176,"not found")
A25: PRS1_3_VFD1 | B25: PRS1_3_VFD1_I1 | C25: I1 | E25: SPARE | H25: ULC4_3_VFD1 | J25: =_xlfn.XLOOKUP(H25,NETWORK!$F$3:$F$176,NETWORK!$H$3:$H$176,"not found")
A26: PRS1_3_VFD1 | B26: PRS1_3_VFD1_I2 | C26: I2 | E26: PRS1_3_JPE2 | F26: JAM PHOTOEYE | J26: =_xlfn.XLOOKUP(H26,NETWORK!$F$3:$F$176,NETWORK!$H$3:$H$176,"not found")
A27: PRS1_3_VFD1 | B27: PRS1_3_VFD1_I3 | C27: I3 | E27: SPARE | H27: PRS1_1ACH_FIO1 | I27: 605 | J27: =_xlfn.XLOOKUP(H27,NETWORK!$F$3:$F$176,NETWORK!$H$3:$H$176,"not found") | M27: =_xlfn.CONCAT(H27,"/",H28,"/",H29,"/",H30)
A28: PRS1_3_VFD1 | B28: PRS1_3_VFD1_IO0 | C28: IO0 | E28: PRS1_3_JR1_PB | F28: JAM RESET PUSHBUTTON | H28: PRS1_1BCH_FIO1 | J28: =_xlfn.XLOOKUP(H28,NETWORK!$F$3:$F$176,NETWORK!$H$3:$H$176,"not found")
A29: PRS1_3_VFD1 | B29: PRS1_3_VFD1_IO1 | C29: IO1 | E29: PRS1_3_JR1_PB_LT | F29: JAM RESET PUSHBUTTON LIGHT | H29: PRS1_4_FIO1 | J29: =_xlfn.XLOOKUP(H29,NETWORK!$F$3:$F$176,NETWORK!$H$3:$H$176,"not found")
A30: PRS1_3_VFD1 | B30: PRS1_3_VFD1_SI0 | C30: SI0 | E30: SPARE | H30: PS8_1_FIO1 | J30: =_xlfn.XLOOKUP(H30,NETWORK!$F$3:$F$176,NETWORK!$H$3:$H$176,"not found")
A31: PRS1_3_VFD1 | B31: PRS1_3_VFD1_SI1 | C31: SI1 | E31: SPARE | J31: =_xlfn.XLOOKUP(H31,NETWORK!$F$3:$F$176,NETWORK!$H$3:$H$176,"not found")
A32: PRS1_3_VFD1 | B32: PRS1_3_VFD1_SI2 | C32: SI2 | E32: SPARE | H32: PS8_1_FIO2 | I32: 606 | J32: =_xlfn.XLOOKUP(H32,NETWORK!$F$3:$F$176,NETWORK!$H$3:$H$176,"not found") | M32: =_xlfn.CONCAT(H32,"/",H33,"/",H34,"/",H35)
A33: PRS1_3_VFD1 | B33: PRS1_3_VFD1_SI3 | C33: SI3 | E33: SPARE | H33: PS8_1_FIOH1 | J33: =_xlfn.XLOOKUP(H33,NETWORK!$F$3:$F$176,NETWORK!$H$3:$H$176,"not found")
A34: PRS1_3_VFD1 | B34: PRS1_3_VFD1_SO0 | C34: SO0 | E34: PRS1_3_BCN1_A | F34: AMBER BEACON LIGHT | H34: PS8_1_FIOH2 | J34: =_xlfn.XLOOKUP(H34,NETWORK!$F$3:$F$176,NETWORK!$H$3:$H$176,"not found")
A35: PRS1_4_VFD1 | B35: PRS1_4_VFD1_I0 | C35: I0 | E35: PRS1_4_VFD1_DISC | F35: DISCONNECT AUX | H35: PS8_1_FIOH3 | J35: =_xlfn.XLOOKUP(H35,NETWORK!$F$3:$F$176,NETWORK!$H$3:$H$176,"not found")
A36: PRS1_4_VFD1 | B36: PRS1_4_VFD1_I1 | C36: I1 | E36: SPARE | J36: =_xlfn.XLOOKUP(H36,NETWORK!$F$3:$F$176,NETWORK!$H$3:$H$176,"not found")
A37: PRS1_4_VFD1 | B37: PRS1_4_VFD1_I2 | C37: I2 | E37: PRS1_4_JPE1 | F37: JAM PHOTOEYE | H37: PS8_4_SIO1 | I37: 607 | J37: =_xlfn.XLOOKUP(H37,NETWORK!$F$3:$F$176,NETWORK!$H$3:$H$176,"not found") | M37: =_xlfn.CONCAT(H37,"/",H38,"/",H39,"/",H40)
A38: PRS1_4_VFD1 | B38: PRS1_4_VFD1_I3 | C38: I3 | E38: PRS1_4_JPE2 | F38: JAM PHOTOEYE | H38: PS8_4_FIOH1 | J38: =_xlfn.XLOOKUP(H38,NETWORK!$F$3:$F$176,NETWORK!$H$3:$H$176,"not found")
A39: PRS1_4_VFD1 | B39: PRS1_4_VFD1_IO0 | C39: IO0 | E39: SPARE | H39: PS8_5_FIO1 | J39: =_xlfn.XLOOKUP(H39,NETWORK!$F$3:$F$176,NETWORK!$H$3:$H$176,"not found")
A40: PRS1_4_VFD1 | B40: PRS1_4_VFD1_IO1 | C40: IO1 | E40: SPARE | H40: PS8_9_FIO1 | J40: =_xlfn.XLOOKUP(H40,NETWORK!$F$3:$F$176,NETWORK!$H$3:$H$176,"not found")
A41: PRS1_4_VFD1 | B41: PRS1_4_VFD1_SI0 | C41: SI0 | E41: SPARE | J41: =_xlfn.XLOOKUP(H41,NETWORK!$F$3:$F$176,NETWORK!$H$3:$H$176,"not found")
A42: PRS1_4_VFD1 | B42: PRS1_4_VFD1_SI1 | C42: SI1 | E42: SPARE | H42: PS8_11_FIO1 | I42: 608 | J42: =_xlfn.XLOOKUP(H42,NETWORK!$F$3:$F$176,NETWORK!$H$3:$H$176,"not found") | M42: =_xlfn.CONCAT(H42,"/",H43,"/",H44,"/",H45)
A43: PRS1_4_VFD1 | B43: PRS1_4_VFD1_SI2 | C43: SI2 | E43: SPARE | H43: PS8_11_FIO2 | J43: =_xlfn.XLOOKUP(H43,NETWORK!$F$3:$F$176,NETWORK!$H$3:$H$176,"not found")
A44: PRS1_4_VFD1 | B44: PRS1_4_VFD1_SI3 | C44: SI3 | E44: SPARE | H44: PS8_11_FIOH1 | J44: =_xlfn.XLOOKUP(H44,NETWORK!$F$3:$F$176,NETWORK!$H$3:$H$176,"not found")
A45: PRS1_4_VFD1 | B45: PRS1_4_VFD1_SO0 | C45: SO0 | E45: SPARE | H45: PS8_11_FIOH2 | J45: =_xlfn.XLOOKUP(H45,NETWORK!$F$3:$F$176,NETWORK!$H$3:$H$176,"not found")
A46: PRS1_6_VFD1 | B46: PRS1_6_VFD1_I0 | C46: I0 | E46: PRS1_6_VFD1_DISC | F46: DISCONNECT AUX | J46: =_xlfn.XLOOKUP(H46,NETWORK!$F$3:$F$176,NETWORK!$H$3:$H$176,"not found")
A47: PRS1_6_VFD1 | B47: PRS1_6_VFD1_I1 | C47: I1 | E47: SPARE | H47: PS9_3_FIO1 | I47: 609 | J47: =_xlfn.XLOOKUP(H47,NETWORK!$F$3:$F$176,NETWORK!$H$3:$H$176,"not found") | M47: =_xlfn.CONCAT(H47,"/",H48,"/",H49,"/",H50)
A48: PRS1_6_VFD1 | B48: PRS1_6_VFD1_I2 | C48: I2 | E48: PRS1_6_JPE1 | F48: JAM PHOTOEYE | H48: PS9_3_FIO2 | J48: =_xlfn.XLOOKUP(H48,NETWORK!$F$3:$F$176,NETWORK!$H$3:$H$176,"not found")
A49: PRS1_6_VFD1 | B49: PRS1_6_VFD1_I3 | C49: I3 | E49: PRS1_6_JPE2 | F49: JAM PHOTOEYE | H49: PS9_3_FIOH1 | J49: =_xlfn.XLOOKUP(H49,NETWORK!$F$3:$F$176,NETWORK!$H$3:$H$176,"not found")
A50: PRS1_6_VFD1 | B50: PRS1_6_VFD1_IO0 | C50: IO0 | E50: SPARE | H50: PS9_3_FIOH2 | J50: =_xlfn.XLOOKUP(H50,NETWORK!$F$3:$F$176,NETWORK!$H$3:$H$176,"not found")
A51: PRS1_6_VFD1 | B51: PRS1_6_VFD1_IO1 | C51: IO1 | E51: SPARE | J51: =_xlfn.XLOOKUP(H51,NETWORK!$F$3:$F$176,NETWORK!$H$3:$H$176,"not found")
A52: PRS1_6_VFD1 | B52: PRS1_6_VFD1_SI0 | C52: SI0 | E52: PRS1_6_EPC1 | F52: E-STOP PULLCORD | H52: FL2074_2_VFD1 | I52: 610 | J52: =_xlfn.XLOOKUP(H52,NETWORK!$F$3:$F$176,NETWORK!$H$3:$H$176,"not found") | M52: =_xlfn.CONCAT(H52,"/",H53,"/",H54,"/",H55)
A53: PRS1_6_VFD1 | B53: PRS1_6_VFD1_SI1 | C53: SI1 | E53: PRS1_6_EPC1_2 | F53: E-STOP PULLCORD | H53: FL2078_2_VFD1 | J53: =_xlfn.XLOOKUP(H53,NETWORK!$F$3:$F$176,NETWORK!$H$3:$H$176,"not found")
A54: PRS1_6_VFD1 | B54: PRS1_6_VFD1_SI2 | C54: SI2 | E54: PRS1_6_EPC2 | F54: E-STOP PULLCORD | H54: FL2086_2_VFD1 | J54: =_xlfn.XLOOKUP(H54,NETWORK!$F$3:$F$176,NETWORK!$H$3:$H$176,"not found")
A55: PRS1_6_VFD1 | B55: PRS1_6_VFD1_SI3 | C55: SI3 | E55: PRS1_6_EPC2_2 | F55: E-STOP PULLCORD | H55: FL2090_2_VFD1 | J55: =_xlfn.XLOOKUP(H55,NETWORK!$F$3:$F$176,NETWORK!$H$3:$H$176,"not found")
A56: PRS1_6_VFD1 | B56: PRS1_6_VFD1_SO0 | C56: SO0 | E56: SPARE | J56: =_xlfn.XLOOKUP(H56,NETWORK!$F$3:$F$176,NETWORK!$H$3:$H$176,"not found")
A57: PRS2_1_VFD1 | B57: PRS2_1_VFD1_I0 | C57: I0 | E57: PRS2_1_VFD1_DISC | F57: DISCONNECT AUX | H57: FL2094_2_VFD1 | I57: 611 | J57: =_xlfn.XLOOKUP(H57,NETWORK!$F$3:$F$176,NETWORK!$H$3:$H$176,"not found") | M57: =_xlfn.CONCAT(H57,"/",H58,"/",H59,"/",H60)
A58: PRS2_1_VFD1 | B58: PRS2_1_VFD1_I1 | C58: I1 | E58: SPARE | H58: FL4066_2_VFD1 | J58: =_xlfn.XLOOKUP(H58,NETWORK!$F$3:$F$176,NETWORK!$H$3:$H$176,"not found")
A59: PRS2_1_VFD1 | B59: PRS2_1_VFD1_I2 | C59: I2 | E59: PRS2_1_JPE1 | F59: JAM PHOTOEYE | H59: FL4070_2_VFD1 | J59: =_xlfn.XLOOKUP(H59,NETWORK!$F$3:$F$176,NETWORK!$H$3:$H$176,"not found")
A60: PRS2_1_VFD1 | B60: PRS2_1_VFD1_I3 | C60: I3 | E60: SPARE | H60: FL4074_2_VFD1 | J60: =_xlfn.XLOOKUP(H60,NETWORK!$F$3:$F$176,NETWORK!$H$3:$H$176,"not found")
A61: PRS2_1_VFD1 | B61: PRS2_1_VFD1_IO0 | C61: IO0 | E61: SPARE | J61: =_xlfn.XLOOKUP(H61,NETWORK!$F$3:$F$176,NETWORK!$H$3:$H$176,"not found")
A62: PRS2_1_VFD1 | B62: PRS2_1_VFD1_IO1 | C62: IO1 | E62: SPARE | H62: FL4078_2_VFD1 | I62: 612 | J62: =_xlfn.XLOOKUP(H62,NETWORK!$F$3:$F$176,NETWORK!$H$3:$H$176,"not found") | M62: =_xlfn.CONCAT(H62,"/",H63,"/",H64,"/",H65)
A63: PRS2_1_VFD1 | B63: PRS2_1_VFD1_SI0 | C63: SI0 | E63: PRS2_1_EPC1 | F63: E-STOP PULLCORD | H63: FL4082_2_VFD1 | J63: =_xlfn.XLOOKUP(H63,NETWORK!$F$3:$F$176,NETWORK!$H$3:$H$176,"not found")
A64: PRS2_1_VFD1 | B64: PRS2_1_VFD1_SI1 | C64: SI1 | E64: PRS2_1_EPC1_2 | F64: E-STOP PULLCORD | H64: FL2074_FIOH1 | J64: =_xlfn.XLOOKUP(H64,NETWORK!$F$3:$F$176,NETWORK!$H$3:$H$176,"not found")
A65: PRS2_1_VFD1 | B65: PRS2_1_VFD1_SI2 | C65: SI2 | E65: PRS2_1_EPC2 | F65: E-STOP PULLCORD | H65: S012080_FIOH1 | J65: =_xlfn.XLOOKUP(H65,NETWORK!$F$3:$F$176,NETWORK!$H$3:$H$176,"not found")
A66: PRS2_1_VFD1 | B66: PRS2_1_VFD1_SI3 | C66: SI3 | E66: PRS2_1_EPC2_2 | F66: E-STOP PULLCORD | J66: =_xlfn.XLOOKUP(H66,NETWORK!$F$3:$F$176,NETWORK!$H$3:$H$176,"not found")
A67: PRS2_1_VFD1 | B67: PRS2_1_VFD1_SO0 | C67: SO0 | E67: SPARE | H67: FL2086_FIOH1 | I67: 613 | J67: =_xlfn.XLOOKUP(H67,NETWORK!$F$3:$F$176,NETWORK!$H$3:$H$176,"not found") | M67: FL2086_FIOH1/FL2090_FIOH1/S012096_FIOH1/FL4082_FIOH1
A68: PS8_1_VFD1 | B68: PS8_1_VFD1_I0 | C68: I0 | E68: PS8_1_VFD1_DISC | F68: DISCONNECT AUX | H68: FL2086_FIOH2 | J68: =_xlfn.XLOOKUP(H68,NETWORK!$F$3:$F$176,NETWORK!$H$3:$H$176,"not found")
A69: PS8_1_VFD1 | B69: PS8_1_VFD1_I1 | C69: I1 | E69: PS8_1_ENC1 | F69: ENCODER | H69: FL2086_FIOH3 | J69: =_xlfn.XLOOKUP(H69,NETWORK!$F$3:$F$176,NETWORK!$H$3:$H$176,"not found")
A70: PS8_1_VFD1 | B70: PS8_1_VFD1_I2 | C70: I2 | E70: PS8_1_JPE1 | F70: JAM PHOTOEYE | H70: FL2086_FIOH4 | J70: =_xlfn.XLOOKUP(H70,NETWORK!$F$3:$F$176,NETWORK!$H$3:$H$176,"not found")
A71: PS8_1_VFD1 | B71: PS8_1_VFD1_I3 | C71: I3 | E71: PS8_1_JPE2 | F71: JAM PHOTOEYE | J71: =_xlfn.XLOOKUP(H71,NETWORK!$F$3:$F$176,NETWORK!$H$3:$H$176,"not found")
A72: PS8_1_VFD1 | B72: PS8_1_VFD1_IO0 | C72: IO0 | E72: PS8_1_JPE3 | F72: JAM PHOTOEYE | H72: FL2086_FIOH5 | I72: 614 | J72: =_xlfn.XLOOKUP(H72,NETWORK!$F$3:$F$176,NETWORK!$H$3:$H$176,"not found") | M72: S014080_FIOH1/FL4074_FIOH1/FL4072_FIOH1/FL4066_FIOH1
A73: PS8_1_VFD1 | B73: PS8_1_VFD1_IO1 | C73: IO1 | E73: SPARE | H73: FL2086_FIOH6 | J73: =_xlfn.XLOOKUP(H73,NETWORK!$F$3:$F$176,NETWORK!$H$3:$H$176,"not found")
A74: PS8_1_VFD1 | B74: PS8_1_VFD1_SI0 | C74: SI0 | E74: PS8_1_EPC1 | F74: E-STOP PULLCORD | H74: FL2086_FIOH7 | J74: =_xlfn.XLOOKUP(H74,NETWORK!$F$3:$F$176,NETWORK!$H$3:$H$176,"not found")
A75: PS8_1_VFD1 | B75: PS8_1_VFD1_SI1 | C75: SI1 | E75: PS8_1_EPC1_2 | F75: E-STOP PULLCORD | H75: FL2086_FIOH8 | J75: =_xlfn.XLOOKUP(H75,NETWORK!$F$3:$F$176,NETWORK!$H$3:$H$176,"not found")
A76: PS8_1_VFD1 | B76: PS8_1_VFD1_SI2 | C76: SI2 | E76: SPARE | J76: =_xlfn.XLOOKUP(H76,NETWORK!$F$3:$F$176,NETWORK!$H$3:$H$176,"not found")
A77: PS8_1_VFD1 | B77: PS8_1_VFD1_SI3 | C77: SI3 | E77: SPARE | H77: FL2090_FIOH1 | I77: 615 | J77: =_xlfn.XLOOKUP(H77,NETWORK!$F$3:$F$176,NETWORK!$H$3:$H$176,"not found")
A78: PS8_1_VFD1 | B78: PS8_1_VFD1_SO0 | C78: SO0 | E78: SPARE | H78: S012096_FIOH1 | J78: =_xlfn.XLOOKUP(H78,NETWORK!$F$3:$F$176,NETWORK!$H$3:$H$176,"not found")
A79: PS8_11_VFD1 | B79: PS8_11_VFD1_I0 | C79: I0 | E79: PS8_11_VFD1_DISC | F79: DISCONNECT AUX | H79: FL4066_FIOH1 | J79: =_xlfn.XLOOKUP(H79,NETWORK!$F$3:$F$176,NETWORK!$H$3:$H$176,"not found")
A80: PS8_11_VFD1 | B80: PS8_11_VFD1_I1 | C80: I1 | E80: PS8_11_ENC1 | F80: ENCODER | H80: S014072_FIOH1 | J80: =_xlfn.XLOOKUP(H80,NETWORK!$F$3:$F$176,NETWORK!$H$3:$H$176,"not found")
A81: PS8_11_VFD1 | B81: PS8_11_VFD1_I2 | C81: I2 | E81: PS8_11_CH1_JPE1 | F81: JAM PHOTOEYE | J81: =_xlfn.XLOOKUP(H81,NETWORK!$F$3:$F$176,NETWORK!$H$3:$H$176,"not found")
A82: PS8_11_VFD1 | B82: PS8_11_VFD1_I3 | C82: I3 | E82: PS8_11_CH2_JPE1 | F82: JAM PHOTOEYE | H82: FL4074_FIOH1 | I82: 616 | J82: =_xlfn.XLOOKUP(H82,NETWORK!$F$3:$F$176,NETWORK!$H$3:$H$176,"not found")
A83: PS8_11_VFD1 | B83: PS8_11_VFD1_IO0 | C83: IO0 | E83: PS8_12CH_FPE1 | F83: FULL PHOTOEYE | H83: S014080_FIOH1 | J83: =_xlfn.XLOOKUP(H83,NETWORK!$F$3:$F$176,NETWORK!$H$3:$H$176,"not found")
A84: PS8_11_VFD1 | B84: PS8_11_VFD1_IO1 | C84: IO1 | E84: PS8_12CH-PS1 | F84: PRESSURE SENSOR | H84: FL4082_FIOH1 | J84: =_xlfn.XLOOKUP(H84,NETWORK!$F$3:$F$176,NETWORK!$H$3:$H$176,"not found")
A85: PS8_11_VFD1 | B85: PS8_11_VFD1_SI0 | C85: SI0 | E85: PS8_11_EPC1 | F85: E-STOP PULLCORD | J85: =_xlfn.XLOOKUP(H85,NETWORK!$F$3:$F$176,NETWORK!$H$3:$H$176,"not found")
A86: PS8_11_VFD1 | B86: PS8_11_VFD1_SI1 | C86: SI1 | E86: PS8_11_EPC1_2 | F86: E-STOP PULLCORD | J86: =_xlfn.XLOOKUP(H86,NETWORK!$F$3:$F$176,NETWORK!$H$3:$H$176,"not found")
A87: PS8_11_VFD1 | B87: PS8_11_VFD1_SI2 | C87: SI2 | E87: SPARE
A88: PS8_11_VFD1 | B88: PS8_11_VFD1_SI3 | C88: SI3 | E88: SPARE
A89: PS8_11_VFD1 | B89: PS8_11_VFD1_SO0 | C89: SO0 | E89: PS8_9_VFD1_STO | F89: VFD SAFETY ACTIVE
A90: PS8_2_VFD1 | B90: PS8_2_VFD1_I0 | C90: I0 | E90: PS8_2_VFD1_DISC | F90: DISCONNECT AUX
A91: PS8_2_VFD1 | B91: PS8_2_VFD1_I1 | C91: I1 | E91: PS8_2_ENC1 | F91: ENCODER
A92: PS8_2_VFD1 | B92: PS8_2_VFD1_I2 | C92: I2 | E92: PS8_2_JPE1 | F92: JAM PHOTOEYE | I92: PS8_11_BCN2_A | J92: AMBER BEACON LIGHT
A93: PS8_2_VFD1 | B93: PS8_2_VFD1_I3 | C93: I3 | E93: SPARE
A94: PS8_2_VFD1 | B94: PS8_2_VFD1_IO0 | C94: IO0 | E94: PS8_2_BCN2_A | F94: AMBER BEACON LIGHT
A95: PS8_2_VFD1 | B95: PS8_2_VFD1_IO1 | C95: IO1 | E95: PS8_2_BCN2_R | F95: RED BEACON LIGHT
A96: PS8_2_VFD1 | B96: PS8_2_VFD1_SI0 | C96: SI0 | E96: PS8_2_EPC1 | F96: E-STOP PULLCORD
A97: PS8_2_VFD1 | B97: PS8_2_VFD1_SI1 | C97: SI1 | E97: PS8_2_EPC1_2 | F97: E-STOP PULLCORD
A98: PS8_2_VFD1 | B98: PS8_2_VFD1_SI2 | C98: SI2 | E98: PS8_2_EPC2 | F98: E-STOP PULLCORD
A99: PS8_2_VFD1 | B99: PS8_2_VFD1_SI3 | C99: SI3 | E99: PS8_2_EPC2_2 | F99: E-STOP PULLCORD
A100: PS8_2_VFD1 | B100: PS8_2_VFD1_SO0 | C100: SO0 | E100: PS8_2_BCN1_R | F100: RED BEACON LIGHT
...

Sheet DESC_PLC
A1: TAGNAME | B1: TERM | C1: DESCA | D1: DESCB
A2: PRS1_2A_VFD1 | B2: I0 | C2: PRS1_2A_VFD1_DISC | D2: DISCONNECT AUX
A3: PRS1_2A_VFD1 | B3: I1 | C3: SPARE
A4: PRS1_2A_VFD1 | B4: I2 | C4: PRS1_2A_JPE1 | D4: JAM PHOTOEYE
A5: PRS1_2A_VFD1 | B5: I3 | C5: PRS1_2A_JPE2 | D5: JAM PHOTOEYE
A6: PRS1_2A_VFD1 | B6: IO0 | C6: SPARE
A7: PRS1_2A_VFD1 | B7: IO1 | C7: SPARE
A8: PRS1_2A_VFD1 | B8: SI0 | C8: SPARE
A9: PRS1_2A_VFD1 | B9: SI1 | C9: SPARE
A10: PRS1_2A_VFD1 | B10: SI2 | C10: SPARE
A11: PRS1_2A_VFD1 | B11: SI3 | C11: SPARE
A12: PRS1_2A_VFD1 | B12: SO0 | C12: SPARE
A13: PRS1_2B_VFD1 | B13: I0 | C13: PRS1_2B_VFD1_DISC | D13: DISCONNECT AUX
A14: PRS1_2B_VFD1 | B14: I1 | C14: SPARE
A15: PRS1_2B_VFD1 | B15: I2 | C15: PRS1_2B_JPE1 | D15: JAM PHOTOEYE
A16: PRS1_2B_VFD1 | B16: I3 | C16: PRS1_2B_JPE2 | D16: JAM PHOTOEYE
A17: PRS1_2B_VFD1 | B17: IO0 | C17: SPARE
A18: PRS1_2B_VFD1 | B18: IO1 | C18: SPARE
A19: PRS1_2B_VFD1 | B19: SI0 | C19: SPARE
A20: PRS1_2B_VFD1 | B20: SI1 | C20: SPARE
A21: PRS1_2B_VFD1 | B21: SI2 | C21: SPARE
A22: PRS1_2B_VFD1 | B22: SI3 | C22: SPARE
A23: PRS1_2B_VFD1 | B23: SO0 | C23: SPARE
A24: PRS1_3_VFD1 | B24: I0 | C24: PRS1_3_VFD1_DISC | D24: DISCONNECT AUX
A25: PRS1_3_VFD1 | B25: I1 | C25: SPARE
A26: PRS1_3_VFD1 | B26: I2 | C26: PRS1_3_JPE2 | D26: JAM PHOTOEYE
A27: PRS1_3_VFD1 | B27: I3 | C27: SPARE
A28: PRS1_3_VFD1 | B28: IO0 | C28: PRS1_3_JR1_PB | D28: JAM RESET PUSHBUTTON
A29: PRS1_3_VFD1 | B29: IO1 | C29: PRS1_3_JR1_PB_LT | D29: JAM RESET PUSHBUTTON LIGHT
A30: PRS1_3_VFD1 | B30: SI0 | C30: SPARE
A31: PRS1_3_VFD1 | B31: SI1 | C31: SPARE
A32: PRS1_3_VFD1 | B32: SI2 | C32: SPARE
A33: PRS1_3_VFD1 | B33: SI3 | C33: SPARE
A34: PRS1_3_VFD1 | B34: SO0 | C34: PRS1_3_BCN1_A | D34: AMBER BEACON LIGHT
A35: PRS1_4_VFD1 | B35: I0 | C35: PRS1_4_VFD1_DISC | D35: DISCONNECT AUX
A36: PRS1_4_VFD1 | B36: I1 | C36: SPARE
A37: PRS1_4_VFD1 | B37: I2 | C37: PRS1_4_JPE1 | D37: JAM PHOTOEYE
A38: PRS1_4_VFD1 | B38: I3 | C38: PRS1_4_JPE2 | D38: JAM PHOTOEYE
A39: PRS1_4_VFD1 | B39: IO0 | C39: SPARE
A40: PRS1_4_VFD1 | B40: IO1 | C40: SPARE
A41: PRS1_4_VFD1 | B41: SI0 | C41: SPARE
A42: PRS1_4_VFD1 | B42: SI1 | C42: SPARE
A43: PRS1_4_VFD1 | B43: SI2 | C43: SPARE
A44: PRS1_4_VFD1 | B44: SI3 | C44: SPARE
A45: PRS1_4_VFD1 | B45: SO0 | C45: SPARE
A46: PRS1_6_VFD1 | B46: I0 | C46: PRS1_6_VFD1_DISC | D46: DISCONNECT AUX
A47: PRS1_6_VFD1 | B47: I1 | C47: SPARE
A48: PRS1_6_VFD1 | B48: I2 | C48: PRS1_6_JPE1 | D48: JAM PHOTOEYE
A49: PRS1_6_VFD1 | B49: I3 | C49: PRS1_6_JPE2 | D49: JAM PHOTOEYE
A50: PRS1_6_VFD1 | B50: IO0 | C50: SPARE
A51: PRS1_6_VFD1 | B51: IO1 | C51: SPARE
A52: PRS1_6_VFD1 | B52: SI0 | C52: PRS1_6_EPC1 | D52: E-STOP PULLCORD
A53: PRS1_6_VFD1 | B53: SI1 | C53: PRS1_6_EPC1_2 | D53: E-STOP PULLCORD
A54: PRS1_6_VFD1 | B54: SI2 | C54: PRS1_6_EPC2 | D54: E-STOP PULLCORD
A55: PRS1_6_VFD1 | B55: SI3 | C55: PRS1_6_EPC2_2 | D55: E-STOP PULLCORD
A56: PRS1_6_VFD1 | B56: SO0 | C56: SPARE
A57: PRS2_1_VFD1 | B57: I0 | C57: PRS2_1_VFD1_DISC | D57: DISCONNECT AUX
A58: PRS2_1_VFD1 | B58: I1 | C58: SPARE
A59: PRS2_1_VFD1 | B59: I2 | C59: PRS2_1_JPE1 | D59: JAM PHOTOEYE
A60: PRS2_1_VFD1 | B60: I3 | C60: SPARE
A61: PRS2_1_VFD1 | B61: IO0 | C61: SPARE
A62: PRS2_1_VFD1 | B62: IO1 | C62: SPARE
A63: PRS2_1_VFD1 | B63: SI0 | C63: PRS2_1_EPC1 | D63: E-STOP PULLCORD
A64: PRS2_1_VFD1 | B64: SI1 | C64: PRS2_1_EPC1_2 | D64: E-STOP PULLCORD
A65: PRS2_1_VFD1 | B65: SI2 | C65: PRS2_1_EPC2 | D65: E-STOP PULLCORD
A66: PRS2_1_VFD1 | B66: SI3 | C66: PRS2_1_EPC2_2 | D66: E-STOP PULLCORD
A67: PRS2_1_VFD1 | B67: SO0 | C67: SPARE
A68: PS8_1_VFD1 | B68: I0 | C68: PS8_1_VFD1_DISC | D68: DISCONNECT AUX
A69: PS8_1_VFD1 | B69: I1 | C69: PS8_1_ENC1 | D69: ENCODER
A70: PS8_1_VFD1 | B70: I2 | C70: PS8_1_JPE1 | D70: JAM PHOTOEYE
A71: PS8_1_VFD1 | B71: I3 | C71: PS8_1_JPE2 | D71: JAM PHOTOEYE
A72: PS8_1_VFD1 | B72: IO0 | C72: PS8_1_JPE3 | D72: JAM PHOTOEYE
A73: PS8_1_VFD1 | B73: IO1 | C73: SPARE
A74: PS8_1_VFD1 | B74: SI0 | C74: PS8_1_EPC1 | D74: E-STOP PULLCORD
A75: PS8_1_VFD1 | B75: SI1 | C75: PS8_1_EPC1_2 | D75: E-STOP PULLCORD
A76: PS8_1_VFD1 | B76: SI2 | C76: SPARE
A77: PS8_1_VFD1 | B77: SI3 | C77: SPARE
A78: PS8_1_VFD1 | B78: SO0 | C78: SPARE
A79: PS8_11_VFD1 | B79: I0 | C79: PS8_11_VFD1_DISC | D79: DISCONNECT AUX
A80: PS8_11_VFD1 | B80: I1 | C80: PS8_11_ENC1 | D80: ENCODER
A81: PS8_11_VFD1 | B81: I2 | C81: PS8_11_CH1_JPE1 | D81: JAM PHOTOEYE
A82: PS8_11_VFD1 | B82: I3 | C82: PS8_11_CH2_JPE1 | D82: JAM PHOTOEYE
A83: PS8_11_VFD1 | B83: IO0 | C83: PS8_12CH_FPE1 | D83: FULL PHOTOEYE
A84: PS8_11_VFD1 | B84: IO1 | C84: PS8_12CH_PS1 | D84: PRESSURE SENSOR
A85: PS8_11_VFD1 | B85: SI0 | C85: PS8_11_EPC1 | D85: E-STOP PULLCORD
A86: PS8_11_VFD1 | B86: SI1 | C86: PS8_11_EPC1_2 | D86: E-STOP PULLCORD
A87: PS8_11_VFD1 | B87: SI2 | C87: SPARE
A88: PS8_11_VFD1 | B88: SI3 | C88: SPARE
A89: PS8_11_VFD1 | B89: SO0 | C89: PS8_9_VFD1_STO | D89: VFD SAFETY ACTIVE
A90: PS8_2_VFD1 | B90: I0 | C90: PS8_2_VFD1_DISC | D90: DISCONNECT AUX
A91: PS8_2_VFD1 | B91: I1 | C91: PS8_2_ENC1 | D91: ENCODER
A92: PS8_2_VFD1 | B92: I2 | C92: PS8_2_JPE1 | D92: JAM PHOTOEYE
A93: PS8_2_VFD1 | B93: I3 | C93: PS8_2_JPE2 | D93: JAM PHOTOEYE
A94: PS8_2_VFD1 | B94: IO0 | C94: PS8_2_BCN2_A | D94: AMBER BEACON LIGHT
A95: PS8_2_VFD1 | B95: IO1 | C95: PS8_2_BCN2_R | D95: RED BEACON LIGHT
A96: PS8_2_VFD1 | B96: SI0 | C96: PS8_2_EPC1 | D96: E-STOP PULLCORD
A97: PS8_2_VFD1 | B97: SI1 | C97: PS8_2_EPC1_2 | D97: E-STOP PULLCORD
A98: PS8_2_VFD1 | B98: SI2 | C98: PS8_2_EPC2 | D98: E-STOP PULLCORD
A99: PS8_2_VFD1 | B99: SI3 | C99: PS8_2_EPC2_2 | D99: E-STOP PULLCORD
A100: PS8_2_VFD1 | B100: SO0 | C100: SPARE
...

Sheet NETWORK_PLC
A1: DPM | B1: DPM_IP | C1: Name | D1: PartNumber | E1: IP
A2: PRS1_3_DPM1 | B2: 11.200.1.2 | C2: PRS2_1_VFD1 | D2: 35S_6D5_P111 | E2: 11.200.1.30
A3: PRS1_3_DPM1 | B3: 11.200.1.2 | C3: PRS1_2A_VFD1 | D3: 35S_6D4_P111 | E3: 11.200.1.31
A4: PRS1_3_DPM1 | B4: 11.200.1.2 | C4: PRS1_2B_VFD1 | D4: 35S_6D3_P101 | E4: 11.200.1.32
A5: PRS1_3_DPM1 | B5: 11.200.1.2 | C5: PRS1_3_VFD1 | D5: 35S_6D5_P111 | E5: 11.200.1.33
A6: PRS1_3_DPM1 | B6: 11.200.1.2 | C6: PRS1_4_VFD1 | D6: 35S_6D3_P101 | E6: 11.200.1.34
A7: PRS1_3_DPM1 | B7: 11.200.1.2 | C7: PRS1_6_VFD1 | D7: 35S_6D2_P101 | E7: 11.200.1.35
A8: PRS1_3_DPM1 | B8: 11.200.1.2 | C8: PRS1_7_MDR1 | D8: ITOH
A9: PRS1_3_DPM1 | B9: 11.200.1.2 | C9: PS8_9_VFD1 | D9: 25B_D024N104 | E9: 11.200.1.36
A10: PRS1_3_DPM1 | B10: 11.200.1.2 | C10: PS8_11_VFD1 | D10: 35S_6D6_P111 | E10: 11.200.1.37
A11: PRS1_3_DPM1 | B11: 11.200.1.2 | C11: PRS1_1ACH_FIO1 | D11: 5032-8IOLM12DR | E11: 11.200.1.38
A12: PRS1_3_DPM1 | B12: 11.200.1.2 | C12: PRS1_1BCH_FIO1 | D12: 5032-8IOLM12DR | E12: 11.200.1.39
A13: PRS1_3_DPM1 | B13: 11.200.1.2 | C13: PRS1_4_FIO1 | D13: 5032-8IOLM12DR | E13: 11.200.1.40
A14: PRS1_3_DPM1 | B14: 11.200.1.2 | C14: PS8_1_FIO1 | D14: 5032-8IOLM12DR | E14: 11.200.1.41
A15: PRS1_3_DPM1 | B15: 11.200.1.2 | C15: PS8_1_FIO2 | D15: 5032-8IOLM12DR | E15: 11.200.1.42
A16: PS8_5_DPM1 | B16: 11.200.1.3 | C16: ULC1_1_VFD1 | D16: PIONEER | E16: 11.200.1.43
A17: PS8_5_DPM1 | B17: 11.200.1.3 | C17: ULC1_3_VFD1 | D17: 35S_6D2_P101 | E17: 11.200.1.44
A18: PS8_5_DPM1 | B18: 11.200.1.3 | C18: ULC2_1_VFD1 | D18: PIONEER | E18: 11.200.1.45
A19: PS8_5_DPM1 | B19: 11.200.1.3 | C19: ULC2_3_VFD1 | D19: 35S_6D2_P101 | E19: 11.200.1.46
A20: PS8_5_DPM1 | B20: 11.200.1.3 | C20: ULC3_1_VFD1 | D20: PIONEER | E20: 11.200.1.47
... A175: VSB_DPM3 | B175: 11.200.1.11 | C175: VSB_DPM3_FIO8 | D175: 5032-8IOLM12DR | E175: 11.200.1.195
