Workbook
Name a: HPCALCS2!$B$3:$B$3
Name a: Rework!$B$4:$Y$1081
Name a: 'Conveyor List'!$C$6:$X$1692
Name type: #REF!

Sheet Rev Log
A1: Revision | B1: Date | C1: Description | D1: Notes
A2: 0 | B2: 45618 | C2: Preliminary Release to validate building power requirements | D2: Most areas of the project have not been finalized or approved by Amazon. All information in this list is subject to change.
A3: 1 | B3: 45628 | C3: Add Fluid Load conveyors to manifest | D3: Adding (20) Fluid Load conveyors that were missed in the rev0 release. All information in this list is subject to change.
A4: 2 | B4: 45652 | C4: Finalize Phase 1 conveyors | D4: All Phase 1 conveyors (non-con, fluid load) are final. Updates have been made to other areas, but these are not final yet.
A5: 3 | B5: 45667 | C5: Phase 2 is 90% Confident | D5: Correction to Phase 1 Equipment: No Brakes on NCP-025, NCP-035, NCP-040, NCS1-035, NCS1-040, NCS2-035. All Phase 2 conveyors (Bypass, Fluid Inbound, Auto Induct) are close to being final. DCS is still working with our vendors to finalize the horsepower calculations, but what is shown in this list will be close to the final values.
A6: 4 | B6: 45672 | C6: Update HP based on final values from Flow Turn | D6: see column H
A7: 5 | B7: 45681 | C7: Updated HP based on vendor calculations and Phase 3 is 90% confident | D7: All Phase 3 conveyors are close to being final. DCS is still working with out vendors to finalize horsepower calculations, but what is shown in this list will be close to the final values. - Bulk Inbound North - Bulk Inbound South - Problem Solve North - Problem Solve South - Non-Con Problem Solve See column I for HP specific changes for Phase 2 conveyors
A8: 6 | B8: 45705 | C8: Finalize all Horsepowers. Add Alias Column. | D8: Phase 3 Conveyors (Bulk, Problem Solve) have been reviewed with the manufacturer and updated accordingly. Phase 2 Conveyors (Inbound, Bypass, AutoInduct) have been corrected based on continued detail engineering. See column J for a list of what changed since Rev 5. A column has been added for alias numbers (provided by Amazon)
A9: 7 | B9: 45729 | C9: Updates based on recent changes | D9: see column M | H9: Rev4 - Units that had a Horsepower change | I9: Rev5 - Units that had a Horsepower change | J9: Rev6 - Units that had a Horsepower change | M9: Rev7 - Units that changed | P9: Rev8 - Units that changed
A10: 8 | B10: 45747 | C10: Hytrol Horsepower Changes | D10: See Column P for conveyors which changed horsepower. Updated Alias numbers - provided by Matt Runion on 3/20/25 | H10: UL1-090 | I10: BYA-165 | J10: Unit Number | K10: Previous HP | L10: Current HP | M10: Unit Number | N10: What Changed | O10: Reason | P10: Unit Number | Q10: What Changed | R10: Reason
H11: UL2-025 | I11: BYA-175 | J11: BS1-010 | K11: 20 | L11: 15 | M11: UL13-013 | N11: Added Unit | O11: Has been in models but was missing from manifest | P11: NCP-090A | Q11: HP was 3, now 2 | R11: Mismatch with Hytrol
H12: UL3-015 | I12: BYA-225 | J12: BS1-011 (added) | L12: 15 | M12: UL9-030 | N12: HP was 2, now 3 | O12: Incorrect HP Calc | P12: NCP-090B | Q12: HP was 3, now 2 | R12: Mismatch with Hytrol
H13: UL4-090 | I13: BYA-115 | J13: BS2-015 | K13: 7.5 | L13: 10 | M13: BYD-150 | N13: HP was 3, now 5 | O13: Incorrect HP Calc | P13: BYD-120 | Q13: HP was 7.5, now 10 | R13: Mismatch with Hytrol
H14: UL5-025 | I14: BYB-125 | J14: BS2-020 | K14: 15 | L14: 10 | M14: BYD-160 | N14: HP was 3, now 5 | O14: Incorrect HP Calc | P14: BYD-140 | Q14: HP was 3, now 5 | R14: Mismatch with Hytrol
H15: UL6-015 | I15: BYB-160 | J15: BS2-055 | K15: 10 | L15: 15 | M15: UL18-055 | N15: Make LH Drive | O15: Typo | P15: BYD-350 | Q15: HP was 7.5, now 10 | R15: Mismatch with Hytrol
H16: UL7-090 | I16: BYB-215 | J16: BYD-150 | K16: 5 | L16: 3 | M16: UL5-015 | N16: Make LH Drive | O16: Amazon Requested
H17: UL8-020 | I17: BYB-315 | J17: BYD-160 | K17: 5 | L17: 3 | M17: UL7-015 | N17: Make RH Drive | O17: Amazon Requested
H18: UL9-025 | I18: BYD-120 | J18: PRS1-105 | K18: 10 | L18: 7.5 | M18: UL7-020 | N18: Make RH Drive | O18: Amazon Requested
H19: UL11-095 | I19: BYD-130 | J19: PRS1-110 | K19: 10 | L19: 5 | M19: UL10-005 | N19: Make RH Drive and move downstream | O19: Amazon Requested
H20: UL12-025 | I20: BYD-135 | J20: PRS1-210 | K20: 3 | L20: 2 | M20: UL10-010 | N20: Make RH Drive | O20: Amazon Requested
H21: UL1-100 | I21: BYD-175 | J21: PRS1-215 | K21: 7.5 | L21: 3 | M21: UL7-090 | N21: Make LH Drive | O21: Amazon Requested
H22: UL2-050 | I22: BYD-215 | J22: PRS1-225 | K22: 3 | L22: 2 | M22: UL11-095 | N22: Make LH Drive | O22: Amazon Requested
H23: UL3-045 | I23: BYD-230 | J23: PRS1-230 | K23: 7.5 | L23: 2 | M23: UL13-080 | N23: Make LH Drive | O23: Amazon Requested
H24: UL4-100 | I24: BYD-315 | J24: PRS1-240 | K24: 3 | L24: 2 | M24: UL18-105 | N24: Make LH Drive | O24: Amazon Requested
H25: UL5-050 | I25: BYD-350 | J25: PRS2-105 | K25: 10 | L25: 7.5 | M25: UL21-110 | N25: Make LH Drive | O25: Amazon Requested
H26: UL6-045 | I26: UL1-015 | J26: PRS2-210 | K26: 5 | L26: 3 | M26: UL3-005 | N26: Make LH Drive | O26: Amazon Requested
H27: UL7-100 | I27: UL2-015 | J27: PRS2-220 | K27: 5 | L27: 3 | M27: UL8-010 | N27: Shift drive downstream | O27: Amazon Requested
... H31: UL11-105 | I31: UL6-010 | J31: PS3-015 | K31: 2 | L31: 3 | M31: UL10-025 | N31: Add encoder | O31: Autstand Requested
H32: UL12-050 | J32: PS3-045 | K32: 3 | L32: 5 | M32: UL10-030 | N32: Add encoder | O32: Autstand Requested
H33: UL13-080 | J33: PS4-040 | K33: 3 | L33: 5 | M33: UL10-035 | N33: Add encoder | O33: Autstand Requested
H34: UL14-030 | J34: PS4-060 | K34: 2 | L34: 3 | M34: UL10-040 | N34: Add encoder | O34: Autstand Requested
H35: UL15-025 | J35: UL11-015 | K35: 3 | L35: 5 | M35: UL10-045 | N35: Add encoder | O35: Autstand Requested
H36: UL16-020 | J36: UL11-020 | K36: 7.5 | L36: 5 | M36: UL1-025 | N36: Add encoder | O36: Autstand Requested
H37: UL17-030 | J37: UL12-015 | K37: 3 | L37: 5 | M37: UL1-030 | N37: Add encoder | O37: Autstand Requested
H38: UL18-030 | J38: UL12-020 | K38: 7.5 | L38: 5 | M38: UL1-035 | N38: Add encoder | O38: Autstand Requested
H39: UL18-055 | J39: UL13-005 | K39: 1 | L39: 2 | M39: UL1-040 | N39: Add encoder | O39: Autstand Requested
H40: UL18-105 | J40: UL13-010 | K40: 3 | L40: 7.5 | M40: UL1-075 | N40: Add encoder | O40: Autstand Requested
H41: UL19-015 | J41: UL13-035 | K41: 2 | L41: 5 | M41: UL1-080 | N41: Add encoder | O41: Autstand Requested
H42: UL20-025 | J42: UL14-015 | K42: 3 | L42: 5 | M42: UL1-085 | N42: Add encoder | O42: Autstand Requested
H43: UL21-025 | J43: UL14-020 | K43: 3 | L43: 5 | M43: UL1-090 | N43: Add encoder | O43: Autstand Requested
...

Sheet Sheet1
A1: HP Rating | B1: Need | C1: Order | D1: Surplus
A2: 2 | B2: =COUNTIF('Conveyor List'!L:L,2) -> 143 | C2: 146 | D2: =C2-B2 -> 3
A3: 3 | B3: =COUNTIF('Conveyor List'!L:L,3) -> 210 | C3: 216 | D3: =C3-B3 -> 6
A4: 5 | B4: =COUNTIF('Conveyor List'!L:L,5) -> 128 | C4: 128 | D4: =C4-B4 -> 0
A5: 7.5 | B5: =COUNTIF('Conveyor List'!L:L,7.5) -> 48 | C5: 53 | D5: =C5-B5 -> 5
A6: 10 | B6: =COUNTIF('Conveyor List'!L:L,10) -> 48 | C6: 49 | D6: =C6-B6 -> 1
A7: 15 | B7: =COUNTIF('Conveyor List'!L:L,15) -> 9 | C7: 11 | D7: =C7-B7 -> 2
A8: 20 | B8: =COUNTIF('Conveyor List'!L:L,20) -> 1 | C8: 3 | D8: =C8-B8 -> 2
A9: 30 | B9: 2 | C9: 2 | D9: =C9-B9 -> 0

Sheet Conveyor List
A2: Control Panel | B2: Drawing Area | C2: Unit Number | D2: FO Numbers (Hytrol Supplied Conveyors) | E2: Alias | F2: Equipment Type | G2: Type of Conveyor | H2: Speed | I2: Drive Hand | J2: PSU | K2: Live Load | L2: Motor HP | M2: VFD | N2: Brake | O2: Encoder | P2: Belting Type | Q2: Roll Center | R2: Side Guard 1 | S2: Side Guard 2 | T2: Netting | U2: Btm Guard | V2: Diverts | W2: Diverts 2 | X2: Remarks | Y2: Overall Length
A3: BULK INBOUND NORTH | B3: M008 | C3: BS1_005 | E3: PS10_1 | F3: Powered_Belted | G3: Level Belt | H3: 150 | I3: RH | J3: 460/3/60 | K3: 25 | L3: 5 | M3: Y | N3: N | P3: RPH3200BXB_FR | Q3: NA | R3: 24 | S3: 12 | T3: N | U3: Y | V3: NA | W3: NA | X3: 36" SG, Bi_directional
A4: BULK INBOUND NORTH | B4: M003 | C4: BS1_010 | E4: PS10_2 | F4: Powered_Belted | G4: Incline Belt | H4: 200 | I4: LH | J4: 460/3/60 | K4: 25 | L4: 15 | M4: Y | N4: N | P4: APH150MFOXLN | Q4: NA | R4: 24 | T4: N | U4: Y | V4: NA | W4: NA | X4: 36" SG
A5: BULK INBOUND NORTH | B5: M003 | C5: BS1_011 | E5: PS10_3 | F5: Powered_Belted | G5: Incline Belt | H5: 240 | I5: RH | J5: 460/3/60 | K5: 25 | L5: 15 | M5: Y | N5: N | P5: APH150MFOXLN | Q5: NA | R5: 24 | S5: 12
A6: BULK INBOUND NORTH | B6: M003 | C6: BS1_015_CH | E6: PS10_4CH | F6: 90° Spiral Chute | G6: Chute | H6: NA | I6: NA | J6: NA | K6: 25 | L6: NA | M6: NA | N6: NA | P6: NA | Q6: NA | R6: 24 | S6: 24 | T6: NA | U6: NA | V6: NA | W6: NA
A7: BULK INBOUND NORTH | B7: M004 | C7: BS1_020 | E7: PS10_5 | F7: Powered_Belted | G7: Level Belt | H7: 240 | I7: LH | J7: 460/3/60 | K7: 25 | L7: 15 | M7: Y | N7: N | P7: RPH3200BXB_FR | Q7: NA | R7: 24 | S7: 12 | T7: N | U7: Y | V7: Y | W7: QTY 4
A8: BULK INBOUND NORTH | B8: M004 | C8: BS1_020_CH1 | E8: PS10_5CH1 | F8: Induct Chute | G8: Chute | H8: NA | I8: NA | J8: NA | K8: 25 | L8: NA | M8: NA | N8: NA | P8: NA | Q8: NA | R8: 24 | S8: 24 | T8: NA | U8: NA | V8: NA | W8: NA
A9: BULK INBOUND NORTH | B9: M004 | C9: BS1_020_CH2 | E9: PS10_5CH2 | F9: Induct Chute | G9: Chute | H9: NA | I9: NA | J9: NA | K9: 25 | L9: NA | M9: NA | N9: NA | P9: NA | Q9: NA | R9: 24 | S9: 24 | T9: NA | U9: NA | V9: NA | W9: NA
A10: BULK INBOUND NORTH | B10: M004 | C10: BS1_020_CH3 | E10: PS10_5CH3 | F10: Induct Chute | G10: Chute | H10: NA | I10: NA | J10: NA | K10: 25 | L10: NA | M10: NA | N10: NA | P10: NA | Q10: NA | R10: 24 | S10: 24 | T10: NA | U10: NA | V10: NA | W10: NA
A11: BULK INBOUND NORTH | B11: M004 | C11: BS1_020_CH4 | E11: PS10_5CH5 | F11: Induct Chute | G11: Chute | H11: NA | I11: NA | J11: NA | K11: 25 | L11: NA | M11: NA | N11: NA | P11: NA | Q11: NA | R11: 24 | S11: 24 | T11: NA | U11: NA | V11: NA | W11: NA
A12: BULK INBOUND NORTH | B12: M004 | C12: BS1_020_DIV1 | E12: PS10_5DIV1 | F12: Sorter | G12: Divert Arm | H12: NA | I12: NA | J12: NA | K12: NA | L12: NA | M12: NA | N12: NA | P12: NA | Q12: NA | R12: NA | S12: NA | T12: NA | U12: NA | V12: NA | W12: NA
A13: BULK INBOUND NORTH | B13: M004 | C13: BS1_020_DIV2 | E13: PS10_5DIV2 | F13: Sorter | G13: Divert Arm | H13: NA | I13: NA | J13: NA | K13: NA | L13: NA | M13: NA | N13: NA | P13: NA | Q13: NA | R13: NA | S13: NA | T13: NA | U13: NA | V13: NA | W13: NA
A14: BULK INBOUND NORTH | B14: M004 | C14: BS1_020_DIV3 | E14: PS10_5DIV3 | F14: Sorter | G14: Divert Arm | H14: NA | I14: NA | J14: NA | K14: NA | L14: NA | M14: NA | N14: NA | P14: NA | Q14: NA | R14: NA | S14: NA | T14: NA | U14: NA | V14: NA | W14: NA
A15: BULK INBOUND NORTH | B15: M004 | C15: BS1_020_DIV4 | E15: PS10_5DIV5 | F15: Sorter | G15: Divert Arm | H15: NA | I15: NA | J15: NA | K15: NA | L15: NA | M15: NA | N15: NA | P15: NA | Q15: NA | R15: NA | S15: NA | T15: NA | U15: NA | V15: NA | W15: NA
A16: BULK INBOUND NORTH | B16: M004 | C16: BS1_025_CH | E16: PS10_6CH | F16: 90° Straight Chute | G16: Chute | H16: NA | I16: NA | J16: NA | K16: 25 | L16: NA | M16: NA | N16: NA | P16: NA | Q16: NA | R16: 24 | S16: 24 | T16: NA | U16: NA | V16: NA | W16: NA
A17: BULK INBOUND NORTH | B17: M008 | C17: BS2_005 | E17: PS11_1 | F17: Powered_Belted | G17: Level Belt | H17: 150 | I17: RH | J17: 460/3/60 | K17: 25 | L17: 5 | M17: Y | N17: N | P17: RPH3200BXB_FR | Q17: NA | R17: 24 | S17: 12 | T17: N | U17: Y | V17: NA | W17: NA | X17: 36" SG
A18: BULK INBOUND NORTH | B18: M008 | C18: BS2_010 | E18: PS11_2 | F18: Powered_Belted | G18: Incline Belt | H18: 200 | I18: RH | J18: 460/3/60 | K18: 25 | L18: 5 | M18: Y | N18: N | P18: APH150MFOXLN | Q18: NA | R18: 24 | S18: 12 | T18: Y | U18: Y | V18: NA | W18: NA | X18: 36" SG
A19: BULK INBOUND NORTH | B19: M013 | C19: BS2_015 | E19: PS11_3 | F19: Powered_Belted | G19: Level Belt | H19: 240 | I19: RH | J19: 460/3/60 | K19: 25 | L19: 10 | M19: Y | N19: N | P19: RPH3200BXB_FR | Q19: NA | R19: 24 | S19: 12 | T19: Y | U19: Y | V19: NA | W19: NA
A20: BULK INBOUND NORTH | B20: M014 | C20: BS2_020 | E20: PS11_4 | F20: Powered_Belted | G20: Incline Belt | H20: 240 | I20: LH | J20: 460/3/60 | K20: 25 | L20: 10 | M20: Y | N20: N | P20: APH150MFOXLN | Q20: NA | R20: 24 | S20: _ | T20: N | U20: Y | V20: NA | W20: NA
A21: BULK INBOUND NORTH | B21: M014 | C21: BS2_025_CH | E21: PS11_5CH | F21: 90° Spiral Chute | G21: Chute | H21: NA | I21: NA | J21: NA | K21: 25 | L21: NA | M21: NA | N21: NA | P21: NA | Q21: NA | R21: 24 | S21: 24 | T21: NA | U21: NA | V21: NA | W21: NA
A22: BULK INBOUND NORTH | B22: M014 | C22: BS2_030 | E22: PS11_6 | F22: Powered_Belted | G22: Incline Belt | H22: 240 | I22: RH | J22: 460/3/60 | K22: 25 | L22: 10 | M22: Y | N22: N | P22: APH150MFOXLN | Q22: NA | R22: 24 | S22: _ | T22: N | U22: Y | V22: NA | W22: NA | X22: 36" SG
A23: BULK INBOUND NORTH | B23: M014 | C23: BS2_035 | E23: PS11_7 | F23: Powered_Belted | G23: Incline Belt | H23: 240 | I23: RH | J23: 460/3/60 | K23: 25 | L23: 20 | M23: Y | N23: N | P23: APH150MFOXLN | Q23: NA | R23: 24 | S23: _ | T23: N | U23: Y | V23: NA | W23: NA | X23: 36" SG
A24: BULK INBOUND NORTH | B24: M019 | C24: BS2_040 | E24: PS11_8 | F24: Powered_Belted | G24: Incline Belt | H24: 240 | I24: RH | J24: 460/3/60 | K24: 25 | L24: 15 | M24: Y | N24: N | P24: APH150MFOXLN | Q24: NA | R24: 24 | S24: _ | T24: N | U24: Y | V24: NA | W24: NA | X24: 36" SG
A25: BULK INBOUND NORTH | B25: M019 | C25: BS2_045 | E25: PS11_9 | F25: Powered_Belted | G25: Incline Belt | H25: 240 | I25: RH | J25: 460/3/60 | K25: 25 | L25: 15 | M25: Y | N25: N | P25: APH150MFOXLN | Q25: NA | R25: 24 | S25: 12 | T25: N | U25: Y | V25: NA | W25: NA | X25: 36" SG
A26: BULK INBOUND NORTH | B26: M024 | C26: BS2_050_CH | E26: PS11_10CH | F26: 90° Spiral Chute | G26: Chute | H26: NA | I26: NA | J26: NA | K26: 25 | L26: NA | M26: NA | N26: NA | P26: NA | Q26: NA | R26: 24 | S26: 24 | T26: NA | U26: NA | V26: NA | W26: NA
A27: BULK INBOUND NORTH | B27: M024 | C27: BS2_055 | E27: PS11_11 | F27: Powered_Belted | G27: Level Belt | H27: 240 | I27: LH | J27: 460/3/60 | K27: 25 | L27: 15 | M27: Y | N27: N | P27: RPH3200BXB_FR | Q27: NA | R27: 24 | S27: 12 | T27: N | U27: Y | V27: Y | W27: QTY 6
A28: BULK INBOUND NORTH | B28: M024 | C28: BS2_055_CH1 | E28: PS11_11CH1 | F28: Induct Chute | G28: Chute | H28: NA | I28: NA | J28: NA | K28: 25 | L28: NA | M28: NA | N28: NA | P28: NA | Q28: NA | R28: 24 | S28: 24 | T28: NA | U28: NA | V28: NA | W28: NA
A29: BULK INBOUND NORTH | B29: M024 | C29: BS2_055_CH2 | E29: PS11_11CH2 | F29: Induct Chute | G29: Chute | H29: NA | I29: NA | J29: NA | K29: 25 | L29: NA | M29: NA | N29: NA | P29: NA | Q29: NA | R29: 24 | S29: 24 | T29: NA | U29: NA | V29: NA | W29: NA
A30: BULK INBOUND NORTH | B30: M024 | C30: BS2_055_CH3 | E30: PS11_11CH3 | F30: Induct Chute | G30: Chute | H30: NA | I30: NA | J30: NA | K30: 25 | L30: NA | M30: NA | N30: NA | P30: NA | Q30: NA | R30: 24 | S30: 24 | T30: NA | U30: NA | V30: NA | W30: NA
A31: BULK INBOUND NORTH | B31: M024 | C31: BS2_055_CH4 | E31: PS11_11CH4 | F31: Induct Chute | G31: Chute | H31: NA | I31: NA | J31: NA | K31: 25 | L31: NA | M31: NA | N31: NA | P31: NA | Q31: NA | R31: 24 | S31: 24 | T31: NA | U31: NA | V31: NA | W31: NA
A32: BULK INBOUND NORTH | B32: M024 | C32: BS2_055_CH5 | E32: PS11_11CH5 | F32: Induct Chute | G32: Chute | H32: NA | I32: NA | J32: NA | K32: 25 | L32: NA | M32: NA | N32: NA | P32: NA | Q32: NA | R32: 24 | S32: 24 | T32: NA | U32: NA | V32: NA | W32: NA
A33: BULK INBOUND NORTH | B33: M024 | C33: BS2_055_CH6 | E33: PS11_11CH6 | F33: Induct Chute | G33: Chute | H33: NA | I33: NA | J33: NA | K33: 25 | L33: NA | M33: NA | N33: NA | P33: NA | Q33: NA | R33: 24 | S33: 24 | T33: NA | U33: NA | V33: NA | W33: NA
A34: BULK INBOUND NORTH | B34: M024 | C34: BS2_055_DIV1 | E34: PS11_11DIV1 | F34: Sorter | G34: Divert Arm | H34: NA | I34: NA | J34: NA | K34: NA | L34: NA | M34: NA | N34: NA | P34: NA | Q34: NA | R34: NA | S34: NA | T34: NA | U34: NA | V34: NA | W34: NA
A35: BULK INBOUND NORTH | B35: M024 | C35: BS2_055_DIV2 | E35: PS11_11DIV2 | F35: Sorter | G35: Divert Arm | H35: NA | I35: NA | J35: NA | K35: NA | L35: NA | M35: NA | N35: NA | P35: NA | Q35: NA | R35: NA | S35: NA | T35: NA | U35: NA | V35: NA | W35: NA
A36: BULK INBOUND NORTH | B36: M024 | C36: BS2_055_DIV3 | E36: PS11_11DIV3 | F36: Sorter | G36: Divert Arm | H36: NA | I36: NA | J36: NA | K36: NA | L36: NA | M36: NA | N36: NA | P36: NA | Q36: NA | R36: NA | S36: NA | T36: NA | U36: NA | V36: NA | W36: NA
A37: BULK INBOUND NORTH | B37: M024 | C37: BS2_055_DIV4 | E37: PS11_11DIV4 | F37: Sorter | G37: Divert Arm | H37: NA | I37: NA | J37: NA | K37: NA | L37: NA | M37: NA | N37: NA | P37: NA | Q37: NA | R37: NA | S37: NA | T37: NA | U37: NA | V37: NA | W37: NA
A38: BULK INBOUND NORTH | B38: M024 | C38: BS2_055_DIV5 | E38: PS11_11DIV5 | F38: Sorter | G38: Divert Arm | H38: NA | I38: NA | J38: NA | K38: NA | L38: NA | M38: NA | N38: NA | P38: NA | Q38: NA | R38: NA | S38: NA | T38: NA | U38: NA | V38: NA | W38: NA
A39: BULK INBOUND NORTH | B39: M024 | C39: BS2_055_DIV6 | E39: PS11_11DIV6 | F39: Sorter | G39: Divert Arm | H39: NA | I39: NA | J39: NA | K39: NA | L39: NA | M39: NA | N39: NA | P39: NA | Q39: NA | R39: NA | S39: NA | T39: NA | U39: NA | V39: NA | W39: NA
A40: BULK INBOUND NORTH | B40: M023 | C40: BS2_060_CH | E40: PS1_12CH | F40: 90° Straight Chute | G40: Chute | H40: NA | I40: NA | J40: NA | K40: 25 | L40: NA | M40: NA | N40: NA | P40: NA | Q40: NA | R40: 24 | S40: 24 | T40: NA | U40: NA | V40: NA | W40: NA
A41: BULK INBOUND SOUTH | B41: M007 | C41: BS3_005 | E41: PS8_1 | F41: Powered_Belted | G41: Level Belt | H41: 150 | I41: LH | J41: 460/3/60 | K41: 25 | L41: 7.5 | M41: Y | N41: N | P41: RPH3200BXB_FR | Q41: NA | R41: 24 | S41: 12 | T41: N | U41: Y | V41: NA | W41: NA
...

Sheet Rework
B1: Customer: | C1: FedEx Ground
A2: Equipment Type | B2: Conveyor | C2: Type of | D2: Rework Stage | E2: Width | F2: Length | H2: Elevation | J2: Supt. | K2: Speed | M2: Speed | N2: Drive | O2: Motor | P2: Brake | Q2: Pulley | R2: Belting | S2: Roll | T2: Side Guard | V2: Bottom | W2: Pneun. | X2: PPH | Y2: Remarks
B3: Number | C3: Conveyor | E3: B/B | F3: Ft. | G3: In. | H3: Feed | I3: Disch | J3: Elev. | K3: IB | L3: OB | M3: Mode | N3: Type | O3: Hp | Q3: Size | R3: Type | S3: Center | T3: Ht. | U3: Length | V3: Guard | W3: Divtrs | X3: Override
N4: do not erase | O4: =IF(#REF!=0,"",IF(ISERROR(FIND("Slave",C4))=TRUE,IF(ISERROR(FIND("Vanline",C4))=FALSE,IF(#REF!<5,5,#REF!),#REF!),0)) -> #REF! | Q4: =IF(#REF!=0,"",IF(F4>121,16,IF(F4>81,IF(#REF!<12,12,#REF!),#REF!))) -> #REF!
B6: P-1 | O6: =IF(HPCALCS2!B5=0,"",IF(ISERROR(FIND("Slave",C6))=TRUE,IF(ISERROR(FIND("Vanline",C6))=FALSE,IF(HPCALCS2!AA5<5,5,HPCALCS2!AA5),HPCALCS2!AA5),0)) | Q6: =IF(HPCALCS2!B5=0,"",HPCALCS2!AB5)
B7: P-2 | D7: Existing | O7: =IF(HPCALCS2!B6=0,"",IF(ISERROR(FIND("Slave",C7))=TRUE,IF(ISERROR(FIND("Vanline",C7))=FALSE,IF(HPCALCS2!AA6<5,5,HPCALCS2!AA6),HPCALCS2!AA6),0)) | Q7: =IF(HPCALCS2!B6=0,"",HPCALCS2!AB6)
B8: P-3 | D8: New | O8: =IF(HPCALCS2!B7=0,"",IF(ISERROR(FIND("Slave",C8))=TRUE,IF(ISERROR(FIND("Vanline",C8))=FALSE,IF(HPCALCS2!AA7<5,5,HPCALCS2!AA7),HPCALCS2!AA7),0)) | Q8: =IF(HPCALCS2!B7=0,"",HPCALCS2!AB7) | AL8: 0 | AM8: Yes | AN8: 0
B9: P-4 | O9: =IF(HPCALCS2!B8=0,"",IF(ISERROR(FIND("Slave",C9))=TRUE,IF(ISERROR(FIND("Vanline",C9))=FALSE,IF(HPCALCS2!AA8<5,5,HPCALCS2!AA8),HPCALCS2!AA8),0)) | Q9: =IF(HPCALCS2!B8=0,"",HPCALCS2!AB8) | AL9: 1 | AM9: No | AN9: 1
B10: P-5 | O10: =IF(HPCALCS2!B9=0,"",IF(ISERROR(FIND("Slave",C10))=TRUE,IF(ISERROR(FIND("Vanline",C10))=FALSE,IF(HPCALCS2!AA9<5,5,HPCALCS2!AA9),HPCALCS2!AA9),0)) | Q10: =IF(HPCALCS2!B9=0,"",HPCALCS2!AB9) | AL10: 2 | AN10: 2
B11: P-6 | O11: =IF(HPCALCS2!B10=0,"",IF(ISERROR(FIND("Slave",C11))=TRUE,IF(ISERROR(FIND("Vanline",C11))=FALSE,IF(HPCALCS2!AA10<5,5,HPCALCS2!AA10),HPCALCS2!AA10),0)) | Q11: =IF(HPCALCS2!B10=0,"",HPCALCS2!AB10)
B12: P-7 | O12: =IF(HPCALCS2!B11=0,"",IF(ISERROR(FIND("Slave",C12))=TRUE,IF(ISERROR(FIND("Vanline",C12))=FALSE,IF(HPCALCS2!AA11<5,5,HPCALCS2!AA11),HPCALCS2!AA11),0)) | Q12: =IF(HPCALCS2!B11=0,"",HPCALCS2!AB11)
B13: P-8 | O13: =IF(HPCALCS2!B12=0,"",IF(ISERROR(FIND("Slave",C13))=TRUE,IF(ISERROR(FIND("Vanline",C13))=FALSE,IF(HPCALCS2!AA12<5,5,HPCALCS2!AA12),HPCALCS2!AA12),0)) | Q13: =IF(HPCALCS2!B12=0,"",HPCALCS2!AB12)
B14: P-9 | O14: =IF(HPCALCS2!B13=0,"",IF(ISERROR(FIND("Slave",C14))=TRUE,IF(ISERROR(FIND("Vanline",C14))=FALSE,IF(HPCALCS2!AA13<5,5,HPCALCS2!AA13),HPCALCS2!AA13),0)) | Q14: =IF(HPCALCS2!B13=0,"",HPCALCS2!AB13)
B15: P-10 | O15: =IF(HPCALCS2!B14=0,"",IF(ISERROR(FIND("Slave",C15))=TRUE,IF(ISERROR(FIND("Vanline",C15))=FALSE,IF(HPCALCS2!AA14<5,5,HPCALCS2!AA14),HPCALCS2!AA14),0)) | Q15: =IF(HPCALCS2!B14=0,"",HPCALCS2!AB14)
B16: P-11 | O16: =IF(HPCALCS2!B15=0,"",IF(ISERROR(FIND("Slave",C16))=TRUE,IF(ISERROR(FIND("Vanline",C16))=FALSE,IF(HPCALCS2!AA15<5,5,HPCALCS2!AA15),HPCALCS2!AA15),0)) | Q16: =IF(HPCALCS2!B15=0,"",HPCALCS2!AB15)
B17: P-12 | O17: =IF(HPCALCS2!B16=0,"",IF(ISERROR(FIND("Slave",C17))=TRUE,IF(ISERROR(FIND("Vanline",C17))=FALSE,IF(HPCALCS2!AA16<5,5,HPCALCS2!AA16),HPCALCS2!AA16),0)) | Q17: =IF(HPCALCS2!B16=0,"",HPCALCS2!AB16)
B18: P-13 | O18: =IF(HPCALCS2!B17=0,"",IF(ISERROR(FIND("Slave",C18))=TRUE,IF(ISERROR(FIND("Vanline",C18))=FALSE,IF(HPCALCS2!AA17<5,5,HPCALCS2!AA17),HPCALCS2!AA17),0)) | Q18: =IF(HPCALCS2!B17=0,"",HPCALCS2!AB17)
B19: P-14 | O19: =IF(HPCALCS2!B18=0,"",IF(ISERROR(FIND("Slave",C19))=TRUE,IF(ISERROR(FIND("Vanline",C19))=FALSE,IF(HPCALCS2!AA18<5,5,HPCALCS2!AA18),HPCALCS2!AA18),0)) | Q19: =IF(HPCALCS2!B18=0,"",HPCALCS2!AB18)
B20: P-15 | O20: =IF(HPCALCS2!B19=0,"",IF(ISERROR(FIND("Slave",C20))=TRUE,IF(ISERROR(FIND("Vanline",C20))=FALSE,IF(HPCALCS2!AA19<5,5,HPCALCS2!AA19),HPCALCS2!AA19),0)) | Q20: =IF(HPCALCS2!B19=0,"",HPCALCS2!AB19)
B21: P-16 | O21: =IF(HPCALCS2!B20=0,"",IF(ISERROR(FIND("Slave",C21))=TRUE,IF(ISERROR(FIND("Vanline",C21))=FALSE,IF(HPCALCS2!AA20<5,5,HPCALCS2!AA20),HPCALCS2!AA20),0)) | Q21: =IF(HPCALCS2!B20=0,"",HPCALCS2!AB20)
B22: P-17 | O22: =IF(HPCALCS2!B21=0,"",IF(ISERROR(FIND("Slave",C22))=TRUE,IF(ISERROR(FIND("Vanline",C22))=FALSE,IF(HPCALCS2!AA21<5,5,HPCALCS2!AA21),HPCALCS2!AA21),0)) | Q22: =IF(HPCALCS2!B21=0,"",HPCALCS2!AB21)
... B155: P-150 | O155: =IF(HPCALCS2!B154=0,"",IF(ISERROR(FIND("Slave",C155))=TRUE,IF(ISERROR(FIND("Vanline",C155))=FALSE,IF(HPCALCS2!AA154<5,5,HPCALCS2!AA154),HPCALCS2!AA154),0)) | Q155: =IF(HPCALCS2!B154=0,"",HPCALCS2!AB154)
Z327: =SUM(Z$6:Z$319) -> 0
AA328: =SUM(AA$6:AA$319) -> 0
AB329: =SUM(AB$6:AB$319) -> 0
AC330: =SUM(AC$6:AC$319) -> 0
AD331: =SUM(AD$6:AD$319) -> 0
AE332: =SUM(AE$6:AE$319) -> 0
AF333: =SUM(AF$6:AF$319) -> 0
AG334: =SUM(AG$6:AG$319) -> 0
AH335: =SUM(AH$6:AH$319) -> 0
AI336: =SUM(AI$6:AI$319) -> 0
AJ337: =SUM(AJ$6:AJ$319) -> 0
AK338: =SUM(AK$6:AK$319) -> 0
AL339: =SUM(AL$6:AL$319) -> 3
AM340: =SUM(AM$6:AM$319) -> 0
AN341: =SUM(AN$6:AN$319) -> 3
AO342: =SUM(AO$6:AO$319) -> 0
AP343: =SUM(AP$6:AP$319) -> 0

Sheet Relocated
A1: Equipment | B1: Type of Equipment | C1: Qty | D1: Areas Relocated | F1: Distance | G1: Remarks
A2: Number | D2: From | E2: To | F2: Relocated

Sheet Demo
A1: Equipment | B1: Type of Equipment | C1: Qty | D1: Spare Parts | E1: Salvaged Spare Part List | F1: Palletized | G1: Remarks
A2: Number | AX2: Yes | AZ2: Yes
AX3: No | AZ3: No

Sheet HPCALCS2
A1: Conv | D1: Slave | F1: Lowest | G1: Highest | H1: Pneun. | J1: Pkg | K1: Frctn | L1: Weight | M1: VFD | N1: Reducer | O1: Chain | P1: Conv | Q1: Live | R1: Dead | S1: Overcome | T1: Raise Load | U1: Operate | V1: Package | W1: Operate | X1: Effective | Y1: Needed | Z1: Required | AA1: Motor HP | AB1: Pulley | AD1: HP Calculation | AH1: Pulley Calculation
A2: Num | B2: FPM | C2: Length | D2: Length | E2: Width | F2: Elev. | G2: Elev. | H2: Divtrs | I2: PPH | J2: Weight | K2: Fctr | L2: of Belt | M2: Effcny | N2: Effcny | O2: Effcny | P2: Utilizn Fctr | Q2: Load | R2: Load | S2: Friction HP | T2: HP | U2: Hitch HP | V2: Diversion HP | W2: Slave HP | X2: Belt Pull | Y2: Belt Pull | Z2: HP | AA2: To Use | AB2: Diameter | AD2: Low | AE2: High | AF2: Use | AH2: Low | AI2: High | AJ2: Use
A3: ='Conveyor List'!#REF! -> #REF! | B3: =IF(AND(Rework!$K4="",Rework!$L4=""),0,MAX(MAX(LEFT(Rework!$K4,IF(ISERROR(FIND("/",Rework!$K4))=TRUE,LEN(Rework!$K4),FIND("/",Rework!$K4)-2)),TRIM(RIGHT(Rework!$K4,LEN(Rework!$K4)-IF(ISERROR(FIND("/",Rework!$K4))=TRUE,0,FIND("/",Rework!$K4))))),MAX(LEFT(Rework!$L4,IF(ISERROR(FIND("/",Rework!$L4))=TRUE,LEN(Rework!$L4),FIND("/",Rework!$L4)-2)),TRIM(RIGHT(Rework!$L4,LEN(Rework!$L4)-IF(ISERROR(FIND("/",Rework!$L4))=TRUE,0,FIND("/",Rework!$L4))))))) -> 0 | C3: =IF(AND(Rework!$F4="",Rework!$G4=""),0,Rework!$F4+Rework!$G4/12) -> 0 | D3: =IF(AND(Rework!F4="",Rework!G4=""),0,IF(ISERROR(FIND("Slave",Rework!C4)) =FALSE,Rework!F5+Rework!G5/12,0)) -> 0 | E3: =IF(Rework!$E4="",0,Rework!$E4) -> 0 | F3: =IF(Rework!$H4="",0,MIN(LEFT(Rework!$H4,IF(ISERROR(FIND("/",Rework!$H4))=TRUE,LEN(Rework!$H4),FIND("/",Rework!$H4)-3)),IF(ISERROR(FIND("/",Rework!$H4))=TRUE,Rework!$H4,TRIM(LEFT(RIGHT(Rework!$H4, LEN(Rework!$H4)-FIND("/",Rework!$H4)),LEN(RIGHT(Rework!$H4, LEN(Rework!$H4)-FIND("/",Rework!$H4)))-1))))) -> 0 | G3: =IF(Rework!$I4="",0,MAX(LEFT(Rework!$I4,IF(ISERROR(FIND("/",Rework!$I4))=TRUE,LEN(Rework!$I4),FIND("/",Rework!$I4)-3)),IF(ISERROR(FIND("/",Rework!$I4))=TRUE,Rework!$I4,TRIM(LEFT(RIGHT(Rework!$I4, LEN(Rework!$I4)-FIND("/",Rework!$I4)),LEN(RIGHT(Rework!$I4, LEN(Rework!$I4)-FIND("/",Rework!$I4)))-1))))) -> 0 | H3: =IF(Rework!W4>0,IF(Rework!W4>1,2,1),0) -> 0 | I3: =IF(Rework!X4="",IF(Rework!$E4=61.5,2400,1800),Rework!X4) -> 1800 | J3: 30 | K3: =IF(ISERROR(FIND("Belt",Rework!C4))=FALSE,0.3,IF(ISERROR(FIND("Roller",Rework!C4))=FALSE,0.05,0.25)) -> 0.25 | L3: 1 | M3: 0.95 | N3: 0.85 | O3: =IF(ISERROR(FIND("M",Rework!$N4))=TRUE,0.95,1) -> 0.95 | P3: 1 | Q3: =IF(B3=0,0,(I3*J3)/(60*B3)) -> 0 | R3: =IF(E3=0,0,(2*L3*((E3-1)/12))) -> 0 | S3: =IF(B3=0,0,(1.25*B3*K3*C3*(Q3+R3))/(33000*M3*N3*O3)) -> 0 | T3: =IF(AND(G3=0,F3=0),0,(1.25*I3*J3*((G3-F3)/12))/(60*33000*M3*N3*O3)) -> 0 | U3: =IF(E3=0,0,(1.25*B3*0.05*(Q3+(((E3/12)-1)*L3))*C3)/(60*33000*M3*N3*O3)) -> 0 | V3: =IF(H3=0,0,(1.25*B3*K3*(H3*((12*(E3-1))+200)))/(33000*M3*N3*O3)) -> 0 | W3: =IF(D3=0,0,(1.25*B3*K3*D3*(Q3+R3))/(33000*M3*N3*O3*O3)+5*(0.01*(500+1.25*((Q3+R3)*K3*D3)))*B3/(33000*M3*N3*O3*O3)) -> 0 | X3: =IF(B3=0,0,ROUNDUP(((AA3/B3)*33000*N3),0)) -> 0 | Y3: =IF(C3="",0,ROUNDUP((((K3*(C3+D3)*(Q3+R3))+(J3+((G3-F3)/12)))/0.85),0)) -> 36 | Z3: =S3+T3+U3+V3+W3 -> 0 | AA3: =VLOOKUP(Z3,$AD$3:$AF$13,3,TRUE) -> 2 | AB3: =VLOOKUP(X3,$AH$3:$AJ$5,3,TRUE) -> 8 | AD3: 0 | AE3: 1 | AF3: =IF(Rework!$C$1="FedEx Ground", 2, 1) -> 2 | AH3: 0 | AI3: 1000 | AJ3: 8
A4: ='Conveyor List'!C1 -> 0 | B4: =IF(AND(Rework!$K5="",Rework!$L5=""),0,MAX(MAX(LEFT(Rework!$K5,IF(ISERROR(FIND("/",Rework!$K5))=TRUE,LEN(Rework!$K5),FIND("/",Rework!$K5)-2)),TRIM(RIGHT(Rework!$K5,LEN(Rework!$K5)-IF(ISERROR(FIND("/",Rework!$K5))=TRUE,0,FIND("/",Rework!$K5))))),MAX(LEFT(Rework!$L5,IF(ISERROR(FIND("/",Rework!$L5))=TRUE,LEN(Rework!$L5),FIND("/",Rework!$L5)-2)),TRIM(RIGHT(Rework!$L5,LEN(Rework!$L5)-IF(ISERROR(FIND("/",Rework!$L5))=TRUE,0,FIND("/",Rework!$L5))))))) -> 0 | C4: =IF(AND(Rework!$F5="",Rework!$G5=""),0,Rework!$F5+Rework!$G5/12) -> 0 | D4: =IF(AND(Rework!F5="",Rework!G5=""),0,IF(ISERROR(FIND("Slave",Rework!C5)) =FALSE,Rework!F6+Rework!G6/12,0)) -> 0 | E4: =IF(Rework!$E5="",0,Rework!$E5) -> 0 | F4: =IF(Rework!$H5="",0,MIN(LEFT(Rework!$H5,IF(ISERROR(FIND("/",Rework!$H5))=TRUE,LEN(Rework!$H5),FIND("/",Rework!$H5)-3)),IF(ISERROR(FIND("/",Rework!$H5))=TRUE,Rework!$H5,TRIM(LEFT(RIGHT(Rework!$H5, LEN(Rework!$H5)-FIND("/",Rework!$H5)),LEN(RIGHT(Rework!$H5, LEN(Rework!$H5)-FIND("/",Rework!$H5)))-1))))) -> 0 | G4: =IF(Rework!$I5="",0,MAX(LEFT(Rework!$I5,IF(ISERROR(FIND("/",Rework!$I5))=TRUE,LEN(Rework!$I5),FIND("/",Rework!$I5)-3)),IF(ISERROR(FIND("/",Rework!$I5))=TRUE,Rework!$I5,TRIM(LEFT(RIGHT(Rework!$I5, LEN(Rework!$I5)-FIND("/",Rework!$I5)),LEN(RIGHT(Rework!$I5, LEN(Rework!$I5)-FIND("/",Rework!$I5)))-1))))) -> 0 | H4: =IF(Rework!W5>0,IF(Rework!W5>1,2,1),0) -> 0 | I4: =IF(Rework!X5="",IF(Rework!$E5=61.5,2400,1800),Rework!X5) -> 1800 | J4: 30 | K4: =IF(ISERROR(FIND("Belt",Rework!C5))=FALSE,0.3,IF(ISERROR(FIND("Roller",Rework!C5))=FALSE,0.05,0.25)) -> 0.25 | L4: 1 | M4: 0.95 | N4: 0.85 | O4: =IF(ISERROR(FIND("M",Rework!$N5))=TRUE,0.95,1) -> 0.95 | P4: 1 | Q4: =IF(B4=0,0,(I4*J4)/(60*B4)) -> 0 | R4: =IF(E4=0,0,(2*L4*((E4-1)/12))) -> 0 | S4: =IF(B4=0,0,(1.25*B4*K4*C4*(Q4+R4))/(33000*M4*N4*O4)) -> 0 | T4: =IF(AND(G4=0,F4=0),0,(1.25*I4*J4*((G4-F4)/12))/(60*33000*M4*N4*O4)) -> 0 | U4: =IF(E4=0,0,(1.25*B4*0.05*(Q4+(((E4/12)-1)*L4))*C4)/(60*33000*M4*N4*O4)) -> 0 | V4: =IF(H4=0,0,(1.25*B4*K4*(H4*((12*(E4-1))+200)))/(33000*M4*N4*O4)) -> 0 | W4: =IF(D4=0,0,(1.25*B4*K4*D4*(Q4+R4))/(33000*M4*N4*O4*O4)+5*(0.01*(500+1.25*((Q4+R4)*K4*D4)))*B4/(33000*M4*N4*O4*O4)) -> 0 | X4: =IF(B4=0,0,ROUNDUP(((AA4/B4)*33000*N4),0)) -> 0 | Y4: =IF(C4="",0,ROUNDUP((((K4*(C4+D4)*(Q4+R4))+(J4+((G4-F4)/12)))/0.85),0)) -> 36 | Z4: =S4+T4+U4+V4+W4 -> 0 | AA4: =VLOOKUP(Z4,$AD$3:$AF$13,3,TRUE) -> 2 | AB4: =VLOOKUP(X4,$AH$3:$AJ$5,3,TRUE) -> 8 | AD4: 1.0001 | AE4: 1.5 | AF4: =IF(Rework!$C$1="FedEx Ground", 2, 1) -> 2 | AH4: 1000.01 | AI4: 2000 | AJ4: 12 | AL4: ACC-1001 | AM4: 1-Sided Load Chart Holder
A5: ='Conveyor List'!#REF! -> #REF! | B5: =IF(AND(Rework!$K6="",Rework!$L6=""),0,MAX(MAX(LEFT(Rework!$K6,IF(ISERROR(FIND("/",Rework!$K6))=TRUE,LEN(Rework!$K6),FIND("/",Rework!$K6)-2)),TRIM(RIGHT(Rework!$K6,LEN(Rework!$K6)-IF(ISERROR(FIND("/",Rework!$K6))=TRUE,0,FIND("/",Rework!$K6))))),MAX(LEFT(Rework!$L6,IF(ISERROR(FIND("/",Rework!$L6))=TRUE,LEN(Rework!$L6),FIND("/",Rework!$L6)-2)),TRIM(RIGHT(Rework!$L6,LEN(Rework!$L6)-IF(ISERROR(FIND("/",Rework!$L6))=TRUE,0,FIND("/",Rework!$L6))))))) -> 0 | C5: =IF(AND(Rework!$F6="",Rework!$G6=""),0,Rework!$F6+Rework!$G6/12) -> 0 | D5: =IF(AND(Rework!F6="",Rework!G6=""),0,IF(ISERROR(FIND("Slave",Rework!C6)) =FALSE,Rework!F7+Rework!G7/12,0)) -> 0 | E5: =IF(Rework!$E6="",0,Rework!$E6) -> 0 | F5: =IF(Rework!$H6="",0,MIN(LEFT(Rework!$H6,IF(ISERROR(FIND("/",Rework!$H6))=TRUE,LEN(Rework!$H6),FIND("/",Rework!$H6)-3)),IF(ISERROR(FIND("/",Rework!$H6))=TRUE,Rework!$H6,TRIM(LEFT(RIGHT(Rework!$H6, LEN(Rework!$H6)-FIND("/",Rework!$H6)),LEN(RIGHT(Rework!$H6, LEN(Rework!$H6)-FIND("/",Rework!$H6)))-1))))) -> 0 | G5: =IF(Rework!$I6="",0,MAX(LEFT(Rework!$I6,IF(ISERROR(FIND("/",Rework!$I6))=TRUE,LEN(Rework!$I6),FIND("/",Rework!$I6)-3)),IF(ISERROR(FIND("/",Rework!$I6))=TRUE,Rework!$I6,TRIM(LEFT(RIGHT(Rework!$I6, LEN(Rework!$I6)-FIND("/",Rework!$I6)),LEN(RIGHT(Rework!$I6, LEN(Rework!$I6)-FIND("/",Rework!$I6)))-1))))) -> 0 | H5: =IF(Rework!W6>0,IF(Rework!W6>1,2,1),0) -> 0 | I5: =IF(Rework!X6="",IF(Rework!$E6=61.5,2400,1800),Rework!X6) -> 1800 | J5: 30 | K5: =IF(ISERROR(FIND("Belt",Rework!C6))=FALSE,0.3,IF(ISERROR(FIND("Roller",Rework!C6))=FALSE,0.05,0.25)) -> 0.25 | L5: 1 | M5: 0.95 | N5: 0.85 | O5: =IF(ISERROR(FIND("M",Rework!$N6))=TRUE,0.95,1) -> 0.95 | P5: 1 | Q5: =IF(B5=0,0,(I5*J5)/(60*B5)) -> 0 | R5: =IF(E5=0,0,(2*L5*((E5-1)/12))) -> 0 | S5: =IF(B5=0,0,(1.25*B5*K5*C5*(Q5+R5))/(33000*M5*N5*O5)) -> 0 | T5: =IF(AND(G5=0,F5=0),0,(1.25*I5*J5*((G5-F5)/12))/(60*33000*M5*N5*O5)) -> 0 | U5: =IF(E5=0,0,(1.25*B5*0.05*(Q5+(((E5/12)-1)*L5))*C5)/(60*33000*M5*N5*O5)) -> 0 | V5: =IF(H5=0,0,(1.25*B5*K5*(H5*((12*(E5-1))+200)))/(33000*M5*N5*O5)) -> 0 | W5: =IF(D5=0,0,(1.25*B5*K5*D5*(Q5+R5))/(33000*M5*N5*O5*O5)+5*(0.01*(500+1.25*((Q5+R5)*K5*D5)))*B5/(33000*M5*N5*O5*O5)) -> 0 | X5: =IF(B5=0,0,ROUNDUP(((AA5/B5)*33000*N5),0)) -> 0 | Y5: =IF(C5="",0,ROUNDUP((((K5*(C5+D5)*(Q5+R5))+(J5+((G5-F5)/12)))/0.85),0)) -> 36 | Z5: =S5+T5+U5+V5+W5 -> 0 | AA5: =VLOOKUP(Z5,$AD$3:$AF$13,3,TRUE) -> 2 | AB5: =VLOOKUP(X5,$AH$3:$AJ$5,3,TRUE) -> 8 | AD5: 1.5001 | AE5: 2 | AF5: 2 | AH5: 2000.01 | AJ5: "Split Conveyor" | AL5: ACC-1002 | AM5: 1-Sided Split Chart Holder
A6: ='Conveyor List'!#REF! -> #REF! | B6: =IF(AND(Rework!$K7="",Rework!$L7=""),0,MAX(MAX(LEFT(Rework!$K7,IF(ISERROR(FIND("/",Rework!$K7))=TRUE,LEN(Rework!$K7),FIND("/",Rework!$K7)-2)),TRIM(RIGHT(Rework!$K7,LEN(Rework!$K7)-IF(ISERROR(FIND("/",Rework!$K7))=TRUE,0,FIND("/",Rework!$K7))))),MAX(LEFT(Rework!$L7,IF(ISERROR(FIND("/",Rework!$L7))=TRUE,LEN(Rework!$L7),FIND("/",Rework!$L7)-2)),TRIM(RIGHT(Rework!$L7,LEN(Rework!$L7)-IF(ISERROR(FIND("/",Rework!$L7))=TRUE,0,FIND("/",Rework!$L7))))))) -> 0 | C6: =IF(AND(Rework!$F7="",Rework!$G7=""),0,Rework!$F7+Rework!$G7/12) -> 0 | D6: =IF(AND(Rework!F7="",Rework!G7=""),0,IF(ISERROR(FIND("Slave",Rework!C7)) =FALSE,Rework!F8+Rework!G8/12,0)) -> 0 | E6: =IF(Rework!$E7="",0,Rework!$E7) -> 0 | F6: =IF(Rework!$H7="",0,MIN(LEFT(Rework!$H7,IF(ISERROR(FIND("/",Rework!$H7))=TRUE,LEN(Rework!$H7),FIND("/",Rework!$H7)-3)),IF(ISERROR(FIND("/",Rework!$H7))=TRUE,Rework!$H7,TRIM(LEFT(RIGHT(Rework!$H7, LEN(Rework!$H7)-FIND("/",Rework!$H7)),LEN(RIGHT(Rework!$H7, LEN(Rework!$H7)-FIND("/",Rework!$H7)))-1))))) -> 0 | G6: =IF(Rework!$I7="",0,MAX(LEFT(Rework!$I7,IF(ISERROR(FIND("/",Rework!$I7))=TRUE,LEN(Rework!$I7),FIND("/",Rework!$I7)-3)),IF(ISERROR(FIND("/",Rework!$I7))=TRUE,Rework!$I7,TRIM(LEFT(RIGHT(Rework!$I7, LEN(Rework!$I7)-FIND("/",Rework!$I7)),LEN(RIGHT(Rework!$I7, LEN(Rework!$I7)-FIND("/",Rework!$I7)))-1))))) -> 0 | H6: =IF(Rework!W7>0,IF(Rework!W7>1,2,1),0) -> 0 | I6: =IF(Rework!X7="",IF(Rework!$E7=61.5,2400,1800),Rework!X7) -> 1800 | J6: 30 | K6: =IF(ISERROR(FIND("Belt",Rework!C7))=FALSE,0.3,IF(ISERROR(FIND("Roller",Rework!C7))=FALSE,0.05,0.25)) -> 0.25 | L6: 1 | M6: 0.95 | N6: 0.85 | O6: =IF(ISERROR(FIND("M",Rework!$N7))=TRUE,0.95,1) -> 0.95 | P6: 1 | Q6: =IF(B6=0,0,(I6*J6)/(60*B6)) -> 0 | R6: =IF(E6=0,0,(2*L6*((E6-1)/12))) -> 0 | S6: =IF(B6=0,0,(1.25*B6*K6*C6*(Q6+R6))/(33000*M6*N6*O6)) -> 0 | T6: =IF(AND(G6=0,F6=0),0,(1.25*I6*J6*((G6-F6)/12))/(60*33000*M6*N6*O6)) -> 0 | U6: =IF(E6=0,0,(1.25*B6*0.05*(Q6+(((E6/12)-1)*L6))*C6)/(60*33000*M6*N6*O6)) -> 0 | V6: =IF(H6=0,0,(1.25*B6*K6*(H6*((12*(E6-1))+200)))/(33000*M6*N6*O6)) -> 0 | W6: =IF(D6=0,0,(1.25*B6*K6*D6*(Q6+R6))/(33000*M6*N6*O6*O6)+5*(0.01*(500+1.25*((Q6+R6)*K6*D6)))*B6/(33000*M6*N6*O6*O6)) -> 0 | X6: =IF(B6=0,0,ROUNDUP(((AA6/B6)*33000*N6),0)) -> 0 | Y6: =IF(C6="",0,ROUNDUP((((K6*(C6+D6)*(Q6+R6))+(J6+((G6-F6)/12)))/0.85),0)) -> 36 | Z6: =S6+T6+U6+V6+W6 -> 0 | AA6: =VLOOKUP(Z6,$AD$3:$AF$13,3,TRUE) -> 2 | AB6: =VLOOKUP(X6,$AH$3:$AJ$5,3,TRUE) -> 8 | AD6: 2.0001 | AE6: 3 | AF6: 3 | AL6: ACC-1003 | AM6: 2-Sided Split Chart Holder
A7: ='Conveyor List'!#REF! -> #REF! | B7: =IF(AND(Rework!$K8="",Rework!$L8=""),0,MAX(MAX(LEFT(Rework!$K8,IF(ISERROR(FIND("/",Rework!$K8))=TRUE,LEN(Rework!$K8),FIND("/",Rework!$K8)-2)),TRIM(RIGHT(Rework!$K8,LEN(Rework!$K8)-IF(ISERROR(FIND("/",Rework!$K8))=TRUE,0,FIND("/",Rework!$K8))))),MAX(LEFT(Rework!$L8,IF(ISERROR(FIND("/",Rework!$L8))=TRUE,LEN(Rework!$L8),FIND("/",Rework!$L8)-2)),TRIM(RIGHT(Rework!$L8,LEN(Rework!$L8)-IF(ISERROR(FIND("/",Rework!$L8))=TRUE,0,FIND("/",Rework!$L8))))))) -> 0 | C7: =IF(AND(Rework!$F8="",Rework!$G8=""),0,Rework!$F8+Rework!$G8/12) -> 0 | D7: =IF(AND(Rework!F8="",Rework!G8=""),0,IF(ISERROR(FIND("Slave",Rework!C8)) =FALSE,Rework!F9+Rework!G9/12,0)) -> 0 | E7: =IF(Rework!$E8="",0,Rework!$E8) -> 0 | F7: =IF(Rework!$H8="",0,MIN(LEFT(Rework!$H8,IF(ISERROR(FIND("/",Rework!$H8))=TRUE,LEN(Rework!$H8),FIND("/",Rework!$H8)-3)),IF(ISERROR(FIND("/",Rework!$H8))=TRUE,Rework!$H8,TRIM(LEFT(RIGHT(Rework!$H8, LEN(Rework!$H8)-FIND("/",Rework!$H8)),LEN(RIGHT(Rework!$H8, LEN(Rework!$H8)-FIND("/",Rework!$H8)))-1))))) -> 0 | G7: =IF(Rework!$I8="",0,MAX(LEFT(Rework!$I8,IF(ISERROR(FIND("/",Rework!$I8))=TRUE,LEN(Rework!$I8),FIND("/",Rework!$I8)-3)),IF(ISERROR(FIND("/",Rework!$I8))=TRUE,Rework!$I8,TRIM(LEFT(RIGHT(Rework!$I8, LEN(Rework!$I8)-FIND("/",Rework!$I8)),LEN(RIGHT(Rework!$I8, LEN(Rework!$I8)-FIND("/",Rework!$I8)))-1))))) -> 0 | H7: =IF(Rework!W8>0,IF(Rework!W8>1,2,1),0) -> 0 | I7: =IF(Rework!X8="",IF(Rework!$E8=61.5,2400,1800),Rework!X8) -> 1800 | J7: 30 | K7: =IF(ISERROR(FIND("Belt",Rework!C8))=FALSE,0.3,IF(ISERROR(FIND("Roller",Rework!C8))=FALSE,0.05,0.25)) -> 0.25 | L7: 1 | M7: 0.95 | N7: 0.85 | O7: =IF(ISERROR(FIND("M",Rework!$N8))=TRUE,0.95,1) -> 0.95 | P7: 1 | Q7: =IF(B7=0,0,(I7*J7)/(60*B7)) -> 0 | R7: =IF(E7=0,0,(2*L7*((E7-1)/12))) -> 0 | S7: =IF(B7=0,0,(1.25*B7*K7*C7*(Q7+R7))/(33000*M7*N7*O7)) -> 0 | T7: =IF(AND(G7=0,F7=0),0,(1.25*I7*J7*((G7-F7)/12))/(60*33000*M7*N7*O7)) -> 0 | U7: =IF(E7=0,0,(1.25*B7*0.05*(Q7+(((E7/12)-1)*L7))*C7)/(60*33000*M7*N7*O7)) -> 0 | V7: =IF(H7=0,0,(1.25*B7*K7*(H7*((12*(E7-1))+200)))/(33000*M7*N7*O7)) -> 0 | W7: =IF(D7=0,0,(1.25*B7*K7*D7*(Q7+R7))/(33000*M7*N7*O7*O7)+5*(0.01*(500+1.25*((Q7+R7)*K7*D7)))*B7/(33000*M7*N7*O7*O7)) -> 0 | X7: =IF(B7=0,0,ROUNDUP(((AA7/B7)*33000*N7),0)) -> 0 | Y7: =IF(C7="",0,ROUNDUP((((K7*(C7+D7)*(Q7+R7))+(J7+((G7-F7)/12)))/0.85),0)) -> 36 | Z7: =S7+T7+U7+V7+W7 -> 0 | AA7: =VLOOKUP(Z7,$AD$3:$AF$13,3,TRUE) -> 2 | AB7: =VLOOKUP(X7,$AH$3:$AJ$5,3,TRUE) -> 8 | AD7: 3.0001 | AE7: 5 | AF7: 5 | AL7: ACC-1006 | AM7: 2-Sided Load Chart Holder
A8: ='Conveyor List'!#REF! -> #REF! | B8: =IF(AND(Rework!$K9="",Rework!$L9=""),0,MAX(MAX(LEFT(Rework!$K9,IF(ISERROR(FIND("/",Rework!$K9))=TRUE,LEN(Rework!$K9),FIND("/",Rework!$K9)-2)),TRIM(RIGHT(Rework!$K9,LEN(Rework!$K9)-IF(ISERROR(FIND("/",Rework!$K9))=TRUE,0,FIND("/",Rework!$K9))))),MAX(LEFT(Rework!$L9,IF(ISERROR(FIND("/",Rework!$L9))=TRUE,LEN(Rework!$L9),FIND("/",Rework!$L9)-2)),TRIM(RIGHT(Rework!$L9,LEN(Rework!$L9)-IF(ISERROR(FIND("/",Rework!$L9))=TRUE,0,FIND("/",Rework!$L9))))))) -> 0 | C8: =IF(AND(Rework!$F9="",Rework!$G9=""),0,Rework!$F9+Rework!$G9/12) -> 0 | D8: =IF(AND(Rework!F9="",Rework!G9=""),0,IF(ISERROR(FIND("Slave",Rework!C9)) =FALSE,Rework!F10+Rework!G10/12,0)) -> 0 | E8: =IF(Rework!$E9="",0,Rework!$E9) -> 0 | F8: =IF(Rework!$H9="",0,MIN(LEFT(Rework!$H9,IF(ISERROR(FIND("/",Rework!$H9))=TRUE,LEN(Rework!$H9),FIND("/",Rework!$H9)-3)),IF(ISERROR(FIND("/",Rework!$H9))=TRUE,Rework!$H9,TRIM(LEFT(RIGHT(Rework!$H9, LEN(Rework!$H9)-FIND("/",Rework!$H9)),LEN(RIGHT(Rework!$H9, LEN(Rework!$H9)-FIND("/",Rework!$H9)))-1))))) -> 0 | G8: =IF(Rework!$I9="",0,MAX(LEFT(Rework!$I9,IF(ISERROR(FIND("/",Rework!$I9))=TRUE,LEN(Rework!$I9),FIND("/",Rework!$I9)-3)),IF(ISERROR(FIND("/",Rework!$I9))=TRUE,Rework!$I9,TRIM(LEFT(RIGHT(Rework!$I9, LEN(Rework!$I9)-FIND("/",Rework!$I9)),LEN(RIGHT(Rework!$I9, LEN(Rework!$I9)-FIND("/",Rework!$I9)))-1))))) -> 0 | H8: =IF(Rework!W9>0,IF(Rework!W9>1,2,1),0) -> 0 | I8: =IF(Rework!X9="",IF(Rework!$E9=61.5,2400,1800),Rework!X9) -> 1800 | J8: 30 | K8: =IF(ISERROR(FIND("Belt",Rework!C9))=FALSE,0.3,IF(ISERROR(FIND("Roller",Rework!C9))=FALSE,0.05,0.25)) -> 0.25 | L8: 1 | M8: 0.95 | N8: 0.85 | O8: =IF(ISERROR(FIND("M",Rework!$N9))=TRUE,0.95,1) -> 0.95 | P8: 1 | Q8: =IF(B8=0,0,(I8*J8)/(60*B8)) -> 0 | R8: =IF(E8=0,0,(2*L8*((E8-1)/12))) -> 0 | S8: =IF(B8=0,0,(1.25*B8*K8*C8*(Q8+R8))/(33000*M8*N8*O8)) -> 0 | T8: =IF(AND(G8=0,F8=0),0,(1.25*I8*J8*((G8-F8)/12))/(60*33000*M8*N8*O8)) -> 0 | U8: =IF(E8=0,0,(1.25*B8*0.05*(Q8+(((E8/12)-1)*L8))*C8)/(60*33000*M8*N8*O8)) -> 0 | V8: =IF(H8=0,0,(1.25*B8*K8*(H8*((12*(E8-1))+200)))/(33000*M8*N8*O8)) -> 0 | W8: =IF(D8=0,0,(1.25*B8*K8*D8*(Q8+R8))/(33000*M8*N8*O8*O8)+5*(0.01*(500+1.25*((Q8+R8)*K8*D8)))*B8/(33000*M8*N8*O8*O8)) -> 0 | X8: =IF(B8=0,0,ROUNDUP(((AA8/B8)*33000*N8),0)) -> 0 | Y8: =IF(C8="",0,ROUNDUP((((K8*(C8+D8)*(Q8+R8))+(J8+((G8-F8)/12)))/0.85),0)) -> 36 | Z8: =S8+T8+U8+V8+W8 -> 0 | AA8: =VLOOKUP(Z8,$AD$3:$AF$13,3,TRUE) -> 2 | AB8: =VLOOKUP(X8,$AH$3:$AJ$5,3,TRUE) -> 8 | AD8: 5.0001 | AE8: 7.5 | AF8: 7.5 | AL8: ACC-1008 | AM8: HD Comingle LCH Holder
A9: ='Conveyor List'!#REF! -> #REF! | B9: =IF(AND(Rework!$K10="",Rework!$L10=""),0,MAX(MAX(LEFT(Rework!$K10,IF(ISERROR(FIND("/",Rework!$K10))=TRUE,LEN(Rework!$K10),FIND("/",Rework!$K10)-2)),TRIM(RIGHT(Rework!$K10,LEN(Rework!$K10)-IF(ISERROR(FIND("/",Rework!$K10))=TRUE,0,FIND("/",Rework!$K10))))),MAX(LEFT(Rework!$L10,IF(ISERROR(FIND("/",Rework!$L10))=TRUE,LEN(Rework!$L10),FIND("/",Rework!$L10)-2)),TRIM(RIGHT(Rework!$L10,LEN(Rework!$L10)-IF(ISERROR(FIND("/",Rework!$L10))=TRUE,0,FIND("/",Rework!$L10))))))) -> 0 | C9: =IF(AND(Rework!$F10="",Rework!$G10=""),0,Rework!$F10+Rework!$G10/12) -> 0 | D9: =IF(AND(Rework!F10="",Rework!G10=""),0,IF(ISERROR(FIND("Slave",Rework!C10)) =FALSE,Rework!F11+Rework!G11/12,0)) -> 0 | E9: =IF(Rework!$E10="",0,Rework!$E10) -> 0 | F9: =IF(Rework!$H10="",0,MIN(LEFT(Rework!$H10,IF(ISERROR(FIND("/",Rework!$H10))=TRUE,LEN(Rework!$H10),FIND("/",Rework!$H10)-3)),IF(ISERROR(FIND("/",Rework!$H10))=TRUE,Rework!$H10,TRIM(LEFT(RIGHT(Rework!$H10, LEN(Rework!$H10)-FIND("/",Rework!$H10)),LEN(RIGHT(Rework!$H10, LEN(Rework!$H10)-FIND("/",Rework!$H10)))-1))))) -> 0 | G9: =IF(Rework!$I10="",0,MAX(LEFT(Rework!$I10,IF(ISERROR(FIND("/",Rework!$I10))=TRUE,LEN(Rework!$I10),FIND("/",Rework!$I10)-3)),IF(ISERROR(FIND("/",Rework!$I10))=TRUE,Rework!$I10,TRIM(LEFT(RIGHT(Rework!$I10, LEN(Rework!$I10)-FIND("/",Rework!$I10)),LEN(RIGHT(Rework!$I10, LEN(Rework!$I10)-FIND("/",Rework!$I10)))-1))))) -> 0 | H9: =IF(Rework!W10>0,IF(Rework!W10>1,2,1),0) -> 0 | I9: =IF(Rework!X10="",IF(Rework!$E10=61.5,2400,1800),Rework!X10) -> 1800 | J9: 30 | K9: =IF(ISERROR(FIND("Belt",Rework!C10))=FALSE,0.3,IF(ISERROR(FIND("Roller",Rework!C10))=FALSE,0.05,0.25)) -> 0.25 | L9: 1 | M9: 0.95 | N9: 0.85 | O9: =IF(ISERROR(FIND("M",Rework!$N10))=TRUE,0.95,1) -> 0.95 | P9: 1 | Q9: =IF(B9=0,0,(I9*J9)/(60*B9)) -> 0 | R9: =IF(E9=0,0,(2*L9*((E9-1)/12))) -> 0 | S9: =IF(B9=0,0,(1.25*B9*K9*C9*(Q9+R9))/(33000*M9*N9*O9)) -> 0 | T9: =IF(AND(G9=0,F9=0),0,(1.25*I9*J9*((G9-F9)/12))/(60*33000*M9*N9*O9)) -> 0 | U9: =IF(E9=0,0,(1.25*B9*0.05*(Q9+(((E9/12)-1)*L9))*C9)/(60*33000*M9*N9*O9)) -> 0 | V9: =IF(H9=0,0,(1.25*B9*K9*(H9*((12*(E9-1))+200)))/(33000*M9*N9*O9)) -> 0 | W9: =IF(D9=0,0,(1.25*B9*K9*D9*(Q9+R9))/(33000*M9*N9*O9*O9)+5*(0.01*(500+1.25*((Q9+R9)*K9*D9)))*B9/(33000*M9*N9*O9*O9)) -> 0 | X9: =IF(B9=0,0,ROUNDUP(((AA9/B9)*33000*N9),0)) -> 0 | Y9: =IF(C9="",0,ROUNDUP((((K9*(C9+D9)*(Q9+R9))+(J9+((G9-F9)/12)))/0.85),0)) -> 36 | Z9: =S9+T9+U9+V9+W9 -> 0 | AA9: =VLOOKUP(Z9,$AD$3:$AF$13,3,TRUE) -> 2 | AB9: =VLOOKUP(X9,$AH$3:$AJ$5,3,TRUE) -> 8 | AD9: 7.5001 | AE9: 10 | AF9: 10 | AL9: ACC-2002 | AM9: Tool Balancer
A10: ='Conveyor List'!#REF! -> #REF! | B10: =IF(AND(Rework!$K11="",Rework!$L11=""),0,MAX(MAX(LEFT(Rework!$K11,IF(ISERROR(FIND("/",Rework!$K11))=TRUE,LEN(Rework!$K11),FIND("/",Rework!$K11)-2)),TRIM(RIGHT(Rework!$K11,LEN(Rework!$K11)-IF(ISERROR(FIND("/",Rework!$K11))=TRUE,0,FIND("/",Rework!$K11))))),MAX(LEFT(Rework!$L11,IF(ISERROR(FIND("/",Rework!$L11))=TRUE,LEN(Rework!$L11),FIND("/",Rework!$L11)-2)),TRIM(RIGHT(Rework!$L11,LEN(Rework!$L11)-IF(ISERROR(FIND("/",Rework!$L11))=TRUE,0,FIND("/",Rework!$L11))))))) -> 0 | C10: =IF(AND(Rework!$F11="",Rework!$G11=""),0,Rework!$F11+Rework!$G11/12) -> 0 | D10: =IF(AND(Rework!F11="",Rework!G11=""),0,IF(ISERROR(FIND("Slave",Rework!C11)) =FALSE,Rework!F12+Rework!G12/12,0)) -> 0 | E10: =IF(Rework!$E11="",0,Rework!$E11) -> 0 | F10: =IF(Rework!$H11="",0,MIN(LEFT(Rework!$H11,IF(ISERROR(FIND("/",Rework!$H11))=TRUE,LEN(Rework!$H11),FIND("/",Rework!$H11)-3)),IF(ISERROR(FIND("/",Rework!$H11))=TRUE,Rework!$H11,TRIM(LEFT(RIGHT(Rework!$H11, LEN(Rework!$H11)-FIND("/",Rework!$H11)),LEN(RIGHT(Rework!$H11, LEN(Rework!$H11)-FIND("/",Rework!$H11)))-1))))) -> 0 | G10: =IF(Rework!$I11="",0,MAX(LEFT(Rework!$I11,IF(ISERROR(FIND("/",Rework!$I11))=TRUE,LEN(Rework!$I11),FIND("/",Rework!$I11)-3)),IF(ISERROR(FIND("/",Rework!$I11))=TRUE,Rework!$I11,TRIM(LEFT(RIGHT(Rework!$I11, LEN(Rework!$I11)-FIND("/",Rework!$I11)),LEN(RIGHT(Rework!$I11, LEN(Rework!$I11)-FIND("/",Rework!$I11)))-1))))) -> 0 | H10: =IF(Rework!W11>0,IF(Rework!W11>1,2,1),0) -> 0 | I10: =IF(Rework!X11="",IF(Rework!$E11=61.5,2400,1800),Rework!X11) -> 1800 | J10: 30 | K10: =IF(ISERROR(FIND("Belt",Rework!C11))=FALSE,0.3,IF(ISERROR(FIND("Roller",Rework!C11))=FALSE,0.05,0.25)) -> 0.25 | L10: 1 | M10: 0.95 | N10: 0.85 | O10: =IF(ISERROR(FIND("M",Rework!$N11))=TRUE,0.95,1) -> 0.95 | P10: 1 | Q10: =IF(B10=0,0,(I10*J10)/(60*B10)) -> 0 | R10: =IF(E10=0,0,(2*L10*((E10-1)/12))) -> 0 | S10: =IF(B10=0,0,(1.25*B10*K10*C10*(Q10+R10))/(33000*M10*N10*O10)) -> 0 | T10: =IF(AND(G10=0,F10=0),0,(1.25*I10*J10*((G10-F10)/12))/(60*33000*M10*N10*O10)) -> 0 | U10: =IF(E10=0,0,(1.25*B10*0.05*(Q10+(((E10/12)-1)*L10))*C10)/(60*33000*M10*N10*O10)) -> 0 | V10: =IF(H10=0,0,(1.25*B10*K10*(H10*((12*(E10-1))+200)))/(33000*M10*N10*O10)) -> 0 | W10: =IF(D10=0,0,(1.25*B10*K10*D10*(Q10+R10))/(33000*M10*N10*O10*O10)+5*(0.01*(500+1.25*((Q10+R10)*K10*D10)))*B10/(33000*M10*N10*O10*O10)) -> 0 | X10: =IF(B10=0,0,ROUNDUP(((AA10/B10)*33000*N10),0)) -> 0 | Y10: =IF(C10="",0,ROUNDUP((((K10*(C10+D10)*(Q10+R10))+(J10+((G10-F10)/12)))/0.85),0)) -> 36 | Z10: =S10+T10+U10+V10+W10 -> 0 | AA10: =VLOOKUP(Z10,$AD$3:$AF$13,3,TRUE) -> 2 | AB10: =VLOOKUP(X10,$AH$3:$AJ$5,3,TRUE) -> 8 | AD10: 10.001 | AE10: 15 | AF10: 15 | AL10: ACC-4001 | AM10: Package Paddle
A11: ='Conveyor List'!#REF! -> #REF! | B11: =IF(AND(Rework!$K12="",Rework!$L12=""),0,MAX(MAX(LEFT(Rework!$K12,IF(ISERROR(FIND("/",Rework!$K12))=TRUE,LEN(Rework!$K12),FIND("/",Rework!$K12)-2)),TRIM(RIGHT(Rework!$K12,LEN(Rework!$K12)-IF(ISERROR(FIND("/",Rework!$K12))=TRUE,0,FIND("/",Rework!$K12))))),MAX(LEFT(Rework!$L12,IF(ISERROR(FIND("/",Rework!$L12))=TRUE,LEN(Rework!$L12),FIND("/",Rework!$L12)-2)),TRIM(RIGHT(Rework!$L12,LEN(Rework!$L12)-IF(ISERROR(FIND("/",Rework!$L12))=TRUE,0,FIND("/",Rework!$L12))))))) -> 0 | C11: =IF(AND(Rework!$F12="",Rework!$G12=""),0,Rework!$F12+Rework!$G12/12) -> 0 | D11: =IF(AND(Rework!F12="",Rework!G12=""),0,IF(ISERROR(FIND("Slave",Rework!C12)) =FALSE,Rework!F13+Rework!G13/12,0)) -> 0 | E11: =IF(Rework!$E12="",0,Rework!$E12) -> 0 | F11: =IF(Rework!$H12="",0,MIN(LEFT(Rework!$H12,IF(ISERROR(FIND("/",Rework!$H12))=TRUE,LEN(Rework!$H12),FIND("/",Rework!$H12)-3)),IF(ISERROR(FIND("/",Rework!$H12))=TRUE,Rework!$H12,TRIM(LEFT(RIGHT(Rework!$H12, LEN(Rework!$H12)-FIND("/",Rework!$H12)),LEN(RIGHT(Rework!$H12, LEN(Rework!$H12)-FIND("/",Rework!$H12)))-1))))) -> 0 | G11: =IF(Rework!$I12="",0,MAX(LEFT(Rework!$I12,IF(ISERROR(FIND("/",Rework!$I12))=TRUE,LEN(Rework!$I12),FIND("/",Rework!$I12)-3)),IF(ISERROR(FIND("/",Rework!$I12))=TRUE,Rework!$I12,TRIM(LEFT(RIGHT(Rework!$I12, LEN(Rework!$I12)-FIND("/",Rework!$I12)),LEN(RIGHT(Rework!$I12, LEN(Rework!$I12)-FIND("/",Rework!$I12)))-1))))) -> 0 | H11: =IF(Rework!W12>0,IF(Rework!W12>1,2,1),0) -> 0 | I11: =IF(Rework!X12="",IF(Rework!$E12=61.5,2400,1800),Rework!X12) -> 1800 | J11: 30 | K11: =IF(ISERROR(FIND("Belt",Rework!C12))=FALSE,0.3,IF(ISERROR(FIND("Roller",Rework!C12))=FALSE,0.05,0.25)) -> 0.25 | L11: 1 | M11: 0.95 | N11: 0.85 | O11: =IF(ISERROR(FIND("M",Rework!$N12))=TRUE,0.95,1) -> 0.95 | P11: 1 | Q11: =IF(B11=0,0,(I11*J11)/(60*B11)) -> 0 | R11: =IF(E11=0,0,(2*L11*((E11-1)/12))) -> 0 | S11: =IF(B11=0,0,(1.25*B11*K11*C11*(Q11+R11))/(33000*M11*N11*O11)) -> 0 | T11: =IF(AND(G11=0,F11=0),0,(1.25*I11*J11*((G11-F11)/12))/(60*33000*M11*N11*O11)) -> 0 | U11: =IF(E11=0,0,(1.25*B11*0.05*(Q11+(((E11/12)-1)*L11))*C11)/(60*33000*M11*N11*O11)) -> 0 | V11: =IF(H11=0,0,(1.25*B11*K11*(H11*((12*(E11-1))+200)))/(33000*M11*N11*O11)) -> 0 | W11: =IF(D11=0,0,(1.25*B11*K11*D11*(Q11+R11))/(33000*M11*N11*O11*O11)+5*(0.01*(500+1.25*((Q11+R11)*K11*D11)))*B11/(33000*M11*N11*O11*O11)) -> 0 | X11: =IF(B11=0,0,ROUNDUP(((AA11/B11)*33000*N11),0)) -> 0 | Y11: =IF(C11="",0,ROUNDUP((((K11*(C11+D11)*(Q11+R11))+(J11+((G11-F11)/12)))/0.85),0)) -> 36 | Z11: =S11+T11+U11+V11+W11 -> 0 | AA11: =VLOOKUP(Z11,$AD$3:$AF$13,3,TRUE) -> 2 | AB11: =VLOOKUP(X11,$AH$3:$AJ$5,3,TRUE) -> 8 | AD11: 15.001 | AE11: 20 | AF11: 20 | AL11: ACC-4002 | AM11: Package Plunger
A12: ='Conveyor List'!#REF! -> #REF! | B12: =IF(AND(Rework!$K13="",Rework!$L13=""),0,MAX(MAX(LEFT(Rework!$K13,IF(ISERROR(FIND("/",Rework!$K13))=TRUE,LEN(Rework!$K13),FIND("/",Rework!$K13)-2)),TRIM(RIGHT(Rework!$K13,LEN(Rework!$K13)-IF(ISERROR(FIND("/",Rework!$K13))=TRUE,0,FIND("/",Rework!$K13))))),MAX(LEFT(Rework!$L13,IF(ISERROR(FIND("/",Rework!$L13))=TRUE,LEN(Rework!$L13),FIND("/",Rework!$L13)-2)),TRIM(RIGHT(Rework!$L13,LEN(Rework!$L13)-IF(ISERROR(FIND("/",Rework!$L13))=TRUE,0,FIND("/",Rework!$L13))))))) -> 0 | C12: =IF(AND(Rework!$F13="",Rework!$G13=""),0,Rework!$F13+Rework!$G13/12) -> 0 | D12: =IF(AND(Rework!F13="",Rework!G13=""),0,IF(ISERROR(FIND("Slave",Rework!C13)) =FALSE,Rework!F14+Rework!G14/12,0)) -> 0 | E12: =IF(Rework!$E13="",0,Rework!$E13) -> 0 | F12: =IF(Rework!$H13="",0,MIN(LEFT(Rework!$H13,IF(ISERROR(FIND("/",Rework!$H13))=TRUE,LEN(Rework!$H13),FIND("/",Rework!$H13)-3)),IF(ISERROR(FIND("/",Rework!$H13))=TRUE,Rework!$H13,TRIM(LEFT(RIGHT(Rework!$H13, LEN(Rework!$H13)-FIND("/",Rework!$H13)),LEN(RIGHT(Rework!$H13, LEN(Rework!$H13)-FIND("/",Rework!$H13)))-1))))) -> 0 | G12: =IF(Rework!$I13="",0,MAX(LEFT(Rework!$I13,IF(ISERROR(FIND("/",Rework!$I13))=TRUE,LEN(Rework!$I13),FIND("/",Rework!$I13)-3)),IF(ISERROR(FIND("/",Rework!$I13))=TRUE,Rework!$I13,TRIM(LEFT(RIGHT(Rework!$I13, LEN(Rework!$I13)-FIND("/",Rework!$I13)),LEN(RIGHT(Rework!$I13, LEN(Rework!$I13)-FIND("/",Rework!$I13)))-1))))) -> 0 | H12: =IF(Rework!W13>0,IF(Rework!W13>1,2,1),0) -> 0 | I12: =IF(Rework!X13="",IF(Rework!$E13=61.5,2400,1800),Rework!X13) -> 1800 | J12: 30 | K12: =IF(ISERROR(FIND("Belt",Rework!C13))=FALSE,0.3,IF(ISERROR(FIND("Roller",Rework!C13))=FALSE,0.05,0.25)) -> 0.25 | L12: 1 | M12: 0.95 | N12: 0.85 | O12: =IF(ISERROR(FIND("M",Rework!$N13))=TRUE,0.95,1) -> 0.95 | P12: 1 | Q12: =IF(B12=0,0,(I12*J12)/(60*B12)) -> 0 | R12: =IF(E12=0,0,(2*L12*((E12-1)/12))) -> 0 | S12: =IF(B12=0,0,(1.25*B12*K12*C12*(Q12+R12))/(33000*M12*N12*O12)) -> 0 | T12: =IF(AND(G12=0,F12=0),0,(1.25*I12*J12*((G12-F12)/12))/(60*33000*M12*N12*O12)) -> 0 | U12: =IF(E12=0,0,(1.25*B12*0.05*(Q12+(((E12/12)-1)*L12))*C12)/(60*33000*M12*N12*O12)) -> 0 | V12: =IF(H12=0,0,(1.25*B12*K12*(H12*((12*(E12-1))+200)))/(33000*M12*N12*O12)) -> 0 | W12: =IF(D12=0,0,(1.25*B12*K12*D12*(Q12+R12))/(33000*M12*N12*O12*O12)+5*(0.01*(500+1.25*((Q12+R12)*K12*D12)))*B12/(33000*M12*N12*O12*O12)) -> 0 | X12: =IF(B12=0,0,ROUNDUP(((AA12/B12)*33000*N12),0)) -> 0 | Y12: =IF(C12="",0,ROUNDUP((((K12*(C12+D12)*(Q12+R12))+(J12+((G12-F12)/12)))/0.85),0)) -> 36 | Z12: =S12+T12+U12+V12+W12 -> 0 | AA12: =VLOOKUP(Z12,$AD$3:$AF$13,3,TRUE) -> 2 | AB12: =VLOOKUP(X12,$AH$3:$AJ$5,3,TRUE) -> 8 | AD12: 20.001 | AE12: 25 | AF12: 25 | AL12: ACC-4004 | AM12: Vertical Rain Shield Dispenser
A13: ='Conveyor List'!#REF! -> #REF! | B13: =IF(AND(Rework!$K14="",Rework!$L14=""),0,MAX(MAX(LEFT(Rework!$K14,IF(ISERROR(FIND("/",Rework!$K14))=TRUE,LEN(Rework!$K14),FIND("/",Rework!$K14)-2)),TRIM(RIGHT(Rework!$K14,LEN(Rework!$K14)-IF(ISERROR(FIND("/",Rework!$K14))=TRUE,0,FIND("/",Rework!$K14))))),MAX(LEFT(Rework!$L14,IF(ISERROR(FIND("/",Rework!$L14))=TRUE,LEN(Rework!$L14),FIND("/",Rework!$L14)-2)),TRIM(RIGHT(Rework!$L14,LEN(Rework!$L14)-IF(ISERROR(FIND("/",Rework!$L14))=TRUE,0,FIND("/",Rework!$L14))))))) -> 0 | C13: =IF(AND(Rework!$F14="",Rework!$G14=""),0,Rework!$F14+Rework!$G14/12) -> 0 | D13: =IF(AND(Rework!F14="",Rework!G14=""),0,IF(ISERROR(FIND("Slave",Rework!C14)) =FALSE,Rework!F15+Rework!G15/12,0)) -> 0 | E13: =IF(Rework!$E14="",0,Rework!$E14) -> 0 | F13: =IF(Rework!$H14="",0,MIN(LEFT(Rework!$H14,IF(ISERROR(FIND("/",Rework!$H14))=TRUE,LEN(Rework!$H14),FIND("/",Rework!$H14)-3)),IF(ISERROR(FIND("/",Rework!$H14))=TRUE,Rework!$H14,TRIM(LEFT(RIGHT(Rework!$H14, LEN(Rework!$H14)-FIND("/",Rework!$H14)),LEN(RIGHT(Rework!$H14, LEN(Rework!$H14)-FIND("/",Rework!$H14)))-1))))) -> 0 | G13: =IF(Rework!$I14="",0,MAX(LEFT(Rework!$I14,IF(ISERROR(FIND("/",Rework!$I14))=TRUE,LEN(Rework!$I14),FIND("/",Rework!$I14)-3)),IF(ISERROR(FIND("/",Rework!$I14))=TRUE,Rework!$I14,TRIM(LEFT(RIGHT(Rework!$I14, LEN(Rework!$I14)-FIND("/",Rework!$I14)),LEN(RIGHT(Rework!$I14, LEN(Rework!$I14)-FIND("/",Rework!$I14)))-1))))) -> 0 | H13: =IF(Rework!W14>0,IF(Rework!W14>1,2,1),0) -> 0 | I13: =IF(Rework!X14="",IF(Rework!$E14=61.5,2400,1800),Rework!X14) -> 1800 | J13: 30 | K13: =IF(ISERROR(FIND("Belt",Rework!C14))=FALSE,0.3,IF(ISERROR(FIND("Roller",Rework!C14))=FALSE,0.05,0.25)) -> 0.25 | L13: 1 | M13: 0.95 | N13: 0.85 | O13: =IF(ISERROR(FIND("M",Rework!$N14))=TRUE,0.95,1) -> 0.95 | P13: 1 | Q13: =IF(B13=0,0,(I13*J13)/(60*B13)) -> 0 | R13: =IF(E13=0,0,(2*L13*((E13-1)/12))) -> 0 | S13: =IF(B13=0,0,(1.25*B13*K13*C13*(Q13+R13))/(33000*M13*N13*O13)) -> 0 | T13: =IF(AND(G13=0,F13=0),0,(1.25*I13*J13*((G13-F13)/12))/(60*33000*M13*N13*O13)) -> 0 | U13: =IF(E13=0,0,(1.25*B13*0.05*(Q13+(((E13/12)-1)*L13))*C13)/(60*33000*M13*N13*O13)) -> 0 | V13: =IF(H13=0,0,(1.25*B13*K13*(H13*((12*(E13-1))+200)))/(33000*M13*N13*O13)) -> 0 | W13: =IF(D13=0,0,(1.25*B13*K13*D13*(Q13+R13))/(33000*M13*N13*O13*O13)+5*(0.01*(500+1.25*((Q13+R13)*K13*D13)))*B13/(33000*M13*N13*O13*O13)) -> 0 | X13: =IF(B13=0,0,ROUNDUP(((AA13/B13)*33000*N13),0)) -> 0 | Y13: =IF(C13="",0,ROUNDUP((((K13*(C13+D13)*(Q13+R13))+(J13+((G13-F13)/12)))/0.85),0)) -> 36 | Z13: =S13+T13+U13+V13+W13 -> 0 | AA13: =VLOOKUP(Z13,$AD$3:$AF$13,3,TRUE) -> 2 | AB13: =VLOOKUP(X13,$AH$3:$AJ$5,3,TRUE) -> 8 | AD13: 25.001 | AF13: "Split Conveyor" | AL13: ACC-4006 | AM13: Accessor Holder (Tape Gun or Package Paddle)
A14: ='Conveyor List'!#REF! -> #REF! | B14: =IF(AND(Rework!$K15="",Rework!$L15=""),0,MAX(MAX(LEFT(Rework!$K15,IF(ISERROR(FIND("/",Rework!$K15))=TRUE,LEN(Rework!$K15),FIND("/",Rework!$K15)-2)),TRIM(RIGHT(Rework!$K15,LEN(Rework!$K15)-IF(ISERROR(FIND("/",Rework!$K15))=TRUE,0,FIND("/",Rework!$K15))))),MAX(LEFT(Rework!$L15,IF(ISERROR(FIND("/",Rework!$L15))=TRUE,LEN(Rework!$L15),FIND("/",Rework!$L15)-2)),TRIM(RIGHT(Rework!$L15,LEN(Rework!$L15)-IF(ISERROR(FIND("/",Rework!$L15))=TRUE,0,FIND("/",Rework!$L15))))))) -> 0 | C14: =IF(AND(Rework!$F15="",Rework!$G15=""),0,Rework!$F15+Rework!$G15/12) -> 0 | D14: =IF(AND(Rework!F15="",Rework!G15=""),0,IF(ISERROR(FIND("Slave",Rework!C15)) =FALSE,Rework!F16+Rework!G16/12,0)) -> 0 | E14: =IF(Rework!$E15="",0,Rework!$E15) -> 0 | F14: =IF(Rework!$H15="",0,MIN(LEFT(Rework!$H15,IF(ISERROR(FIND("/",Rework!$H15))=TRUE,LEN(Rework!$H15),FIND("/",Rework!$H15)-3)),IF(ISERROR(FIND("/",Rework!$H15))=TRUE,Rework!$H15,TRIM(LEFT(RIGHT(Rework!$H15, LEN(Rework!$H15)-FIND("/",Rework!$H15)),LEN(RIGHT(Rework!$H15, LEN(Rework!$H15)-FIND("/",Rework!$H15)))-1))))) -> 0 | G14: =IF(Rework!$I15="",0,MAX(LEFT(Rework!$I15,IF(ISERROR(FIND("/",Rework!$I15))=TRUE,LEN(Rework!$I15),FIND("/",Rework!$I15)-3)),IF(ISERROR(FIND("/",Rework!$I15))=TRUE,Rework!$I15,TRIM(LEFT(RIGHT(Rework!$I15, LEN(Rework!$I15)-FIND("/",Rework!$I15)),LEN(RIGHT(Rework!$I15, LEN(Rework!$I15)-FIND("/",Rework!$I15)))-1))))) -> 0 | H14: =IF(Rework!W15>0,IF(Rework!W15>1,2,1),0) -> 0 | I14: =IF(Rework!X15="",IF(Rework!$E15=61.5,2400,1800),Rework!X15) -> 1800 | J14: 30 | K14: =IF(ISERROR(FIND("Belt",Rework!C15))=FALSE,0.3,IF(ISERROR(FIND("Roller",Rework!C15))=FALSE,0.05,0.25)) -> 0.25 | L14: 1 | M14: 0.95 | N14: 0.85 | O14: =IF(ISERROR(FIND("M",Rework!$N15))=TRUE,0.95,1) -> 0.95 | P14: 1 | Q14: =IF(B14=0,0,(I14*J14)/(60*B14)) -> 0 | R14: =IF(E14=0,0,(2*L14*((E14-1)/12))) -> 0 | S14: =IF(B14=0,0,(1.25*B14*K14*C14*(Q14+R14))/(33000*M14*N14*O14)) -> 0 | T14: =IF(AND(G14=0,F14=0),0,(1.25*I14*J14*((G14-F14)/12))/(60*33000*M14*N14*O14)) -> 0 | U14: =IF(E14=0,0,(1.25*B14*0.05*(Q14+(((E14/12)-1)*L14))*C14)/(60*33000*M14*N14*O14)) -> 0 | V14: =IF(H14=0,0,(1.25*B14*K14*(H14*((12*(E14-1))+200)))/(33000*M14*N14*O14)) -> 0 | W14: =IF(D14=0,0,(1.25*B14*K14*D14*(Q14+R14))/(33000*M14*N14*O14*O14)+5*(0.01*(500+1.25*((Q14+R14)*K14*D14)))*B14/(33000*M14*N14*O14*O14)) -> 0 | X14: =IF(B14=0,0,ROUNDUP(((AA14/B14)*33000*N14),0)) -> 0 | Y14: =IF(C14="",0,ROUNDUP((((K14*(C14+D14)*(Q14+R14))+(J14+((G14-F14)/12)))/0.85),0)) -> 36 | Z14: =S14+T14+U14+V14+W14 -> 0 | AA14: =VLOOKUP(Z14,$AD$3:$AF$13,3,TRUE) -> 2 | AB14: =VLOOKUP(X14,$AH$3:$AJ$5,3,TRUE) -> 8 | AL14: BMP-2001 | AM14: Straight Truck Bumper
A15: ='Conveyor List'!#REF! -> #REF! | B15: =IF(AND(Rework!$K16="",Rework!$L16=""),0,MAX(MAX(LEFT(Rework!$K16,IF(ISERROR(FIND("/",Rework!$K16))=TRUE,LEN(Rework!$K16),FIND("/",Rework!$K16)-2)),TRIM(RIGHT(Rework!$K16,LEN(Rework!$K16)-IF(ISERROR(FIND("/",Rework!$K16))=TRUE,0,FIND("/",Rework!$K16))))),MAX(LEFT(Rework!$L16,IF(ISERROR(FIND("/",Rework!$L16))=TRUE,LEN(Rework!$L16),FIND("/",Rework!$L16)-2)),TRIM(RIGHT(Rework!$L16,LEN(Rework!$L16)-IF(ISERROR(FIND("/",Rework!$L16))=TRUE,0,FIND("/",Rework!$L16))))))) -> 0 | C15: =IF(AND(Rework!$F16="",Rework!$G16=""),0,Rework!$F16+Rework!$G16/12) -> 0 | D15: =IF(AND(Rework!F16="",Rework!G16=""),0,IF(ISERROR(FIND("Slave",Rework!C16)) =FALSE,Rework!F17+Rework!G17/12,0)) -> 0 | E15: =IF(Rework!$E16="",0,Rework!$E16) -> 0 | F15: =IF(Rework!$H16="",0,MIN(LEFT(Rework!$H16,IF(ISERROR(FIND("/",Rework!$H16))=TRUE,LEN(Rework!$H16),FIND("/",Rework!$H16)-3)),IF(ISERROR(FIND("/",Rework!$H16))=TRUE,Rework!$H16,TRIM(LEFT(RIGHT(Rework!$H16, LEN(Rework!$H16)-FIND("/",Rework!$H16)),LEN(RIGHT(Rework!$H16, LEN(Rework!$H16)-FIND("/",Rework!$H16)))-1))))) -> 0 | G15: =IF(Rework!$I16="",0,MAX(LEFT(Rework!$I16,IF(ISERROR(FIND("/",Rework!$I16))=TRUE,LEN(Rework!$I16),FIND("/",Rework!$I16)-3)),IF(ISERROR(FIND("/",Rework!$I16))=TRUE,Rework!$I16,TRIM(LEFT(RIGHT(Rework!$I16, LEN(Rework!$I16)-FIND("/",Rework!$I16)),LEN(RIGHT(Rework!$I16, LEN(Rework!$I16)-FIND("/",Rework!$I16)))-1))))) -> 0 | H15: =IF(Rework!W16>0,IF(Rework!W16>1,2,1),0) -> 0 | I15: =IF(Rework!X16="",IF(Rework!$E16=61.5,2400,1800),Rework!X16) -> 1800 | J15: 30 | K15: =IF(ISERROR(FIND("Belt",Rework!C16))=FALSE,0.3,IF(ISERROR(FIND("Roller",Rework!C16))=FALSE,0.05,0.25)) -> 0.25 | L15: 1 | M15: 0.95 | N15: 0.85 | O15: =IF(ISERROR(FIND("M",Rework!$N16))=TRUE,0.95,1) -> 0.95 | P15: 1 | Q15: =IF(B15=0,0,(I15*J15)/(60*B15)) -> 0 | R15: =IF(E15=0,0,(2*L15*((E15-1)/12))) -> 0 | S15: =IF(B15=0,0,(1.25*B15*K15*C15*(Q15+R15))/(33000*M15*N15*O15)) -> 0 | T15: =IF(AND(G15=0,F15=0),0,(1.25*I15*J15*((G15-F15)/12))/(60*33000*M15*N15*O15)) -> 0 | U15: =IF(E15=0,0,(1.25*B15*0.05*(Q15+(((E15/12)-1)*L15))*C15)/(60*33000*M15*N15*O15)) -> 0 | V15: =IF(H15=0,0,(1.25*B15*K15*(H15*((12*(E15-1))+200)))/(33000*M15*N15*O15)) -> 0 | W15: =IF(D15=0,0,(1.25*B15*K15*D15*(Q15+R15))/(33000*M15*N15*O15*O15)+5*(0.01*(500+1.25*((Q15+R15)*K15*D15)))*B15/(33000*M15*N15*O15*O15)) -> 0 | X15: =IF(B15=0,0,ROUNDUP(((AA15/B15)*33000*N15),0)) -> 0 | Y15: =IF(C15="",0,ROUNDUP((((K15*(C15+D15)*(Q15+R15))+(J15+((G15-F15)/12)))/0.85),0)) -> 36 | Z15: =S15+T15+U15+V15+W15 -> 0 | AA15: =VLOOKUP(Z15,$AD$3:$AF$13,3,TRUE) -> 2 | AB15: =VLOOKUP(X15,$AH$3:$AJ$5,3,TRUE) -> 8 | AL15: CON-1002 | AM15: Turning Drum
