Workbook
Name a: HPCALCS2!$B$3:$B$3
Name a: Rework!$B$4:$Y$1081
Name a: 'Conveyor List'!$C$6:$X$1692
Name type: #REF!

Sheet Rev Log
A1: Revision | B1: Date | C1: Description | D1: Notes
A2: 0 | B2: 45618 | C2: Preliminary Release to validate building power requirements | D2: Most areas of the project have not been finalized or approved by Amazon. All information in this list is subject to change.
A3: 1 | B3: 45628 | C3: Add Fluid Load conveyors to manifest | D3: Adding (20) Fluid Load conveyors that were missed in the rev0 release. All information in this list is subject to change.
A4: 2 | B4: 45652 | C4: Finalize Phase 1 conveyors | D4: All Phase 1 conveyors (non-con, fluid load) are final. Updates have been made to other areas, but these are not final yet.
A5: 3 | B5: 45667 | C5: Phase 2 is 90% Confident | D5: Correction to Phase 1 Equipment: No Brakes on NCP-025, NCP-035, NCP-040, NCS1-035, NCS1-040, NCS2-035. All Phase 2 conveyors (Bypass, Fluid Inbound, Auto Induct) are close to being final. DCS is still working with our vendors to finalize the horsepower calculations, but what is shown in this list will be close to the final values.
A6: 4 | B6: 45672 | C6: Update HP based on final values from Flow Turn | D6: see column H
A7: 5 | B7: 45681 | C7: Updated HP based on vendor calculations and Phase 3 is 90% confident | D7: All Phase 3 conveyors are close to being final. DCS is still working with out vendors to finalize horsepower calculations, but what is shown in this list will be close to the final values. - Bulk Inbound North - Bulk Inbound South - Problem Solve North - Problem Solve South - Non-Con Problem Solve See column I for HP specific changes for Phase 2 conveyors
A8: 6 | B8: 45705 | C8: Finalize all Horsepowers. Add Alias Column. | D8: Phase 3 Conveyors (Bulk, Problem Solve) have been reviewed with the manufacturer and updated accordingly. Phase 2 Conveyors (Inbound, Bypass, AutoInduct) have been corrected based on continued detail engineering. See column J for a list of what changed since Rev 5. A column has been added for alias numbers (provided by Amazon)
A9: 7 | B9: 45729 | C9: Updates based on recent changes | D9: see column M | H9: Rev4 - Units that had a Horsepower change | I9: Rev5 - Units that had a Horsepower change | J9: Rev6 - Units that had a Horsepower change | M9: Rev7 - Units that changed | P9: Rev8 - Units that changed
A10: 8 | B10: 45747 | C10: Hytrol Horsepower Changes | D10: See Column P for conveyors which changed horsepower. Updated Alias numbers - provided by Matt Runion on 3/20/25 | H10: UL1-090 | I10: BYA-165 | J10: Unit Number | K10: Previous HP | L10: Current HP | M10: Unit Number | N10: What Changed | O10: Reason | P10: Unit Number | Q10: What Changed | R10: Reason
H11: UL2-025 | I11: BYA-175 | J11: BS1-010 | K11: 20 | L11: 15 | M11: UL13-013 | N11: Added Unit | O11: Has been in models but was missing from manifest | P11: NCP-090A | Q11: HP was 3, now 2 | R11: Mismatch with Hytrol
H12: UL3-015 | I12: BYA-225 | J12: BS1-011 (added) | L12: 15 | M12: UL9-030 | N12: HP was 2, now 3 | O12: Incorrect HP Calc | P12: NCP-090B | Q12: HP was 3, now 2 | R12: Mismatch with Hytrol
H13: UL4-090 | I13: BYA-115 | J13: BS2-015 | K13: 7.5 | L13: 10 | M13: BYD-150 | N13: HP was 3, now 5 | O13: Incorrect HP Calc | P13: BYD-120 | Q13: HP was 7.5, now 10 | R13: Mismatch with Hytrol
H14: UL5-025 | I14: BYB-125 | J14: BS2-020 | K14: 15 | L14: 10 | M14: BYD-160 | N14: HP was 3, now 5 | O14: Incorrect HP Calc | P14: BYD-140 | Q14: HP was 3, now 5 | R14: Mismatch with Hytrol
H15: UL6-015 | I15: BYB-160 | J15: BS2-055 | K15: 10 | L15: 15 | M15: UL18-055 | N15: Make LH Drive | O15: Typo | P15: BYD-350 | Q15: HP was 7.5, now 10 | R15: Mismatch with Hytrol
H16: UL7-090 | I16: BYB-215 | J16: BYD-150 | K16: 5 | L16: 3 | M16: UL5-015 | N16: Make LH Drive | O16: Amazon Requested
H17: UL8-020 | I17: BYB-315 | J17: BYD-160 | K17: 5 | L17: 3 | M17: UL7-015 | N17: Make RH Drive | O17: Amazon Requested
H18: UL9-025 | I18: BYD-120 | J18: PRS1-105 | K18: 10 | L18: 7.5 | M18: UL7-020 | N18: Make RH Drive | O18: Amazon Requested
H19: UL11-095 | I19: BYD-130 | J19: PRS1-110 | K19: 10 | L19: 5 | M19: UL10-005 | N19: Make RH Drive and move downstream | O19: Amazon Requested
H20: UL12-025 | I20: BYD-135 | J20: PRS1-210 | K20: 3 | L20: 2 | M20: UL10-010 | N20: Make RH Drive | O20: Amazon Requested
H21: UL1-100 | I21: BYD-175 | J21: PRS1-215 | K21: 7.5 | L21: 3 | M21: UL7-090 | N21: Make LH Drive | O21: Amazon Requested
H22: UL2-050 | I22: BYD-215 | J22: PRS1-225 | K22: 3 | L22: 2 | M22: UL11-095 | N22: Make LH Drive | O22: Amazon Requested
H23: UL3-045 | I23: BYD-230 | J23: PRS1-230 | K23: 7.5 | L23: 2 | M23: UL13-080 | N23: Make LH Drive | O23: Amazon Requested
H24: UL4-100 | I24: BYD-315 | J24: PRS1-240 | K24: 3 | L24: 2 | M24: UL18-105 | N24: Make LH Drive | O24: Amazon Requested
H25: UL5-050 | I25: BYD-350 | J25: PRS2-105 | K25: 10 | L25: 7.5 | M25: UL21-110 | N25: Make LH Drive | O25: Amazon Requested
H26: UL6-045 | I26: UL1-015 | J26: PRS2-210 | K26: 5 | L26: 3 | M26: UL3-005 | N26: Make LH Drive | O26: Amazon Requested
H27: UL7-100 | I27: UL2-015 | J27: PRS2-220 | K27: 5 | L27: 3 | M27: UL8-010 | N27: Shift drive downstream | O27: Amazon Requested
... H31: UL11-105 | I31: UL6-010 | J31: PS3-015 | K31: 2 | L31: 3 | M31: UL10-025 | N31: Add encoder | O31: Autstand Requested
H32: UL12-050 | J32: PS3-045 | K32: 3 | L32: 5 | M32: UL10-030 | N32: Add encoder | O32: Autstand Requested
H33: UL13-080 | J33: PS4-040 | K33: 3 | L33: 5 | M33: UL10-035 | N33: Add encoder | O33: Autstand Requested
H34: UL14-030 | J34: PS4-060 | K34: 2 | L34: 3 | M34: UL10-040 | N34: Add encoder | O34: Autstand Requested
H35: UL15-025 | J35: UL11-015 | K35: 3 | L35: 5 | M35: UL10-045 | N35: Add encoder | O35: Autstand Requested
H36: UL16-020 | J36: UL11-020 | K36: 7.5 | L36: 5 | M36: UL1-025 | N36: Add encoder | O36: Autstand Requested
H37: UL17-030 | J37: UL12-015 | K37: 3 | L37: 5 | M37: UL1-030 | N37: Add encoder | O37: Autstand Requested
H38: UL18-030 | J38: UL12-020 | K38: 7.5 | L38: 5 | M38: UL1-035 | N38: Add encoder | O38: Autstand Requested
H39: UL18-055 | J39: UL13-005 | K39: 1 | L39: 2 | M39: UL1-040 | N39: Add encoder | O39: Autstand Requested
H40: UL18-105 | J40: UL13-010 | K40: 3 | L40: 7.5 | M40: UL1-075 | N40: Add encoder | O40: Autstand Requested
H41: UL19-015 | J41: UL13-035 | K41: 2 | L41: 5 | M41: UL1-080 | N41: Add encoder | O41: Autstand Requested
H42: UL20-025 | J42: UL14-015 | K42: 3 | L42: 5 | M42: UL1-085 | N42: Add encoder | O42: Autstand Requested
H43: UL21-025 | J43: UL14-020 | K43: 3 | L43: 5 | M43: UL1-090 | N43: Add encoder | O43: Autstand Requested
... H63: BYC-115 | J63: UL9-015 | K63: 3 | L63: 5 | M63: UL13-065 | N63: Add encoder | O63: Autstand Requested
H64: BYC-230 | M64: UL13-070 | N64: Add encoder | O64: Autstand Requested
H65: BYC-320 | M65: UL13-075 | N65: Add encoder | O65: Autstand Requested
H66: BYC-340 | M66: UL13-080 | N66: Add encoder | O66: Autstand Requested
H67: BYD-150 | M67: UL13-085 | N67: Add encoder | O67: Autstand Requested
H68: BYD-160 | M68: UL14-025 | N68: Add encoder | O68: Autstand Requested
H69: BYD-225 | M69: UL14-030 | N69: Add encoder | O69: Autstand Requested
H70: BYD-325 | M70: UL14-035 | N70: Add encoder | O70: Autstand Requested
H71: BYD-360 | M71: UL14-040 | N71: Add encoder | O71: Autstand Requested
H72: PS1-015 | M72: UL14-045 | N72: Add encoder | O72: Autstand Requested
H73: PS5-055 | M73: UL15-025 | N73: Add encoder | O73: Autstand Requested
H74: PS6-005 | M74: UL15-035 | N74: Add encoder | O74: Autstand Requested
H75: PS6-015 | M75: UL15-040 | N75: Add encoder | O75: Autstand Requested
... H78: PS7-015 | M78: UL16-015 | N78: Add encoder | O78: Autstand Requested
M79: UL16-020 | N79: Add encoder | O79: Autstand Requested
M80: UL16-025 | N80: Add encoder | O80: Autstand Requested
M81: UL16-030 | N81: Add encoder | O81: Autstand Requested
M82: UL16-035 | N82: Add encoder | O82: Autstand Requested
M83: UL17-025 | N83: Add encoder | O83: Autstand Requested
M84: UL17-030 | N84: Add encoder | O84: Autstand Requested
M85: UL17-035 | N85: Add encoder | O85: Autstand Requested
M86: UL17-040 | N86: Add encoder | O86: Autstand Requested
M87: UL17-045 | N87: Add encoder | O87: Autstand Requested
M88: UL18-025 | N88: Add encoder | O88: Autstand Requested
M89: UL18-030 | N89: Add encoder | O89: Autstand Requested
M90: UL18-035 | N90: Add encoder | O90: Autstand Requested
... M167: UL9-050 | N167: Add encoder | O167: Autstand Requested

Sheet Sheet1
A1: HP Rating | B1: Need | C1: Order | D1: Surplus
A2: 2 | B2: =COUNTIF('Conveyor List'!L:L,2) -> 143 | C2: 146 | D2: =C2-B2 -> 3
A3: 3 | B3: =COUNTIF('Conveyor List'!L:L,3) -> 210 | C3: 216 | D3: =C3-B3 -> 6
A4: 5 | B4: =COUNTIF('Conveyor List'!L:L,5) -> 128 | C4: 128 | D4: =C4-B4 -> 0
A5: 7.5 | B5: =COUNTIF('Conveyor List'!L:L,7.5) -> 48 | C5: 53 | D5: =C5-B5 -> 5
A6: 10 | B6: =COUNTIF('Conveyor List'!L:L,10) -> 48 | C6: 49 | D6: =C6-B6 -> 1
A7: 15 | B7: =COUNTIF('Conveyor List'!L:L,15) -> 9 | C7: 11 | D7: =C7-B7 -> 2
A8: 20 | B8: =COUNTIF('Conveyor List'!L:L,20) -> 1 | C8: 3 | D8: =C8-B8 -> 2
A9: 30 | B9: 2 | C9: 2 | D9: =C9-B9 -> 0

Sheet Conveyor List
A2: Control Panel | B2: Drawing Area | C2: Unit Number | D2: FO Numbers (Hytrol Supplied Conveyors) | E2: Alias | F2: Equipment Type | G2: Type of Conveyor | H2: Speed | I2: Drive Hand | J2: PSU | K2: Live Load | L2: Motor HP | M2: VFD | N2: Brake | O2: Encoder | P2: Belting Type | Q2: Roll Center | R2: Side Guard 1 | S2: Side Guard 2 | T2: Netting | U2: Btm Guard | V2: Diverts | W2: Diverts 2 | X2: Remarks | Y2: Overall Length
A3: BULK INBOUND NORTH | B3: M008 | C3: BS1_005 | E3: PS10_1 | F3: Powered_Belted | G3: Level Belt | H3: 150 | I3: RH | J3: 460/3/60 | K3: 25 | L3: 5 | M3: Y | N3: N | P3: RPH3200BXB_FR | Q3: NA | R3: 24 | S3: 12 | T3: N | U3: Y | V3: NA | W3: NA | X3: 36" SG, Bi_directional
A4: BULK INBOUND NORTH | B4: M003 | C4: BS1_010 | E4: PS10_2 | F4: Powered_Belted | G4: Incline Belt | H4: 200 | I4: LH | J4: 460/3/60 | K4: 25 | L4: 15 | M4: Y | N4: N | P4: APH150MFOXLN | Q4: NA | R4: 24 | T4: N | U4: Y | V4: NA | W4: NA | X4: 36" SG
A5: BULK INBOUND NORTH | B5: M003 | C5: BS1_011 | E5: PS10_3 | F5: Powered_Belted | G5: Incline Belt | H5: 240 | I5: RH | J5: 460/3/60 | K5: 25 | L5: 15 | M5: Y | N5: N | P5: APH150MFOXLN | Q5: NA | R5: 24 | S5: 12
A6: BULK INBOUND NORTH | B6: M003 | C6: BS1_015_CH | E6: PS10_4CH | F6: 90° Spiral Chute | G6: Chute | H6: NA | I6: NA | J6: NA | K6: 25 | L6: NA | M6: NA | N6: NA | P6: NA | Q6: NA | R6: 24 | S6: 24 | T6: NA | U6: NA | V6: NA | W6: NA
A7: BULK INBOUND NORTH | B7: M004 | C7: BS1_020 | E7: PS10_5 | F7: Powered_Belted | G7: Level Belt | H7: 240 | I7: LH | J7: 460/3/60 | K7: 25 | L7: 15 | M7: Y | N7: N | P7: RPH3200BXB_FR | Q7: NA | R7: 24 | S7: 12 | T7: N | U7: Y | V7: Y | W7: QTY 4
A8: BULK INBOUND NORTH | B8: M004 | C8: BS1_020_CH1 | E8: PS10_5CH1 | F8: Induct Chute | G8: Chute | H8: NA | I8: NA | J8: NA | K8: 25 | L8: NA | M8: NA | N8: NA | P8: NA | Q8: NA | R8: 24 | S8: 24 | T8: NA | U8: NA | V8: NA | W8: NA
A9: BULK INBOUND NORTH | B9: M004 | C9: BS1_020_CH2 | E9: PS10_5CH2 | F9: Induct Chute | G9: Chute | H9: NA | I9: NA | J9: NA | K9: 25 | L9: NA | M9: NA | N9: NA | P9: NA | Q9: NA | R9: 24 | S9: 24 | T9: NA | U9: NA | V9: NA | W9: NA
A10: BULK INBOUND NORTH | B10: M004 | C10: BS1_020_CH3 | E10: PS10_5CH3 | F10: Induct Chute | G10: Chute | H10: NA | I10: NA | J10: NA | K10: 25 | L10: NA | M10: NA | N10: NA | P10: NA | Q10: NA | R10: 24 | S10: 24 | T10: NA | U10: NA | V10: NA | W10: NA
A11: BULK INBOUND NORTH | B11: M004 | C11: BS1_020_CH4 | E11: PS10_5CH5 | F11: Induct Chute | G11: Chute | H11: NA | I11: NA | J11: NA | K11: 25 | L11: NA | M11: NA | N11: NA | P11: NA | Q11: NA | R11: 24 | S11: 24 | T11: NA | U11: NA | V11: NA | W11: NA
A12: BULK INBOUND NORTH | B12: M004 | C12: BS1_020_DIV1 | E12: PS10_5DIV1 | F12: Sorter | G12: Divert Arm | H12: NA | I12: NA | J12: NA | K12: NA | L12: NA | M12: NA | N12: NA | P12: NA | Q12: NA | R12: NA | S12: NA | T12: NA | U12: NA | V12: NA | W12: NA
A13: BULK INBOUND NORTH | B13: M004 | C13: BS1_020_DIV2 | E13: PS10_5DIV2 | F13: Sorter | G13: Divert Arm | H13: NA | I13: NA | J13: NA | K13: NA | L13: NA | M13: NA | N13: NA | P13: NA | Q13: NA | R13: NA | S13: NA | T13: NA | U13: NA | V13: NA | W13: NA
A14: BULK INBOUND NORTH | B14: M004 | C14: BS1_020_DIV3 | E14: PS10_5DIV3 | F14: Sorter | G14: Divert Arm | H14: NA | I14: NA | J14: NA | K14: NA | L14: NA | M14: NA | N14: NA | P14: NA | Q14: NA | R14: NA | S14: NA | T14: NA | U14: NA | V14: NA | W14: NA
A15: BULK INBOUND NORTH | B15: M004 | C15: BS1_020_DIV4 | E15: PS10_5DIV5 | F15: Sorter | G15: Divert Arm | H15: NA | I15: NA | J15: NA | K15: NA | L15: NA | M15: NA | N15: NA | P15: NA | Q15: NA | R15: NA | S15: NA | T15: NA | U15: NA | V15: NA | W15: NA
A16: BULK INBOUND NORTH | B16: M004 | C16: BS1_025_CH | E16: PS10_6CH | F16: 90° Straight Chute | G16: Chute | H16: NA | I16: NA | J16: NA | K16: 25 | L16: NA | M16: NA | N16: NA | P16: NA | Q16: NA | R16: 24 | S16: 24 | T16: NA | U16: NA | V16: NA | W16: NA
A17: BULK INBOUND NORTH | B17: M008 | C17: BS2_005 | E17: PS11_1 | F17: Powered_Belted | G17: Level Belt | H17: 150 | I17: RH | J17: 460/3/60 | K17: 25 | L17: 5 | M17: Y | N17: N | P17: RPH3200BXB_FR | Q17: NA | R17: 24 | S17: 12 | T17: N | U17: Y | V17: NA | W17: NA | X17: 36" SG
A18: BULK INBOUND NORTH | B18: M008 | C18: BS2_010 | E18: PS11_2 | F18: Powered_Belted | G18: Incline Belt | H18: 200 | I18: RH | J18: 460/3/60 | K18: 25 | L18: 5 | M18: Y | N18: N | P18: APH150MFOXLN | Q18: NA | R18: 24 | S18: 12 | T18: Y | U18: Y | V18: NA | W18: NA | X18: 36" SG
A19: BULK INBOUND NORTH | B19: M013 | C19: BS2_015 | E19: PS11_3 | F19: Powered_Belted | G19: Level Belt | H19: 240 | I19: RH | J19: 460/3/60 | K19: 25 | L19: 10 | M19: Y | N19: N | P19: RPH3200BXB_FR | Q19: NA | R19: 24 | S19: 12 | T19: Y | U19: Y | V19: NA | W19: NA
A20: BULK INBOUND NORTH | B20: M014 | C20: BS2_020 | E20: PS11_4 | F20: Powered_Belted | G20: Incline Belt | H20: 240 | I20: LH | J20: 460/3/60 | K20: 25 | L20: 10 | M20: Y | N20: N | P20: APH150MFOXLN | Q20: NA | R20: 24 | S20: _ | T20: N | U20: Y | V20: NA | W20: NA
A21: BULK INBOUND NORTH | B21: M014 | C21: BS2_025_CH | E21: PS11_5CH | F21: 90° Spiral Chute | G21: Chute | H21: NA | I21: NA | J21: NA | K21: 25 | L21: NA | M21: NA | N21: NA | P21: NA | Q21: NA | R21: 24 | S21: 24 | T21: NA | U21: NA | V21: NA | W21: NA
A22: BULK INBOUND NORTH | B22: M014 | C22: BS2_030 | E22: PS11_6 | F22: Powered_Belted | G22: Incline Belt | H22: 240 | I22: RH | J22: 460/3/60 | K22: 25 | L22: 10 | M22: Y | N22: N | P22: APH150MFOXLN | Q22: NA | R22: 24 | S22: _ | T22: N | U22: Y | V22: NA | W22: NA | X22: 36" SG
A23: BULK INBOUND NORTH | B23: M014 | C23: BS2_035 | E23: PS11_7 | F23: Powered_Belted | G23: Incline Belt | H23: 240 | I23: RH | J23: 460/3/60 | K23: 25 | L23: 20 | M23: Y | N23: N | P23: APH150MFOXLN | Q23: NA | R23: 24 | S23: _ | T23: N | U23: Y | V23: NA | W23: NA | X23: 36" SG
A24: BULK INBOUND NORTH | B24: M019 | C24: BS2_040 | E24: PS11_8 | F24: Powered_Belted | G24: Incline Belt | H24: 240 | I24: RH | J24: 460/3/60 | K24: 25 | L24: 15 | M24: Y | N24: N | P24: APH150MFOXLN | Q24: NA | R24: 24 | S24: _ | T24: N | U24: Y | V24: NA | W24: NA | X24: 36" SG
A25: BULK INBOUND NORTH | B25: M019 | C25: BS2_045 | E25: PS11_9 | F25: Powered_Belted | G25: Incline Belt | H25: 240 | I25: RH | J25: 460/3/60 | K25: 25 | L25: 15 | M25: Y | N25: N | P25: APH150MFOXLN | Q25: NA | R25: 24 | S25: 12 | T25: N | U25: Y | V25: NA | W25: NA | X25: 36" SG
A26: BULK INBOUND NORTH | B26: M024 | C26: BS2_050_CH | E26: PS11_10CH | F26: 90° Spiral Chute | G26: Chute | H26: NA | I26: NA | J26: NA | K26: 25 | L26: NA | M26: NA | N26: NA | P26: NA | Q26: NA | R26: 24 | S26: 24 | T26: NA | U26: NA | V26: NA | W26: NA
A27: BULK INBOUND NORTH | B27: M024 | C27: BS2_055 | E27: PS11_11 | F27: Powered_Belted | G27: Level Belt | H27: 240 | I27: LH | J27: 460/3/60 | K27: 25 | L27: 15 | M27: Y | N27: N | P27: RPH3200BXB_FR | Q27: NA | R27: 24 | S27: 12 | T27: N | U27: Y | V27: Y | W27: QTY 6
A28: BULK INBOUND NORTH | B28: M024 | C28: BS2_055_CH1 | E28: PS11_11CH1 | F28: Induct Chute | G28: Chute | H28: NA | I28: NA | J28: NA | K28: 25 | L28: NA | M28: NA | N28: NA | P28: NA | Q28: NA | R28: 24 | S28: 24 | T28: NA | U28: NA | V28: NA | W28: NA
A29: BULK INBOUND NORTH | B29: M024 | C29: BS2_055_CH2 | E29: PS11_11CH2 | F29: Induct Chute | G29: Chute | H29: NA | I29: NA | J29: NA | K29: 25 | L29: NA | M29: NA | N29: NA | P29: NA | Q29: NA | R29: 24 | S29: 24 | T29: NA | U29: NA | V29: NA | W29: NA
A30: BULK INBOUND NORTH | B30: M024 | C30: BS2_055_CH3 | E30: PS11_11CH3 | F30: Induct Chute | G30: Chute | H30: NA | I30: NA | J30: NA | K30: 25 | L30: NA | M30: NA | N30: NA | P30: NA | Q30: NA | R30: 24 | S30: 24 | T30: NA | U30: NA | V30: NA | W30: NA
A31: BULK INBOUND NORTH | B31: M024 | C31: BS2_055_CH4 | E31: PS11_11CH4 | F31: Induct Chute | G31: Chute | H31: NA | I31: NA | J31: NA | K31: 25 | L31: NA | M31: NA | N31: NA | P31: NA | Q31: NA | R31: 24 | S31: 24 | T31: NA | U31: NA | V31: NA | W31: NA
A32: BULK INBOUND NORTH | B32: M024 | C32: BS2_055_CH5 | E32: PS11_11CH5 | F32: Induct Chute | G32: Chute | H32: NA | I32: NA | J32: NA | K32: 25 | L32: NA | M32: NA | N32: NA | P32: NA | Q32: NA | R32: 24 | S32: 24 | T32: NA | U32: NA | V32: NA | W32: NA
A33: BULK INBOUND NORTH | B33: M024 | C33: BS2_055_CH6 | E33: PS11_11CH6 | F33: Induct Chute | G33: Chute | H33: NA | I33: NA | J33: NA | K33: 25 | L33: NA | M33: NA | N33: NA | P33: NA | Q33: NA | R33: 24 | S33: 24 | T33: NA | U33: NA | V33: NA | W33: NA
A34: BULK INBOUND NORTH | B34: M024 | C34: BS2_055_DIV1 | E34: PS11_11DIV1 | F34: Sorter | G34: Divert Arm | H34: NA | I34: NA | J34: NA | K34: NA | L34: NA | M34: NA | N34: NA | P34: NA | Q34: NA | R34: NA | S34: NA | T34: NA | U34: NA | V34: NA | W34: NA
A35: BULK INBOUND NORTH | B35: M024 | C35: BS2_055_DIV2 | E35: PS11_11DIV2 | F35: Sorter | G35: Divert Arm | H35: NA | I35: NA | J35: NA | K35: NA | L35: NA | M35: NA | N35: NA | P35: NA | Q35: NA | R35: NA | S35: NA | T35: NA | U35: NA | V35: NA | W35: NA
A36: BULK INBOUND NORTH | B36: M024 | C36: BS2_055_DIV3 | E36: PS11_11DIV3 | F36: Sorter | G36: Divert Arm | H36: NA | I36: NA | J36: NA | K36: NA | L36: NA | M36: NA | N36: NA | P36: NA | Q36: NA | R36: NA | S36: NA | T36: NA | U36: NA | V36: NA | W36: NA
A37: BULK INBOUND NORTH | B37: M024 | C37: BS2_055_DIV4 | E37: PS11_11DIV4 | F37: Sorter | G37: Divert Arm | H37: NA | I37: NA | J37: NA | K37: NA | L37: NA | M37: NA | N37: NA | P37: NA | Q37: NA | R37: NA | S37: NA | T37: NA | U37: NA | V37: NA | W37: NA
A38: BULK INBOUND NORTH | B38: M024 | C38: BS2_055_DIV5 | E38: PS11_11DIV5 | F38: Sorter | G38: Divert Arm | H38: NA | I38: NA | J38: NA | K38: NA | L38: NA | M38: NA | N38: NA | P38: NA | Q38: NA | R38: NA | S38: NA | T38: NA | U38: NA | V38: NA | W38: NA
A39: BULK INBOUND NORTH | B39: M024 | C39: BS2_055_DIV6 | E39: PS11_11DIV6 | F39: Sorter | G39: Divert Arm | H39: NA | I39: NA | J39: NA | K39: NA | L39: NA | M39: NA | N39: NA | P39: NA | Q39: NA | R39: NA | S39: NA | T39: NA | U39: NA | V39: NA | W39: NA
A40: BULK INBOUND NORTH | B40: M023 | C40: BS2_060_CH | E40: PS1_12CH | F40: 90° Straight Chute | G40: Chute | H40: NA | I40: NA | J40: NA | K40: 25 | L40: NA | M40: NA | N40: NA | P40: NA | Q40: NA | R40: 24 | S40: 24 | T40: NA | U40: NA | V40: NA | W40: NA
A41: BULK INBOUND SOUTH | B41: M007 | C41: BS3_005 | E41: PS8_1 | F41: Powered_Belted | G41: Level Belt | H41: 150 | I41: LH | J41: 460/3/60 | K41: 25 | L41: 7.5 | M41: Y | N41: N | P41: RPH3200BXB_FR | Q41: NA | R41: 24 | S41: 12 | T41: N | U41: Y | V41: NA | W41: NA
A42: BULK INBOUND SOUTH | B42: M007 | C42: BS3_010 | E42: PS8_2 | F42: Powered_Belted | G42: Incline Belt | H42: 200 | I42: LH | J42: 460/3/60 | K42: 25 | L42: 10 | M42: Y | N42: N | P42: RPH3200BXB_FR | Q42: NA | R42: 24 | S42: 12 | T42: Y | U42: Y | V42: NA | W42: NA
A43: BULK INBOUND SOUTH | B43: M007 | C43: BS3_015_CH | E43: PS8_3CH | F43: 90° Spiral Chute | G43: Chute | H43: NA | I43: NA | J43: NA | K43: 25 | L43: NA | M43: NA | N43: NA | P43: NA | Q43: NA | R43: 24 | S43: 24 | T43: NA | U43: NA | V43: NA | W43: NA
A44: BULK INBOUND SOUTH | B44: M007 | C44: BS3_020 | E44: PS8_4 | F44: Powered_Belted | G44: Incline Belt | H44: 240 | I44: LH | J44: 460/3/60 | K44: 25 | L44: 15 | M44: Y | N44: N | P44: APH150MFOXLN | Q44: NA | R44: 24 | S44: _ | T44: N | U44: Y | V44: NA | W44: NA | X44: 36" SG
A45: BULK INBOUND SOUTH | B45: M007 | C45: BS3_025 | E45: PS8_5 | F45: Powered_Belted | G45: Incline Belt | H45: 240 | I45: LH | J45: 460/3/60 | K45: 25 | L45: 15 | M45: Y | N45: N | P45: APH150MFOXLN | Q45: NA | R45: 24 | S45: 12 | T45: N | U45: Y | V45: NA | W45: NA | X45: 36" SG
A46: BULK INBOUND SOUTH | B46: M012 | C46: BS3_030 | E46: PS8_6 | F46: Sorter | G46: Intralox Flowsplitter | H46: 240 | I46: LH | J46: 460/3/60 | K46: 25 | L46: 5 | M46: NA | N46: NA | P46: NA | Q46: NA | R46: NA | S46: NA | T46: NA | U46: NA | V46: NA | W46: NA
A47: BULK INBOUND SOUTH | B47: M012 | C47: BS3_040 | E47: PS8_8 | F47: Powered_Belted | G47: Incline Belt | H47: 240 | I47: RH | J47: 460/3/60 | K47: 25 | L47: 7.5 | M47: Y | N47: N | P47: APH150MFOXLN | Q47: NA | R47: 24 | S47: _ | T47: N | U47: Y | V47: NA | W47: NA
A48: BULK INBOUND SOUTH | B48: M012 | C48: BS3_045 | E48: PS8_9 | F48: Powered_Belted | G48: Incline Belt | H48: 240 | I48: LH | J48: 460/3/60 | K48: 25 | L48: 15 | M48: Y | N48: N | P48: APH150MFOXLN | Q48: NA | R48: 24 | S48: _ | T48: N | U48: Y | V48: NA | W48: NA
A49: BULK INBOUND SOUTH | B49: M012 | C49: BS3_050_CH | E49: PS8_10CH | F49: 90° Spiral Chute | G49: Chute | H49: NA | I49: NA | J49: NA | K49: 25 | L49: NA | M49: NA | N49: NA | P49: NA | Q49: NA | R49: 24 | S49: 24 | T49: NA | U49: NA | V49: NA | W49: NA
A50: BULK INBOUND SOUTH | B50: M012 | C50: BS3_055 | E50: PS8_11 | F50: Powered_Belted | G50: Level Belt | H50: 240 | I50: RH | J50: 460/3/60 | K50: 25 | L50: 10 | M50: Y | N50: N | P50: RPH3200BXB_FR | Q50: NA | R50: 24 | S50: 12 | T50: N | U50: Y | V50: Y | W50: QTY 4
A51: BULK INBOUND SOUTH | B51: M012 | C51: BS3_055_CH1 | E51: PS8_11CH1 | F51: Induct Chute | G51: Chute | H51: NA | I51: NA | J51: NA | K51: 25 | L51: NA | M51: NA | N51: NA | P51: NA | Q51: NA | R51: 24 | S51: 24 | T51: NA | U51: NA | V51: NA | W51: NA
A52: BULK INBOUND SOUTH | B52: M012 | C52: BS3_055_CH2 | E52: PS8_11CH2 | F52: Induct Chute | G52: Chute | H52: NA | I52: NA | J52: NA | K52: 25 | L52: NA | M52: NA | N52: NA | P52: NA | Q52: NA | R52: 24 | S52: 24 | T52: NA | U52: NA | V52: NA | W52: NA
A53: BULK INBOUND SOUTH | B53: M012 | C53: BS3_055_CH3 | E53: PS8_11CH3 | F53: Induct Chute | G53: Chute | H53: NA | I53: NA | J53: NA | K53: 25 | L53: NA | M53: NA | N53: NA | P53: NA | Q53: NA | R53: 24 | S53: 24 | T53: NA | U53: NA | V53: NA | W53: NA
A54: BULK INBOUND SOUTH | B54: M012 | C54: BS3_055_CH4 | E54: PS8_11CH4 | F54: Induct Chute | G54: Chute | H54: NA | I54: NA | J54: NA | K54: 25 | L54: NA | M54: NA | N54: NA | P54: NA | Q54: NA | R54: 24 | S54: 24 | T54: NA | U54: NA | V54: NA | W54: NA
A55: BULK INBOUND SOUTH | B55: M012 | C55: BS3_055_DIV1 | E55: PS8_11DIV1 | F55: Sorter | G55: Divert Arm | H55: NA | I55: NA | J55: NA | K55: NA | L55: NA | M55: NA | N55: NA | P55: NA | Q55: NA | R55: NA | S55: NA | T55: NA | U55: NA | V55: NA | W55: NA
A56: BULK INBOUND SOUTH | B56: M012 | C56: BS3_055_DIV2 | E56: PS8_11DIV2 | F56: Sorter | G56: Divert Arm | H56: NA | I56: NA | J56: NA | K56: NA | L56: NA | M56: NA | N56: NA | P56: NA | Q56: NA | R56: NA | S56: NA | T56: NA | U56: NA | V56: NA | W56: NA
A57: BULK INBOUND SOUTH | B57: M012 | C57: BS3_055_DIV3 | E57: PS8_11DIV3 | F57: Sorter | G57: Divert Arm | H57: NA | I57: NA | J57: NA | K57: NA | L57: NA | M57: NA | N57: NA | P57: NA | Q57: NA | R57: NA | S57: NA | T57: NA | U57: NA | V57: NA | W57: NA
A58: BULK INBOUND SOUTH | B58: M012 | C58: BS3_055_DIV4 | E58: PS8_11DIV4 | F58: Sorter | G58: Divert Arm | H58: NA | I58: NA | J58: NA | K58: NA | L58: NA | M58: NA | N58: NA | P58: NA | Q58: NA | R58: NA | S58: NA | T58: NA | U58: NA | V58: NA | W58: NA
A59: BULK INBOUND SOUTH | B59: M012 | C59: BS3_060_CH | E59: PS8_12CH | F59: 90° Straight Chute | G59: Chute | H59: NA | I59: NA | J59: NA | K59: 25 | L59: NA | M59: NA | N59: NA | P59: NA | Q59: NA | R59: 24 | S59: 24 | T59: NA | U59: NA | V59: NA | W59: NA
A60: BULK INBOUND SOUTH | B60: M012 | C60: BS4_005_CH | E60: PS9_1CH | F60: Straight Chute | G60: Chute | H60: NA | I60: NA | J60: NA | K60: 25 | L60: NA | M60: NA | N60: NA | P60: NA | Q60: NA | R60: 24 | S60: 24 | T60: NA | U60: NA | V60: NA | W60: NA
A61: BULK INBOUND SOUTH | B61: M012 | C61: BS4_010 | E61: PS9_2 | F61: Powered_Belted | G61: Decline Belt | H61: 240 | I61: RH | J61: 460/3/60 | K61: 25 | L61: 7.5 | M61: Y | N61: N | P61: APH150MFOXLN | Q61: NA | R61: 24 | S61: _ | T61: N | U61: Y | V61: NA | W61: NA
A62: BULK INBOUND SOUTH | B62: M012 | C62: BS4_015 | E62: PS9_3 | F62: Powered_Belted | G62: Level Belt | H62: 240 | I62: RH | J62: 460/3/60 | K62: 25 | L62: 7.5 | M62: Y | N62: N | P62: RPH3200BXB_FR | Q62: NA | R62: 24 | S62: 12 | T62: N | U62: Y | V62: Y | W62: QTY 4
A63: BULK INBOUND SOUTH | B63: M012 | C63: BS4_015_CH1 | E63: PS9_3CH1 | F63: Induct Chute | G63: Chute | H63: NA | I63: NA | J63: NA | K63: 25 | L63: NA | M63: NA | N63: NA | P63: NA | Q63: NA | R63: 24 | S63: 24 | T63: NA | U63: NA | V63: NA | W63: NA
A64: BULK INBOUND SOUTH | B64: M012 | C64: BS4_015_CH2 | E64: PS9_3CH2 | F64: Induct Chute | G64: Chute | H64: NA | I64: NA | J64: NA | K64: 25 | L64: NA | M64: NA | N64: NA | P64: NA | Q64: NA | R64: 24 | S64: 24 | T64: NA | U64: NA | V64: NA | W64: NA
A65: BULK INBOUND SOUTH | B65: M012 | C65: BS4_015_CH3 | E65: PS9_3CH3 | F65: Induct Chute | G65: Chute | H65: NA | I65: NA | J65: NA | K65: 25 | L65: NA | M65: NA | N65: NA | P65: NA | Q65: NA | R65: 24 | S65: 24 | T65: NA | U65: NA | V65: NA | W65: NA
A66: BULK INBOUND SOUTH | B66: M012 | C66: BS4_015_CH4 | E66: PS9_3CH4 | F66: Induct Chute | G66: Chute | H66: NA | I66: NA | J66: NA | K66: 25 | L66: NA | M66: NA | N66: NA | P66: NA | Q66: NA | R66: 24 | S66: 24 | T66: NA | U66: NA | V66: NA | W66: NA
A67: BULK INBOUND SOUTH | B67: M012 | C67: BS4_015_DIV1 | E67: PS9_3DIV1 | F67: Sorter | G67: Divert Arm | H67: NA | I67: NA | J67: NA | K67: NA | L67: NA | M67: NA | N67: NA | P67: NA | Q67: NA | R67: NA | S67: NA | T67: NA | U67: NA | V67: NA | W67: NA
A68: BULK INBOUND SOUTH | B68: M012 | C68: BS4_015_DIV2 | E68: PS9_3DIV2 | F68: Sorter | G68: Divert Arm | H68: NA | I68: NA | J68: NA | K68: NA | L68: NA | M68: NA | N68: NA | P68: NA | Q68: NA | R68: NA | S68: NA | T68: NA | U68: NA | V68: NA | W68: NA
A69: BULK INBOUND SOUTH | B69: M012 | C69: BS4_015_DIV3 | E69: PS9_3DIV3 | F69: Sorter | G69: Divert Arm | H69: NA | I69: NA | J69: NA | K69: NA | L69: NA | M69: NA | N69: NA | P69: NA | Q69: NA | R69: NA | S69: NA | T69: NA | U69: NA | V69: NA | W69: NA
A70: BULK INBOUND SOUTH | B70: M012 | C70: BS4_015_DIV4 | E70: PS9_3DIV4 | F70: Sorter | G70: Divert Arm | H70: NA | I70: NA | J70: NA | K70: NA | L70: NA | M70: NA | N70: NA | P70: NA | Q70: NA | R70: NA | S70: NA | T70: NA | U70: NA | V70: NA | W70: NA
A71: BULK INBOUND SOUTH | B71: M012 | C71: BS4_020_CH | E71: PS9_4CH | F71: Straight Chute | G71: Chute | H71: NA | I71: NA | J71: NA | K71: 25 | L71: NA | M71: NA | N71: NA | P71: NA | Q71: NA | R71: 24 | S71: 24 | T71: NA | U71: NA | V71: NA | W71: NA
A72: BYPASS VS_A | B72: M013 | C72: BYA_110 | D72: 17QV86 | E72: BYAB_2 | F72: Powered_Belted | G72: HSS | H72: 550 | I72: RH | J72: 460/3/60 | K72: 25 | L72: 5 | M72: YES | N72: NO | P72: APH150MFOXLN | Q72: NA | R72: 12 | S72: 12 | T72: NA | U72: YES | V72: NA | W72: NA | X72: NA
A73: BYPASS VS_A | B73: M013 | C73: BYA_115 | E73: BYAB_3 | F73: Powered_Belted | G73: CURVE _ 90 DEG | H73: 550 | I73: RH | J73: 460/3/60 | K73: 25 | L73: 5 | M73: YES | N73: NO | P73: Forbo GSTR | Q73: NA | R73: 12 | S73: 12 | T73: NO | U73: YES | V73: NA | W73: NA | X73: NA
A74: BYPASS VS_A | B74: M013 | C74: BYA_120 | D74: 17QV87 | E74: BYAB_4 | F74: Powered_Belted | G74: HSS | H74: 500 | I74: RH | J74: 460/3/60 | K74: 25 | L74: 3 | M74: YES | N74: NO | P74: APH150MFOXLN | Q74: NA | R74: 12 | S74: 12 | T74: NO | U74: YES | V74: NA | W74: NA | X74: NA
A75: BYPASS VS_A | B75: M013 | C75: BYA_125 | E75: BYAB_5 | F75: Powered_Belted | G75: CURVE _ 90 DEG | H75: 450 | I75: RH | J75: 460/3/60 | K75: 25 | L75: 5 | M75: YES | N75: NO | P75: Forbo GSTR | Q75: NA | R75: 12 | S75: 12 | T75: NO | U75: YES | V75: NA | W75: NA | X75: NA
A76: BYPASS VS_A | B76: M013 | C76: BYA_130 | D76: 17QV88 | E76: BYAB_6 | F76: Powered_Belted | G76: HSQ_C | H76: 400 | I76: RH | J76: 460/3/60 | K76: 25 | L76: 3 | M76: YES | N76: NO | P76: NSL_11ESBV | Q76: NA | R76: 12 | S76: 12 | T76: NO | U76: YES | V76: NA | W76: NA | X76: NA
A77: BYPASS VS_A | B77: M013 | C77: BYA_135 | D77: 17QV89 | E77: BYAB_7 | F77: Powered_Belted | G77: HSS | H77: 350 | I77: RH | J77: 460/3/60 | K77: 25 | L77: 7.5 | M77: YES | N77: NO | P77: APH150MFOXLN | Q77: NA | R77: 12 | S77: 24 | T77: YES | U77: YES | V77: NA | W77: NA | X77: NA
A78: BYPASS VS_A | B78: M013 | C78: BYA_140 | D78: 17QV90 | E78: BYAB_8 | F78: Powered_Belted | G78: HSS | H78: 300 | I78: RH | J78: 460/3/60 | K78: 25 | L78: 5 | M78: YES | N78: NO | P78: APH150MFOXLN | Q78: NA | R78: 24 | S78: 24 | T78: YES | U78: NO | V78: NA | W78: NA | X78: NA
A79: BYPASS VS_A | B79: M013 | C79: BYA_145 | E79: BYAB_9 | F79: Powered_Belted | G79: CURVE _ 60 DEG | H79: 300 | I79: RH | J79: 460/3/60 | K79: 25 | L79: 2 | M79: YES | N79: NO | P79: Forbo GSTR | Q79: NA | R79: 24 | S79: 24 | T79: YES | U79: NO | V79: NA | W79: NA | X79: NA
A80: BYPASS VS_A | B80: M007 | C80: BYA_150 | D80: 17QV91 | E80: BYAB_10 | F80: Powered_Belted | G80: HSS | H80: 300 | I80: LH | J80: 460/3/60 | K80: 25 | L80: 3 | M80: YES | N80: NO | P80: APH150MFOXLN | Q80: NA | R80: 24 | S80: 24 | T80: YES | U80: NO | V80: NA | W80: NA | X80: NA
A81: BYPASS VS_A | B81: M007 | C81: BYA_155 | E81: BYAB_11 | F81: Powered_Belted | G81: CURVE _ 60 DEG | H81: 300 | I81: RH | J81: 460/3/60 | K81: 25 | L81: 3 | M81: YES | N81: NO | P81: Forbo GSTR | Q81: NA | R81: 24 | S81: 24 | T81: YES | U81: NO | V81: NA | W81: NA | X81: NA
A82: BYPASS VS_A | B82: M007 | C82: BYA_160 | D82: 17QV92 | E82: BYAB_12 | F82: Powered_Belted | G82: HSS | H82: 300 | I82: RH | J82: 460/3/60 | K82: 25 | L82: 7.5 | M82: YES | N82: NO | P82: APH150MFOXLN | Q82: NA | R82: 24 | S82: 24 | T82: YES | U82: NO | V82: NA | W82: NA | X82: NA
A83: BYPASS VS_A | B83: M007 | C83: BYA_165 | D83: 17QV93 | E83: BYAB_13 | F83: Powered_Belted | G83: HSS | H83: 300 | I83: RH | J83: 460/3/60 | K83: 25 | L83: 10 | M83: YES | N83: NO | P83: APH150MFOXLN | Q83: NA | R83: 24 | S83: 24 | T83: YES | U83: NO | V83: NA | W83: NA | X83: NA
A84: BYPASS VS_A | B84: M002 | C84: BYA_170 | D84: 17QV94 | E84: BYAB_14 | F84: Powered_Belted | G84: HSS | H84: 300 | I84: RH | J84: 460/3/60 | K84: 25 | L84: 10 | M84: YES | N84: NO | P84: APH150MFOXLN | Q84: NA | R84: 24 | S84: 12 | T84: YES | U84: YES | V84: NA | W84: NA | X84: NA
A85: BYPASS VS_A | B85: M002 | C85: BYA_175 | D85: 17QV95 | E85: BYAB_15 | F85: Powered_Belted | G85: HSQ_C | H85: 300 | I85: RH | J85: 460/3/60 | K85: 25 | L85: 3 | M85: YES | N85: NO | P85: NSL_11ESBV | Q85: NA | R85: 12 | S85: 12 | T85: NO | U85: YES | V85: NA | W85: NA | X85: NA
A86: BYPASS VS_A | B86: M013 | C86: BYA_210 | D86: 17QV96 | E86: BYAD_2 | F86: Powered_Belted | G86: HSS | H86: 550 | I86: RH | J86: 460/3/60 | K86: 25 | L86: 3 | M86: YES | N86: NO | P86: APH150MFOXLN | Q86: NA | R86: 12 | S86: 12 | T86: NO | U86: YES | V86: NA | W86: NA | X86: NA
A87: BYPASS VS_A | B87: M013 | C87: BYA_215 | D87: 17QV97 | E87: BYAD_3 | F87: Powered_Belted | G87: HSS | H87: 500 | I87: RH | J87: 460/3/60 | K87: 25 | L87: 7.5 | M87: YES | N87: NO | P87: APH150MFOXLN | Q87: NA | R87: 12 | S87: 24 | T87: YES | U87: YES | V87: NA | W87: NA | X87: NA
A88: BYPASS VS_A | B88: M013 | C88: BYA_220 | E88: BYAD_4 | F88: Powered_Belted | G88: CURVE _ 90 DEG | H88: 450 | I88: RH | J88: 460/3/60 | K88: 25 | L88: 5 | M88: YES | N88: NO | P88: Forbo GSTR | Q88: NA | R88: 24 | S88: 24 | T88: YES | U88: NO | V88: NA | W88: NA | X88: NA
A89: BYPASS VS_A | B89: M013 | C89: BYA_225 | D89: 17QV98 | E89: BYAD_5 | F89: Powered_Belted | G89: HSS | H89: 400 | I89: RH | J89: 460/3/60 | K89: 25 | L89: 7.5 | M89: YES | N89: NO | P89: APH150MFOXLN | Q89: NA | R89: 24 | S89: 24 | T89: YES | U89: NO | V89: NA | W89: NA | X89: NA
A90: BYPASS VS_A | B90: M012 | C90: BYA_230 | E90: BYAD_6 | F90: Powered_Belted | G90: CURVE _ 90 DEG | H90: 350 | I90: RH | J90: 460/3/60 | K90: 25 | L90: 3 | M90: YES | N90: NO | P90: Forbo GSTR | Q90: NA | R90: 24 | S90: 24 | T90: YES | U90: NO | V90: NA | W90: NA | X90: NA
A91: BYPASS VS_A | B91: M017 | C91: BYA_235 | D91: 17QV99 | E91: BYAD_7 | F91: Powered_Belted | G91: HSS | H91: 300 | I91: RH | J91: 460/3/60 | K91: 25 | L91: 10 | M91: YES | N91: NO | P91: APH150MFOXLN | Q91: NA | R91: 24 | S91: 24 | T91: YES | U91: NO | V91: NA | W91: NA | X91: NA
A92: BYPASS VS_A | B92: M022 | C92: BYA_240 | D92: 17QW00 | E92: BYAD_8 | F92: Powered_Belted | G92: HSS | H92: 300 | I92: RH | J92: 460/3/60 | K92: 25 | L92: 10 | M92: YES | N92: NO | P92: APH150MFOXLN | Q92: NA | R92: 24 | S92: 12 | T92: YES | U92: YES | V92: NA | W92: NA | X92: NA
A93: BYPASS VS_A | B93: M022 | C93: BYA_245 | D93: 17QW01 | E93: BYAD_9 | F93: Powered_Belted | G93: HSQ_C | H93: 300 | I93: RH | J93: 460/3/60 | K93: 25 | L93: 3 | M93: YES | N93: NO | P93: NSL_11ESBV | Q93: NA | R93: 12 | S93: 12 | T93: NO | U93: YES | V93: NA | W93: NA | X93: NA
A94: BYPASS VS_A | B94: M013 | C94: BYA_310 | D94: 17QW02 | E94: BYAC_2 | F94: Powered_Belted | G94: HSS | H94: 550 | I94: LH | J94: 460/3/60 | K94: 25 | L94: 3 | M94: YES | N94: NO | P94: APH150MFOXLN | Q94: NA | R94: 12 | S94: 12 | T94: NO | U94: YES | V94: NA | W94: NA | X94: NA
A95: BYPASS VS_A | B95: M013 | C95: BYA_315 | D95: 17QW03 | E95: BYAC_3 | F95: Powered_Belted | G95: HSS | H95: 500 | I95: LH | J95: 460/3/60 | K95: 25 | L95: 7.5 | M95: YES | N95: NO | P95: APH150MFOXLN | Q95: NA | R95: 12 | S95: 24 | T95: YES | U95: YES | V95: NA | W95: NA | X95: NA
A96: BYPASS VS_A | B96: M013 | C96: BYA_320 | E96: BYAC_4 | F96: Powered_Belted | G96: CURVE _ 90 DEG | H96: 450 | I96: LH | J96: 460/3/60 | K96: 25 | L96: 5 | M96: YES | N96: NO | P96: Forbo GSTR | Q96: NA | R96: 24 | S96: 24 | T96: YES | U96: NO | V96: NA | W96: NA | X96: NA
A97: BYPASS VS_A | B97: M013 | C97: BYA_325 | D97: 17QW04 | E97: BYAC_5 | F97: Powered_Belted | G97: HSS | H97: 400 | I97: LH | J97: 460/3/60 | K97: 25 | L97: 5 | M97: YES | N97: NO | P97: APH150MFOXLN | Q97: NA | R97: 24 | S97: 24 | T97: YES | U97: NO | V97: NA | W97: NA | X97: NA
A98: BYPASS VS_A | B98: M014 | C98: BYA_330 | E98: BYAC_6 | F98: Powered_Belted | G98: CURVE _ 90 DEG | H98: 350 | I98: LH | J98: 460/3/60 | K98: 25 | L98: 3 | M98: YES | N98: NO | P98: Forbo GSTR | Q98: NA | R98: 24 | S98: 24 | T98: YES | U98: NO | V98: NA | W98: NA | X98: NA
A99: BYPASS VS_A | B99: M014 | C99: BYA_335 | D99: 17QW05 | E99: BYAC_7 | F99: Powered_Belted | G99: HSS | H99: 300 | I99: LH | J99: 460/3/60 | K99: 25 | L99: 10 | M99: YES | N99: NO | P99: APH150MFOXLN | Q99: NA | R99: 24 | S99: 24 | T99: YES | U99: NO | V99: NA | W99: NA | X99: NA
A100: BYPASS VS_A | B100: M014 | C100: BYA_340 | D100: 17QW06 | E100: BYAC_8 | F100: Powered_Belted | G100: HSS | H100: 300 | I100: LH | J100: 460/3/60 | K100: 25 | L100: 10 | M100: YES | N100: NO | P100: APH150MFOXLN | Q100: NA | R100: 24 | S100: 12 | T100: YES | U100: YES | V100: NA | W100: NA | X100: NA
A101: BYPASS VS_A | B101: M014 | C101: BYA_345 | D101: 17QW07 | E101: BYAC_9 | F101: Powered_Belted | G101: HSQ_C | H101: 300 | I101: LH | J101: 460/3/60 | K101: 25 | L101: 3 | M101: YES | N101: NO | P101: NSL_11ESBV | Q101: NA | R101: 12 | S101: 12 | T101: NO | U101: YES | V101: NA | W101: NA | X101: NA
...

Sheet Rework
B1: Customer: | C1: FedEx Ground
A2: Equipment Type | B2: Conveyor | C2: Type of | D2: Rework Stage | E2: Width | F2: Length | H2: Elevation | J2: Supt. | K2: Speed | M2: Speed | N2: Drive | O2: Motor | P2: Brake | Q2: Pulley | R2: Belting | S2: Roll | T2: Side Guard | V2: Bottom | W2: Pneun. | X2: PPH | Y2: Remarks
B3: Number | C3: Conveyor | E3: B/B | F3: Ft. | G3: In. | H3: Feed | I3: Disch | J3: Elev. | K3: IB | L3: OB | M3: Mode | N3: Type | O3: Hp | Q3: Size | R3: Type | S3: Center | T3: Ht. | U3: Length | V3: Guard | W3: Divtrs | X3: Override
N4: do not erase | O4: =IF(#REF!=0,"",IF(ISERROR(FIND("Slave",C4))=TRUE,IF(ISERROR(FIND("Vanline",C4))=FALSE,IF(#REF!<5,5,#REF!),#REF!),0)) -> #REF! | Q4: =IF(#REF!=0,"",IF(F4>121,16,IF(F4>81,IF(#REF!<12,12,#REF!),#REF!))) -> #REF!
B6: P-1 | O6: =IF(HPCALCS2!B5=0,"",IF(ISERROR(FIND("Slave",C6))=TRUE,IF(ISERROR(FIND("Vanline",C6))=FALSE,IF(HPCALCS2!AA5<5,5,HPCALCS2!AA5),HPCALCS2!AA5),0)) | Q6: =IF(HPCALCS2!B5=0,"",HPCALCS2!AB5)
B7: P-2 | D7: Existing | O7: =IF(HPCALCS2!B6=0,"",IF(ISERROR(FIND("Slave",C7))=TRUE,IF(ISERROR(FIND("Vanline",C7))=FALSE,IF(HPCALCS2!AA6<5,5,HPCALCS2!AA6),HPCALCS2!AA6),0)) | Q7: =IF(HPCALCS2!B6=0,"",HPCALCS2!AB6)
B8: P-3 | D8: New | O8: =IF(HPCALCS2!B7=0,"",IF(ISERROR(FIND("Slave",C8))=TRUE,IF(ISERROR(FIND("Vanline",C8))=FALSE,IF(HPCALCS2!AA7<5,5,HPCALCS2!AA7),HPCALCS2!AA7),0)) | Q8: =IF(HPCALCS2!B7=0,"",HPCALCS2!AB7) | AL8: 0 | AM8: Yes | AN8: 0
B9: P-4 | O9: =IF(HPCALCS2!B8=0,"",IF(ISERROR(FIND("Slave",C9))=TRUE,IF(ISERROR(FIND("Vanline",C9))=FALSE,IF(HPCALCS2!AA8<5,5,HPCALCS2!AA8),HPCALCS2!AA8),0)) | Q9: =IF(HPCALCS2!B8=0,"",HPCALCS2!AB8) | AL9: 1 | AM9: No | AN9: 1
B10: P-5 | O10: =IF(HPCALCS2!B9=0,"",IF(ISERROR(FIND("Slave",C10))=TRUE,IF(ISERROR(FIND("Vanline",C10))=FALSE,IF(HPCALCS2!AA9<5,5,HPCALCS2!AA9),HPCALCS2!AA9),0)) | Q10: =IF(HPCALCS2!B9=0,"",HPCALCS2!AB9) | AL10: 2 | AN10: 2
B11: P-6 | O11: =IF(HPCALCS2!B10=0,"",IF(ISERROR(FIND("Slave",C11))=TRUE,IF(ISERROR(FIND("Vanline",C11))=FALSE,IF(HPCALCS2!AA10<5,5,HPCALCS2!AA10),HPCALCS2!AA10),0)) | Q11: =IF(HPCALCS2!B10=0,"",HPCALCS2!AB10)
B12: P-7 | O12: =IF(HPCALCS2!B11=0,"",IF(ISERROR(FIND("Slave",C12))=TRUE,IF(ISERROR(FIND("Vanline",C12))=FALSE,IF(HPCALCS2!AA11<5,5,HPCALCS2!AA11),HPCALCS2!AA11),0)) | Q12: =IF(HPCALCS2!B11=0,"",HPCALCS2!AB11)
B13: P-8 | O13: =IF(HPCALCS2!B12=0,"",IF(ISERROR(FIND("Slave",C13))=TRUE,IF(ISERROR(FIND("Vanline",C13))=FALSE,IF(HPCALCS2!AA12<5,5,HPCALCS2!AA12),HPCALCS2!AA12),0)) | Q13: =IF(HPCALCS2!B12=0,"",HPCALCS2!AB12)
B14: P-9 | O14: =IF(HPCALCS2!B13=0,"",IF(ISERROR(FIND("Slave",C14))=TRUE,IF(ISERROR(FIND("Vanline",C14))=FALSE,IF(HPCALCS2!AA13<5,5,HPCALCS2!AA13),HPCALCS2!AA13),0)) | Q14: =IF(HPCALCS2!B13=0,"",HPCALCS2!AB13)
B15: P-10 | O15: =IF(HPCALCS2!B14=0,"",IF(ISERROR(FIND("Slave",C15))=TRUE,IF(ISERROR(FIND("Vanline",C15))=FALSE,IF(HPCALCS2!AA14<5,5,HPCALCS2!AA14),HPCALCS2!AA14),0)) | Q15: =IF(HPCALCS2!B14=0,"",HPCALCS2!AB14)
B16: P-11 | O16: =IF(HPCALCS2!B15=0,"",IF(ISERROR(FIND("Slave",C16))=TRUE,IF(ISERROR(FIND("Vanline",C16))=FALSE,IF(HPCALCS2!AA15<5,5,HPCALCS2!AA15),HPCALCS2!AA15),0)) | Q16: =IF(HPCALCS2!B15=0,"",HPCALCS2!AB15)
B17: P-12 | O17: =IF(HPCALCS2!B16=0,"",IF(ISERROR(FIND("Slave",C17))=TRUE,IF(ISERROR(FIND("Vanline",C17))=FALSE,IF(HPCALCS2!AA16<5,5,HPCALCS2!AA16),HPCALCS2!AA16),0)) | Q17: =IF(HPCALCS2!B16=0,"",HPCALCS2!AB16)
B18: P-13 | O18: =IF(HPCALCS2!B17=0,"",IF(ISERROR(FIND("Slave",C18))=TRUE,IF(ISERROR(FIND("Vanline",C18))=FALSE,IF(HPCALCS2!AA17<5,5,HPCALCS2!AA17),HPCALCS2!AA17),0)) | Q18: =IF(HPCALCS2!B17=0,"",HPCALCS2!AB17)
B19: P-14 | O19: =IF(HPCALCS2!B18=0,"",IF(ISERROR(FIND("Slave",C19))=TRUE,IF(ISERROR(FIND("Vanline",C19))=FALSE,IF(HPCALCS2!AA18<5,5,HPCALCS2!AA18),HPCALCS2!AA18),0)) | Q19: =IF(HPCALCS2!B18=0,"",HPCALCS2!AB18)
B20: P-15 | O20: =IF(HPCALCS2!B19=0,"",IF(ISERROR(FIND("Slave",C20))=TRUE,IF(ISERROR(FIND("Vanline",C20))=FALSE,IF(HPCALCS2!AA19<5,5,HPCALCS2!AA19),HPCALCS2!AA19),0)) | Q20: =IF(HPCALCS2!B19=0,"",HPCALCS2!AB19)
B21: P-16 | O21: =IF(HPCALCS2!B20=0,"",IF(ISERROR(FIND("Slave",C21))=TRUE,IF(ISERROR(FIND("Vanline",C21))=FALSE,IF(HPCALCS2!AA20<5,5,HPCALCS2!AA20),HPCALCS2!AA20),0)) | Q21: =IF(HPCALCS2!B20=0,"",HPCALCS2!AB20)
B22: P-17 | O22: =IF(HPCALCS2!B21=0,"",IF(ISERROR(FIND("Slave",C22))=TRUE,IF(ISERROR(FIND("Vanline",C22))=FALSE,IF(HPCALCS2!AA21<5,5,HPCALCS2!AA21),HPCALCS2!AA21),0)) | Q22: =IF(HPCALCS2!B21=0,"",HPCALCS2!AB21)
... B155: P-150 | O155: =IF(HPCALCS2!B154=0,"",IF(ISERROR(FIND("Slave",C155))=TRUE,IF(ISERROR(FIND("Vanline",C155))=FALSE,IF(HPCALCS2!AA154<5,5,HPCALCS2!AA154),HPCALCS2!AA154),0)) | Q155: =IF(HPCALCS2!B154=0,"",HPCALCS2!AB154)
Z327: =SUM(Z$6:Z$319) -> 0
AA328: =SUM(AA$6:AA$319) -> 0
AB329: =SUM(AB$6:AB$319) -> 0
AC330: =SUM(AC$6:AC$319) -> 0
AD331: =SUM(AD$6:AD$319) -> 0
AE332: =SUM(AE$6:AE$319) -> 0
AF333: =SUM(AF$6:AF$319) -> 0
AG334: =SUM(AG$6:AG$319) -> 0
AH335: =SUM(AH$6:AH$319) -> 0
AI336: =SUM(AI$6:AI$319) -> 0
AJ337: =SUM(AJ$6:AJ$319) -> 0
AK338: =SUM(AK$6:AK$319) -> 0
AL339: =SUM(AL$6:AL$319) -> 3
AM340: =SUM(AM$6:AM$319) -> 0
AN341: =SUM(AN$6:AN$319) -> 3
AO342: =SUM(AO$6:AO$319) -> 0
AP343: =SUM(AP$6:AP$319) -> 0

Sheet Relocated
A1: Equipment | B1: Type of Equipment | C1: Qty | D1: Areas Relocated | F1: Distance | G1: Remarks
A2: Number | D2: From | E2: To | F2: Relocated

Sheet Demo
A1: Equipment | B1: Type of Equipment | C1: Qty | D1: Spare Parts | E1: Salvaged Spare Part List | F1: Palletized | G1: Remarks
A2: Number | AX2: Yes | AZ2: Yes
AX3: No | AZ3: No

Sheet HPCALCS2
A1: Conv | D1: Slave | F1: Lowest | G1: Highest | H1: Pneun. | J1: Pkg | K1: Frctn | L1: Weight | M1: VFD | N1: Reducer | O1: Chain | P1: Conv | Q1: Live | R1: Dead | S1: Overcome | T1: Raise Load | U1: Operate | V1: Package | W1: Operate | X1: Effective | Y1: Needed | Z1: Required | AA1: Motor HP | AB1: Pulley | AD1: HP Calculation | AH1: Pulley Calculation
A2: Num | B2: FPM | C2: Length | D2: Length | E2: Width | F2: Elev. | G2: Elev. | H2: Divtrs | I2: PPH | J2: Weight | K2: Fctr | L2: of Belt | M2: Effcny | N2: Effcny | O2: Effcny | P2: Utilizn Fctr | Q2: Load | R2: Load | S2: Friction HP | T2: HP | U2: Hitch HP | V2: Diversion HP | W2: Slave HP | X2: Belt Pull | Y2: Belt Pull | Z2: HP | AA2: To Use | AB2: Diameter | AD2: Low | AE2: High | AF2: Use | AH2: Low | AI2: High | AJ2: Use
A3: ='Conveyor List'!#REF! -> #REF! | B3: =IF(AND(Rework!$K4="",Rework!$L4=""),0,MAX(MAX(LEFT(Rework!$K4,IF(ISERROR(FIND("/",Rework!$K4))=TRUE,LEN(Rework!$K4),FIND("/",Rework!$K4)-2)),TRIM(RIGHT(Rework!$K4,LEN(Rework!$K4)-IF(ISERROR(FIND("/",Rework!$K4))=TRUE,0,FIND("/",Rework!$K4))))),MAX(LEFT(Rework!$L4,IF(ISERROR(FIND("/",Rework!$L4))=TRUE,LEN(Rework!$L4),FIND("/",Rework!$L4)-2)),TRIM(RIGHT(Rework!$L4,LEN(Rework!$L4)-IF(ISERROR(FIND("/",Rework!$L4))=TRUE,0,FIND("/",Rework!$L4))))))) -> 0 | C3: =IF(AND(Rework!$F4="",Rework!$G4=""),0,Rework!$F4+Rework!$G4/12) -> 0 | D3: =IF(AND(Rework!F4="",Rework!G4=""),0,IF(ISERROR(FIND("Slave",Rework!C4)) =FALSE,Rework!F5+Rework!G5/12,0)) -> 0 | E3: =IF(Rework!$E4="",0,Rework!$E4) -> 0 | F3: =IF(Rework!$H4="",0,MIN(LEFT(Rework!$H4,IF(ISERROR(FIND("/",Rework!$H4))=TRUE,LEN(Rework!$H4),FIND("/",Rework!$H4)-3)),IF(ISERROR(FIND("/",Rework!$H4))=TRUE,Rework!$H4,TRIM(LEFT(RIGHT(Rework!$H4, LEN(Rework!$H4)-FIND("/",Rework!$H4)),LEN(RIGHT(Rework!$H4, LEN(Rework!$H4)-FIND("/",Rework!$H4)))-1))))) -> 0 | G3: =IF(Rework!$I4="",0,MAX(LEFT(Rework!$I4,IF(ISERROR(FIND("/",Rework!$I4))=TRUE,LEN(Rework!$I4),FIND("/",Rework!$I4)-3)),IF(ISERROR(FIND("/",Rework!$I4))=TRUE,Rework!$I4,TRIM(LEFT(RIGHT(Rework!$I4, LEN(Rework!$I4)-FIND("/",Rework!$I4)),LEN(RIGHT(Rework!$I4, LEN(Rework!$I4)-FIND("/",Rework!$I4)))-1))))) -> 0 | H3: =IF(Rework!W4>0,IF(Rework!W4>1,2,1),0) -> 0 | I3: =IF(Rework!X4="",IF(Rework!$E4=61.5,2400,1800),Rework!X4) -> 1800 | J3: 30 | K3: =IF(ISERROR(FIND("Belt",Rework!C4))=FALSE,0.3,IF(ISERROR(FIND("Roller",Rework!C4))=FALSE,0.05,0.25)) -> 0.25 | L3: 1 | M3: 0.95 | N3: 0.85 | O3: =IF(ISERROR(FIND("M",Rework!$N4))=TRUE,0.95,1) -> 0.95 | P3: 1 | Q3: =IF(B3=0,0,(I3*J3)/(60*B3)) -> 0 | R3: =IF(E3=0,0,(2*L3*((E3-1)/12))) -> 0 | S3: =IF(B3=0,0,(1.25*B3*K3*C3*(Q3+R3))/(33000*M3*N3*O3)) -> 0 | T3: =IF(AND(G3=0,F3=0),0,(1.25*I3*J3*((G3-F3)/12))/(60*33000*M3*N3*O3)) -> 0 | U3: =IF(E3=0,0,(1.25*B3*0.05*(Q3+(((E3/12)-1)*L3))*C3)/(60*33000*M3*N3*O3)) -> 0 | V3: =IF(H3=0,0,(1.25*B3*K3*(H3*((12*(E3-1))+200)))/(33000*M3*N3*O3)) -> 0 | W3: =IF(D3=0,0,(1.25*B3*K3*D3*(Q3+R3))/(33000*M3*N3*O3*O3)+5*(0.01*(500+1.25*((Q3+R3)*K3*D3)))*B3/(33000*M3*N3*O3*O3)) -> 0 | X3: =IF(B3=0,0,ROUNDUP(((AA3/B3)*33000*N3),0)) -> 0 | Y3: =IF(C3="",0,ROUNDUP((((K3*(C3+D3)*(Q3+R3))+(J3+((G3-F3)/12)))/0.85),0)) -> 36 | Z3: =S3+T3+U3+V3+W3 -> 0 | AA3: =VLOOKUP(Z3,$AD$3:$AF$13,3,TRUE) -> 2 | AB3: =VLOOKUP(X3,$AH$3:$AJ$5,3,TRUE) -> 8 | AD3: 0 | AE3: 1 | AF3: =IF(Rework!$C$1="FedEx Ground", 2, 1) -> 2 | AH3: 0 | AI3: 1000 | AJ3: 8
A4: ='Conveyor List'!C1 -> 0 | B4: =IF(AND(Rework!$K5="",Rework!$L5=""),0,MAX(MAX(LEFT(Rework!$K5,IF(ISERROR(FIND("/",Rework!$K5))=TRUE,LEN(Rework!$K5),FIND("/",Rework!$K5)-2)),TRIM(RIGHT(Rework!$K5,LEN(Rework!$K5)-IF(ISERROR(FIND("/",Rework!$K5))=TRUE,0,FIND("/",Rework!$K5))))),MAX(LEFT(Rework!$L5,IF(ISERROR(FIND("/",Rework!$L5))=TRUE,LEN(Rework!$L5),FIND("/",Rework!$L5)-2)),TRIM(RIGHT(Rework!$L5,LEN(Rework!$L5)-IF(ISERROR(FIND("/",Rework!$L5))=TRUE,0,FIND("/",Rework!$L5))))))) -> 0 | C4: =IF(AND(Rework!$F5="",Rework!$G5=""),0,Rework!$F5+Rework!$G5/12) -> 0 | D4: =IF(AND(Rework!F5="",Rework!G5=""),0,IF(ISERROR(FIND("Slave",Rework!C5)) =FALSE,Rework!F6+Rework!G6/12,0)) -> 0 | E4: =IF(Rework!$E5="",0,Rework!$E5) -> 0 | F4: =IF(Rework!$H5="",0,MIN(LEFT(Rework!$H5,IF(ISERROR(FIND("/",Rework!$H5))=TRUE,LEN(Rework!$H5),FIND("/",Rework!$H5)-3)),IF(ISERROR(FIND("/",Rework!$H5))=TRUE,Rework!$H5,TRIM(LEFT(RIGHT(Rework!$H5, LEN(Rework!$H5)-FIND("/",Rework!$H5)),LEN(RIGHT(Rework!$H5, LEN(Rework!$H5)-FIND("/",Rework!$H5)))-1))))) -> 0 | G4: =IF(Rework!$I5="",0,MAX(LEFT(Rework!$I5,IF(ISERROR(FIND("/",Rework!$I5))=TRUE,LEN(Rework!$I5),FIND("/",Rework!$I5)-3)),IF(ISERROR(FIND("/",Rework!$I5))=TRUE,Rework!$I5,TRIM(LEFT(RIGHT(Rework!$I5, LEN(Rework!$I5)-FIND("/",Rework!$I5)),LEN(RIGHT(Rework!$I5, LEN(Rework!$I5)-FIND("/",Rework!$I5)))-1))))) -> 0 | H4: =IF(Rework!W5>0,IF(Rework!W5>1,2,1),0) -> 0 | I4: =IF(Rework!X5="",IF(Rework!$E5=61.5,2400,1800),Rework!X5) -> 1800 | J4: 30 | K4: =IF(ISERROR(FIND("Belt",Rework!C5))=FALSE,0.3,IF(ISERROR(FIND("Roller",Rework!C5))=FALSE,0.05,0.25)) -> 0.25 | L4: 1 | M4: 0.95 | N4: 0.85 | O4: =IF(ISERROR(FIND("M",Rework!$N5))=TRUE,0.95,1) -> 0.95 | P4: 1 | Q4: =IF(B4=0,0,(I4*J4)/(60*B4)) -> 0 | R4: =IF(E4=0,0,(2*L4*((E4-1)/12))) -> 0 | S4: =IF(B4=0,0,(1.25*B4*K4*C4*(Q4+R4))/(33000*M4*N4*O4)) -> 0 | T4: =IF(AND(G4=0,F4=0),0,(1.25*I4*J4*((G4-F4)/12))/(60*33000*M4*N4*O4)) -> 0 | U4: =IF(E4=0,0,(1.25*B4*0.05*(Q4+(((E4/12)-1)*L4))*C4)/(60*33000*M4*N4*O4)) -> 0 | V4: =IF(H4=0,0,(1.25*B4*K4*(H4*((12*(E4-1))+200)))/(33000*M4*N4*O4)) -> 0 | W4: =IF(D4=0,0,(1.25*B4*K4*D4*(Q4+R4))/(33000*M4*N4*O4*O4)+5*(0.01*(500+1.25*((Q4+R4)*K4*D4)))*B4/(33000*M4*N4*O4*O4)) -> 0 | X4: =IF(B4=0,0,ROUNDUP(((AA4/B4)*33000*N4),0)) -> 0 | Y4: =IF(C4="",0,ROUNDUP((((K4*(C4+D4)*(Q4+R4))+(J4+((G4-F4)/12)))/0.85),0)) -> 36 | Z4: =S4+T4+U4+V4+W4 -> 0 | AA4: =VLOOKUP(Z4,$AD$3:$AF$13,3,TRUE) -> 2 | AB4: =VLOOKUP(X4,$AH$3:$AJ$5,3,TRUE) -> 8 | AD4: 1.0001 | AE4: 1.5 | AF4: =IF(Rework!$C$1="FedEx Ground", 2, 1) -> 2 | AH4: 1000.01 | AI4: 2000 | AJ4: 12 | AL4: ACC-1001 | AM4: 1-Sided Load Chart Holder
A5: ='Conveyor List'!#REF! -> #REF! | B5: =IF(AND(Rework!$K6="",Rework!$L6=""),0,MAX(MAX(LEFT(Rework!$K6,IF(ISERROR(FIND("/",Rework!$K6))=TRUE,LEN(Rework!$K6),FIND("/",Rework!$K6)-2)),TRIM(RIGHT(Rework!$K6,LEN(Rework!$K6)-IF(ISERROR(FIND("/",Rework!$K6))=TRUE,0,FIND("/",Rework!$K6))))),MAX(LEFT(Rework!$L6,IF(ISERROR(FIND("/",Rework!$L6))=TRUE,LEN(Rework!$L6),FIND("/",Rework!$L6)-2)),TRIM(RIGHT(Rework!$L6,LEN(Rework!$L6)-IF(ISERROR(FIND("/",Rework!$L6))=TRUE,0,FIND("/",Rework!$L6))))))) -> 0 | C5: =IF(AND(Rework!$F6="",Rework!$G6=""),0,Rework!$F6+Rework!$G6/12) -> 0 | D5: =IF(AND(Rework!F6="",Rework!G6=""),0,IF(ISERROR(FIND("Slave",Rework!C6)) =FALSE,Rework!F7+Rework!G7/12,0)) -> 0 | E5: =IF(Rework!$E6="",0,Rework!$E6) -> 0 | F5: =IF(Rework!$H6="",0,MIN(LEFT(Rework!$H6,IF(ISERROR(FIND("/",Rework!$H6))=TRUE,LEN(Rework!$H6),FIND("/",Rework!$H6)-3)),IF(ISERROR(FIND("/",Rework!$H6))=TRUE,Rework!$H6,TRIM(LEFT(RIGHT(Rework!$H6, LEN(Rework!$H6)-FIND("/",Rework!$H6)),LEN(RIGHT(Rework!$H6, LEN(Rework!$H6)-FIND("/",Rework!$H6)))-1))))) -> 0 | G5: =IF(Rework!$I6="",0,MAX(LEFT(Rework!$I6,IF(ISERROR(FIND("/",Rework!$I6))=TRUE,LEN(Rework!$I6),FIND("/",Rework!$I6)-3)),IF(ISERROR(FIND("/",Rework!$I6))=TRUE,Rework!$I6,TRIM(LEFT(RIGHT(Rework!$I6, LEN(Rework!$I6)-FIND("/",Rework!$I6)),LEN(RIGHT(Rework!$I6, LEN(Rework!$I6)-FIND("/",Rework!$I6)))-1))))) -> 0 | H5: =IF(Rework!W6>0,IF(Rework!W6>1,2,1),0) -> 0 | I5: =IF(Rework!X6="",IF(Rework!$E6=61.5,2400,1800),Rework!X6) -> 1800 | J5: 30 | K5: =IF(ISERROR(FIND("Belt",Rework!C6))=FALSE,0.3,IF(ISERROR(FIND("Roller",Rework!C6))=FALSE,0.05,0.25)) -> 0.25 | L5: 1 | M5: 0.95 | N5: 0.85 | O5: =IF(ISERROR(FIND("M",Rework!$N6))=TRUE,0.95,1) -> 0.95 | P5: 1 | Q5: =IF(B5=0,0,(I5*J5)/(60*B5)) -> 0 | R5: =IF(E5=0,0,(2*L5*((E5-1)/12))) -> 0 | S5: =IF(B5=0,0,(1.25*B5*K5*C5*(Q5+R5))/(33000*M5*N5*O5)) -> 0 | T5: =IF(AND(G5=0,F5=0),0,(1.25*I5*J5*((G5-F5)/12))/(60*33000*M5*N5*O5)) -> 0 | U5: =IF(E5=0,0,(1.25*B5*0.05*(Q5+(((E5/12)-1)*L5))*C5)/(60*33000*M5*N5*O5)) -> 0 | V5: =IF(H5=0,0,(1.25*B5*K5*(H5*((12*(E5-1))+200)))/(33000*M5*N5*O5)) -> 0 | W5: =IF(D5=0,0,(1.25*B5*K5*D5*(Q5+R5))/(33000*M5*N5*O5*O5)+5*(0.01*(500+1.25*((Q5+R5)*K5*D5)))*B5/(33000*M5*N5*O5*O5)) -> 0 | X5: =IF(B5=0,0,ROUNDUP(((AA5/B5)*33000*N5),0)) -> 0 | Y5: =IF(C5="",0,ROUNDUP((((K5*(C5+D5)*(Q5+R5))+(J5+((G5-F5)/12)))/0.85),0)) -> 36 | Z5: =S5+T5+U5+V5+W5 -> 0 | AA5: =VLOOKUP(Z5,$AD$3:$AF$13,3,TRUE) -> 2 | AB5: =VLOOKUP(X5,$AH$3:$AJ$5,3,TRUE) -> 8 | AD5: 1.5001 | AE5: 2 | AF5: 2 | AH5: 2000.01 | AJ5: "Split Conveyor" | AL5: ACC-1002 | AM5: 1-Sided Split Chart Holder
A6: ='Conveyor List'!#REF! -> #REF! | B6: =IF(AND(Rework!$K7="",Rework!$L7=""),0,MAX(MAX(LEFT(Rework!$K7,IF(ISERROR(FIND("/",Rework!$K7))=TRUE,LEN(Rework!$K7),FIND("/",Rework!$K7)-2)),TRIM(RIGHT(Rework!$K7,LEN(Rework!$K7)-IF(ISERROR(FIND("/",Rework!$K7))=TRUE,0,FIND("/",Rework!$K7))))),MAX(LEFT(Rework!$L7,IF(ISERROR(FIND("/",Rework!$L7))=TRUE,LEN(Rework!$L7),FIND("/",Rework!$L7)-2)),TRIM(RIGHT(Rework!$L7,LEN(Rework!$L7)-IF(ISERROR(FIND("/",Rework!$L7))=TRUE,0,FIND("/",Rework!$L7))))))) -> 0 | C6: =IF(AND(Rework!$F7="",Rework!$G7=""),0,Rework!$F7+Rework!$G7/12) -> 0 | D6: =IF(AND(Rework!F7="",Rework!G7=""),0,IF(ISERROR(FIND("Slave",Rework!C7)) =FALSE,Rework!F8+Rework!G8/12,0)) -> 0 | E6: =IF(Rework!$E7="",0,Rework!$E7) -> 0 | F6: =IF(Rework!$H7="",0,MIN(LEFT(Rework!$H7,IF(ISERROR(FIND("/",Rework!$H7))=TRUE,LEN(Rework!$H7),FIND("/",Rework!$H7)-3)),IF(ISERROR(FIND("/",Rework!$H7))=TRUE,Rework!$H7,TRIM(LEFT(RIGHT(Rework!$H7, LEN(Rework!$H7)-FIND("/",Rework!$H7)),LEN(RIGHT(Rework!$H7, LEN(Rework!$H7)-FIND("/",Rework!$H7)))-1))))) -> 0 | G6: =IF(Rework!$I7="",0,MAX(LEFT(Rework!$I7,IF(ISERROR(FIND("/",Rework!$I7))=TRUE,LEN(Rework!$I7),FIND("/",Rework!$I7)-3)),IF(ISERROR(FIND("/",Rework!$I7))=TRUE,Rework!$I7,TRIM(LEFT(RIGHT(Rework!$I7, LEN(Rework!$I7)-FIND("/",Rework!$I7)),LEN(RIGHT(Rework!$I7, LEN(Rework!$I7)-FIND("/",Rework!$I7)))-1))))) -> 0 | H6: =IF(Rework!W7>0,IF(Rework!W7>1,2,1),0) -> 0 | I6: =IF(Rework!X7="",IF(Rework!$E7=61.5,2400,1800),Rework!X7) -> 1800 | J6: 30 | K6: =IF(ISERROR(FIND("Belt",Rework!C7))=FALSE,0.3,IF(ISERROR(FIND("Roller",Rework!C7))=FALSE,0.05,0.25)) -> 0.25 | L6: 1 | M6: 0.95 | N6: 0.85 | O6: =IF(ISERROR(FIND("M",Rework!$N7))=TRUE,0.95,1) -> 0.95 | P6: 1 | Q6: =IF(B6=0,0,(I6*J6)/(60*B6)) -> 0 | R6: =IF(E6=0,0,(2*L6*((E6-1)/12))) -> 0 | S6: =IF(B6=0,0,(1.25*B6*K6*C6*(Q6+R6))/(33000*M6*N6*O6)) -> 0 | T6: =IF(AND(G6=0,F6=0),0,(1.25*I6*J6*((G6-F6)/12))/(60*33000*M6*N6*O6)) -> 0 | U6: =IF(E6=0,0,(1.25*B6*0.05*(Q6+(((E6/12)-1)*L6))*C6)/(60*33000*M6*N6*O6)) -> 0 | V6: =IF(H6=0,0,(1.25*B6*K6*(H6*((12*(E6-1))+200)))/(33000*M6*N6*O6)) -> 0 | W6: =IF(D6=0,0,(1.25*B6*K6*D6*(Q6+R6))/(33000*M6*N6*O6*O6)+5*(0.01*(500+1.25*((Q6+R6)*K6*D6)))*B6/(33000*M6*N6*O6*O6)) -> 0 | X6: =IF(B6=0,0,ROUNDUP(((AA6/B6)*33000*N6),0)) -> 0 | Y6: =IF(C6="",0,ROUNDUP((((K6*(C6+D6)*(Q6+R6))+(J6+((G6-F6)/12)))/0.85),0)) -> 36 | Z6: =S6+T6+U6+V6+W6 -> 0 | AA6: =VLOOKUP(Z6,$AD$3:$AF$13,3,TRUE) -> 2 | AB6: =VLOOKUP(X6,$AH$3:$AJ$5,3,TRUE) -> 8 | AD6: 2.0001 | AE6: 3 | AF6: 3 | AL6: ACC-1003 | AM6: 2-Sided Split Chart Holder
A7: ='Conveyor List'!#REF! -> #REF! | B7: =IF(AND(Rework!$K8="",Rework!$L8=""),0,MAX(MAX(LEFT(Rework!$K8,IF(ISERROR(FIND("/",Rework!$K8))=TRUE,LEN(Rework!$K8),FIND("/",Rework!$K8)-2)),TRIM(RIGHT(Rework!$K8,LEN(Rework!$K8)-IF(ISERROR(FIND("/",Rework!$K8))=TRUE,0,FIND("/",Rework!$K8))))),MAX(LEFT(Rework!$L8,IF(ISERROR(FIND("/",Rework!$L8))=TRUE,LEN(Rework!$L8),FIND("/",Rework!$L8)-2)),TRIM(RIGHT(Rework!$L8,LEN(Rework!$L8)-IF(ISERROR(FIND("/",Rework!$L8))=TRUE,0,FIND("/",Rework!$L8))))))) -> 0 | C7: =IF(AND(Rework!$F8="",Rework!$G8=""),0,Rework!$F8+Rework!$G8/12) -> 0 | D7: =IF(AND(Rework!F8="",Rework!G8=""),0,IF(ISERROR(FIND("Slave",Rework!C8)) =FALSE,Rework!F9+Rework!G9/12,0)) -> 0 | E7: =IF(Rework!$E8="",0,Rework!$E8) -> 0 | F7: =IF(Rework!$H8="",0,MIN(LEFT(Rework!$H8,IF(ISERROR(FIND("/",Rework!$H8))=TRUE,LEN(Rework!$H8),FIND("/",Rework!$H8)-3)),IF(ISERROR(FIND("/",Rework!$H8))=TRUE,Rework!$H8,TRIM(LEFT(RIGHT(Rework!$H8, LEN(Rework!$H8)-FIND("/",Rework!$H8)),LEN(RIGHT(Rework!$H8, LEN(Rework!$H8)-FIND("/",Rework!$H8)))-1))))) -> 0 | G7: =IF(Rework!$I8="",0,MAX(LEFT(Rework!$I8,IF(ISERROR(FIND("/",Rework!$I8))=TRUE,LEN(Rework!$I8),FIND("/",Rework!$I8)-3)),IF(ISERROR(FIND("/",Rework!$I8))=TRUE,Rework!$I8,TRIM(LEFT(RIGHT(Rework!$I8, LEN(Rework!$I8)-FIND("/",Rework!$I8)),LEN(RIGHT(Rework!$I8, LEN(Rework!$I8)-FIND("/",Rework!$I8)))-1))))) -> 0 | H7: =IF(Rework!W8>0,IF(Rework!W8>1,2,1),0) -> 0 | I7: =IF(Rework!X8="",IF(Rework!$E8=61.5,2400,1800),Rework!X8) -> 1800 | J7: 30 | K7: =IF(ISERROR(FIND("Belt",Rework!C8))=FALSE,0.3,IF(ISERROR(FIND("Roller",Rework!C8))=FALSE,0.05,0.25)) -> 0.25 | L7: 1 | M7: 0.95 | N7: 0.85 | O7: =IF(ISERROR(FIND("M",Rework!$N8))=TRUE,0.95,1) -> 0.95 | P7: 1 | Q7: =IF(B7=0,0,(I7*J7)/(60*B7)) -> 0 | R7: =IF(E7=0,0,(2*L7*((E7-1)/12))) -> 0 | S7: =IF(B7=0,0,(1.25*B7*K7*C7*(Q7+R7))/(33000*M7*N7*O7)) -> 0 | T7: =IF(AND(G7=0,F7=0),0,(1.25*I7*J7*((G7-F7)/12))/(60*33000*M7*N7*O7)) -> 0 | U7: =IF(E7=0,0,(1.25*B7*0.05*(Q7+(((E7/12)-1)*L7))*C7)/(60*33000*M7*N7*O7)) -> 0 | V7: =IF(H7=0,0,(1.25*B7*K7*(H7*((12*(E7-1))+200)))/(33000*M7*N7*O7)) -> 0 | W7: =IF(D7=0,0,(1.25*B7*K7*D7*(Q7+R7))/(33000*M7*N7*O7*O7)+5*(0.01*(500+1.25*((Q7+R7)*K7*D7)))*B7/(33000*M7*N7*O7*O7)) -> 0 | X7: =IF(B7=0,0,ROUNDUP(((AA7/B7)*33000*N7),0)) -> 0 | Y7: =IF(C7="",0,ROUNDUP((((K7*(C7+D7)*(Q7+R7))+(J7+((G7-F7)/12)))/0.85),0)) -> 36 | Z7: =S7+T7+U7+V7+W7 -> 0 | AA7: =VLOOKUP(Z7,$AD$3:$AF$13,3,TRUE) -> 2 | AB7: =VLOOKUP(X7,$AH$3:$AJ$5,3,TRUE) -> 8 | AD7: 3.0001 | AE7: 5 | AF7: 5 | AL7: ACC-1006 | AM7: 2-Sided Load Chart Holder
A8: ='Conveyor List'!#REF! -> #REF! | B8: =IF(AND(Rework!$K9="",Rework!$L9=""),0,MAX(MAX(LEFT(Rework!$K9,IF(ISERROR(FIND("/",Rework!$K9))=TRUE,LEN(Rework!$K9),FIND("/",Rework!$K9)-2)),TRIM(RIGHT(Rework!$K9,LEN(Rework!$K9)-IF(ISERROR(FIND("/",Rework!$K9))=TRUE,0,FIND("/",Rework!$K9))))),MAX(LEFT(Rework!$L9,IF(ISERROR(FIND("/",Rework!$L9))=TRUE,LEN(Rework!$L9),FIND("/",Rework!$L9)-2)),TRIM(RIGHT(Rework!$L9,LEN(Rework!$L9)-IF(ISERROR(FIND("/",Rework!$L9))=TRUE,0,FIND("/",Rework!$L9))))))) -> 0 | C8: =IF(AND(Rework!$F9="",Rework!$G9=""),0,Rework!$F9+Rework!$G9/12) -> 0 | D8: =IF(AND(Rework!F9="",Rework!G9=""),0,IF(ISERROR(FIND("Slave",Rework!C9)) =FALSE,Rework!F10+Rework!G10/12,0)) -> 0 | E8: =IF(Rework!$E9="",0,Rework!$E9) -> 0 | F8: =IF(Rework!$H9="",0,MIN(LEFT(Rework!$H9,IF(ISERROR(FIND("/",Rework!$H9))=TRUE,LEN(Rework!$H9),FIND("/",Rework!$H9)-3)),IF(ISERROR(FIND("/",Rework!$H9))=TRUE,Rework!$H9,TRIM(LEFT(RIGHT(Rework!$H9, LEN(Rework!$H9)-FIND("/",Rework!$H9)),LEN(RIGHT(Rework!$H9, LEN(Rework!$H9)-FIND("/",Rework!$H9)))-1))))) -> 0 | G8: =IF(Rework!$I9="",0,MAX(LEFT(Rework!$I9,IF(ISERROR(FIND("/",Rework!$I9))=TRUE,LEN(Rework!$I9),FIND("/",Rework!$I9)-3)),IF(ISERROR(FIND("/",Rework!$I9))=TRUE,Rework!$I9,TRIM(LEFT(RIGHT(Rework!$I9, LEN(Rework!$I9)-FIND("/",Rework!$I9)),LEN(RIGHT(Rework!$I9, LEN(Rework!$I9)-FIND("/",Rework!$I9)))-1))))) -> 0 | H8: =IF(Rework!W9>0,IF(Rework!W9>1,2,1),0) -> 0 | I8: =IF(Rework!X9="",IF(Rework!$E9=61.5,2400,1800),Rework!X9) -> 1800 | J8: 30 | K8: =IF(ISERROR(FIND("Belt",Rework!C9))=FALSE,0.3,IF(ISERROR(FIND("Roller",Rework!C9))=FALSE,0.05,0.25)) -> 0.25 | L8: 1 | M8: 0.95 | N8: 0.85 | O8: =IF(ISERROR(FIND("M",Rework!$N9))=TRUE,0.95,1) -> 0.95 | P8: 1 | Q8: =IF(B8=0,0,(I8*J8)/(60*B8)) -> 0 | R8: =IF(E8=0,0,(2*L8*((E8-1)/12))) -> 0 | S8: =IF(B8=0,0,(1.25*B8*K8*C8*(Q8+R8))/(33000*M8*N8*O8)) -> 0 | T8: =IF(AND(G8=0,F8=0),0,(1.25*I8*J8*((G8-F8)/12))/(60*33000*M8*N8*O8)) -> 0 | U8: =IF(E8=0,0,(1.25*B8*0.05*(Q8+(((E8/12)-1)*L8))*C8)/(60*33000*M8*N8*O8)) -> 0 | V8: =IF(H8=0,0,(1.25*B8*K8*(H8*((12*(E8-1))+200)))/(33000*M8*N8*O8)) -> 0 | W8: =IF(D8=0,0,(1.25*B8*K8*D8*(Q8+R8))/(33000*M8*N8*O8*O8)+5*(0.01*(500+1.25*((Q8+R8)*K8*D8)))*B8/(33000*M8*N8*O8*O8)) -> 0 | X8: =IF(B8=0,0,ROUNDUP(((AA8/B8)*33000*N8),0)) -> 0 | Y8: =IF(C8="",0,ROUNDUP((((K8*(C8+D8)*(Q8+R8))+(J8+((G8-F8)/12)))/0.85),0)) -> 36 | Z8: =S8+T8+U8+V8+W8 -> 0 | AA8: =VLOOKUP(Z8,$AD$3:$AF$13,3,TRUE) -> 2 | AB8: =VLOOKUP(X8,$AH$3:$AJ$5,3,TRUE) -> 8 | AD8: 5.0001 | AE8: 7.5 | AF8: 7.5 | AL8: ACC-1008 | AM8: HD Comingle LCH Holder
A9: ='Conveyor List'!#REF! -> #REF! | B9: =IF(AND(Rework!$K10="",Rework!$L10=""),0,MAX(MAX(LEFT(Rework!$K10,IF(ISERROR(FIND("/",Rework!$K10))=TRUE,LEN(Rework!$K10),FIND("/",Rework!$K10)-2)),TRIM(RIGHT(Rework!$K10,LEN(Rework!$K10)-IF(ISERROR(FIND("/",Rework!$K10))=TRUE,0,FIND("/",Rework!$K10))))),MAX(LEFT(Rework!$L10,IF(ISERROR(FIND("/",Rework!$L10))=TRUE,LEN(Rework!$L10),FIND("/",Rework!$L10)-2)),TRIM(RIGHT(Rework!$L10,LEN(Rework!$L10)-IF(ISERROR(FIND("/",Rework!$L10))=TRUE,0,FIND("/",Rework!$L10))))))) -> 0 | C9: =IF(AND(Rework!$F10="",Rework!$G10=""),0,Rework!$F10+Rework!$G10/12) -> 0 | D9: =IF(AND(Rework!F10="",Rework!G10=""),0,IF(ISERROR(FIND("Slave",Rework!C10)) =FALSE,Rework!F11+Rework!G11/12,0)) -> 0 | E9: =IF(Rework!$E10="",0,Rework!$E10) -> 0 | F9: =IF(Rework!$H10="",0,MIN(LEFT(Rework!$H10,IF(ISERROR(FIND("/",Rework!$H10))=TRUE,LEN(Rework!$H10),FIND("/",Rework!$H10)-3)),IF(ISERROR(FIND("/",Rework!$H10))=TRUE,Rework!$H10,TRIM(LEFT(RIGHT(Rework!$H10, LEN(Rework!$H10)-FIND("/",Rework!$H10)),LEN(RIGHT(Rework!$H10, LEN(Rework!$H10)-FIND("/",Rework!$H10)))-1))))) -> 0 | G9: =IF(Rework!$I10="",0,MAX(LEFT(Rework!$I10,IF(ISERROR(FIND("/",Rework!$I10))=TRUE,LEN(Rework!$I10),FIND("/",Rework!$I10)-3)),IF(ISERROR(FIND("/",Rework!$I10))=TRUE,Rework!$I10,TRIM(LEFT(RIGHT(Rework!$I10, LEN(Rework!$I10)-FIND("/",Rework!$I10)),LEN(RIGHT(Rework!$I10, LEN(Rework!$I10)-FIND("/",Rework!$I10)))-1))))) -> 0 | H9: =IF(Rework!W10>0,IF(Rework!W10>1,2,1),0) -> 0 | I9: =IF(Rework!X10="",IF(Rework!$E10=61.5,2400,1800),Rework!X10) -> 1800 | J9: 30 | K9: =IF(ISERROR(FIND("Belt",Rework!C10))=FALSE,0.3,IF(ISERROR(FIND("Roller",Rework!C10))=FALSE,0.05,0.25)) -> 0.25 | L9: 1 | M9: 0.95 | N9: 0.85 | O9: =IF(ISERROR(FIND("M",Rework!$N10))=TRUE,0.95,1) -> 0.95 | P9: 1 | Q9: =IF(B9=0,0,(I9*J9)/(60*B9)) -> 0 | R9: =IF(E9=0,0,(2*L9*((E9-1)/12))) -> 0 | S9: =IF(B9=0,0,(1.25*B9*K9*C9*(Q9+R9))/(33000*M9*N9*O9)) -> 0 | T9: =IF(AND(G9=0,F9=0),0,(1.25*I9*J9*((G9-F9)/12))/(60*33000*M9*N9*O9)) -> 0 | U9: =IF(E9=0,0,(1.25*B9*0.05*(Q9+(((E9/12)-1)*L9))*C9)/(60*33000*M9*N9*O9)) -> 0 | V9: =IF(H9=0,0,(1.25*B9*K9*(H9*((12*(E9-1))+200)))/(33000*M9*N9*O9)) -> 0 | W9: =IF(D9=0,0,(1.25*B9*K9*D9*(Q9+R9))/(33000*M9*N9*O9*O9)+5*(0.01*(500+1.25*((Q9+R9)*K9*D9)))*B9/(33000*M9*N9*O9*O9)) -> 0 | X9: =IF(B9=0,0,ROUNDUP(((AA9/B9)*33000*N9),0)) -> 0 | Y9: =IF(C9="",0,ROUNDUP((((K9*(C9+D9)*(Q9+R9))+(J9+((G9-F9)/12)))/0.85),0)) -> 36 | Z9: =S9+T9+U9+V9+W9 -> 0 | AA9: =VLOOKUP(Z9,$AD$3:$AF$13,3,TRUE) -> 2 | AB9: =VLOOKUP(X9,$AH$3:$AJ$5,3,TRUE) -> 8 | AD9: 7.5001 | AE9: 10 | AF9: 10 | AL9: ACC-2002 | AM9: Tool Balancer
A10: ='Conveyor List'!#REF! -> #REF! | B10: =IF(AND(Rework!$K11="",Rework!$L11=""),0,MAX(MAX(LEFT(Rework!$K11,IF(ISERROR(FIND("/",Rework!$K11))=TRUE,LEN(Rework!$K11),FIND("/",Rework!$K11)-2)),TRIM(RIGHT(Rework!$K11,LEN(Rework!$K11)-IF(ISERROR(FIND("/",Rework!$K11))=TRUE,0,FIND("/",Rework!$K11))))),MAX(LEFT(Rework!$L11,IF(ISERROR(FIND("/",Rework!$L11))=TRUE,LEN(Rework!$L11),FIND("/",Rework!$L11)-2)),TRIM(RIGHT(Rework!$L11,LEN(Rework!$L11)-IF(ISERROR(FIND("/",Rework!$L11))=TRUE,0,FIND("/",Rework!$L11))))))) -> 0 | C10: =IF(AND(Rework!$F11="",Rework!$G11=""),0,Rework!$F11+Rework!$G11/12) -> 0 | D10: =IF(AND(Rework!F11="",Rework!G11=""),0,IF(ISERROR(FIND("Slave",Rework!C11)) =FALSE,Rework!F12+Rework!G12/12,0)) -> 0 | E10: =IF(Rework!$E11="",0,Rework!$E11) -> 0 | F10: =IF(Rework!$H11="",0,MIN(LEFT(Rework!$H11,IF(ISERROR(FIND("/",Rework!$H11))=TRUE,LEN(Rework!$H11),FIND("/",Rework!$H11)-3)),IF(ISERROR(FIND("/",Rework!$H11))=TRUE,Rework!$H11,TRIM(LEFT(RIGHT(Rework!$H11, LEN(Rework!$H11)-FIND("/",Rework!$H11)),LEN(RIGHT(Rework!$H11, LEN(Rework!$H11)-FIND("/",Rework!$H11)))-1))))) -> 0 | G10: =IF(Rework!$I11="",0,MAX(LEFT(Rework!$I11,IF(ISERROR(FIND("/",Rework!$I11))=TRUE,LEN(Rework!$I11),FIND("/",Rework!$I11)-3)),IF(ISERROR(FIND("/",Rework!$I11))=TRUE,Rework!$I11,TRIM(LEFT(RIGHT(Rework!$I11, LEN(Rework!$I11)-FIND("/",Rework!$I11)),LEN(RIGHT(Rework!$I11, LEN(Rework!$I11)-FIND("/",Rework!$I11)))-1))))) -> 0 | H10: =IF(Rework!W11>0,IF(Rework!W11>1,2,1),0) -> 0 | I10: =IF(Rework!X11="",IF(Rework!$E11=61.5,2400,1800),Rework!X11) -> 1800 | J10: 30 | K10: =IF(ISERROR(FIND("Belt",Rework!C11))=FALSE,0.3,IF(ISERROR(FIND("Roller",Rework!C11))=FALSE,0.05,0.25)) -> 0.25 | L10: 1 | M10: 0.95 | N10: 0.85 | O10: =IF(ISERROR(FIND("M",Rework!$N11))=TRUE,0.95,1) -> 0.95 | P10: 1 | Q10: =IF(B10=0,0,(I10*J10)/(60*B10)) -> 0 | R10: =IF(E10=0,0,(2*L10*((E10-1)/12))) -> 0 | S10: =IF(B10=0,0,(1.25*B10*K10*C10*(Q10+R10))/(33000*M10*N10*O10)) -> 0 | T10: =IF(AND(G10=0,F10=0),0,(1.25*I10*J10*((G10-F10)/12))/(60*33000*M10*N10*O10)) -> 0 | U10: =IF(E10=0,0,(1.25*B10*0.05*(Q10+(((E10/12)-1)*L10))*C10)/(60*33000*M10*N10*O10)) -> 0 | V10: =IF(H10=0,0,(1.25*B10*K10*(H10*((12*(E10-1))+200)))/(33000*M10*N10*O10)) -> 0 | W10: =IF(D10=0,0,(1.25*B10*K10*D10*(Q10+R10))/(33000*M10*N10*O10*O10)+5*(0.01*(500+1.25*((Q10+R10)*K10*D10)))*B10/(33000*M10*N10*O10*O10)) -> 0 | X10: =IF(B10=0,0,ROUNDUP(((AA10/B10)*33000*N10),0)) -> 0 | Y10: =IF(C10="",0,ROUNDUP((((K10*(C10+D10)*(Q10+R10))+(J10+((G10-F10)/12)))/0.85),0)) -> 36 | Z10: =S10+T10+U10+V10+W10 -> 0 | AA10: =VLOOKUP(Z10,$AD$3:$AF$13,3,TRUE) -> 2 | AB10: =VLOOKUP(X10,$AH$3:$AJ$5,3,TRUE) -> 8 | AD10: 10.001 | AE10: 15 | AF10: 15 | AL10: ACC-4001 | AM10: Package Paddle
A11: ='Conveyor List'!#REF! -> #REF! | B11: =IF(AND(Rework!$K12="",Rework!$L12=""),0,MAX(MAX(LEFT(Rework!$K12,IF(ISERROR(FIND("/",Rework!$K12))=TRUE,LEN(Rework!$K12),FIND("/",Rework!$K12)-2)),TRIM(RIGHT(Rework!$K12,LEN(Rework!$K12)-IF(ISERROR(FIND("/",Rework!$K12))=TRUE,0,FIND("/",Rework!$K12))))),MAX(LEFT(Rework!$L12,IF(ISERROR(FIND("/",Rework!$L12))=TRUE,LEN(Rework!$L12),FIND("/",Rework!$L12)-2)),TRIM(RIGHT(Rework!$L12,LEN(Rework!$L12)-IF(ISERROR(FIND("/",Rework!$L12))=TRUE,0,FIND("/",Rework!$L12))))))) -> 0 | C11: =IF(AND(Rework!$F12="",Rework!$G12=""),0,Rework!$F12+Rework!$G12/12) -> 0 | D11: =IF(AND(Rework!F12="",Rework!G12=""),0,IF(ISERROR(FIND("Slave",Rework!C12)) =FALSE,Rework!F13+Rework!G13/12,0)) -> 0 | E11: =IF(Rework!$E12="",0,Rework!$E12) -> 0 | F11: =IF(Rework!$H12="",0,MIN(LEFT(Rework!$H12,IF(ISERROR(FIND("/",Rework!$H12))=TRUE,LEN(Rework!$H12),FIND("/",Rework!$H12)-3)),IF(ISERROR(FIND("/",Rework!$H12))=TRUE,Rework!$H12,TRIM(LEFT(RIGHT(Rework!$H12, LEN(Rework!$H12)-FIND("/",Rework!$H12)),LEN(RIGHT(Rework!$H12, LEN(Rework!$H12)-FIND("/",Rework!$H12)))-1))))) -> 0 | G11: =IF(Rework!$I12="",0,MAX(LEFT(Rework!$I12,IF(ISERROR(FIND("/",Rework!$I12))=TRUE,LEN(Rework!$I12),FIND("/",Rework!$I12)-3)),IF(ISERROR(FIND("/",Rework!$I12))=TRUE,Rework!$I12,TRIM(LEFT(RIGHT(Rework!$I12, LEN(Rework!$I12)-FIND("/",Rework!$I12)),LEN(RIGHT(Rework!$I12, LEN(Rework!$I12)-FIND("/",Rework!$I12)))-1))))) -> 0 | H11: =IF(Rework!W12>0,IF(Rework!W12>1,2,1),0) -> 0 | I11: =IF(Rework!X12="",IF(Rework!$E12=61.5,2400,1800),Rework!X12) -> 1800 | J11: 30 | K11: =IF(ISERROR(FIND("Belt",Rework!C12))=FALSE,0.3,IF(ISERROR(FIND("Roller",Rework!C12))=FALSE,0.05,0.25)) -> 0.25 | L11: 1 | M11: 0.95 | N11: 0.85 | O11: =IF(ISERROR(FIND("M",Rework!$N12))=TRUE,0.95,1) -> 0.95 | P11: 1 | Q11: =IF(B11=0,0,(I11*J11)/(60*B11)) -> 0 | R11: =IF(E11=0,0,(2*L11*((E11-1)/12))) -> 0 | S11: =IF(B11=0,0,(1.25*B11*K11*C11*(Q11+R11))/(33000*M11*N11*O11)) -> 0 | T11: =IF(AND(G11=0,F11=0),0,(1.25*I11*J11*((G11-F11)/12))/(60*33000*M11*N11*O11)) -> 0 | U11: =IF(E11=0,0,(1.25*B11*0.05*(Q11+(((E11/12)-1)*L11))*C11)/(60*33000*M11*N11*O11)) -> 0 | V11: =IF(H11=0,0,(1.25*B11*K11*(H11*((12*(E11-1))+200)))/(33000*M11*N11*O11)) -> 0 | W11: =IF(D11=0,0,(1.25*B11*K11*D11*(Q11+R11))/(33000*M11*N11*O11*O11)+5*(0.01*(500+1.25*((Q11+R11)*K11*D11)))*B11/(33000*M11*N11*O11*O11)) -> 0 | X11: =IF(B11=0,0,ROUNDUP(((AA11/B11)*33000*N11),0)) -> 0 | Y11: =IF(C11="",0,ROUNDUP((((K11*(C11+D11)*(Q11+R11))+(J11+((G11-F11)/12)))/0.85),0)) -> 36 | Z11: =S11+T11+U11+V11+W11 -> 0 | AA11: =VLOOKUP(Z11,$AD$3:$AF$13,3,TRUE) -> 2 | AB11: =VLOOKUP(X11,$AH$3:$AJ$5,3,TRUE) -> 8 | AD11: 15.001 | AE11: 20 | AF11: 20 | AL11: ACC-4002 | AM11: Package Plunger
A12: ='Conveyor List'!#REF! -> #REF! | B12: =IF(AND(Rework!$K13="",Rework!$L13=""),0,MAX(MAX(LEFT(Rework!$K13,IF(ISERROR(FIND("/",Rework!$K13))=TRUE,LEN(Rework!$K13),FIND("/",Rework!$K13)-2)),TRIM(RIGHT(Rework!$K13,LEN(Rework!$K13)-IF(ISERROR(FIND("/",Rework!$K13))=TRUE,0,FIND("/",Rework!$K13))))),MAX(LEFT(Rework!$L13,IF(ISERROR(FIND("/",Rework!$L13))=TRUE,LEN(Rework!$L13),FIND("/",Rework!$L13)-2)),TRIM(RIGHT(Rework!$L13,LEN(Rework!$L13)-IF(ISERROR(FIND("/",Rework!$L13))=TRUE,0,FIND("/",Rework!$L13))))))) -> 0 | C12: =IF(AND(Rework!$F13="",Rework!$G13=""),0,Rework!$F13+Rework!$G13/12) -> 0 | D12: =IF(AND(Rework!F13="",Rework!G13=""),0,IF(ISERROR(FIND("Slave",Rework!C13)) =FALSE,Rework!F14+Rework!G14/12,0)) -> 0 | E12: =IF(Rework!$E13="",0,Rework!$E13) -> 0 | F12: =IF(Rework!$H13="",0,MIN(LEFT(Rework!$H13,IF(ISERROR(FIND("/",Rework!$H13))=TRUE,LEN(Rework!$H13),FIND("/",Rework!$H13)-3)),IF(ISERROR(FIND("/",Rework!$H13))=TRUE,Rework!$H13,TRIM(LEFT(RIGHT(Rework!$H13, LEN(Rework!$H13)-FIND("/",Rework!$H13)),LEN(RIGHT(Rework!$H13, LEN(Rework!$H13)-FIND("/",Rework!$H13)))-1))))) -> 0 | G12: =IF(Rework!$I13="",0,MAX(LEFT(Rework!$I13,IF(ISERROR(FIND("/",Rework!$I13))=TRUE,LEN(Rework!$I13),FIND("/",Rework!$I13)-3)),IF(ISERROR(FIND("/",Rework!$I13))=TRUE,Rework!$I13,TRIM(LEFT(RIGHT(Rework!$I13, LEN(Rework!$I13)-FIND("/",Rework!$I13)),LEN(RIGHT(Rework!$I13, LEN(Rework!$I13)-FIND("/",Rework!$I13)))-1))))) -> 0 | H12: =IF(Rework!W13>0,IF(Rework!W13>1,2,1),0) -> 0 | I12: =IF(Rework!X13="",IF(Rework!$E13=61.5,2400,1800),Rework!X13) -> 1800 | J12: 30 | K12: =IF(ISERROR(FIND("Belt",Rework!C13))=FALSE,0.3,IF(ISERROR(FIND("Roller",Rework!C13))=FALSE,0.05,0.25)) -> 0.25 | L12: 1 | M12: 0.95 | N12: 0.85 | O12: =IF(ISERROR(FIND("M",Rework!$N13))=TRUE,0.95,1) -> 0.95 | P12: 1 | Q12: =IF(B12=0,0,(I12*J12)/(60*B12)) -> 0 | R12: =IF(E12=0,0,(2*L12*((E12-1)/12))) -> 0 | S12: =IF(B12=0,0,(1.25*B12*K12*C12*(Q12+R12))/(33000*M12*N12*O12)) -> 0 | T12: =IF(AND(G12=0,F12=0),0,(1.25*I12*J12*((G12-F12)/12))/(60*33000*M12*N12*O12)) -> 0 | U12: =IF(E12=0,0,(1.25*B12*0.05*(Q12+(((E12/12)-1)*L12))*C12)/(60*33000*M12*N12*O12)) -> 0 | V12: =IF(H12=0,0,(1.25*B12*K12*(H12*((12*(E12-1))+200)))/(33000*M12*N12*O12)) -> 0 | W12: =IF(D12=0,0,(1.25*B12*K12*D12*(Q12+R12))/(33000*M12*N12*O12*O12)+5*(0.01*(500+1.25*((Q12+R12)*K12*D12)))*B12/(33000*M12*N12*O12*O12)) -> 0 | X12: =IF(B12=0,0,ROUNDUP(((AA12/B12)*33000*N12),0)) -> 0 | Y12: =IF(C12="",0,ROUNDUP((((K12*(C12+D12)*(Q12+R12))+(J12+((G12-F12)/12)))/0.85),0)) -> 36 | Z12: =S12+T12+U12+V12+W12 -> 0 | AA12: =VLOOKUP(Z12,$AD$3:$AF$13,3,TRUE) -> 2 | AB12: =VLOOKUP(X12,$AH$3:$AJ$5,3,TRUE) -> 8 | AD12: 20.001 | AE12: 25 | AF12: 25 | AL12: ACC-4004 | AM12: Vertical Rain Shield Dispenser
A13: ='Conveyor List'!#REF! -> #REF! | B13: =IF(AND(Rework!$K14="",Rework!$L14=""),0,MAX(MAX(LEFT(Rework!$K14,IF(ISERROR(FIND("/",Rework!$K14))=TRUE,LEN(Rework!$K14),FIND("/",Rework!$K14)-2)),TRIM(RIGHT(Rework!$K14,LEN(Rework!$K14)-IF(ISERROR(FIND("/",Rework!$K14))=TRUE,0,FIND("/",Rework!$K14))))),MAX(LEFT(Rework!$L14,IF(ISERROR(FIND("/",Rework!$L14))=TRUE,LEN(Rework!$L14),FIND("/",Rework!$L14)-2)),TRIM(RIGHT(Rework!$L14,LEN(Rework!$L14)-IF(ISERROR(FIND("/",Rework!$L14))=TRUE,0,FIND("/",Rework!$L14))))))) -> 0 | C13: =IF(AND(Rework!$F14="",Rework!$G14=""),0,Rework!$F14+Rework!$G14/12) -> 0 | D13: =IF(AND(Rework!F14="",Rework!G14=""),0,IF(ISERROR(FIND("Slave",Rework!C14)) =FALSE,Rework!F15+Rework!G15/12,0)) -> 0 | E13: =IF(Rework!$E14="",0,Rework!$E14) -> 0 | F13: =IF(Rework!$H14="",0,MIN(LEFT(Rework!$H14,IF(ISERROR(FIND("/",Rework!$H14))=TRUE,LEN(Rework!$H14),FIND("/",Rework!$H14)-3)),IF(ISERROR(FIND("/",Rework!$H14))=TRUE,Rework!$H14,TRIM(LEFT(RIGHT(Rework!$H14, LEN(Rework!$H14)-FIND("/",Rework!$H14)),LEN(RIGHT(Rework!$H14, LEN(Rework!$H14)-FIND("/",Rework!$H14)))-1))))) -> 0 | G13: =IF(Rework!$I14="",0,MAX(LEFT(Rework!$I14,IF(ISERROR(FIND("/",Rework!$I14))=TRUE,LEN(Rework!$I14),FIND("/",Rework!$I14)-3)),IF(ISERROR(FIND("/",Rework!$I14))=TRUE,Rework!$I14,TRIM(LEFT(RIGHT(Rework!$I14, LEN(Rework!$I14)-FIND("/",Rework!$I14)),LEN(RIGHT(Rework!$I14, LEN(Rework!$I14)-FIND("/",Rework!$I14)))-1))))) -> 0 | H13: =IF(Rework!W14>0,IF(Rework!W14>1,2,1),0) -> 0 | I13: =IF(Rework!X14="",IF(Rework!$E14=61.5,2400,1800),Rework!X14) -> 1800 | J13: 30 | K13: =IF(ISERROR(FIND("Belt",Rework!C14))=FALSE,0.3,IF(ISERROR(FIND("Roller",Rework!C14))=FALSE,0.05,0.25)) -> 0.25 | L13: 1 | M13: 0.95 | N13: 0.85 | O13: =IF(ISERROR(FIND("M",Rework!$N14))=TRUE,0.95,1) -> 0.95 | P13: 1 | Q13: =IF(B13=0,0,(I13*J13)/(60*B13)) -> 0 | R13: =IF(E13=0,0,(2*L13*((E13-1)/12))) -> 0 | S13: =IF(B13=0,0,(1.25*B13*K13*C13*(Q13+R13))/(33000*M13*N13*O13)) -> 0 | T13: =IF(AND(G13=0,F13=0),0,(1.25*I13*J13*((G13-F13)/12))/(60*33000*M13*N13*O13)) -> 0 | U13: =IF(E13=0,0,(1.25*B13*0.05*(Q13+(((E13/12)-1)*L13))*C13)/(60*33000*M13*N13*O13)) -> 0 | V13: =IF(H13=0,0,(1.25*B13*K13*(H13*((12*(E13-1))+200)))/(33000*M13*N13*O13)) -> 0 | W13: =IF(D13=0,0,(1.25*B13*K13*D13*(Q13+R13))/(33000*M13*N13*O13*O13)+5*(0.01*(500+1.25*((Q13+R13)*K13*D13)))*B13/(33000*M13*N13*O13*O13)) -> 0 | X13: =IF(B13=0,0,ROUNDUP(((AA13/B13)*33000*N13),0)) -> 0 | Y13: =IF(C13="",0,ROUNDUP((((K13*(C13+D13)*(Q13+R13))+(J13+((G13-F13)/12)))/0.85),0)) -> 36 | Z13: =S13+T13+U13+V13+W13 -> 0 | AA13: =VLOOKUP(Z13,$AD$3:$AF$13,3,TRUE) -> 2 | AB13: =VLOOKUP(X13,$AH$3:$AJ$5,3,TRUE) -> 8 | AD13: 25.001 | AF13: "Split Conveyor" | AL13: ACC-4006 | AM13: Accessor Holder (Tape Gun or Package Paddle)
A14: ='Conveyor List'!#REF! -> #REF! | B14: =IF(AND(Rework!$K15="",Rework!$L15=""),0,MAX(MAX(LEFT(Rework!$K15,IF(ISERROR(FIND("/",Rework!$K15))=TRUE,LEN(Rework!$K15),FIND("/",Rework!$K15)-2)),TRIM(RIGHT(Rework!$K15,LEN(Rework!$K15)-IF(ISERROR(FIND("/",Rework!$K15))=TRUE,0,FIND("/",Rework!$K15))))),MAX(LEFT(Rework!$L15,IF(ISERROR(FIND("/",Rework!$L15))=TRUE,LEN(Rework!$L15),FIND("/",Rework!$L15)-2)),TRIM(RIGHT(Rework!$L15,LEN(Rework!$L15)-IF(ISERROR(FIND("/",Rework!$L15))=TRUE,0,FIND("/",Rework!$L15))))))) -> 0 | C14: =IF(AND(Rework!$F15="",Rework!$G15=""),0,Rework!$F15+Rework!$G15/12) -> 0 | D14: =IF(AND(Rework!F15="",Rework!G15=""),0,IF(ISERROR(FIND("Slave",Rework!C15)) =FALSE,Rework!F16+Rework!G16/12,0)) -> 0 | E14: =IF(Rework!$E15="",0,Rework!$E15) -> 0 | F14: =IF(Rework!$H15="",0,MIN(LEFT(Rework!$H15,IF(ISERROR(FIND("/",Rework!$H15))=TRUE,LEN(Rework!$H15),FIND("/",Rework!$H15)-3)),IF(ISERROR(FIND("/",Rework!$H15))=TRUE,Rework!$H15,TRIM(LEFT(RIGHT(Rework!$H15, LEN(Rework!$H15)-FIND("/",Rework!$H15)),LEN(RIGHT(Rework!$H15, LEN(Rework!$H15)-FIND("/",Rework!$H15)))-1))))) -> 0 | G14: =IF(Rework!$I15="",0,MAX(LEFT(Rework!$I15,IF(ISERROR(FIND("/",Rework!$I15))=TRUE,LEN(Rework!$I15),FIND("/",Rework!$I15)-3)),IF(ISERROR(FIND("/",Rework!$I15))=TRUE,Rework!$I15,TRIM(LEFT(RIGHT(Rework!$I15, LEN(Rework!$I15)-FIND("/",Rework!$I15)),LEN(RIGHT(Rework!$I15, LEN(Rework!$I15)-FIND("/",Rework!$I15)))-1))))) -> 0 | H14: =IF(Rework!W15>0,IF(Rework!W15>1,2,1),0) -> 0 | I14: =IF(Rework!X15="",IF(Rework!$E15=61.5,2400,1800),Rework!X15) -> 1800 | J14: 30 | K14: =IF(ISERROR(FIND("Belt",Rework!C15))=FALSE,0.3,IF(ISERROR(FIND("Roller",Rework!C15))=FALSE,0.05,0.25)) -> 0.25 | L14: 1 | M14: 0.95 | N14: 0.85 | O14: =IF(ISERROR(FIND("M",Rework!$N15))=TRUE,0.95,1) -> 0.95 | P14: 1 | Q14: =IF(B14=0,0,(I14*J14)/(60*B14)) -> 0 | R14: =IF(E14=0,0,(2*L14*((E14-1)/12))) -> 0 | S14: =IF(B14=0,0,(1.25*B14*K14*C14*(Q14+R14))/(33000*M14*N14*O14)) -> 0 | T14: =IF(AND(G14=0,F14=0),0,(1.25*I14*J14*((G14-F14)/12))/(60*33000*M14*N14*O14)) -> 0 | U14: =IF(E14=0,0,(1.25*B14*0.05*(Q14+(((E14/12)-1)*L14))*C14)/(60*33000*M14*N14*O14)) -> 0 | V14: =IF(H14=0,0,(1.25*B14*K14*(H14*((12*(E14-1))+200)))/(33000*M14*N14*O14)) -> 0 | W14: =IF(D14=0,0,(1.25*B14*K14*D14*(Q14+R14))/(33000*M14*N14*O14*O14)+5*(0.01*(500+1.25*((Q14+R14)*K14*D14)))*B14/(33000*M14*N14*O14*O14)) -> 0 | X14: =IF(B14=0,0,ROUNDUP(((AA14/B14)*33000*N14),0)) -> 0 | Y14: =IF(C14="",0,ROUNDUP((((K14*(C14+D14)*(Q14+R14))+(J14+((G14-F14)/12)))/0.85),0)) -> 36 | Z14: =S14+T14+U14+V14+W14 -> 0 | AA14: =VLOOKUP(Z14,$AD$3:$AF$13,3,TRUE) -> 2 | AB14: =VLOOKUP(X14,$AH$3:$AJ$5,3,TRUE) -> 8 | AL14: BMP-2001 | AM14: Straight Truck Bumper
A15: ='Conveyor List'!#REF! -> #REF! | B15: =IF(AND(Rework!$K16="",Rework!$L16=""),0,MAX(MAX(LEFT(Rework!$K16,IF(ISERROR(FIND("/",Rework!$K16))=TRUE,LEN(Rework!$K16),FIND("/",Rework!$K16)-2)),TRIM(RIGHT(Rework!$K16,LEN(Rework!$K16)-IF(ISERROR(FIND("/",Rework!$K16))=TRUE,0,FIND("/",Rework!$K16))))),MAX(LEFT(Rework!$L16,IF(ISERROR(FIND("/",Rework!$L16))=TRUE,LEN(Rework!$L16),FIND("/",Rework!$L16)-2)),TRIM(RIGHT(Rework!$L16,LEN(Rework!$L16)-IF(ISERROR(FIND("/",Rework!$L16))=TRUE,0,FIND("/",Rework!$L16))))))) -> 0 | C15: =IF(AND(Rework!$F16="",Rework!$G16=""),0,Rework!$F16+Rework!$G16/12) -> 0 | D15: =IF(AND(Rework!F16="",Rework!G16=""),0,IF(ISERROR(FIND("Slave",Rework!C16)) =FALSE,Rework!F17+Rework!G17/12,0)) -> 0 | E15: =IF(Rework!$E16="",0,Rework!$E16) -> 0 | F15: =IF(Rework!$H16="",0,MIN(LEFT(Rework!$H16,IF(ISERROR(FIND("/",Rework!$H16))=TRUE,LEN(Rework!$H16),FIND("/",Rework!$H16)-3)),IF(ISERROR(FIND("/",Rework!$H16))=TRUE,Rework!$H16,TRIM(LEFT(RIGHT(Rework!$H16, LEN(Rework!$H16)-FIND("/",Rework!$H16)),LEN(RIGHT(Rework!$H16, LEN(Rework!$H16)-FIND("/",Rework!$H16)))-1))))) -> 0 | G15: =IF(Rework!$I16="",0,MAX(LEFT(Rework!$I16,IF(ISERROR(FIND("/",Rework!$I16))=TRUE,LEN(Rework!$I16),FIND("/",Rework!$I16)-3)),IF(ISERROR(FIND("/",Rework!$I16))=TRUE,Rework!$I16,TRIM(LEFT(RIGHT(Rework!$I16, LEN(Rework!$I16)-FIND("/",Rework!$I16)),LEN(RIGHT(Rework!$I16, LEN(Rework!$I16)-FIND("/",Rework!$I16)))-1))))) -> 0 | H15: =IF(Rework!W16>0,IF(Rework!W16>1,2,1),0) -> 0 | I15: =IF(Rework!X16="",IF(Rework!$E16=61.5,2400,1800),Rework!X16) -> 1800 | J15: 30 | K15: =IF(ISERROR(FIND("Belt",Rework!C16))=FALSE,0.3,IF(ISERROR(FIND("Roller",Rework!C16))=FALSE,0.05,0.25)) -> 0.25 | L15: 1 | M15: 0.95 | N15: 0.85 | O15: =IF(ISERROR(FIND("M",Rework!$N16))=TRUE,0.95,1) -> 0.95 | P15: 1 | Q15: =IF(B15=0,0,(I15*J15)/(60*B15)) -> 0 | R15: =IF(E15=0,0,(2*L15*((E15-1)/12))) -> 0 | S15: =IF(B15=0,0,(1.25*B15*K15*C15*(Q15+R15))/(33000*M15*N15*O15)) -> 0 | T15: =IF(AND(G15=0,F15=0),0,(1.25*I15*J15*((G15-F15)/12))/(60*33000*M15*N15*O15)) -> 0 | U15: =IF(E15=0,0,(1.25*B15*0.05*(Q15+(((E15/12)-1)*L15))*C15)/(60*33000*M15*N15*O15)) -> 0 | V15: =IF(H15=0,0,(1.25*B15*K15*(H15*((12*(E15-1))+200)))/(33000*M15*N15*O15)) -> 0 | W15: =IF(D15=0,0,(1.25*B15*K15*D15*(Q15+R15))/(33000*M15*N15*O15*O15)+5*(0.01*(500+1.25*((Q15+R15)*K15*D15)))*B15/(33000*M15*N15*O15*O15)) -> 0 | X15: =IF(B15=0,0,ROUNDUP(((AA15/B15)*33000*N15),0)) -> 0 | Y15: =IF(C15="",0,ROUNDUP((((K15*(C15+D15)*(Q15+R15))+(J15+((G15-F15)/12)))/0.85),0)) -> 36 | Z15: =S15+T15+U15+V15+W15 -> 0 | AA15: =VLOOKUP(Z15,$AD$3:$AF$13,3,TRUE) -> 2 | AB15: =VLOOKUP(X15,$AH$3:$AJ$5,3,TRUE) -> 8 | AL15: CON-1002 | AM15: Turning Drum
A16: ='Conveyor List'!#REF! -> #REF! | B16: =IF(AND(Rework!$K17="",Rework!$L17=""),0,MAX(MAX(LEFT(Rework!$K17,IF(ISERROR(FIND("/",Rework!$K17))=TRUE,LEN(Rework!$K17),FIND("/",Rework!$K17)-2)),TRIM(RIGHT(Rework!$K17,LEN(Rework!$K17)-IF(ISERROR(FIND("/",Rework!$K17))=TRUE,0,FIND("/",Rework!$K17))))),MAX(LEFT(Rework!$L17,IF(ISERROR(FIND("/",Rework!$L17))=TRUE,LEN(Rework!$L17),FIND("/",Rework!$L17)-2)),TRIM(RIGHT(Rework!$L17,LEN(Rework!$L17)-IF(ISERROR(FIND("/",Rework!$L17))=TRUE,0,FIND("/",Rework!$L17))))))) -> 0 | C16: =IF(AND(Rework!$F17="",Rework!$G17=""),0,Rework!$F17+Rework!$G17/12) -> 0 | D16: =IF(AND(Rework!F17="",Rework!G17=""),0,IF(ISERROR(FIND("Slave",Rework!C17)) =FALSE,Rework!F18+Rework!G18/12,0)) -> 0 | E16: =IF(Rework!$E17="",0,Rework!$E17) -> 0 | F16: =IF(Rework!$H17="",0,MIN(LEFT(Rework!$H17,IF(ISERROR(FIND("/",Rework!$H17))=TRUE,LEN(Rework!$H17),FIND("/",Rework!$H17)-3)),IF(ISERROR(FIND("/",Rework!$H17))=TRUE,Rework!$H17,TRIM(LEFT(RIGHT(Rework!$H17, LEN(Rework!$H17)-FIND("/",Rework!$H17)),LEN(RIGHT(Rework!$H17, LEN(Rework!$H17)-FIND("/",Rework!$H17)))-1))))) -> 0 | G16: =IF(Rework!$I17="",0,MAX(LEFT(Rework!$I17,IF(ISERROR(FIND("/",Rework!$I17))=TRUE,LEN(Rework!$I17),FIND("/",Rework!$I17)-3)),IF(ISERROR(FIND("/",Rework!$I17))=TRUE,Rework!$I17,TRIM(LEFT(RIGHT(Rework!$I17, LEN(Rework!$I17)-FIND("/",Rework!$I17)),LEN(RIGHT(Rework!$I17, LEN(Rework!$I17)-FIND("/",Rework!$I17)))-1))))) -> 0 | H16: =IF(Rework!W17>0,IF(Rework!W17>1,2,1),0) -> 0 | I16: =IF(Rework!X17="",IF(Rework!$E17=61.5,2400,1800),Rework!X17) -> 1800 | J16: 30 | K16: =IF(ISERROR(FIND("Belt",Rework!C17))=FALSE,0.3,IF(ISERROR(FIND("Roller",Rework!C17))=FALSE,0.05,0.25)) -> 0.25 | L16: 1 | M16: 0.95 | N16: 0.85 | O16: =IF(ISERROR(FIND("M",Rework!$N17))=TRUE,0.95,1) -> 0.95 | P16: 1 | Q16: =IF(B16=0,0,(I16*J16)/(60*B16)) -> 0 | R16: =IF(E16=0,0,(2*L16*((E16-1)/12))) -> 0 | S16: =IF(B16=0,0,(1.25*B16*K16*C16*(Q16+R16))/(33000*M16*N16*O16)) -> 0 | T16: =IF(AND(G16=0,F16=0),0,(1.25*I16*J16*((G16-F16)/12))/(60*33000*M16*N16*O16)) -> 0 | U16: =IF(E16=0,0,(1.25*B16*0.05*(Q16+(((E16/12)-1)*L16))*C16)/(60*33000*M16*N16*O16)) -> 0 | V16: =IF(H16=0,0,(1.25*B16*K16*(H16*((12*(E16-1))+200)))/(33000*M16*N16*O16)) -> 0 | W16: =IF(D16=0,0,(1.25*B16*K16*D16*(Q16+R16))/(33000*M16*N16*O16*O16)+5*(0.01*(500+1.25*((Q16+R16)*K16*D16)))*B16/(33000*M16*N16*O16*O16)) -> 0 | X16: =IF(B16=0,0,ROUNDUP(((AA16/B16)*33000*N16),0)) -> 0 | Y16: =IF(C16="",0,ROUNDUP((((K16*(C16+D16)*(Q16+R16))+(J16+((G16-F16)/12)))/0.85),0)) -> 36 | Z16: =S16+T16+U16+V16+W16 -> 0 | AA16: =VLOOKUP(Z16,$AD$3:$AF$13,3,TRUE) -> 2 | AB16: =VLOOKUP(X16,$AH$3:$AJ$5,3,TRUE) -> 8 | AL16: CON-3001 | AM16: Conveyor Handrail
A17: ='Conveyor List'!#REF! -> #REF! | B17: =IF(AND(Rework!$K18="",Rework!$L18=""),0,MAX(MAX(LEFT(Rework!$K18,IF(ISERROR(FIND("/",Rework!$K18))=TRUE,LEN(Rework!$K18),FIND("/",Rework!$K18)-2)),TRIM(RIGHT(Rework!$K18,LEN(Rework!$K18)-IF(ISERROR(FIND("/",Rework!$K18))=TRUE,0,FIND("/",Rework!$K18))))),MAX(LEFT(Rework!$L18,IF(ISERROR(FIND("/",Rework!$L18))=TRUE,LEN(Rework!$L18),FIND("/",Rework!$L18)-2)),TRIM(RIGHT(Rework!$L18,LEN(Rework!$L18)-IF(ISERROR(FIND("/",Rework!$L18))=TRUE,0,FIND("/",Rework!$L18))))))) -> 0 | C17: =IF(AND(Rework!$F18="",Rework!$G18=""),0,Rework!$F18+Rework!$G18/12) -> 0 | D17: =IF(AND(Rework!F18="",Rework!G18=""),0,IF(ISERROR(FIND("Slave",Rework!C18)) =FALSE,Rework!F19+Rework!G19/12,0)) -> 0 | E17: =IF(Rework!$E18="",0,Rework!$E18) -> 0 | F17: =IF(Rework!$H18="",0,MIN(LEFT(Rework!$H18,IF(ISERROR(FIND("/",Rework!$H18))=TRUE,LEN(Rework!$H18),FIND("/",Rework!$H18)-3)),IF(ISERROR(FIND("/",Rework!$H18))=TRUE,Rework!$H18,TRIM(LEFT(RIGHT(Rework!$H18, LEN(Rework!$H18)-FIND("/",Rework!$H18)),LEN(RIGHT(Rework!$H18, LEN(Rework!$H18)-FIND("/",Rework!$H18)))-1))))) -> 0 | G17: =IF(Rework!$I18="",0,MAX(LEFT(Rework!$I18,IF(ISERROR(FIND("/",Rework!$I18))=TRUE,LEN(Rework!$I18),FIND("/",Rework!$I18)-3)),IF(ISERROR(FIND("/",Rework!$I18))=TRUE,Rework!$I18,TRIM(LEFT(RIGHT(Rework!$I18, LEN(Rework!$I18)-FIND("/",Rework!$I18)),LEN(RIGHT(Rework!$I18, LEN(Rework!$I18)-FIND("/",Rework!$I18)))-1))))) -> 0 | H17: =IF(Rework!W18>0,IF(Rework!W18>1,2,1),0) -> 0 | I17: =IF(Rework!X18="",IF(Rework!$E18=61.5,2400,1800),Rework!X18) -> 1800 | J17: 30 | K17: =IF(ISERROR(FIND("Belt",Rework!C18))=FALSE,0.3,IF(ISERROR(FIND("Roller",Rework!C18))=FALSE,0.05,0.25)) -> 0.25 | L17: 1 | M17: 0.95 | N17: 0.85 | O17: =IF(ISERROR(FIND("M",Rework!$N18))=TRUE,0.95,1) -> 0.95 | P17: 1 | Q17: =IF(B17=0,0,(I17*J17)/(60*B17)) -> 0 | R17: =IF(E17=0,0,(2*L17*((E17-1)/12))) -> 0 | S17: =IF(B17=0,0,(1.25*B17*K17*C17*(Q17+R17))/(33000*M17*N17*O17)) -> 0 | T17: =IF(AND(G17=0,F17=0),0,(1.25*I17*J17*((G17-F17)/12))/(60*33000*M17*N17*O17)) -> 0 | U17: =IF(E17=0,0,(1.25*B17*0.05*(Q17+(((E17/12)-1)*L17))*C17)/(60*33000*M17*N17*O17)) -> 0 | V17: =IF(H17=0,0,(1.25*B17*K17*(H17*((12*(E17-1))+200)))/(33000*M17*N17*O17)) -> 0 | W17: =IF(D17=0,0,(1.25*B17*K17*D17*(Q17+R17))/(33000*M17*N17*O17*O17)+5*(0.01*(500+1.25*((Q17+R17)*K17*D17)))*B17/(33000*M17*N17*O17*O17)) -> 0 | X17: =IF(B17=0,0,ROUNDUP(((AA17/B17)*33000*N17),0)) -> 0 | Y17: =IF(C17="",0,ROUNDUP((((K17*(C17+D17)*(Q17+R17))+(J17+((G17-F17)/12)))/0.85),0)) -> 36 | Z17: =S17+T17+U17+V17+W17 -> 0 | AA17: =VLOOKUP(Z17,$AD$3:$AF$13,3,TRUE) -> 2 | AB17: =VLOOKUP(X17,$AH$3:$AJ$5,3,TRUE) -> 8 | AL17: DIV-1001 | AM17: 45º Delta Diverter (D1)
A18: ='Conveyor List'!#REF! -> #REF! | B18: =IF(AND(Rework!$K19="",Rework!$L19=""),0,MAX(MAX(LEFT(Rework!$K19,IF(ISERROR(FIND("/",Rework!$K19))=TRUE,LEN(Rework!$K19),FIND("/",Rework!$K19)-2)),TRIM(RIGHT(Rework!$K19,LEN(Rework!$K19)-IF(ISERROR(FIND("/",Rework!$K19))=TRUE,0,FIND("/",Rework!$K19))))),MAX(LEFT(Rework!$L19,IF(ISERROR(FIND("/",Rework!$L19))=TRUE,LEN(Rework!$L19),FIND("/",Rework!$L19)-2)),TRIM(RIGHT(Rework!$L19,LEN(Rework!$L19)-IF(ISERROR(FIND("/",Rework!$L19))=TRUE,0,FIND("/",Rework!$L19))))))) -> 0 | C18: =IF(AND(Rework!$F19="",Rework!$G19=""),0,Rework!$F19+Rework!$G19/12) -> 0 | D18: =IF(AND(Rework!F19="",Rework!G19=""),0,IF(ISERROR(FIND("Slave",Rework!C19)) =FALSE,Rework!F20+Rework!G20/12,0)) -> 0 | E18: =IF(Rework!$E19="",0,Rework!$E19) -> 0 | F18: =IF(Rework!$H19="",0,MIN(LEFT(Rework!$H19,IF(ISERROR(FIND("/",Rework!$H19))=TRUE,LEN(Rework!$H19),FIND("/",Rework!$H19)-3)),IF(ISERROR(FIND("/",Rework!$H19))=TRUE,Rework!$H19,TRIM(LEFT(RIGHT(Rework!$H19, LEN(Rework!$H19)-FIND("/",Rework!$H19)),LEN(RIGHT(Rework!$H19, LEN(Rework!$H19)-FIND("/",Rework!$H19)))-1))))) -> 0 | G18: =IF(Rework!$I19="",0,MAX(LEFT(Rework!$I19,IF(ISERROR(FIND("/",Rework!$I19))=TRUE,LEN(Rework!$I19),FIND("/",Rework!$I19)-3)),IF(ISERROR(FIND("/",Rework!$I19))=TRUE,Rework!$I19,TRIM(LEFT(RIGHT(Rework!$I19, LEN(Rework!$I19)-FIND("/",Rework!$I19)),LEN(RIGHT(Rework!$I19, LEN(Rework!$I19)-FIND("/",Rework!$I19)))-1))))) -> 0 | H18: =IF(Rework!W19>0,IF(Rework!W19>1,2,1),0) -> 0 | I18: =IF(Rework!X19="",IF(Rework!$E19=61.5,2400,1800),Rework!X19) -> 1800 | J18: 30 | K18: =IF(ISERROR(FIND("Belt",Rework!C19))=FALSE,0.3,IF(ISERROR(FIND("Roller",Rework!C19))=FALSE,0.05,0.25)) -> 0.25 | L18: 1 | M18: 0.95 | N18: 0.85 | O18: =IF(ISERROR(FIND("M",Rework!$N19))=TRUE,0.95,1) -> 0.95 | P18: 1 | Q18: =IF(B18=0,0,(I18*J18)/(60*B18)) -> 0 | R18: =IF(E18=0,0,(2*L18*((E18-1)/12))) -> 0 | S18: =IF(B18=0,0,(1.25*B18*K18*C18*(Q18+R18))/(33000*M18*N18*O18)) -> 0 | T18: =IF(AND(G18=0,F18=0),0,(1.25*I18*J18*((G18-F18)/12))/(60*33000*M18*N18*O18)) -> 0 | U18: =IF(E18=0,0,(1.25*B18*0.05*(Q18+(((E18/12)-1)*L18))*C18)/(60*33000*M18*N18*O18)) -> 0 | V18: =IF(H18=0,0,(1.25*B18*K18*(H18*((12*(E18-1))+200)))/(33000*M18*N18*O18)) -> 0 | W18: =IF(D18=0,0,(1.25*B18*K18*D18*(Q18+R18))/(33000*M18*N18*O18*O18)+5*(0.01*(500+1.25*((Q18+R18)*K18*D18)))*B18/(33000*M18*N18*O18*O18)) -> 0 | X18: =IF(B18=0,0,ROUNDUP(((AA18/B18)*33000*N18),0)) -> 0 | Y18: =IF(C18="",0,ROUNDUP((((K18*(C18+D18)*(Q18+R18))+(J18+((G18-F18)/12)))/0.85),0)) -> 36 | Z18: =S18+T18+U18+V18+W18 -> 0 | AA18: =VLOOKUP(Z18,$AD$3:$AF$13,3,TRUE) -> 2 | AB18: =VLOOKUP(X18,$AH$3:$AJ$5,3,TRUE) -> 8 | AL18: DIV-1002 | AM18: 30º x 25% Delta Diverter (D2)
A19: ='Conveyor List'!#REF! -> #REF! | B19: =IF(AND(Rework!$K20="",Rework!$L20=""),0,MAX(MAX(LEFT(Rework!$K20,IF(ISERROR(FIND("/",Rework!$K20))=TRUE,LEN(Rework!$K20),FIND("/",Rework!$K20)-2)),TRIM(RIGHT(Rework!$K20,LEN(Rework!$K20)-IF(ISERROR(FIND("/",Rework!$K20))=TRUE,0,FIND("/",Rework!$K20))))),MAX(LEFT(Rework!$L20,IF(ISERROR(FIND("/",Rework!$L20))=TRUE,LEN(Rework!$L20),FIND("/",Rework!$L20)-2)),TRIM(RIGHT(Rework!$L20,LEN(Rework!$L20)-IF(ISERROR(FIND("/",Rework!$L20))=TRUE,0,FIND("/",Rework!$L20))))))) -> 0 | C19: =IF(AND(Rework!$F20="",Rework!$G20=""),0,Rework!$F20+Rework!$G20/12) -> 0 | D19: =IF(AND(Rework!F20="",Rework!G20=""),0,IF(ISERROR(FIND("Slave",Rework!C20)) =FALSE,Rework!F21+Rework!G21/12,0)) -> 0 | E19: =IF(Rework!$E20="",0,Rework!$E20) -> 0 | F19: =IF(Rework!$H20="",0,MIN(LEFT(Rework!$H20,IF(ISERROR(FIND("/",Rework!$H20))=TRUE,LEN(Rework!$H20),FIND("/",Rework!$H20)-3)),IF(ISERROR(FIND("/",Rework!$H20))=TRUE,Rework!$H20,TRIM(LEFT(RIGHT(Rework!$H20, LEN(Rework!$H20)-FIND("/",Rework!$H20)),LEN(RIGHT(Rework!$H20, LEN(Rework!$H20)-FIND("/",Rework!$H20)))-1))))) -> 0 | G19: =IF(Rework!$I20="",0,MAX(LEFT(Rework!$I20,IF(ISERROR(FIND("/",Rework!$I20))=TRUE,LEN(Rework!$I20),FIND("/",Rework!$I20)-3)),IF(ISERROR(FIND("/",Rework!$I20))=TRUE,Rework!$I20,TRIM(LEFT(RIGHT(Rework!$I20, LEN(Rework!$I20)-FIND("/",Rework!$I20)),LEN(RIGHT(Rework!$I20, LEN(Rework!$I20)-FIND("/",Rework!$I20)))-1))))) -> 0 | H19: =IF(Rework!W20>0,IF(Rework!W20>1,2,1),0) -> 0 | I19: =IF(Rework!X20="",IF(Rework!$E20=61.5,2400,1800),Rework!X20) -> 1800 | J19: 30 | K19: =IF(ISERROR(FIND("Belt",Rework!C20))=FALSE,0.3,IF(ISERROR(FIND("Roller",Rework!C20))=FALSE,0.05,0.25)) -> 0.25 | L19: 1 | M19: 0.95 | N19: 0.85 | O19: =IF(ISERROR(FIND("M",Rework!$N20))=TRUE,0.95,1) -> 0.95 | P19: 1 | Q19: =IF(B19=0,0,(I19*J19)/(60*B19)) -> 0 | R19: =IF(E19=0,0,(2*L19*((E19-1)/12))) -> 0 | S19: =IF(B19=0,0,(1.25*B19*K19*C19*(Q19+R19))/(33000*M19*N19*O19)) -> 0 | T19: =IF(AND(G19=0,F19=0),0,(1.25*I19*J19*((G19-F19)/12))/(60*33000*M19*N19*O19)) -> 0 | U19: =IF(E19=0,0,(1.25*B19*0.05*(Q19+(((E19/12)-1)*L19))*C19)/(60*33000*M19*N19*O19)) -> 0 | V19: =IF(H19=0,0,(1.25*B19*K19*(H19*((12*(E19-1))+200)))/(33000*M19*N19*O19)) -> 0 | W19: =IF(D19=0,0,(1.25*B19*K19*D19*(Q19+R19))/(33000*M19*N19*O19*O19)+5*(0.01*(500+1.25*((Q19+R19)*K19*D19)))*B19/(33000*M19*N19*O19*O19)) -> 0 | X19: =IF(B19=0,0,ROUNDUP(((AA19/B19)*33000*N19),0)) -> 0 | Y19: =IF(C19="",0,ROUNDUP((((K19*(C19+D19)*(Q19+R19))+(J19+((G19-F19)/12)))/0.85),0)) -> 36 | Z19: =S19+T19+U19+V19+W19 -> 0 | AA19: =VLOOKUP(Z19,$AD$3:$AF$13,3,TRUE) -> 2 | AB19: =VLOOKUP(X19,$AH$3:$AJ$5,3,TRUE) -> 8 | AL19: DIV-1003 | AM19: Scoop Diverter (D3)
A20: ='Conveyor List'!#REF! -> #REF! | B20: =IF(AND(Rework!$K21="",Rework!$L21=""),0,MAX(MAX(LEFT(Rework!$K21,IF(ISERROR(FIND("/",Rework!$K21))=TRUE,LEN(Rework!$K21),FIND("/",Rework!$K21)-2)),TRIM(RIGHT(Rework!$K21,LEN(Rework!$K21)-IF(ISERROR(FIND("/",Rework!$K21))=TRUE,0,FIND("/",Rework!$K21))))),MAX(LEFT(Rework!$L21,IF(ISERROR(FIND("/",Rework!$L21))=TRUE,LEN(Rework!$L21),FIND("/",Rework!$L21)-2)),TRIM(RIGHT(Rework!$L21,LEN(Rework!$L21)-IF(ISERROR(FIND("/",Rework!$L21))=TRUE,0,FIND("/",Rework!$L21))))))) -> 0 | C20: =IF(AND(Rework!$F21="",Rework!$G21=""),0,Rework!$F21+Rework!$G21/12) -> 0 | D20: =IF(AND(Rework!F21="",Rework!G21=""),0,IF(ISERROR(FIND("Slave",Rework!C21)) =FALSE,Rework!F22+Rework!G22/12,0)) -> 0 | E20: =IF(Rework!$E21="",0,Rework!$E21) -> 0 | F20: =IF(Rework!$H21="",0,MIN(LEFT(Rework!$H21,IF(ISERROR(FIND("/",Rework!$H21))=TRUE,LEN(Rework!$H21),FIND("/",Rework!$H21)-3)),IF(ISERROR(FIND("/",Rework!$H21))=TRUE,Rework!$H21,TRIM(LEFT(RIGHT(Rework!$H21, LEN(Rework!$H21)-FIND("/",Rework!$H21)),LEN(RIGHT(Rework!$H21, LEN(Rework!$H21)-FIND("/",Rework!$H21)))-1))))) -> 0 | G20: =IF(Rework!$I21="",0,MAX(LEFT(Rework!$I21,IF(ISERROR(FIND("/",Rework!$I21))=TRUE,LEN(Rework!$I21),FIND("/",Rework!$I21)-3)),IF(ISERROR(FIND("/",Rework!$I21))=TRUE,Rework!$I21,TRIM(LEFT(RIGHT(Rework!$I21, LEN(Rework!$I21)-FIND("/",Rework!$I21)),LEN(RIGHT(Rework!$I21, LEN(Rework!$I21)-FIND("/",Rework!$I21)))-1))))) -> 0 | H20: =IF(Rework!W21>0,IF(Rework!W21>1,2,1),0) -> 0 | I20: =IF(Rework!X21="",IF(Rework!$E21=61.5,2400,1800),Rework!X21) -> 1800 | J20: 30 | K20: =IF(ISERROR(FIND("Belt",Rework!C21))=FALSE,0.3,IF(ISERROR(FIND("Roller",Rework!C21))=FALSE,0.05,0.25)) -> 0.25 | L20: 1 | M20: 0.95 | N20: 0.85 | O20: =IF(ISERROR(FIND("M",Rework!$N21))=TRUE,0.95,1) -> 0.95 | P20: 1 | Q20: =IF(B20=0,0,(I20*J20)/(60*B20)) -> 0 | R20: =IF(E20=0,0,(2*L20*((E20-1)/12))) -> 0 | S20: =IF(B20=0,0,(1.25*B20*K20*C20*(Q20+R20))/(33000*M20*N20*O20)) -> 0 | T20: =IF(AND(G20=0,F20=0),0,(1.25*I20*J20*((G20-F20)/12))/(60*33000*M20*N20*O20)) -> 0 | U20: =IF(E20=0,0,(1.25*B20*0.05*(Q20+(((E20/12)-1)*L20))*C20)/(60*33000*M20*N20*O20)) -> 0 | V20: =IF(H20=0,0,(1.25*B20*K20*(H20*((12*(E20-1))+200)))/(33000*M20*N20*O20)) -> 0 | W20: =IF(D20=0,0,(1.25*B20*K20*D20*(Q20+R20))/(33000*M20*N20*O20*O20)+5*(0.01*(500+1.25*((Q20+R20)*K20*D20)))*B20/(33000*M20*N20*O20*O20)) -> 0 | X20: =IF(B20=0,0,ROUNDUP(((AA20/B20)*33000*N20),0)) -> 0 | Y20: =IF(C20="",0,ROUNDUP((((K20*(C20+D20)*(Q20+R20))+(J20+((G20-F20)/12)))/0.85),0)) -> 36 | Z20: =S20+T20+U20+V20+W20 -> 0 | AA20: =VLOOKUP(Z20,$AD$3:$AF$13,3,TRUE) -> 2 | AB20: =VLOOKUP(X20,$AH$3:$AJ$5,3,TRUE) -> 8 | AL20: DIV-1004 | AM20: Adj. LH Diverter (D4)
A21: ='Conveyor List'!#REF! -> #REF! | B21: =IF(AND(Rework!$K22="",Rework!$L22=""),0,MAX(MAX(LEFT(Rework!$K22,IF(ISERROR(FIND("/",Rework!$K22))=TRUE,LEN(Rework!$K22),FIND("/",Rework!$K22)-2)),TRIM(RIGHT(Rework!$K22,LEN(Rework!$K22)-IF(ISERROR(FIND("/",Rework!$K22))=TRUE,0,FIND("/",Rework!$K22))))),MAX(LEFT(Rework!$L22,IF(ISERROR(FIND("/",Rework!$L22))=TRUE,LEN(Rework!$L22),FIND("/",Rework!$L22)-2)),TRIM(RIGHT(Rework!$L22,LEN(Rework!$L22)-IF(ISERROR(FIND("/",Rework!$L22))=TRUE,0,FIND("/",Rework!$L22))))))) -> 0 | C21: =IF(AND(Rework!$F22="",Rework!$G22=""),0,Rework!$F22+Rework!$G22/12) -> 0 | D21: =IF(AND(Rework!F22="",Rework!G22=""),0,IF(ISERROR(FIND("Slave",Rework!C22)) =FALSE,Rework!F23+Rework!G23/12,0)) -> 0 | E21: =IF(Rework!$E22="",0,Rework!$E22) -> 0 | F21: =IF(Rework!$H22="",0,MIN(LEFT(Rework!$H22,IF(ISERROR(FIND("/",Rework!$H22))=TRUE,LEN(Rework!$H22),FIND("/",Rework!$H22)-3)),IF(ISERROR(FIND("/",Rework!$H22))=TRUE,Rework!$H22,TRIM(LEFT(RIGHT(Rework!$H22, LEN(Rework!$H22)-FIND("/",Rework!$H22)),LEN(RIGHT(Rework!$H22, LEN(Rework!$H22)-FIND("/",Rework!$H22)))-1))))) -> 0 | G21: =IF(Rework!$I22="",0,MAX(LEFT(Rework!$I22,IF(ISERROR(FIND("/",Rework!$I22))=TRUE,LEN(Rework!$I22),FIND("/",Rework!$I22)-3)),IF(ISERROR(FIND("/",Rework!$I22))=TRUE,Rework!$I22,TRIM(LEFT(RIGHT(Rework!$I22, LEN(Rework!$I22)-FIND("/",Rework!$I22)),LEN(RIGHT(Rework!$I22, LEN(Rework!$I22)-FIND("/",Rework!$I22)))-1))))) -> 0 | H21: =IF(Rework!W22>0,IF(Rework!W22>1,2,1),0) -> 0 | I21: =IF(Rework!X22="",IF(Rework!$E22=61.5,2400,1800),Rework!X22) -> 1800 | J21: 30 | K21: =IF(ISERROR(FIND("Belt",Rework!C22))=FALSE,0.3,IF(ISERROR(FIND("Roller",Rework!C22))=FALSE,0.05,0.25)) -> 0.25 | L21: 1 | M21: 0.95 | N21: 0.85 | O21: =IF(ISERROR(FIND("M",Rework!$N22))=TRUE,0.95,1) -> 0.95 | P21: 1 | Q21: =IF(B21=0,0,(I21*J21)/(60*B21)) -> 0 | R21: =IF(E21=0,0,(2*L21*((E21-1)/12))) -> 0 | S21: =IF(B21=0,0,(1.25*B21*K21*C21*(Q21+R21))/(33000*M21*N21*O21)) -> 0 | T21: =IF(AND(G21=0,F21=0),0,(1.25*I21*J21*((G21-F21)/12))/(60*33000*M21*N21*O21)) -> 0 | U21: =IF(E21=0,0,(1.25*B21*0.05*(Q21+(((E21/12)-1)*L21))*C21)/(60*33000*M21*N21*O21)) -> 0 | V21: =IF(H21=0,0,(1.25*B21*K21*(H21*((12*(E21-1))+200)))/(33000*M21*N21*O21)) -> 0 | W21: =IF(D21=0,0,(1.25*B21*K21*D21*(Q21+R21))/(33000*M21*N21*O21*O21)+5*(0.01*(500+1.25*((Q21+R21)*K21*D21)))*B21/(33000*M21*N21*O21*O21)) -> 0 | X21: =IF(B21=0,0,ROUNDUP(((AA21/B21)*33000*N21),0)) -> 0 | Y21: =IF(C21="",0,ROUNDUP((((K21*(C21+D21)*(Q21+R21))+(J21+((G21-F21)/12)))/0.85),0)) -> 36 | Z21: =S21+T21+U21+V21+W21 -> 0 | AA21: =VLOOKUP(Z21,$AD$3:$AF$13,3,TRUE) -> 2 | AB21: =VLOOKUP(X21,$AH$3:$AJ$5,3,TRUE) -> 8 | AL21: DIV-1005 | AM21: Belt Transition Diverter (D5)
A22: ='Conveyor List'!#REF! -> #REF! | B22: =IF(AND(Rework!$K23="",Rework!$L23=""),0,MAX(MAX(LEFT(Rework!$K23,IF(ISERROR(FIND("/",Rework!$K23))=TRUE,LEN(Rework!$K23),FIND("/",Rework!$K23)-2)),TRIM(RIGHT(Rework!$K23,LEN(Rework!$K23)-IF(ISERROR(FIND("/",Rework!$K23))=TRUE,0,FIND("/",Rework!$K23))))),MAX(LEFT(Rework!$L23,IF(ISERROR(FIND("/",Rework!$L23))=TRUE,LEN(Rework!$L23),FIND("/",Rework!$L23)-2)),TRIM(RIGHT(Rework!$L23,LEN(Rework!$L23)-IF(ISERROR(FIND("/",Rework!$L23))=TRUE,0,FIND("/",Rework!$L23))))))) -> 0 | C22: =IF(AND(Rework!$F23="",Rework!$G23=""),0,Rework!$F23+Rework!$G23/12) -> 0 | D22: =IF(AND(Rework!F23="",Rework!G23=""),0,IF(ISERROR(FIND("Slave",Rework!C23)) =FALSE,Rework!F24+Rework!G24/12,0)) -> 0 | E22: =IF(Rework!$E23="",0,Rework!$E23) -> 0 | F22: =IF(Rework!$H23="",0,MIN(LEFT(Rework!$H23,IF(ISERROR(FIND("/",Rework!$H23))=TRUE,LEN(Rework!$H23),FIND("/",Rework!$H23)-3)),IF(ISERROR(FIND("/",Rework!$H23))=TRUE,Rework!$H23,TRIM(LEFT(RIGHT(Rework!$H23, LEN(Rework!$H23)-FIND("/",Rework!$H23)),LEN(RIGHT(Rework!$H23, LEN(Rework!$H23)-FIND("/",Rework!$H23)))-1))))) -> 0 | G22: =IF(Rework!$I23="",0,MAX(LEFT(Rework!$I23,IF(ISERROR(FIND("/",Rework!$I23))=TRUE,LEN(Rework!$I23),FIND("/",Rework!$I23)-3)),IF(ISERROR(FIND("/",Rework!$I23))=TRUE,Rework!$I23,TRIM(LEFT(RIGHT(Rework!$I23, LEN(Rework!$I23)-FIND("/",Rework!$I23)),LEN(RIGHT(Rework!$I23, LEN(Rework!$I23)-FIND("/",Rework!$I23)))-1))))) -> 0 | H22: =IF(Rework!W23>0,IF(Rework!W23>1,2,1),0) -> 0 | I22: =IF(Rework!X23="",IF(Rework!$E23=61.5,2400,1800),Rework!X23) -> 1800 | J22: 30 | K22: =IF(ISERROR(FIND("Belt",Rework!C23))=FALSE,0.3,IF(ISERROR(FIND("Roller",Rework!C23))=FALSE,0.05,0.25)) -> 0.25 | L22: 1 | M22: 0.95 | N22: 0.85 | O22: =IF(ISERROR(FIND("M",Rework!$N23))=TRUE,0.95,1) -> 0.95 | P22: 1 | Q22: =IF(B22=0,0,(I22*J22)/(60*B22)) -> 0 | R22: =IF(E22=0,0,(2*L22*((E22-1)/12))) -> 0 | S22: =IF(B22=0,0,(1.25*B22*K22*C22*(Q22+R22))/(33000*M22*N22*O22)) -> 0 | T22: =IF(AND(G22=0,F22=0),0,(1.25*I22*J22*((G22-F22)/12))/(60*33000*M22*N22*O22)) -> 0 | U22: =IF(E22=0,0,(1.25*B22*0.05*(Q22+(((E22/12)-1)*L22))*C22)/(60*33000*M22*N22*O22)) -> 0 | V22: =IF(H22=0,0,(1.25*B22*K22*(H22*((12*(E22-1))+200)))/(33000*M22*N22*O22)) -> 0 | W22: =IF(D22=0,0,(1.25*B22*K22*D22*(Q22+R22))/(33000*M22*N22*O22*O22)+5*(0.01*(500+1.25*((Q22+R22)*K22*D22)))*B22/(33000*M22*N22*O22*O22)) -> 0 | X22: =IF(B22=0,0,ROUNDUP(((AA22/B22)*33000*N22),0)) -> 0 | Y22: =IF(C22="",0,ROUNDUP((((K22*(C22+D22)*(Q22+R22))+(J22+((G22-F22)/12)))/0.85),0)) -> 36 | Z22: =S22+T22+U22+V22+W22 -> 0 | AA22: =VLOOKUP(Z22,$AD$3:$AF$13,3,TRUE) -> 2 | AB22: =VLOOKUP(X22,$AH$3:$AJ$5,3,TRUE) -> 8 | AL22: DIV-1007 | AM22: Dual Position Diverter (D7)
A23: ='Conveyor List'!#REF! -> #REF! | B23: =IF(AND(Rework!$K24="",Rework!$L24=""),0,MAX(MAX(LEFT(Rework!$K24,IF(ISERROR(FIND("/",Rework!$K24))=TRUE,LEN(Rework!$K24),FIND("/",Rework!$K24)-2)),TRIM(RIGHT(Rework!$K24,LEN(Rework!$K24)-IF(ISERROR(FIND("/",Rework!$K24))=TRUE,0,FIND("/",Rework!$K24))))),MAX(LEFT(Rework!$L24,IF(ISERROR(FIND("/",Rework!$L24))=TRUE,LEN(Rework!$L24),FIND("/",Rework!$L24)-2)),TRIM(RIGHT(Rework!$L24,LEN(Rework!$L24)-IF(ISERROR(FIND("/",Rework!$L24))=TRUE,0,FIND("/",Rework!$L24))))))) -> 0 | C23: =IF(AND(Rework!$F24="",Rework!$G24=""),0,Rework!$F24+Rework!$G24/12) -> 0 | D23: =IF(AND(Rework!F24="",Rework!G24=""),0,IF(ISERROR(FIND("Slave",Rework!C24)) =FALSE,Rework!F25+Rework!G25/12,0)) -> 0 | E23: =IF(Rework!$E24="",0,Rework!$E24) -> 0 | F23: =IF(Rework!$H24="",0,MIN(LEFT(Rework!$H24,IF(ISERROR(FIND("/",Rework!$H24))=TRUE,LEN(Rework!$H24),FIND("/",Rework!$H24)-3)),IF(ISERROR(FIND("/",Rework!$H24))=TRUE,Rework!$H24,TRIM(LEFT(RIGHT(Rework!$H24, LEN(Rework!$H24)-FIND("/",Rework!$H24)),LEN(RIGHT(Rework!$H24, LEN(Rework!$H24)-FIND("/",Rework!$H24)))-1))))) -> 0 | G23: =IF(Rework!$I24="",0,MAX(LEFT(Rework!$I24,IF(ISERROR(FIND("/",Rework!$I24))=TRUE,LEN(Rework!$I24),FIND("/",Rework!$I24)-3)),IF(ISERROR(FIND("/",Rework!$I24))=TRUE,Rework!$I24,TRIM(LEFT(RIGHT(Rework!$I24, LEN(Rework!$I24)-FIND("/",Rework!$I24)),LEN(RIGHT(Rework!$I24, LEN(Rework!$I24)-FIND("/",Rework!$I24)))-1))))) -> 0 | H23: =IF(Rework!W24>0,IF(Rework!W24>1,2,1),0) -> 0 | I23: =IF(Rework!X24="",IF(Rework!$E24=61.5,2400,1800),Rework!X24) -> 1800 | J23: 30 | K23: =IF(ISERROR(FIND("Belt",Rework!C24))=FALSE,0.3,IF(ISERROR(FIND("Roller",Rework!C24))=FALSE,0.05,0.25)) -> 0.25 | L23: 1 | M23: 0.95 | N23: 0.85 | O23: =IF(ISERROR(FIND("M",Rework!$N24))=TRUE,0.95,1) -> 0.95 | P23: 1 | Q23: =IF(B23=0,0,(I23*J23)/(60*B23)) -> 0 | R23: =IF(E23=0,0,(2*L23*((E23-1)/12))) -> 0 | S23: =IF(B23=0,0,(1.25*B23*K23*C23*(Q23+R23))/(33000*M23*N23*O23)) -> 0 | T23: =IF(AND(G23=0,F23=0),0,(1.25*I23*J23*((G23-F23)/12))/(60*33000*M23*N23*O23)) -> 0 | U23: =IF(E23=0,0,(1.25*B23*0.05*(Q23+(((E23/12)-1)*L23))*C23)/(60*33000*M23*N23*O23)) -> 0 | V23: =IF(H23=0,0,(1.25*B23*K23*(H23*((12*(E23-1))+200)))/(33000*M23*N23*O23)) -> 0 | W23: =IF(D23=0,0,(1.25*B23*K23*D23*(Q23+R23))/(33000*M23*N23*O23*O23)+5*(0.01*(500+1.25*((Q23+R23)*K23*D23)))*B23/(33000*M23*N23*O23*O23)) -> 0 | X23: =IF(B23=0,0,ROUNDUP(((AA23/B23)*33000*N23),0)) -> 0 | Y23: =IF(C23="",0,ROUNDUP((((K23*(C23+D23)*(Q23+R23))+(J23+((G23-F23)/12)))/0.85),0)) -> 36 | Z23: =S23+T23+U23+V23+W23 -> 0 | AA23: =VLOOKUP(Z23,$AD$3:$AF$13,3,TRUE) -> 2 | AB23: =VLOOKUP(X23,$AH$3:$AJ$5,3,TRUE) -> 8 | AL23: DIV-1008 | AM23: 30º x 40% Delta Diverter (D8)
A24: ='Conveyor List'!#REF! -> #REF! | B24: =IF(AND(Rework!$K25="",Rework!$L25=""),0,MAX(MAX(LEFT(Rework!$K25,IF(ISERROR(FIND("/",Rework!$K25))=TRUE,LEN(Rework!$K25),FIND("/",Rework!$K25)-2)),TRIM(RIGHT(Rework!$K25,LEN(Rework!$K25)-IF(ISERROR(FIND("/",Rework!$K25))=TRUE,0,FIND("/",Rework!$K25))))),MAX(LEFT(Rework!$L25,IF(ISERROR(FIND("/",Rework!$L25))=TRUE,LEN(Rework!$L25),FIND("/",Rework!$L25)-2)),TRIM(RIGHT(Rework!$L25,LEN(Rework!$L25)-IF(ISERROR(FIND("/",Rework!$L25))=TRUE,0,FIND("/",Rework!$L25))))))) -> 0 | C24: =IF(AND(Rework!$F25="",Rework!$G25=""),0,Rework!$F25+Rework!$G25/12) -> 0 | D24: =IF(AND(Rework!F25="",Rework!G25=""),0,IF(ISERROR(FIND("Slave",Rework!C25)) =FALSE,Rework!F26+Rework!G26/12,0)) -> 0 | E24: =IF(Rework!$E25="",0,Rework!$E25) -> 0 | F24: =IF(Rework!$H25="",0,MIN(LEFT(Rework!$H25,IF(ISERROR(FIND("/",Rework!$H25))=TRUE,LEN(Rework!$H25),FIND("/",Rework!$H25)-3)),IF(ISERROR(FIND("/",Rework!$H25))=TRUE,Rework!$H25,TRIM(LEFT(RIGHT(Rework!$H25, LEN(Rework!$H25)-FIND("/",Rework!$H25)),LEN(RIGHT(Rework!$H25, LEN(Rework!$H25)-FIND("/",Rework!$H25)))-1))))) -> 0 | G24: =IF(Rework!$I25="",0,MAX(LEFT(Rework!$I25,IF(ISERROR(FIND("/",Rework!$I25))=TRUE,LEN(Rework!$I25),FIND("/",Rework!$I25)-3)),IF(ISERROR(FIND("/",Rework!$I25))=TRUE,Rework!$I25,TRIM(LEFT(RIGHT(Rework!$I25, LEN(Rework!$I25)-FIND("/",Rework!$I25)),LEN(RIGHT(Rework!$I25, LEN(Rework!$I25)-FIND("/",Rework!$I25)))-1))))) -> 0 | H24: =IF(Rework!W25>0,IF(Rework!W25>1,2,1),0) -> 0 | I24: =IF(Rework!X25="",IF(Rework!$E25=61.5,2400,1800),Rework!X25) -> 1800 | J24: 30 | K24: =IF(ISERROR(FIND("Belt",Rework!C25))=FALSE,0.3,IF(ISERROR(FIND("Roller",Rework!C25))=FALSE,0.05,0.25)) -> 0.25 | L24: 1 | M24: 0.95 | N24: 0.85 | O24: =IF(ISERROR(FIND("M",Rework!$N25))=TRUE,0.95,1) -> 0.95 | P24: 1 | Q24: =IF(B24=0,0,(I24*J24)/(60*B24)) -> 0 | R24: =IF(E24=0,0,(2*L24*((E24-1)/12))) -> 0 | S24: =IF(B24=0,0,(1.25*B24*K24*C24*(Q24+R24))/(33000*M24*N24*O24)) -> 0 | T24: =IF(AND(G24=0,F24=0),0,(1.25*I24*J24*((G24-F24)/12))/(60*33000*M24*N24*O24)) -> 0 | U24: =IF(E24=0,0,(1.25*B24*0.05*(Q24+(((E24/12)-1)*L24))*C24)/(60*33000*M24*N24*O24)) -> 0 | V24: =IF(H24=0,0,(1.25*B24*K24*(H24*((12*(E24-1))+200)))/(33000*M24*N24*O24)) -> 0 | W24: =IF(D24=0,0,(1.25*B24*K24*D24*(Q24+R24))/(33000*M24*N24*O24*O24)+5*(0.01*(500+1.25*((Q24+R24)*K24*D24)))*B24/(33000*M24*N24*O24*O24)) -> 0 | X24: =IF(B24=0,0,ROUNDUP(((AA24/B24)*33000*N24),0)) -> 0 | Y24: =IF(C24="",0,ROUNDUP((((K24*(C24+D24)*(Q24+R24))+(J24+((G24-F24)/12)))/0.85),0)) -> 36 | Z24: =S24+T24+U24+V24+W24 -> 0 | AA24: =VLOOKUP(Z24,$AD$3:$AF$13,3,TRUE) -> 2 | AB24: =VLOOKUP(X24,$AH$3:$AJ$5,3,TRUE) -> 8 | AL24: DIV-1009 | AM24: Manual Scoop Diverter (D9)
A25: ='Conveyor List'!#REF! -> #REF! | B25: =IF(AND(Rework!$K26="",Rework!$L26=""),0,MAX(MAX(LEFT(Rework!$K26,IF(ISERROR(FIND("/",Rework!$K26))=TRUE,LEN(Rework!$K26),FIND("/",Rework!$K26)-2)),TRIM(RIGHT(Rework!$K26,LEN(Rework!$K26)-IF(ISERROR(FIND("/",Rework!$K26))=TRUE,0,FIND("/",Rework!$K26))))),MAX(LEFT(Rework!$L26,IF(ISERROR(FIND("/",Rework!$L26))=TRUE,LEN(Rework!$L26),FIND("/",Rework!$L26)-2)),TRIM(RIGHT(Rework!$L26,LEN(Rework!$L26)-IF(ISERROR(FIND("/",Rework!$L26))=TRUE,0,FIND("/",Rework!$L26))))))) -> 0 | C25: =IF(AND(Rework!$F26="",Rework!$G26=""),0,Rework!$F26+Rework!$G26/12) -> 0 | D25: =IF(AND(Rework!F26="",Rework!G26=""),0,IF(ISERROR(FIND("Slave",Rework!C26)) =FALSE,Rework!F27+Rework!G27/12,0)) -> 0 | E25: =IF(Rework!$E26="",0,Rework!$E26) -> 0 | F25: =IF(Rework!$H26="",0,MIN(LEFT(Rework!$H26,IF(ISERROR(FIND("/",Rework!$H26))=TRUE,LEN(Rework!$H26),FIND("/",Rework!$H26)-3)),IF(ISERROR(FIND("/",Rework!$H26))=TRUE,Rework!$H26,TRIM(LEFT(RIGHT(Rework!$H26, LEN(Rework!$H26)-FIND("/",Rework!$H26)),LEN(RIGHT(Rework!$H26, LEN(Rework!$H26)-FIND("/",Rework!$H26)))-1))))) -> 0 | G25: =IF(Rework!$I26="",0,MAX(LEFT(Rework!$I26,IF(ISERROR(FIND("/",Rework!$I26))=TRUE,LEN(Rework!$I26),FIND("/",Rework!$I26)-3)),IF(ISERROR(FIND("/",Rework!$I26))=TRUE,Rework!$I26,TRIM(LEFT(RIGHT(Rework!$I26, LEN(Rework!$I26)-FIND("/",Rework!$I26)),LEN(RIGHT(Rework!$I26, LEN(Rework!$I26)-FIND("/",Rework!$I26)))-1))))) -> 0 | H25: =IF(Rework!W26>0,IF(Rework!W26>1,2,1),0) -> 0 | I25: =IF(Rework!X26="",IF(Rework!$E26=61.5,2400,1800),Rework!X26) -> 1800 | J25: 30 | K25: =IF(ISERROR(FIND("Belt",Rework!C26))=FALSE,0.3,IF(ISERROR(FIND("Roller",Rework!C26))=FALSE,0.05,0.25)) -> 0.25 | L25: 1 | M25: 0.95 | N25: 0.85 | O25: =IF(ISERROR(FIND("M",Rework!$N26))=TRUE,0.95,1) -> 0.95 | P25: 1 | Q25: =IF(B25=0,0,(I25*J25)/(60*B25)) -> 0 | R25: =IF(E25=0,0,(2*L25*((E25-1)/12))) -> 0 | S25: =IF(B25=0,0,(1.25*B25*K25*C25*(Q25+R25))/(33000*M25*N25*O25)) -> 0 | T25: =IF(AND(G25=0,F25=0),0,(1.25*I25*J25*((G25-F25)/12))/(60*33000*M25*N25*O25)) -> 0 | U25: =IF(E25=0,0,(1.25*B25*0.05*(Q25+(((E25/12)-1)*L25))*C25)/(60*33000*M25*N25*O25)) -> 0 | V25: =IF(H25=0,0,(1.25*B25*K25*(H25*((12*(E25-1))+200)))/(33000*M25*N25*O25)) -> 0 | W25: =IF(D25=0,0,(1.25*B25*K25*D25*(Q25+R25))/(33000*M25*N25*O25*O25)+5*(0.01*(500+1.25*((Q25+R25)*K25*D25)))*B25/(33000*M25*N25*O25*O25)) -> 0 | X25: =IF(B25=0,0,ROUNDUP(((AA25/B25)*33000*N25),0)) -> 0 | Y25: =IF(C25="",0,ROUNDUP((((K25*(C25+D25)*(Q25+R25))+(J25+((G25-F25)/12)))/0.85),0)) -> 36 | Z25: =S25+T25+U25+V25+W25 -> 0 | AA25: =VLOOKUP(Z25,$AD$3:$AF$13,3,TRUE) -> 2 | AB25: =VLOOKUP(X25,$AH$3:$AJ$5,3,TRUE) -> 8 | AL25: SML-1002 | AM25: Smalls Rectangular Bin (4x6)
... A43: ='Conveyor List'!#REF! -> #REF! | B43: =IF(AND(Rework!$K44="",Rework!$L44=""),0,MAX(MAX(LEFT(Rework!$K44,IF(ISERROR(FIND("/",Rework!$K44))=TRUE,LEN(Rework!$K44),FIND("/",Rework!$K44)-2)),TRIM(RIGHT(Rework!$K44,LEN(Rework!$K44)-IF(ISERROR(FIND("/",Rework!$K44))=TRUE,0,FIND("/",Rework!$K44))))),MAX(LEFT(Rework!$L44,IF(ISERROR(FIND("/",Rework!$L44))=TRUE,LEN(Rework!$L44),FIND("/",Rework!$L44)-2)),TRIM(RIGHT(Rework!$L44,LEN(Rework!$L44)-IF(ISERROR(FIND("/",Rework!$L44))=TRUE,0,FIND("/",Rework!$L44))))))) -> 0 | C43: =IF(AND(Rework!$F44="",Rework!$G44=""),0,Rework!$F44+Rework!$G44/12) -> 0 | D43: =IF(AND(Rework!F44="",Rework!G44=""),0,IF(ISERROR(FIND("Slave",Rework!C44)) =FALSE,Rework!F45+Rework!G45/12,0)) -> 0 | E43: =IF(Rework!$E44="",0,Rework!$E44) -> 0 | F43: =IF(Rework!$H44="",0,MIN(LEFT(Rework!$H44,IF(ISERROR(FIND("/",Rework!$H44))=TRUE,LEN(Rework!$H44),FIND("/",Rework!$H44)-3)),IF(ISERROR(FIND("/",Rework!$H44))=TRUE,Rework!$H44,TRIM(LEFT(RIGHT(Rework!$H44, LEN(Rework!$H44)-FIND("/",Rework!$H44)),LEN(RIGHT(Rework!$H44, LEN(Rework!$H44)-FIND("/",Rework!$H44)))-1))))) -> 0 | G43: =IF(Rework!$I44="",0,MAX(LEFT(Rework!$I44,IF(ISERROR(FIND("/",Rework!$I44))=TRUE,LEN(Rework!$I44),FIND("/",Rework!$I44)-3)),IF(ISERROR(FIND("/",Rework!$I44))=TRUE,Rework!$I44,TRIM(LEFT(RIGHT(Rework!$I44, LEN(Rework!$I44)-FIND("/",Rework!$I44)),LEN(RIGHT(Rework!$I44, LEN(Rework!$I44)-FIND("/",Rework!$I44)))-1))))) -> 0 | H43: =IF(Rework!W44>0,IF(Rework!W44>1,2,1),0) -> 0 | I43: =IF(Rework!X44="",IF(Rework!$E44=61.5,2400,1800),Rework!X44) -> 1800 | J43: 30 | K43: =IF(ISERROR(FIND("Belt",Rework!C44))=FALSE,0.3,IF(ISERROR(FIND("Roller",Rework!C44))=FALSE,0.05,0.25)) -> 0.25 | L43: 1 | M43: 0.95 | N43: 0.85 | O43: =IF(ISERROR(FIND("M",Rework!$N44))=TRUE,0.95,1) -> 0.95 | P43: 1 | Q43: =IF(B43=0,0,(I43*J43)/(60*B43)) -> 0 | R43: =IF(E43=0,0,(2*L43*((E43-1)/12))) -> 0 | S43: =IF(B43=0,0,(1.25*B43*K43*C43*(Q43+R43))/(33000*M43*N43*O43)) -> 0 | T43: =IF(AND(G43=0,F43=0),0,(1.25*I43*J43*((G43-F43)/12))/(60*33000*M43*N43*O43)) -> 0 | U43: =IF(E43=0,0,(1.25*B43*0.05*(Q43+(((E43/12)-1)*L43))*C43)/(60*33000*M43*N43*O43)) -> 0 | V43: =IF(H43=0,0,(1.25*B43*K43*(H43*((12*(E43-1))+200)))/(33000*M43*N43*O43)) -> 0 | W43: =IF(D43=0,0,(1.25*B43*K43*D43*(Q43+R43))/(33000*M43*N43*O43*O43)+5*(0.01*(500+1.25*((Q43+R43)*K43*D43)))*B43/(33000*M43*N43*O43*O43)) -> 0 | X43: =IF(B43=0,0,ROUNDUP(((AA43/B43)*33000*N43),0)) -> 0 | Y43: =IF(C43="",0,ROUNDUP((((K43*(C43+D43)*(Q43+R43))+(J43+((G43-F43)/12)))/0.85),0)) -> 36 | Z43: =S43+T43+U43+V43+W43 -> 0 | AA43: =VLOOKUP(Z43,$AD$3:$AF$13,3,TRUE) -> 2 | AB43: =VLOOKUP(X43,$AH$3:$AJ$5,3,TRUE) -> 8 | AL43: MISC-4 | AM43: Flexco Transfer Plates
A44: ='Conveyor List'!#REF! -> #REF! | B44: =IF(AND(Rework!$K45="",Rework!$L45=""),0,MAX(MAX(LEFT(Rework!$K45,IF(ISERROR(FIND("/",Rework!$K45))=TRUE,LEN(Rework!$K45),FIND("/",Rework!$K45)-2)),TRIM(RIGHT(Rework!$K45,LEN(Rework!$K45)-IF(ISERROR(FIND("/",Rework!$K45))=TRUE,0,FIND("/",Rework!$K45))))),MAX(LEFT(Rework!$L45,IF(ISERROR(FIND("/",Rework!$L45))=TRUE,LEN(Rework!$L45),FIND("/",Rework!$L45)-2)),TRIM(RIGHT(Rework!$L45,LEN(Rework!$L45)-IF(ISERROR(FIND("/",Rework!$L45))=TRUE,0,FIND("/",Rework!$L45))))))) -> 0 | C44: =IF(AND(Rework!$F45="",Rework!$G45=""),0,Rework!$F45+Rework!$G45/12) -> 0 | D44: =IF(AND(Rework!F45="",Rework!G45=""),0,IF(ISERROR(FIND("Slave",Rework!C45)) =FALSE,Rework!F46+Rework!G46/12,0)) -> 0 | E44: =IF(Rework!$E45="",0,Rework!$E45) -> 0 | F44: =IF(Rework!$H45="",0,MIN(LEFT(Rework!$H45,IF(ISERROR(FIND("/",Rework!$H45))=TRUE,LEN(Rework!$H45),FIND("/",Rework!$H45)-3)),IF(ISERROR(FIND("/",Rework!$H45))=TRUE,Rework!$H45,TRIM(LEFT(RIGHT(Rework!$H45, LEN(Rework!$H45)-FIND("/",Rework!$H45)),LEN(RIGHT(Rework!$H45, LEN(Rework!$H45)-FIND("/",Rework!$H45)))-1))))) -> 0 | G44: =IF(Rework!$I45="",0,MAX(LEFT(Rework!$I45,IF(ISERROR(FIND("/",Rework!$I45))=TRUE,LEN(Rework!$I45),FIND("/",Rework!$I45)-3)),IF(ISERROR(FIND("/",Rework!$I45))=TRUE,Rework!$I45,TRIM(LEFT(RIGHT(Rework!$I45, LEN(Rework!$I45)-FIND("/",Rework!$I45)),LEN(RIGHT(Rework!$I45, LEN(Rework!$I45)-FIND("/",Rework!$I45)))-1))))) -> 0 | H44: =IF(Rework!W45>0,IF(Rework!W45>1,2,1),0) -> 0 | I44: =IF(Rework!X45="",IF(Rework!$E45=61.5,2400,1800),Rework!X45) -> 1800 | J44: 30 | K44: =IF(ISERROR(FIND("Belt",Rework!C45))=FALSE,0.3,IF(ISERROR(FIND("Roller",Rework!C45))=FALSE,0.05,0.25)) -> 0.25 | L44: 1 | M44: 0.95 | N44: 0.85 | O44: =IF(ISERROR(FIND("M",Rework!$N45))=TRUE,0.95,1) -> 0.95 | P44: 1 | Q44: =IF(B44=0,0,(I44*J44)/(60*B44)) -> 0 | R44: =IF(E44=0,0,(2*L44*((E44-1)/12))) -> 0 | S44: =IF(B44=0,0,(1.25*B44*K44*C44*(Q44+R44))/(33000*M44*N44*O44)) -> 0 | T44: =IF(AND(G44=0,F44=0),0,(1.25*I44*J44*((G44-F44)/12))/(60*33000*M44*N44*O44)) -> 0 | U44: =IF(E44=0,0,(1.25*B44*0.05*(Q44+(((E44/12)-1)*L44))*C44)/(60*33000*M44*N44*O44)) -> 0 | V44: =IF(H44=0,0,(1.25*B44*K44*(H44*((12*(E44-1))+200)))/(33000*M44*N44*O44)) -> 0 | W44: =IF(D44=0,0,(1.25*B44*K44*D44*(Q44+R44))/(33000*M44*N44*O44*O44)+5*(0.01*(500+1.25*((Q44+R44)*K44*D44)))*B44/(33000*M44*N44*O44*O44)) -> 0 | X44: =IF(B44=0,0,ROUNDUP(((AA44/B44)*33000*N44),0)) -> 0 | Y44: =IF(C44="",0,ROUNDUP((((K44*(C44+D44)*(Q44+R44))+(J44+((G44-F44)/12)))/0.85),0)) -> 36 | Z44: =S44+T44+U44+V44+W44 -> 0 | AA44: =VLOOKUP(Z44,$AD$3:$AF$13,3,TRUE) -> 2 | AB44: =VLOOKUP(X44,$AH$3:$AJ$5,3,TRUE) -> 8
A45: ='Conveyor List'!#REF! -> #REF! | B45: =IF(AND(Rework!$K46="",Rework!$L46=""),0,MAX(MAX(LEFT(Rework!$K46,IF(ISERROR(FIND("/",Rework!$K46))=TRUE,LEN(Rework!$K46),FIND("/",Rework!$K46)-2)),TRIM(RIGHT(Rework!$K46,LEN(Rework!$K46)-IF(ISERROR(FIND("/",Rework!$K46))=TRUE,0,FIND("/",Rework!$K46))))),MAX(LEFT(Rework!$L46,IF(ISERROR(FIND("/",Rework!$L46))=TRUE,LEN(Rework!$L46),FIND("/",Rework!$L46)-2)),TRIM(RIGHT(Rework!$L46,LEN(Rework!$L46)-IF(ISERROR(FIND("/",Rework!$L46))=TRUE,0,FIND("/",Rework!$L46))))))) -> 0 | C45: =IF(AND(Rework!$F46="",Rework!$G46=""),0,Rework!$F46+Rework!$G46/12) -> 0 | D45: =IF(AND(Rework!F46="",Rework!G46=""),0,IF(ISERROR(FIND("Slave",Rework!C46)) =FALSE,Rework!F47+Rework!G47/12,0)) -> 0 | E45: =IF(Rework!$E46="",0,Rework!$E46) -> 0 | F45: =IF(Rework!$H46="",0,MIN(LEFT(Rework!$H46,IF(ISERROR(FIND("/",Rework!$H46))=TRUE,LEN(Rework!$H46),FIND("/",Rework!$H46)-3)),IF(ISERROR(FIND("/",Rework!$H46))=TRUE,Rework!$H46,TRIM(LEFT(RIGHT(Rework!$H46, LEN(Rework!$H46)-FIND("/",Rework!$H46)),LEN(RIGHT(Rework!$H46, LEN(Rework!$H46)-FIND("/",Rework!$H46)))-1))))) -> 0 | G45: =IF(Rework!$I46="",0,MAX(LEFT(Rework!$I46,IF(ISERROR(FIND("/",Rework!$I46))=TRUE,LEN(Rework!$I46),FIND("/",Rework!$I46)-3)),IF(ISERROR(FIND("/",Rework!$I46))=TRUE,Rework!$I46,TRIM(LEFT(RIGHT(Rework!$I46, LEN(Rework!$I46)-FIND("/",Rework!$I46)),LEN(RIGHT(Rework!$I46, LEN(Rework!$I46)-FIND("/",Rework!$I46)))-1))))) -> 0 | H45: =IF(Rework!W46>0,IF(Rework!W46>1,2,1),0) -> 0 | I45: =IF(Rework!X46="",IF(Rework!$E46=61.5,2400,1800),Rework!X46) -> 1800 | J45: 30 | K45: =IF(ISERROR(FIND("Belt",Rework!C46))=FALSE,0.3,IF(ISERROR(FIND("Roller",Rework!C46))=FALSE,0.05,0.25)) -> 0.25 | L45: 1 | M45: 0.95 | N45: 0.85 | O45: =IF(ISERROR(FIND("M",Rework!$N46))=TRUE,0.95,1) -> 0.95 | P45: 1 | Q45: =IF(B45=0,0,(I45*J45)/(60*B45)) -> 0 | R45: =IF(E45=0,0,(2*L45*((E45-1)/12))) -> 0 | S45: =IF(B45=0,0,(1.25*B45*K45*C45*(Q45+R45))/(33000*M45*N45*O45)) -> 0 | T45: =IF(AND(G45=0,F45=0),0,(1.25*I45*J45*((G45-F45)/12))/(60*33000*M45*N45*O45)) -> 0 | U45: =IF(E45=0,0,(1.25*B45*0.05*(Q45+(((E45/12)-1)*L45))*C45)/(60*33000*M45*N45*O45)) -> 0 | V45: =IF(H45=0,0,(1.25*B45*K45*(H45*((12*(E45-1))+200)))/(33000*M45*N45*O45)) -> 0 | W45: =IF(D45=0,0,(1.25*B45*K45*D45*(Q45+R45))/(33000*M45*N45*O45*O45)+5*(0.01*(500+1.25*((Q45+R45)*K45*D45)))*B45/(33000*M45*N45*O45*O45)) -> 0 | X45: =IF(B45=0,0,ROUNDUP(((AA45/B45)*33000*N45),0)) -> 0 | Y45: =IF(C45="",0,ROUNDUP((((K45*(C45+D45)*(Q45+R45))+(J45+((G45-F45)/12)))/0.85),0)) -> 36 | Z45: =S45+T45+U45+V45+W45 -> 0 | AA45: =VLOOKUP(Z45,$AD$3:$AF$13,3,TRUE) -> 2 | AB45: =VLOOKUP(X45,$AH$3:$AJ$5,3,TRUE) -> 8
A46: ='Conveyor List'!#REF! -> #REF! | B46: =IF(AND(Rework!$K47="",Rework!$L47=""),0,MAX(MAX(LEFT(Rework!$K47,IF(ISERROR(FIND("/",Rework!$K47))=TRUE,LEN(Rework!$K47),FIND("/",Rework!$K47)-2)),TRIM(RIGHT(Rework!$K47,LEN(Rework!$K47)-IF(ISERROR(FIND("/",Rework!$K47))=TRUE,0,FIND("/",Rework!$K47))))),MAX(LEFT(Rework!$L47,IF(ISERROR(FIND("/",Rework!$L47))=TRUE,LEN(Rework!$L47),FIND("/",Rework!$L47)-2)),TRIM(RIGHT(Rework!$L47,LEN(Rework!$L47)-IF(ISERROR(FIND("/",Rework!$L47))=TRUE,0,FIND("/",Rework!$L47))))))) -> 0 | C46: =IF(AND(Rework!$F47="",Rework!$G47=""),0,Rework!$F47+Rework!$G47/12) -> 0 | D46: =IF(AND(Rework!F47="",Rework!G47=""),0,IF(ISERROR(FIND("Slave",Rework!C47)) =FALSE,Rework!F48+Rework!G48/12,0)) -> 0 | E46: =IF(Rework!$E47="",0,Rework!$E47) -> 0 | F46: =IF(Rework!$H47="",0,MIN(LEFT(Rework!$H47,IF(ISERROR(FIND("/",Rework!$H47))=TRUE,LEN(Rework!$H47),FIND("/",Rework!$H47)-3)),IF(ISERROR(FIND("/",Rework!$H47))=TRUE,Rework!$H47,TRIM(LEFT(RIGHT(Rework!$H47, LEN(Rework!$H47)-FIND("/",Rework!$H47)),LEN(RIGHT(Rework!$H47, LEN(Rework!$H47)-FIND("/",Rework!$H47)))-1))))) -> 0 | G46: =IF(Rework!$I47="",0,MAX(LEFT(Rework!$I47,IF(ISERROR(FIND("/",Rework!$I47))=TRUE,LEN(Rework!$I47),FIND("/",Rework!$I47)-3)),IF(ISERROR(FIND("/",Rework!$I47))=TRUE,Rework!$I47,TRIM(LEFT(RIGHT(Rework!$I47, LEN(Rework!$I47)-FIND("/",Rework!$I47)),LEN(RIGHT(Rework!$I47, LEN(Rework!$I47)-FIND("/",Rework!$I47)))-1))))) -> 0 | H46: =IF(Rework!W47>0,IF(Rework!W47>1,2,1),0) -> 0 | I46: =IF(Rework!X47="",IF(Rework!$E47=61.5,2400,1800),Rework!X47) -> 1800 | J46: 30 | K46: =IF(ISERROR(FIND("Belt",Rework!C47))=FALSE,0.3,IF(ISERROR(FIND("Roller",Rework!C47))=FALSE,0.05,0.25)) -> 0.25 | L46: 1 | M46: 0.95 | N46: 0.85 | O46: =IF(ISERROR(FIND("M",Rework!$N47))=TRUE,0.95,1) -> 0.95 | P46: 1 | Q46: =IF(B46=0,0,(I46*J46)/(60*B46)) -> 0 | R46: =IF(E46=0,0,(2*L46*((E46-1)/12))) -> 0 | S46: =IF(B46=0,0,(1.25*B46*K46*C46*(Q46+R46))/(33000*M46*N46*O46)) -> 0 | T46: =IF(AND(G46=0,F46=0),0,(1.25*I46*J46*((G46-F46)/12))/(60*33000*M46*N46*O46)) -> 0 | U46: =IF(E46=0,0,(1.25*B46*0.05*(Q46+(((E46/12)-1)*L46))*C46)/(60*33000*M46*N46*O46)) -> 0 | V46: =IF(H46=0,0,(1.25*B46*K46*(H46*((12*(E46-1))+200)))/(33000*M46*N46*O46)) -> 0 | W46: =IF(D46=0,0,(1.25*B46*K46*D46*(Q46+R46))/(33000*M46*N46*O46*O46)+5*(0.01*(500+1.25*((Q46+R46)*K46*D46)))*B46/(33000*M46*N46*O46*O46)) -> 0 | X46: =IF(B46=0,0,ROUNDUP(((AA46/B46)*33000*N46),0)) -> 0 | Y46: =IF(C46="",0,ROUNDUP((((K46*(C46+D46)*(Q46+R46))+(J46+((G46-F46)/12)))/0.85),0)) -> 36 | Z46: =S46+T46+U46+V46+W46 -> 0 | AA46: =VLOOKUP(Z46,$AD$3:$AF$13,3,TRUE) -> 2 | AB46: =VLOOKUP(X46,$AH$3:$AJ$5,3,TRUE) -> 8
A47: ='Conveyor List'!#REF! -> #REF! | B47: =IF(AND(Rework!$K48="",Rework!$L48=""),0,MAX(MAX(LEFT(Rework!$K48,IF(ISERROR(FIND("/",Rework!$K48))=TRUE,LEN(Rework!$K48),FIND("/",Rework!$K48)-2)),TRIM(RIGHT(Rework!$K48,LEN(Rework!$K48)-IF(ISERROR(FIND("/",Rework!$K48))=TRUE,0,FIND("/",Rework!$K48))))),MAX(LEFT(Rework!$L48,IF(ISERROR(FIND("/",Rework!$L48))=TRUE,LEN(Rework!$L48),FIND("/",Rework!$L48)-2)),TRIM(RIGHT(Rework!$L48,LEN(Rework!$L48)-IF(ISERROR(FIND("/",Rework!$L48))=TRUE,0,FIND("/",Rework!$L48))))))) -> 0 | C47: =IF(AND(Rework!$F48="",Rework!$G48=""),0,Rework!$F48+Rework!$G48/12) -> 0 | D47: =IF(AND(Rework!F48="",Rework!G48=""),0,IF(ISERROR(FIND("Slave",Rework!C48)) =FALSE,Rework!F49+Rework!G49/12,0)) -> 0 | E47: =IF(Rework!$E48="",0,Rework!$E48) -> 0 | F47: =IF(Rework!$H48="",0,MIN(LEFT(Rework!$H48,IF(ISERROR(FIND("/",Rework!$H48))=TRUE,LEN(Rework!$H48),FIND("/",Rework!$H48)-3)),IF(ISERROR(FIND("/",Rework!$H48))=TRUE,Rework!$H48,TRIM(LEFT(RIGHT(Rework!$H48, LEN(Rework!$H48)-FIND("/",Rework!$H48)),LEN(RIGHT(Rework!$H48, LEN(Rework!$H48)-FIND("/",Rework!$H48)))-1))))) -> 0 | G47: =IF(Rework!$I48="",0,MAX(LEFT(Rework!$I48,IF(ISERROR(FIND("/",Rework!$I48))=TRUE,LEN(Rework!$I48),FIND("/",Rework!$I48)-3)),IF(ISERROR(FIND("/",Rework!$I48))=TRUE,Rework!$I48,TRIM(LEFT(RIGHT(Rework!$I48, LEN(Rework!$I48)-FIND("/",Rework!$I48)),LEN(RIGHT(Rework!$I48, LEN(Rework!$I48)-FIND("/",Rework!$I48)))-1))))) -> 0 | H47: =IF(Rework!W48>0,IF(Rework!W48>1,2,1),0) -> 0 | I47: =IF(Rework!X48="",IF(Rework!$E48=61.5,2400,1800),Rework!X48) -> 1800 | J47: 30 | K47: =IF(ISERROR(FIND("Belt",Rework!C48))=FALSE,0.3,IF(ISERROR(FIND("Roller",Rework!C48))=FALSE,0.05,0.25)) -> 0.25 | L47: 1 | M47: 0.95 | N47: 0.85 | O47: =IF(ISERROR(FIND("M",Rework!$N48))=TRUE,0.95,1) -> 0.95 | P47: 1 | Q47: =IF(B47=0,0,(I47*J47)/(60*B47)) -> 0 | R47: =IF(E47=0,0,(2*L47*((E47-1)/12))) -> 0 | S47: =IF(B47=0,0,(1.25*B47*K47*C47*(Q47+R47))/(33000*M47*N47*O47)) -> 0 | T47: =IF(AND(G47=0,F47=0),0,(1.25*I47*J47*((G47-F47)/12))/(60*33000*M47*N47*O47)) -> 0 | U47: =IF(E47=0,0,(1.25*B47*0.05*(Q47+(((E47/12)-1)*L47))*C47)/(60*33000*M47*N47*O47)) -> 0 | V47: =IF(H47=0,0,(1.25*B47*K47*(H47*((12*(E47-1))+200)))/(33000*M47*N47*O47)) -> 0 | W47: =IF(D47=0,0,(1.25*B47*K47*D47*(Q47+R47))/(33000*M47*N47*O47*O47)+5*(0.01*(500+1.25*((Q47+R47)*K47*D47)))*B47/(33000*M47*N47*O47*O47)) -> 0 | X47: =IF(B47=0,0,ROUNDUP(((AA47/B47)*33000*N47),0)) -> 0 | Y47: =IF(C47="",0,ROUNDUP((((K47*(C47+D47)*(Q47+R47))+(J47+((G47-F47)/12)))/0.85),0)) -> 36 | Z47: =S47+T47+U47+V47+W47 -> 0 | AA47: =VLOOKUP(Z47,$AD$3:$AF$13,3,TRUE) -> 2 | AB47: =VLOOKUP(X47,$AH$3:$AJ$5,3,TRUE) -> 8
A48: ='Conveyor List'!#REF! -> #REF! | B48: =IF(AND(Rework!$K49="",Rework!$L49=""),0,MAX(MAX(LEFT(Rework!$K49,IF(ISERROR(FIND("/",Rework!$K49))=TRUE,LEN(Rework!$K49),FIND("/",Rework!$K49)-2)),TRIM(RIGHT(Rework!$K49,LEN(Rework!$K49)-IF(ISERROR(FIND("/",Rework!$K49))=TRUE,0,FIND("/",Rework!$K49))))),MAX(LEFT(Rework!$L49,IF(ISERROR(FIND("/",Rework!$L49))=TRUE,LEN(Rework!$L49),FIND("/",Rework!$L49)-2)),TRIM(RIGHT(Rework!$L49,LEN(Rework!$L49)-IF(ISERROR(FIND("/",Rework!$L49))=TRUE,0,FIND("/",Rework!$L49))))))) -> 0 | C48: =IF(AND(Rework!$F49="",Rework!$G49=""),0,Rework!$F49+Rework!$G49/12) -> 0 | D48: =IF(AND(Rework!F49="",Rework!G49=""),0,IF(ISERROR(FIND("Slave",Rework!C49)) =FALSE,Rework!F50+Rework!G50/12,0)) -> 0 | E48: =IF(Rework!$E49="",0,Rework!$E49) -> 0 | F48: =IF(Rework!$H49="",0,MIN(LEFT(Rework!$H49,IF(ISERROR(FIND("/",Rework!$H49))=TRUE,LEN(Rework!$H49),FIND("/",Rework!$H49)-3)),IF(ISERROR(FIND("/",Rework!$H49))=TRUE,Rework!$H49,TRIM(LEFT(RIGHT(Rework!$H49, LEN(Rework!$H49)-FIND("/",Rework!$H49)),LEN(RIGHT(Rework!$H49, LEN(Rework!$H49)-FIND("/",Rework!$H49)))-1))))) -> 0 | G48: =IF(Rework!$I49="",0,MAX(LEFT(Rework!$I49,IF(ISERROR(FIND("/",Rework!$I49))=TRUE,LEN(Rework!$I49),FIND("/",Rework!$I49)-3)),IF(ISERROR(FIND("/",Rework!$I49))=TRUE,Rework!$I49,TRIM(LEFT(RIGHT(Rework!$I49, LEN(Rework!$I49)-FIND("/",Rework!$I49)),LEN(RIGHT(Rework!$I49, LEN(Rework!$I49)-FIND("/",Rework!$I49)))-1))))) -> 0 | H48: =IF(Rework!W49>0,IF(Rework!W49>1,2,1),0) -> 0 | I48: =IF(Rework!X49="",IF(Rework!$E49=61.5,2400,1800),Rework!X49) -> 1800 | J48: 30 | K48: =IF(ISERROR(FIND("Belt",Rework!C49))=FALSE,0.3,IF(ISERROR(FIND("Roller",Rework!C49))=FALSE,0.05,0.25)) -> 0.25 | L48: 1 | M48: 0.95 | N48: 0.85 | O48: =IF(ISERROR(FIND("M",Rework!$N49))=TRUE,0.95,1) -> 0.95 | P48: 1 | Q48: =IF(B48=0,0,(I48*J48)/(60*B48)) -> 0 | R48: =IF(E48=0,0,(2*L48*((E48-1)/12))) -> 0 | S48: =IF(B48=0,0,(1.25*B48*K48*C48*(Q48+R48))/(33000*M48*N48*O48)) -> 0 | T48: =IF(AND(G48=0,F48=0),0,(1.25*I48*J48*((G48-F48)/12))/(60*33000*M48*N48*O48)) -> 0 | U48: =IF(E48=0,0,(1.25*B48*0.05*(Q48+(((E48/12)-1)*L48))*C48)/(60*33000*M48*N48*O48)) -> 0 | V48: =IF(H48=0,0,(1.25*B48*K48*(H48*((12*(E48-1))+200)))/(33000*M48*N48*O48)) -> 0 | W48: =IF(D48=0,0,(1.25*B48*K48*D48*(Q48+R48))/(33000*M48*N48*O48*O48)+5*(0.01*(500+1.25*((Q48+R48)*K48*D48)))*B48/(33000*M48*N48*O48*O48)) -> 0 | X48: =IF(B48=0,0,ROUNDUP(((AA48/B48)*33000*N48),0)) -> 0 | Y48: =IF(C48="",0,ROUNDUP((((K48*(C48+D48)*(Q48+R48))+(J48+((G48-F48)/12)))/0.85),0)) -> 36 | Z48: =S48+T48+U48+V48+W48 -> 0 | AA48: =VLOOKUP(Z48,$AD$3:$AF$13,3,TRUE) -> 2 | AB48: =VLOOKUP(X48,$AH$3:$AJ$5,3,TRUE) -> 8
A49: ='Conveyor List'!#REF! -> #REF! | B49: =IF(AND(Rework!$K50="",Rework!$L50=""),0,MAX(MAX(LEFT(Rework!$K50,IF(ISERROR(FIND("/",Rework!$K50))=TRUE,LEN(Rework!$K50),FIND("/",Rework!$K50)-2)),TRIM(RIGHT(Rework!$K50,LEN(Rework!$K50)-IF(ISERROR(FIND("/",Rework!$K50))=TRUE,0,FIND("/",Rework!$K50))))),MAX(LEFT(Rework!$L50,IF(ISERROR(FIND("/",Rework!$L50))=TRUE,LEN(Rework!$L50),FIND("/",Rework!$L50)-2)),TRIM(RIGHT(Rework!$L50,LEN(Rework!$L50)-IF(ISERROR(FIND("/",Rework!$L50))=TRUE,0,FIND("/",Rework!$L50))))))) -> 0 | C49: =IF(AND(Rework!$F50="",Rework!$G50=""),0,Rework!$F50+Rework!$G50/12) -> 0 | D49: =IF(AND(Rework!F50="",Rework!G50=""),0,IF(ISERROR(FIND("Slave",Rework!C50)) =FALSE,Rework!F51+Rework!G51/12,0)) -> 0 | E49: =IF(Rework!$E50="",0,Rework!$E50) -> 0 | F49: =IF(Rework!$H50="",0,MIN(LEFT(Rework!$H50,IF(ISERROR(FIND("/",Rework!$H50))=TRUE,LEN(Rework!$H50),FIND("/",Rework!$H50)-3)),IF(ISERROR(FIND("/",Rework!$H50))=TRUE,Rework!$H50,TRIM(LEFT(RIGHT(Rework!$H50, LEN(Rework!$H50)-FIND("/",Rework!$H50)),LEN(RIGHT(Rework!$H50, LEN(Rework!$H50)-FIND("/",Rework!$H50)))-1))))) -> 0 | G49: =IF(Rework!$I50="",0,MAX(LEFT(Rework!$I50,IF(ISERROR(FIND("/",Rework!$I50))=TRUE,LEN(Rework!$I50),FIND("/",Rework!$I50)-3)),IF(ISERROR(FIND("/",Rework!$I50))=TRUE,Rework!$I50,TRIM(LEFT(RIGHT(Rework!$I50, LEN(Rework!$I50)-FIND("/",Rework!$I50)),LEN(RIGHT(Rework!$I50, LEN(Rework!$I50)-FIND("/",Rework!$I50)))-1))))) -> 0 | H49: =IF(Rework!W50>0,IF(Rework!W50>1,2,1),0) -> 0 | I49: =IF(Rework!X50="",IF(Rework!$E50=61.5,2400,1800),Rework!X50) -> 1800 | J49: 30 | K49: =IF(ISERROR(FIND("Belt",Rework!C50))=FALSE,0.3,IF(ISERROR(FIND("Roller",Rework!C50))=FALSE,0.05,0.25)) -> 0.25 | L49: 1 | M49: 0.95 | N49: 0.85 | O49: =IF(ISERROR(FIND("M",Rework!$N50))=TRUE,0.95,1) -> 0.95 | P49: 1 | Q49: =IF(B49=0,0,(I49*J49)/(60*B49)) -> 0 | R49: =IF(E49=0,0,(2*L49*((E49-1)/12))) -> 0 | S49: =IF(B49=0,0,(1.25*B49*K49*C49*(Q49+R49))/(33000*M49*N49*O49)) -> 0 | T49: =IF(AND(G49=0,F49=0),0,(1.25*I49*J49*((G49-F49)/12))/(60*33000*M49*N49*O49)) -> 0 | U49: =IF(E49=0,0,(1.25*B49*0.05*(Q49+(((E49/12)-1)*L49))*C49)/(60*33000*M49*N49*O49)) -> 0 | V49: =IF(H49=0,0,(1.25*B49*K49*(H49*((12*(E49-1))+200)))/(33000*M49*N49*O49)) -> 0 | W49: =IF(D49=0,0,(1.25*B49*K49*D49*(Q49+R49))/(33000*M49*N49*O49*O49)+5*(0.01*(500+1.25*((Q49+R49)*K49*D49)))*B49/(33000*M49*N49*O49*O49)) -> 0 | X49: =IF(B49=0,0,ROUNDUP(((AA49/B49)*33000*N49),0)) -> 0 | Y49: =IF(C49="",0,ROUNDUP((((K49*(C49+D49)*(Q49+R49))+(J49+((G49-F49)/12)))/0.85),0)) -> 36 | Z49: =S49+T49+U49+V49+W49 -> 0 | AA49: =VLOOKUP(Z49,$AD$3:$AF$13,3,TRUE) -> 2 | AB49: =VLOOKUP(X49,$AH$3:$AJ$5,3,TRUE) -> 8
A50: ='Conveyor List'!#REF! -> #REF! | B50: =IF(AND(Rework!$K51="",Rework!$L51=""),0,MAX(MAX(LEFT(Rework!$K51,IF(ISERROR(FIND("/",Rework!$K51))=TRUE,LEN(Rework!$K51),FIND("/",Rework!$K51)-2)),TRIM(RIGHT(Rework!$K51,LEN(Rework!$K51)-IF(ISERROR(FIND("/",Rework!$K51))=TRUE,0,FIND("/",Rework!$K51))))),MAX(LEFT(Rework!$L51,IF(ISERROR(FIND("/",Rework!$L51))=TRUE,LEN(Rework!$L51),FIND("/",Rework!$L51)-2)),TRIM(RIGHT(Rework!$L51,LEN(Rework!$L51)-IF(ISERROR(FIND("/",Rework!$L51))=TRUE,0,FIND("/",Rework!$L51))))))) -> 0 | C50: =IF(AND(Rework!$F51="",Rework!$G51=""),0,Rework!$F51+Rework!$G51/12) -> 0 | D50: =IF(AND(Rework!F51="",Rework!G51=""),0,IF(ISERROR(FIND("Slave",Rework!C51)) =FALSE,Rework!F52+Rework!G52/12,0)) -> 0 | E50: =IF(Rework!$E51="",0,Rework!$E51) -> 0 | F50: =IF(Rework!$H51="",0,MIN(LEFT(Rework!$H51,IF(ISERROR(FIND("/",Rework!$H51))=TRUE,LEN(Rework!$H51),FIND("/",Rework!$H51)-3)),IF(ISERROR(FIND("/",Rework!$H51))=TRUE,Rework!$H51,TRIM(LEFT(RIGHT(Rework!$H51, LEN(Rework!$H51)-FIND("/",Rework!$H51)),LEN(RIGHT(Rework!$H51, LEN(Rework!$H51)-FIND("/",Rework!$H51)))-1))))) -> 0 | G50: =IF(Rework!$I51="",0,MAX(LEFT(Rework!$I51,IF(ISERROR(FIND("/",Rework!$I51))=TRUE,LEN(Rework!$I51),FIND("/",Rework!$I51)-3)),IF(ISERROR(FIND("/",Rework!$I51))=TRUE,Rework!$I51,TRIM(LEFT(RIGHT(Rework!$I51, LEN(Rework!$I51)-FIND("/",Rework!$I51)),LEN(RIGHT(Rework!$I51, LEN(Rework!$I51)-FIND("/",Rework!$I51)))-1))))) -> 0 | H50: =IF(Rework!W51>0,IF(Rework!W51>1,2,1),0) -> 0 | I50: =IF(Rework!X51="",IF(Rework!$E51=61.5,2400,1800),Rework!X51) -> 1800 | J50: 30 | K50: =IF(ISERROR(FIND("Belt",Rework!C51))=FALSE,0.3,IF(ISERROR(FIND("Roller",Rework!C51))=FALSE,0.05,0.25)) -> 0.25 | L50: 1 | M50: 0.95 | N50: 0.85 | O50: =IF(ISERROR(FIND("M",Rework!$N51))=TRUE,0.95,1) -> 0.95 | P50: 1 | Q50: =IF(B50=0,0,(I50*J50)/(60*B50)) -> 0 | R50: =IF(E50=0,0,(2*L50*((E50-1)/12))) -> 0 | S50: =IF(B50=0,0,(1.25*B50*K50*C50*(Q50+R50))/(33000*M50*N50*O50)) -> 0 | T50: =IF(AND(G50=0,F50=0),0,(1.25*I50*J50*((G50-F50)/12))/(60*33000*M50*N50*O50)) -> 0 | U50: =IF(E50=0,0,(1.25*B50*0.05*(Q50+(((E50/12)-1)*L50))*C50)/(60*33000*M50*N50*O50)) -> 0 | V50: =IF(H50=0,0,(1.25*B50*K50*(H50*((12*(E50-1))+200)))/(33000*M50*N50*O50)) -> 0 | W50: =IF(D50=0,0,(1.25*B50*K50*D50*(Q50+R50))/(33000*M50*N50*O50*O50)+5*(0.01*(500+1.25*((Q50+R50)*K50*D50)))*B50/(33000*M50*N50*O50*O50)) -> 0 | X50: =IF(B50=0,0,ROUNDUP(((AA50/B50)*33000*N50),0)) -> 0 | Y50: =IF(C50="",0,ROUNDUP((((K50*(C50+D50)*(Q50+R50))+(J50+((G50-F50)/12)))/0.85),0)) -> 36 | Z50: =S50+T50+U50+V50+W50 -> 0 | AA50: =VLOOKUP(Z50,$AD$3:$AF$13,3,TRUE) -> 2 | AB50: =VLOOKUP(X50,$AH$3:$AJ$5,3,TRUE) -> 8
A51: ='Conveyor List'!#REF! -> #REF! | B51: =IF(AND(Rework!$K52="",Rework!$L52=""),0,MAX(MAX(LEFT(Rework!$K52,IF(ISERROR(FIND("/",Rework!$K52))=TRUE,LEN(Rework!$K52),FIND("/",Rework!$K52)-2)),TRIM(RIGHT(Rework!$K52,LEN(Rework!$K52)-IF(ISERROR(FIND("/",Rework!$K52))=TRUE,0,FIND("/",Rework!$K52))))),MAX(LEFT(Rework!$L52,IF(ISERROR(FIND("/",Rework!$L52))=TRUE,LEN(Rework!$L52),FIND("/",Rework!$L52)-2)),TRIM(RIGHT(Rework!$L52,LEN(Rework!$L52)-IF(ISERROR(FIND("/",Rework!$L52))=TRUE,0,FIND("/",Rework!$L52))))))) -> 0 | C51: =IF(AND(Rework!$F52="",Rework!$G52=""),0,Rework!$F52+Rework!$G52/12) -> 0 | D51: =IF(AND(Rework!F52="",Rework!G52=""),0,IF(ISERROR(FIND("Slave",Rework!C52)) =FALSE,Rework!F53+Rework!G53/12,0)) -> 0 | E51: =IF(Rework!$E52="",0,Rework!$E52) -> 0 | F51: =IF(Rework!$H52="",0,MIN(LEFT(Rework!$H52,IF(ISERROR(FIND("/",Rework!$H52))=TRUE,LEN(Rework!$H52),FIND("/",Rework!$H52)-3)),IF(ISERROR(FIND("/",Rework!$H52))=TRUE,Rework!$H52,TRIM(LEFT(RIGHT(Rework!$H52, LEN(Rework!$H52)-FIND("/",Rework!$H52)),LEN(RIGHT(Rework!$H52, LEN(Rework!$H52)-FIND("/",Rework!$H52)))-1))))) -> 0 | G51: =IF(Rework!$I52="",0,MAX(LEFT(Rework!$I52,IF(ISERROR(FIND("/",Rework!$I52))=TRUE,LEN(Rework!$I52),FIND("/",Rework!$I52)-3)),IF(ISERROR(FIND("/",Rework!$I52))=TRUE,Rework!$I52,TRIM(LEFT(RIGHT(Rework!$I52, LEN(Rework!$I52)-FIND("/",Rework!$I52)),LEN(RIGHT(Rework!$I52, LEN(Rework!$I52)-FIND("/",Rework!$I52)))-1))))) -> 0 | H51: =IF(Rework!W52>0,IF(Rework!W52>1,2,1),0) -> 0 | I51: =IF(Rework!X52="",IF(Rework!$E52=61.5,2400,1800),Rework!X52) -> 1800 | J51: 30 | K51: =IF(ISERROR(FIND("Belt",Rework!C52))=FALSE,0.3,IF(ISERROR(FIND("Roller",Rework!C52))=FALSE,0.05,0.25)) -> 0.25 | L51: 1 | M51: 0.95 | N51: 0.85 | O51: =IF(ISERROR(FIND("M",Rework!$N52))=TRUE,0.95,1) -> 0.95 | P51: 1 | Q51: =IF(B51=0,0,(I51*J51)/(60*B51)) -> 0 | R51: =IF(E51=0,0,(2*L51*((E51-1)/12))) -> 0 | S51: =IF(B51=0,0,(1.25*B51*K51*C51*(Q51+R51))/(33000*M51*N51*O51)) -> 0 | T51: =IF(AND(G51=0,F51=0),0,(1.25*I51*J51*((G51-F51)/12))/(60*33000*M51*N51*O51)) -> 0 | U51: =IF(E51=0,0,(1.25*B51*0.05*(Q51+(((E51/12)-1)*L51))*C51)/(60*33000*M51*N51*O51)) -> 0 | V51: =IF(H51=0,0,(1.25*B51*K51*(H51*((12*(E51-1))+200)))/(33000*M51*N51*O51)) -> 0 | W51: =IF(D51=0,0,(1.25*B51*K51*D51*(Q51+R51))/(33000*M51*N51*O51*O51)+5*(0.01*(500+1.25*((Q51+R51)*K51*D51)))*B51/(33000*M51*N51*O51*O51)) -> 0 | X51: =IF(B51=0,0,ROUNDUP(((AA51/B51)*33000*N51),0)) -> 0 | Y51: =IF(C51="",0,ROUNDUP((((K51*(C51+D51)*(Q51+R51))+(J51+((G51-F51)/12)))/0.85),0)) -> 36 | Z51: =S51+T51+U51+V51+W51 -> 0 | AA51: =VLOOKUP(Z51,$AD$3:$AF$13,3,TRUE) -> 2 | AB51: =VLOOKUP(X51,$AH$3:$AJ$5,3,TRUE) -> 8
A52: ='Conveyor List'!#REF! -> #REF! | B52: =IF(AND(Rework!$K53="",Rework!$L53=""),0,MAX(MAX(LEFT(Rework!$K53,IF(ISERROR(FIND("/",Rework!$K53))=TRUE,LEN(Rework!$K53),FIND("/",Rework!$K53)-2)),TRIM(RIGHT(Rework!$K53,LEN(Rework!$K53)-IF(ISERROR(FIND("/",Rework!$K53))=TRUE,0,FIND("/",Rework!$K53))))),MAX(LEFT(Rework!$L53,IF(ISERROR(FIND("/",Rework!$L53))=TRUE,LEN(Rework!$L53),FIND("/",Rework!$L53)-2)),TRIM(RIGHT(Rework!$L53,LEN(Rework!$L53)-IF(ISERROR(FIND("/",Rework!$L53))=TRUE,0,FIND("/",Rework!$L53))))))) -> 0 | C52: =IF(AND(Rework!$F53="",Rework!$G53=""),0,Rework!$F53+Rework!$G53/12) -> 0 | D52: =IF(AND(Rework!F53="",Rework!G53=""),0,IF(ISERROR(FIND("Slave",Rework!C53)) =FALSE,Rework!F54+Rework!G54/12,0)) -> 0 | E52: =IF(Rework!$E53="",0,Rework!$E53) -> 0 | F52: =IF(Rework!$H53="",0,MIN(LEFT(Rework!$H53,IF(ISERROR(FIND("/",Rework!$H53))=TRUE,LEN(Rework!$H53),FIND("/",Rework!$H53)-3)),IF(ISERROR(FIND("/",Rework!$H53))=TRUE,Rework!$H53,TRIM(LEFT(RIGHT(Rework!$H53, LEN(Rework!$H53)-FIND("/",Rework!$H53)),LEN(RIGHT(Rework!$H53, LEN(Rework!$H53)-FIND("/",Rework!$H53)))-1))))) -> 0 | G52: =IF(Rework!$I53="",0,MAX(LEFT(Rework!$I53,IF(ISERROR(FIND("/",Rework!$I53))=TRUE,LEN(Rework!$I53),FIND("/",Rework!$I53)-3)),IF(ISERROR(FIND("/",Rework!$I53))=TRUE,Rework!$I53,TRIM(LEFT(RIGHT(Rework!$I53, LEN(Rework!$I53)-FIND("/",Rework!$I53)),LEN(RIGHT(Rework!$I53, LEN(Rework!$I53)-FIND("/",Rework!$I53)))-1))))) -> 0 | H52: =IF(Rework!W53>0,IF(Rework!W53>1,2,1),0) -> 0 | I52: =IF(Rework!X53="",IF(Rework!$E53=61.5,2400,1800),Rework!X53) -> 1800 | J52: 30 | K52: =IF(ISERROR(FIND("Belt",Rework!C53))=FALSE,0.3,IF(ISERROR(FIND("Roller",Rework!C53))=FALSE,0.05,0.25)) -> 0.25 | L52: 1 | M52: 0.95 | N52: 0.85 | O52: =IF(ISERROR(FIND("M",Rework!$N53))=TRUE,0.95,1) -> 0.95 | P52: 1 | Q52: =IF(B52=0,0,(I52*J52)/(60*B52)) -> 0 | R52: =IF(E52=0,0,(2*L52*((E52-1)/12))) -> 0 | S52: =IF(B52=0,0,(1.25*B52*K52*C52*(Q52+R52))/(33000*M52*N52*O52)) -> 0 | T52: =IF(AND(G52=0,F52=0),0,(1.25*I52*J52*((G52-F52)/12))/(60*33000*M52*N52*O52)) -> 0 | U52: =IF(E52=0,0,(1.25*B52*0.05*(Q52+(((E52/12)-1)*L52))*C52)/(60*33000*M52*N52*O52)) -> 0 | V52: =IF(H52=0,0,(1.25*B52*K52*(H52*((12*(E52-1))+200)))/(33000*M52*N52*O52)) -> 0 | W52: =IF(D52=0,0,(1.25*B52*K52*D52*(Q52+R52))/(33000*M52*N52*O52*O52)+5*(0.01*(500+1.25*((Q52+R52)*K52*D52)))*B52/(33000*M52*N52*O52*O52)) -> 0 | X52: =IF(B52=0,0,ROUNDUP(((AA52/B52)*33000*N52),0)) -> 0 | Y52: =IF(C52="",0,ROUNDUP((((K52*(C52+D52)*(Q52+R52))+(J52+((G52-F52)/12)))/0.85),0)) -> 36 | Z52: =S52+T52+U52+V52+W52 -> 0 | AA52: =VLOOKUP(Z52,$AD$3:$AF$13,3,TRUE) -> 2 | AB52: =VLOOKUP(X52,$AH$3:$AJ$5,3,TRUE) -> 8
A53: ='Conveyor List'!#REF! -> #REF! | B53: =IF(AND(Rework!$K54="",Rework!$L54=""),0,MAX(MAX(LEFT(Rework!$K54,IF(ISERROR(FIND("/",Rework!$K54))=TRUE,LEN(Rework!$K54),FIND("/",Rework!$K54)-2)),TRIM(RIGHT(Rework!$K54,LEN(Rework!$K54)-IF(ISERROR(FIND("/",Rework!$K54))=TRUE,0,FIND("/",Rework!$K54))))),MAX(LEFT(Rework!$L54,IF(ISERROR(FIND("/",Rework!$L54))=TRUE,LEN(Rework!$L54),FIND("/",Rework!$L54)-2)),TRIM(RIGHT(Rework!$L54,LEN(Rework!$L54)-IF(ISERROR(FIND("/",Rework!$L54))=TRUE,0,FIND("/",Rework!$L54))))))) -> 0 | C53: =IF(AND(Rework!$F54="",Rework!$G54=""),0,Rework!$F54+Rework!$G54/12) -> 0 | D53: =IF(AND(Rework!F54="",Rework!G54=""),0,IF(ISERROR(FIND("Slave",Rework!C54)) =FALSE,Rework!F55+Rework!G55/12,0)) -> 0 | E53: =IF(Rework!$E54="",0,Rework!$E54) -> 0 | F53: =IF(Rework!$H54="",0,MIN(LEFT(Rework!$H54,IF(ISERROR(FIND("/",Rework!$H54))=TRUE,LEN(Rework!$H54),FIND("/",Rework!$H54)-3)),IF(ISERROR(FIND("/",Rework!$H54))=TRUE,Rework!$H54,TRIM(LEFT(RIGHT(Rework!$H54, LEN(Rework!$H54)-FIND("/",Rework!$H54)),LEN(RIGHT(Rework!$H54, LEN(Rework!$H54)-FIND("/",Rework!$H54)))-1))))) -> 0 | G53: =IF(Rework!$I54="",0,MAX(LEFT(Rework!$I54,IF(ISERROR(FIND("/",Rework!$I54))=TRUE,LEN(Rework!$I54),FIND("/",Rework!$I54)-3)),IF(ISERROR(FIND("/",Rework!$I54))=TRUE,Rework!$I54,TRIM(LEFT(RIGHT(Rework!$I54, LEN(Rework!$I54)-FIND("/",Rework!$I54)),LEN(RIGHT(Rework!$I54, LEN(Rework!$I54)-FIND("/",Rework!$I54)))-1))))) -> 0 | H53: =IF(Rework!W54>0,IF(Rework!W54>1,2,1),0) -> 0 | I53: =IF(Rework!X54="",IF(Rework!$E54=61.5,2400,1800),Rework!X54) -> 1800 | J53: 30 | K53: =IF(ISERROR(FIND("Belt",Rework!C54))=FALSE,0.3,IF(ISERROR(FIND("Roller",Rework!C54))=FALSE,0.05,0.25)) -> 0.25 | L53: 1 | M53: 0.95 | N53: 0.85 | O53: =IF(ISERROR(FIND("M",Rework!$N54))=TRUE,0.95,1) -> 0.95 | P53: 1 | Q53: =IF(B53=0,0,(I53*J53)/(60*B53)) -> 0 | R53: =IF(E53=0,0,(2*L53*((E53-1)/12))) -> 0 | S53: =IF(B53=0,0,(1.25*B53*K53*C53*(Q53+R53))/(33000*M53*N53*O53)) -> 0 | T53: =IF(AND(G53=0,F53=0),0,(1.25*I53*J53*((G53-F53)/12))/(60*33000*M53*N53*O53)) -> 0 | U53: =IF(E53=0,0,(1.25*B53*0.05*(Q53+(((E53/12)-1)*L53))*C53)/(60*33000*M53*N53*O53)) -> 0 | V53: =IF(H53=0,0,(1.25*B53*K53*(H53*((12*(E53-1))+200)))/(33000*M53*N53*O53)) -> 0 | W53: =IF(D53=0,0,(1.25*B53*K53*D53*(Q53+R53))/(33000*M53*N53*O53*O53)+5*(0.01*(500+1.25*((Q53+R53)*K53*D53)))*B53/(33000*M53*N53*O53*O53)) -> 0 | X53: =IF(B53=0,0,ROUNDUP(((AA53/B53)*33000*N53),0)) -> 0 | Y53: =IF(C53="",0,ROUNDUP((((K53*(C53+D53)*(Q53+R53))+(J53+((G53-F53)/12)))/0.85),0)) -> 36 | Z53: =S53+T53+U53+V53+W53 -> 0 | AA53: =VLOOKUP(Z53,$AD$3:$AF$13,3,TRUE) -> 2 | AB53: =VLOOKUP(X53,$AH$3:$AJ$5,3,TRUE) -> 8
A54: ='Conveyor List'!#REF! -> #REF! | B54: =IF(AND(Rework!$K55="",Rework!$L55=""),0,MAX(MAX(LEFT(Rework!$K55,IF(ISERROR(FIND("/",Rework!$K55))=TRUE,LEN(Rework!$K55),FIND("/",Rework!$K55)-2)),TRIM(RIGHT(Rework!$K55,LEN(Rework!$K55)-IF(ISERROR(FIND("/",Rework!$K55))=TRUE,0,FIND("/",Rework!$K55))))),MAX(LEFT(Rework!$L55,IF(ISERROR(FIND("/",Rework!$L55))=TRUE,LEN(Rework!$L55),FIND("/",Rework!$L55)-2)),TRIM(RIGHT(Rework!$L55,LEN(Rework!$L55)-IF(ISERROR(FIND("/",Rework!$L55))=TRUE,0,FIND("/",Rework!$L55))))))) -> 0 | C54: =IF(AND(Rework!$F55="",Rework!$G55=""),0,Rework!$F55+Rework!$G55/12) -> 0 | D54: =IF(AND(Rework!F55="",Rework!G55=""),0,IF(ISERROR(FIND("Slave",Rework!C55)) =FALSE,Rework!F56+Rework!G56/12,0)) -> 0 | E54: =IF(Rework!$E55="",0,Rework!$E55) -> 0 | F54: =IF(Rework!$H55="",0,MIN(LEFT(Rework!$H55,IF(ISERROR(FIND("/",Rework!$H55))=TRUE,LEN(Rework!$H55),FIND("/",Rework!$H55)-3)),IF(ISERROR(FIND("/",Rework!$H55))=TRUE,Rework!$H55,TRIM(LEFT(RIGHT(Rework!$H55, LEN(Rework!$H55)-FIND("/",Rework!$H55)),LEN(RIGHT(Rework!$H55, LEN(Rework!$H55)-FIND("/",Rework!$H55)))-1))))) -> 0 | G54: =IF(Rework!$I55="",0,MAX(LEFT(Rework!$I55,IF(ISERROR(FIND("/",Rework!$I55))=TRUE,LEN(Rework!$I55),FIND("/",Rework!$I55)-3)),IF(ISERROR(FIND("/",Rework!$I55))=TRUE,Rework!$I55,TRIM(LEFT(RIGHT(Rework!$I55, LEN(Rework!$I55)-FIND("/",Rework!$I55)),LEN(RIGHT(Rework!$I55, LEN(Rework!$I55)-FIND("/",Rework!$I55)))-1))))) -> 0 | H54: =IF(Rework!W55>0,IF(Rework!W55>1,2,1),0) -> 0 | I54: =IF(Rework!X55="",IF(Rework!$E55=61.5,2400,1800),Rework!X55) -> 1800 | J54: 30 | K54: =IF(ISERROR(FIND("Belt",Rework!C55))=FALSE,0.3,IF(ISERROR(FIND("Roller",Rework!C55))=FALSE,0.05,0.25)) -> 0.25 | L54: 1 | M54: 0.95 | N54: 0.85 | O54: =IF(ISERROR(FIND("M",Rework!$N55))=TRUE,0.95,1) -> 0.95 | P54: 1 | Q54: =IF(B54=0,0,(I54*J54)/(60*B54)) -> 0 | R54: =IF(E54=0,0,(2*L54*((E54-1)/12))) -> 0 | S54: =IF(B54=0,0,(1.25*B54*K54*C54*(Q54+R54))/(33000*M54*N54*O54)) -> 0 | T54: =IF(AND(G54=0,F54=0),0,(1.25*I54*J54*((G54-F54)/12))/(60*33000*M54*N54*O54)) -> 0 | U54: =IF(E54=0,0,(1.25*B54*0.05*(Q54+(((E54/12)-1)*L54))*C54)/(60*33000*M54*N54*O54)) -> 0 | V54: =IF(H54=0,0,(1.25*B54*K54*(H54*((12*(E54-1))+200)))/(33000*M54*N54*O54)) -> 0 | W54: =IF(D54=0,0,(1.25*B54*K54*D54*(Q54+R54))/(33000*M54*N54*O54*O54)+5*(0.01*(500+1.25*((Q54+R54)*K54*D54)))*B54/(33000*M54*N54*O54*O54)) -> 0 | X54: =IF(B54=0,0,ROUNDUP(((AA54/B54)*33000*N54),0)) -> 0 | Y54: =IF(C54="",0,ROUNDUP((((K54*(C54+D54)*(Q54+R54))+(J54+((G54-F54)/12)))/0.85),0)) -> 36 | Z54: =S54+T54+U54+V54+W54 -> 0 | AA54: =VLOOKUP(Z54,$AD$3:$AF$13,3,TRUE) -> 2 | AB54: =VLOOKUP(X54,$AH$3:$AJ$5,3,TRUE) -> 8
A55: ='Conveyor List'!#REF! -> #REF! | B55: =IF(AND(Rework!$K56="",Rework!$L56=""),0,MAX(MAX(LEFT(Rework!$K56,IF(ISERROR(FIND("/",Rework!$K56))=TRUE,LEN(Rework!$K56),FIND("/",Rework!$K56)-2)),TRIM(RIGHT(Rework!$K56,LEN(Rework!$K56)-IF(ISERROR(FIND("/",Rework!$K56))=TRUE,0,FIND("/",Rework!$K56))))),MAX(LEFT(Rework!$L56,IF(ISERROR(FIND("/",Rework!$L56))=TRUE,LEN(Rework!$L56),FIND("/",Rework!$L56)-2)),TRIM(RIGHT(Rework!$L56,LEN(Rework!$L56)-IF(ISERROR(FIND("/",Rework!$L56))=TRUE,0,FIND("/",Rework!$L56))))))) -> 0 | C55: =IF(AND(Rework!$F56="",Rework!$G56=""),0,Rework!$F56+Rework!$G56/12) -> 0 | D55: =IF(AND(Rework!F56="",Rework!G56=""),0,IF(ISERROR(FIND("Slave",Rework!C56)) =FALSE,Rework!F57+Rework!G57/12,0)) -> 0 | E55: =IF(Rework!$E56="",0,Rework!$E56) -> 0 | F55: =IF(Rework!$H56="",0,MIN(LEFT(Rework!$H56,IF(ISERROR(FIND("/",Rework!$H56))=TRUE,LEN(Rework!$H56),FIND("/",Rework!$H56)-3)),IF(ISERROR(FIND("/",Rework!$H56))=TRUE,Rework!$H56,TRIM(LEFT(RIGHT(Rework!$H56, LEN(Rework!$H56)-FIND("/",Rework!$H56)),LEN(RIGHT(Rework!$H56, LEN(Rework!$H56)-FIND("/",Rework!$H56)))-1))))) -> 0 | G55: =IF(Rework!$I56="",0,MAX(LEFT(Rework!$I56,IF(ISERROR(FIND("/",Rework!$I56))=TRUE,LEN(Rework!$I56),FIND("/",Rework!$I56)-3)),IF(ISERROR(FIND("/",Rework!$I56))=TRUE,Rework!$I56,TRIM(LEFT(RIGHT(Rework!$I56, LEN(Rework!$I56)-FIND("/",Rework!$I56)),LEN(RIGHT(Rework!$I56, LEN(Rework!$I56)-FIND("/",Rework!$I56)))-1))))) -> 0 | H55: =IF(Rework!W56>0,IF(Rework!W56>1,2,1),0) -> 0 | I55: =IF(Rework!X56="",IF(Rework!$E56=61.5,2400,1800),Rework!X56) -> 1800 | J55: 30 | K55: =IF(ISERROR(FIND("Belt",Rework!C56))=FALSE,0.3,IF(ISERROR(FIND("Roller",Rework!C56))=FALSE,0.05,0.25)) -> 0.25 | L55: 1 | M55: 0.95 | N55: 0.85 | O55: =IF(ISERROR(FIND("M",Rework!$N56))=TRUE,0.95,1) -> 0.95 | P55: 1 | Q55: =IF(B55=0,0,(I55*J55)/(60*B55)) -> 0 | R55: =IF(E55=0,0,(2*L55*((E55-1)/12))) -> 0 | S55: =IF(B55=0,0,(1.25*B55*K55*C55*(Q55+R55))/(33000*M55*N55*O55)) -> 0 | T55: =IF(AND(G55=0,F55=0),0,(1.25*I55*J55*((G55-F55)/12))/(60*33000*M55*N55*O55)) -> 0 | U55: =IF(E55=0,0,(1.25*B55*0.05*(Q55+(((E55/12)-1)*L55))*C55)/(60*33000*M55*N55*O55)) -> 0 | V55: =IF(H55=0,0,(1.25*B55*K55*(H55*((12*(E55-1))+200)))/(33000*M55*N55*O55)) -> 0 | W55: =IF(D55=0,0,(1.25*B55*K55*D55*(Q55+R55))/(33000*M55*N55*O55*O55)+5*(0.01*(500+1.25*((Q55+R55)*K55*D55)))*B55/(33000*M55*N55*O55*O55)) -> 0 | X55: =IF(B55=0,0,ROUNDUP(((AA55/B55)*33000*N55),0)) -> 0 | Y55: =IF(C55="",0,ROUNDUP((((K55*(C55+D55)*(Q55+R55))+(J55+((G55-F55)/12)))/0.85),0)) -> 36 | Z55: =S55+T55+U55+V55+W55 -> 0 | AA55: =VLOOKUP(Z55,$AD$3:$AF$13,3,TRUE) -> 2 | AB55: =VLOOKUP(X55,$AH$3:$AJ$5,3,TRUE) -> 8
... A154: ='Conveyor List'!#REF! -> #REF! | B154: =IF(AND(Rework!$K155="",Rework!$L155=""),0,MAX(MAX(LEFT(Rework!$K155,IF(ISERROR(FIND("/",Rework!$K155))=TRUE,LEN(Rework!$K155),FIND("/",Rework!$K155)-2)),TRIM(RIGHT(Rework!$K155,LEN(Rework!$K155)-IF(ISERROR(FIND("/",Rework!$K155))=TRUE,0,FIND("/",Rework!$K155))))),MAX(LEFT(Rework!$L155,IF(ISERROR(FIND("/",Rework!$L155))=TRUE,LEN(Rework!$L155),FIND("/",Rework!$L155)-2)),TRIM(RIGHT(Rework!$L155,LEN(Rework!$L155)-IF(ISERROR(FIND("/",Rework!$L155))=TRUE,0,FIND("/",Rework!$L155))))))) -> 0 | C154: =IF(AND(Rework!$F155="",Rework!$G155=""),0,Rework!$F155+Rework!$G155/12) -> 0 | D154: =IF(AND(Rework!F155="",Rework!G155=""),0,IF(ISERROR(FIND("Slave",Rework!C155)) =FALSE,Rework!F156+Rework!G156/12,0)) -> 0 | E154: =IF(Rework!$E155="",0,Rework!$E155) -> 0 | F154: =IF(Rework!$H155="",0,MIN(LEFT(Rework!$H155,IF(ISERROR(FIND("/",Rework!$H155))=TRUE,LEN(Rework!$H155),FIND("/",Rework!$H155)-3)),IF(ISERROR(FIND("/",Rework!$H155))=TRUE,Rework!$H155,TRIM(LEFT(RIGHT(Rework!$H155, LEN(Rework!$H155)-FIND("/",Rework!$H155)),LEN(RIGHT(Rework!$H155, LEN(Rework!$H155)-FIND("/",Rework!$H155)))-1))))) -> 0 | G154: =IF(Rework!$I155="",0,MAX(LEFT(Rework!$I155,IF(ISERROR(FIND("/",Rework!$I155))=TRUE,LEN(Rework!$I155),FIND("/",Rework!$I155)-3)),IF(ISERROR(FIND("/",Rework!$I155))=TRUE,Rework!$I155,TRIM(LEFT(RIGHT(Rework!$I155, LEN(Rework!$I155)-FIND("/",Rework!$I155)),LEN(RIGHT(Rework!$I155, LEN(Rework!$I155)-FIND("/",Rework!$I155)))-1))))) -> 0 | H154: =IF(Rework!W155>0,IF(Rework!W155>1,2,1),0) -> 0 | I154: =IF(Rework!X155="",IF(Rework!$E155=61.5,2400,1800),Rework!X155) -> 1800 | J154: 30 | K154: =IF(ISERROR(FIND("Belt",Rework!C155))=FALSE,0.3,IF(ISERROR(FIND("Roller",Rework!C155))=FALSE,0.05,0.25)) -> 0.25 | L154: 1 | M154: 0.95 | N154: 0.85 | O154: =IF(ISERROR(FIND("M",Rework!$N155))=TRUE,0.95,1) -> 0.95 | P154: 1 | Q154: =IF(B154=0,0,(I154*J154)/(60*B154)) -> 0 | R154: =IF(E154=0,0,(2*L154*((E154-1)/12))) -> 0 | S154: =IF(B154=0,0,(1.25*B154*K154*C154*(Q154+R154))/(33000*M154*N154*O154)) -> 0 | T154: =IF(AND(G154=0,F154=0),0,(1.25*I154*J154*((G154-F154)/12))/(60*33000*M154*N154*O154)) -> 0 | U154: =IF(E154=0,0,(1.25*B154*0.05*(Q154+(((E154/12)-1)*L154))*C154)/(60*33000*M154*N154*O154)) -> 0 | V154: =IF(H154=0,0,(1.25*B154*K154*(H154*((12*(E154-1))+200)))/(33000*M154*N154*O154)) -> 0 | W154: =IF(D154=0,0,(1.25*B154*K154*D154*(Q154+R154))/(33000*M154*N154*O154*O154)+5*(0.01*(500+1.25*((Q154+R154)*K154*D154)))*B154/(33000*M154*N154*O154*O154)) -> 0 | X154: =IF(B154=0,0,ROUNDUP(((AA154/B154)*33000*N154),0)) -> 0 | Y154: =IF(C154="",0,ROUNDUP((((K154*(C154+D154)*(Q154+R154))+(J154+((G154-F154)/12)))/0.85),0)) -> 36 | Z154: =S154+T154+U154+V154+W154 -> 0 | AA154: =VLOOKUP(Z154,$AD$3:$AF$13,3,TRUE) -> 2 | AB154: =VLOOKUP(X154,$AH$3:$AJ$5,3,TRUE) -> 8
A155: ='Conveyor List'!#REF! -> #REF! | B155: =IF(AND('Conveyor List'!#REF!="",'Conveyor List'!#REF!=""),0,MAX(MAX(LEFT('Conveyor List'!#REF!,IF(ISERROR(FIND("/",'Conveyor List'!#REF!))=TRUE,LEN('Conveyor List'!#REF!),FIND("/",'Conveyor List'!#REF!)-2)),TRIM(RIGHT('Conveyor List'!#REF!,LEN('Conveyor List'!#REF!)-IF(ISERROR(FIND("/",'Conveyor List'!#REF!))=TRUE,0,FIND("/",'Conveyor List'!#REF!))))),MAX(LEFT('Conveyor List'!#REF!,IF(ISERROR(FIND("/",'Conveyor List'!#REF!))=TRUE,LEN('Conveyor List'!#REF!),FIND("/",'Conveyor List'!#REF!)-2)),TRIM(RIGHT('Conveyor List'!#REF!,LEN('Conveyor List'!#REF!)-IF(ISERROR(FIND("/",'Conveyor List'!#REF!))=TRUE,0,FIND("/",'Conveyor List'!#REF!))))))) -> #REF! | C155: =IF(AND('Conveyor List'!#REF!="",'Conveyor List'!#REF!=""),0,'Conveyor List'!#REF!+'Conveyor List'!#REF!/12) -> #REF! | D155: =IF(AND(Rework!F156="",Rework!G156=""),0,IF(ISERROR(FIND("Slave",Rework!C156)) =FALSE,Rework!F157+Rework!G157/12,0)) -> 0 | E155: =IF('Conveyor List'!#REF!="",0,'Conveyor List'!#REF!) -> #REF! | F155: =IF('Conveyor List'!#REF!="",0,MIN(LEFT('Conveyor List'!#REF!,IF(ISERROR(FIND("/",'Conveyor List'!#REF!))=TRUE,LEN('Conveyor List'!#REF!),FIND("/",'Conveyor List'!#REF!)-3)),IF(ISERROR(FIND("/",'Conveyor List'!#REF!))=TRUE,'Conveyor List'!#REF!,TRIM(LEFT(RIGHT('Conveyor List'!#REF!, LEN('Conveyor List'!#REF!)-FIND("/",'Conveyor List'!#REF!)),LEN(RIGHT('Conveyor List'!#REF!, LEN('Conveyor List'!#REF!)-FIND("/",'Conveyor List'!#REF!)))-1))))) -> #REF! | G155: =IF('Conveyor List'!#REF!="",0,MAX(LEFT('Conveyor List'!#REF!,IF(ISERROR(FIND("/",'Conveyor List'!#REF!))=TRUE,LEN('Conveyor List'!#REF!),FIND("/",'Conveyor List'!#REF!)-3)),IF(ISERROR(FIND("/",'Conveyor List'!#REF!))=TRUE,'Conveyor List'!#REF!,TRIM(LEFT(RIGHT('Conveyor List'!#REF!, LEN('Conveyor List'!#REF!)-FIND("/",'Conveyor List'!#REF!)),LEN(RIGHT('Conveyor List'!#REF!, LEN('Conveyor List'!#REF!)-FIND("/",'Conveyor List'!#REF!)))-1))))) -> #REF! | H155: =IF(Rework!W156>0,IF(Rework!W156>1,2,1),0) -> 0 | I155: =IF(Rework!X156="",IF(Rework!$E156=61.5,2400,1800),Rework!X156) -> 1800 | J155: 30 | K155: =IF(ISERROR(FIND("Slider",'Conveyor List'!#REF!))=FALSE,0.3,IF(ISERROR(FIND("Roller",'Conveyor List'!#REF!))=FALSE,0.05,0.25)) -> 0.25 | L155: 1 | M155: 0.95 | N155: 0.85 | O155: =IF(ISERROR(FIND("M",'Conveyor List'!#REF!))=TRUE,0.95,1) -> 0.95 | P155: 1 | Q155: =IF(B155=0,0,(I155*J155)/(60*B155)) -> #REF! | R155: =IF(E155=0,0,(2*L155*((E155-1)/12))) -> #REF! | S155: =IF(B155=0,0,(1.25*B155*K155*C155*(Q155+R155))/(33000*M155*N155*O155)) -> #REF! | T155: =IF(AND(G155=0,F155=0),0,(1.25*I155*J155*((G155-F155)/12))/(60*33000*M155*N155*O155)) -> #REF! | U155: =IF(E155=0,0,(1.25*B155*0.05*(Q155+(((E155/12)-1)*L155))*C155)/(60*33000*M155*N155*O155)) -> #REF! | V155: =IF(H155=0,0,(1.25*B155*K155*(H155*((12*(E155-1))+200)))/(33000*M155*N155*O155)) -> 0 | W155: =IF(D155=0,0,(1.25*B155*K155*D155*(Q155+R155))/(33000*M155*N155*O155*O155)+5*(0.01*(500+1.25*((Q155+R155)*K155*D155)))*B155/(33000*M155*N155*O155*O155)) -> 0 | X155: =IF(B155=0,0,ROUNDUP(((AA155/B155)*33000*N155),0)) -> #REF! | Y155: =IF(C155="",0,ROUNDUP((((K155*(C155+D155)*(Q155+R155))+(J155+((G155-F155)/12)))/0.85),0)) -> #REF! | Z155: =S155+T155+U155+V155+W155 -> #REF! | AA155: =VLOOKUP(Z155,$AD$3:$AF$13,3,TRUE) -> #REF! | AB155: =VLOOKUP(X155,$AH$3:$AJ$5,3,TRUE) -> #REF!
A156: ='Conveyor List'!#REF! -> #REF! | B156: =IF(AND('Conveyor List'!#REF!="",'Conveyor List'!#REF!=""),0,MAX(MAX(LEFT('Conveyor List'!#REF!,IF(ISERROR(FIND("/",'Conveyor List'!#REF!))=TRUE,LEN('Conveyor List'!#REF!),FIND("/",'Conveyor List'!#REF!)-2)),TRIM(RIGHT('Conveyor List'!#REF!,LEN('Conveyor List'!#REF!)-IF(ISERROR(FIND("/",'Conveyor List'!#REF!))=TRUE,0,FIND("/",'Conveyor List'!#REF!))))),MAX(LEFT('Conveyor List'!#REF!,IF(ISERROR(FIND("/",'Conveyor List'!#REF!))=TRUE,LEN('Conveyor List'!#REF!),FIND("/",'Conveyor List'!#REF!)-2)),TRIM(RIGHT('Conveyor List'!#REF!,LEN('Conveyor List'!#REF!)-IF(ISERROR(FIND("/",'Conveyor List'!#REF!))=TRUE,0,FIND("/",'Conveyor List'!#REF!))))))) -> #REF! | C156: =IF(AND('Conveyor List'!#REF!="",'Conveyor List'!#REF!=""),0,'Conveyor List'!#REF!+'Conveyor List'!#REF!/12) -> #REF! | D156: =IF(AND('Conveyor List'!#REF!="",'Conveyor List'!#REF!=""),0,IF(ISERROR(FIND("Slave",'Conveyor List'!#REF!)) =FALSE,'Conveyor List'!#REF!+'Conveyor List'!#REF!/12,0)) -> #REF! | E156: =IF('Conveyor List'!#REF!="",0,'Conveyor List'!#REF!) -> #REF! | F156: =IF('Conveyor List'!#REF!="",0,MIN(LEFT('Conveyor List'!#REF!,IF(ISERROR(FIND("/",'Conveyor List'!#REF!))=TRUE,LEN('Conveyor List'!#REF!),FIND("/",'Conveyor List'!#REF!)-3)),IF(ISERROR(FIND("/",'Conveyor List'!#REF!))=TRUE,'Conveyor List'!#REF!,TRIM(LEFT(RIGHT('Conveyor List'!#REF!, LEN('Conveyor List'!#REF!)-FIND("/",'Conveyor List'!#REF!)),LEN(RIGHT('Conveyor List'!#REF!, LEN('Conveyor List'!#REF!)-FIND("/",'Conveyor List'!#REF!)))-1))))) -> #REF! | G156: =IF('Conveyor List'!#REF!="",0,MAX(LEFT('Conveyor List'!#REF!,IF(ISERROR(FIND("/",'Conveyor List'!#REF!))=TRUE,LEN('Conveyor List'!#REF!),FIND("/",'Conveyor List'!#REF!)-3)),IF(ISERROR(FIND("/",'Conveyor List'!#REF!))=TRUE,'Conveyor List'!#REF!,TRIM(LEFT(RIGHT('Conveyor List'!#REF!, LEN('Conveyor List'!#REF!)-FIND("/",'Conveyor List'!#REF!)),LEN(RIGHT('Conveyor List'!#REF!, LEN('Conveyor List'!#REF!)-FIND("/",'Conveyor List'!#REF!)))-1))))) -> #REF! | H156: =IF(Rework!W157>0,IF(Rework!W157>1,2,1),0) -> 0 | I156: =IF(Rework!X157="",IF(Rework!$E157=61.5,2400,1800),Rework!X157) -> 1800 | J156: 30 | K156: =IF(ISERROR(FIND("Slider",'Conveyor List'!#REF!))=FALSE,0.3,IF(ISERROR(FIND("Roller",'Conveyor List'!#REF!))=FALSE,0.05,0.25)) -> 0.25 | L156: 1 | M156: 0.95 | N156: 0.85 | O156: =IF(ISERROR(FIND("M",'Conveyor List'!#REF!))=TRUE,0.95,1) -> 0.95 | P156: 1 | Q156: =IF(B156=0,0,(I156*J156)/(60*B156)) -> #REF! | R156: =IF(E156=0,0,(2*L156*((E156-1)/12))) -> #REF! | S156: =IF(B156=0,0,(1.25*B156*K156*C156*(Q156+R156))/(33000*M156*N156*O156)) -> #REF! | T156: =IF(AND(G156=0,F156=0),0,(1.25*I156*J156*((G156-F156)/12))/(60*33000*M156*N156*O156)) -> #REF! | U156: =IF(E156=0,0,(1.25*B156*0.05*(Q156+(((E156/12)-1)*L156))*C156)/(60*33000*M156*N156*O156)) -> #REF! | V156: =IF(H156=0,0,(1.25*B156*K156*(H156*((12*(E156-1))+200)))/(33000*M156*N156*O156)) -> 0 | W156: =IF(D156=0,0,(1.25*B156*K156*D156*(Q156+R156))/(33000*M156*N156*O156*O156)+5*(0.01*(500+1.25*((Q156+R156)*K156*D156)))*B156/(33000*M156*N156*O156*O156)) -> #REF! | X156: =IF(B156=0,0,ROUNDUP(((AA156/B156)*33000*N156),0)) -> #REF! | Y156: =IF(C156="",0,ROUNDUP((((K156*(C156+D156)*(Q156+R156))+(J156+((G156-F156)/12)))/0.85),0)) -> #REF! | Z156: =S156+T156+U156+V156+W156 -> #REF! | AA156: =VLOOKUP(Z156,$AD$3:$AF$13,3,TRUE) -> #REF! | AB156: =VLOOKUP(X156,$AH$3:$AJ$5,3,TRUE) -> #REF!
A157: ='Conveyor List'!C6 -> BS1_015_CH | B157: =IF(AND('Conveyor List'!$H6="",'Conveyor List'!#REF!=""),0,MAX(MAX(LEFT('Conveyor List'!$H6,IF(ISERROR(FIND("/",'Conveyor List'!$H6))=TRUE,LEN('Conveyor List'!$H6),FIND("/",'Conveyor List'!$H6)-2)),TRIM(RIGHT('Conveyor List'!$H6,LEN('Conveyor List'!$H6)-IF(ISERROR(FIND("/",'Conveyor List'!$H6))=TRUE,0,FIND("/",'Conveyor List'!$H6))))),MAX(LEFT('Conveyor List'!#REF!,IF(ISERROR(FIND("/",'Conveyor List'!#REF!))=TRUE,LEN('Conveyor List'!#REF!),FIND("/",'Conveyor List'!#REF!)-2)),TRIM(RIGHT('Conveyor List'!#REF!,LEN('Conveyor List'!#REF!)-IF(ISERROR(FIND("/",'Conveyor List'!#REF!))=TRUE,0,FIND("/",'Conveyor List'!#REF!))))))) -> #REF! | C157: =IF(AND('Conveyor List'!#REF!="",'Conveyor List'!#REF!=""),0,'Conveyor List'!#REF!+'Conveyor List'!#REF!/12) -> #REF! | D157: =IF(AND('Conveyor List'!#REF!="",'Conveyor List'!#REF!=""),0,IF(ISERROR(FIND("Slave",'Conveyor List'!G6)) =FALSE,'Conveyor List'!#REF!+'Conveyor List'!#REF!/12,0)) -> #REF! | E157: =IF('Conveyor List'!#REF!="",0,'Conveyor List'!#REF!) -> #REF! | F157: =IF('Conveyor List'!#REF!="",0,MIN(LEFT('Conveyor List'!#REF!,IF(ISERROR(FIND("/",'Conveyor List'!#REF!))=TRUE,LEN('Conveyor List'!#REF!),FIND("/",'Conveyor List'!#REF!)-3)),IF(ISERROR(FIND("/",'Conveyor List'!#REF!))=TRUE,'Conveyor List'!#REF!,TRIM(LEFT(RIGHT('Conveyor List'!#REF!, LEN('Conveyor List'!#REF!)-FIND("/",'Conveyor List'!#REF!)),LEN(RIGHT('Conveyor List'!#REF!, LEN('Conveyor List'!#REF!)-FIND("/",'Conveyor List'!#REF!)))-1))))) -> #REF! | G157: =IF('Conveyor List'!#REF!="",0,MAX(LEFT('Conveyor List'!#REF!,IF(ISERROR(FIND("/",'Conveyor List'!#REF!))=TRUE,LEN('Conveyor List'!#REF!),FIND("/",'Conveyor List'!#REF!)-3)),IF(ISERROR(FIND("/",'Conveyor List'!#REF!))=TRUE,'Conveyor List'!#REF!,TRIM(LEFT(RIGHT('Conveyor List'!#REF!, LEN('Conveyor List'!#REF!)-FIND("/",'Conveyor List'!#REF!)),LEN(RIGHT('Conveyor List'!#REF!, LEN('Conveyor List'!#REF!)-FIND("/",'Conveyor List'!#REF!)))-1))))) -> #REF! | H157: =IF(Rework!W158>0,IF(Rework!W158>1,2,1),0) -> 0 | I157: =IF(Rework!X158="",IF(Rework!$E158=61.5,2400,1800),Rework!X158) -> 1800 | J157: 30 | K157: =IF(ISERROR(FIND("Slider",'Conveyor List'!G6))=FALSE,0.3,IF(ISERROR(FIND("Roller",'Conveyor List'!G6))=FALSE,0.05,0.25)) -> 0.25 | L157: 1 | M157: 0.95 | N157: 0.85 | O157: =IF(ISERROR(FIND("M",'Conveyor List'!#REF!))=TRUE,0.95,1) -> 0.95 | P157: 1 | Q157: =IF(B157=0,0,(I157*J157)/(60*B157)) -> #REF! | R157: =IF(E157=0,0,(2*L157*((E157-1)/12))) -> #REF! | S157: =IF(B157=0,0,(1.25*B157*K157*C157*(Q157+R157))/(33000*M157*N157*O157)) -> #REF! | T157: =IF(AND(G157=0,F157=0),0,(1.25*I157*J157*((G157-F157)/12))/(60*33000*M157*N157*O157)) -> #REF! | U157: =IF(E157=0,0,(1.25*B157*0.05*(Q157+(((E157/12)-1)*L157))*C157)/(60*33000*M157*N157*O157)) -> #REF! | V157: =IF(H157=0,0,(1.25*B157*K157*(H157*((12*(E157-1))+200)))/(33000*M157*N157*O157)) -> 0 | W157: =IF(D157=0,0,(1.25*B157*K157*D157*(Q157+R157))/(33000*M157*N157*O157*O157)+5*(0.01*(500+1.25*((Q157+R157)*K157*D157)))*B157/(33000*M157*N157*O157*O157)) -> #REF! | X157: =IF(B157=0,0,ROUNDUP(((AA157/B157)*33000*N157),0)) -> #REF! | Y157: =IF(C157="",0,ROUNDUP((((K157*(C157+D157)*(Q157+R157))+(J157+((G157-F157)/12)))/0.85),0)) -> #REF! | Z157: =S157+T157+U157+V157+W157 -> #REF! | AA157: =VLOOKUP(Z157,$AD$3:$AF$13,3,TRUE) -> #REF! | AB157: =VLOOKUP(X157,$AH$3:$AJ$5,3,TRUE) -> #REF!
A158: ='Conveyor List'!C7 -> BS1_020 | B158: =IF(AND('Conveyor List'!$H7="",'Conveyor List'!#REF!=""),0,MAX(MAX(LEFT('Conveyor List'!$H7,IF(ISERROR(FIND("/",'Conveyor List'!$H7))=TRUE,LEN('Conveyor List'!$H7),FIND("/",'Conveyor List'!$H7)-2)),TRIM(RIGHT('Conveyor List'!$H7,LEN('Conveyor List'!$H7)-IF(ISERROR(FIND("/",'Conveyor List'!$H7))=TRUE,0,FIND("/",'Conveyor List'!$H7))))),MAX(LEFT('Conveyor List'!#REF!,IF(ISERROR(FIND("/",'Conveyor List'!#REF!))=TRUE,LEN('Conveyor List'!#REF!),FIND("/",'Conveyor List'!#REF!)-2)),TRIM(RIGHT('Conveyor List'!#REF!,LEN('Conveyor List'!#REF!)-IF(ISERROR(FIND("/",'Conveyor List'!#REF!))=TRUE,0,FIND("/",'Conveyor List'!#REF!))))))) -> #REF! | C158: =IF(AND('Conveyor List'!#REF!="",'Conveyor List'!#REF!=""),0,'Conveyor List'!#REF!+'Conveyor List'!#REF!/12) -> #REF! | D158: =IF(AND('Conveyor List'!#REF!="",'Conveyor List'!#REF!=""),0,IF(ISERROR(FIND("Slave",'Conveyor List'!G7)) =FALSE,'Conveyor List'!#REF!+'Conveyor List'!#REF!/12,0)) -> #REF! | E158: =IF('Conveyor List'!#REF!="",0,'Conveyor List'!#REF!) -> #REF! | F158: =IF('Conveyor List'!#REF!="",0,MIN(LEFT('Conveyor List'!#REF!,IF(ISERROR(FIND("/",'Conveyor List'!#REF!))=TRUE,LEN('Conveyor List'!#REF!),FIND("/",'Conveyor List'!#REF!)-3)),IF(ISERROR(FIND("/",'Conveyor List'!#REF!))=TRUE,'Conveyor List'!#REF!,TRIM(LEFT(RIGHT('Conveyor List'!#REF!, LEN('Conveyor List'!#REF!)-FIND("/",'Conveyor List'!#REF!)),LEN(RIGHT('Conveyor List'!#REF!, LEN('Conveyor List'!#REF!)-FIND("/",'Conveyor List'!#REF!)))-1))))) -> #REF! | G158: =IF('Conveyor List'!#REF!="",0,MAX(LEFT('Conveyor List'!#REF!,IF(ISERROR(FIND("/",'Conveyor List'!#REF!))=TRUE,LEN('Conveyor List'!#REF!),FIND("/",'Conveyor List'!#REF!)-3)),IF(ISERROR(FIND("/",'Conveyor List'!#REF!))=TRUE,'Conveyor List'!#REF!,TRIM(LEFT(RIGHT('Conveyor List'!#REF!, LEN('Conveyor List'!#REF!)-FIND("/",'Conveyor List'!#REF!)),LEN(RIGHT('Conveyor List'!#REF!, LEN('Conveyor List'!#REF!)-FIND("/",'Conveyor List'!#REF!)))-1))))) -> #REF! | H158: =IF(Rework!W159>0,IF(Rework!W159>1,2,1),0) -> 0 | I158: =IF(Rework!X159="",IF(Rework!$E159=61.5,2400,1800),Rework!X159) -> 1800 | J158: 30 | K158: =IF(ISERROR(FIND("Slider",'Conveyor List'!G7))=FALSE,0.3,IF(ISERROR(FIND("Roller",'Conveyor List'!G7))=FALSE,0.05,0.25)) -> 0.25 | L158: 1 | M158: 0.95 | N158: 0.85 | O158: =IF(ISERROR(FIND("M",'Conveyor List'!#REF!))=TRUE,0.95,1) -> 0.95 | P158: 1 | Q158: =IF(B158=0,0,(I158*J158)/(60*B158)) -> #REF! | R158: =IF(E158=0,0,(2*L158*((E158-1)/12))) -> #REF! | S158: =IF(B158=0,0,(1.25*B158*K158*C158*(Q158+R158))/(33000*M158*N158*O158)) -> #REF! | T158: =IF(AND(G158=0,F158=0),0,(1.25*I158*J158*((G158-F158)/12))/(60*33000*M158*N158*O158)) -> #REF! | U158: =IF(E158=0,0,(1.25*B158*0.05*(Q158+(((E158/12)-1)*L158))*C158)/(60*33000*M158*N158*O158)) -> #REF! | V158: =IF(H158=0,0,(1.25*B158*K158*(H158*((12*(E158-1))+200)))/(33000*M158*N158*O158)) -> 0 | W158: =IF(D158=0,0,(1.25*B158*K158*D158*(Q158+R158))/(33000*M158*N158*O158*O158)+5*(0.01*(500+1.25*((Q158+R158)*K158*D158)))*B158/(33000*M158*N158*O158*O158)) -> #REF! | X158: =IF(B158=0,0,ROUNDUP(((AA158/B158)*33000*N158),0)) -> #REF! | Y158: =IF(C158="",0,ROUNDUP((((K158*(C158+D158)*(Q158+R158))+(J158+((G158-F158)/12)))/0.85),0)) -> #REF! | Z158: =S158+T158+U158+V158+W158 -> #REF! | AA158: =VLOOKUP(Z158,$AD$3:$AF$13,3,TRUE) -> #REF! | AB158: =VLOOKUP(X158,$AH$3:$AJ$5,3,TRUE) -> #REF!
A159: ='Conveyor List'!C8 -> BS1_020_CH1 | B159: =IF(AND('Conveyor List'!$H8="",'Conveyor List'!#REF!=""),0,MAX(MAX(LEFT('Conveyor List'!$H8,IF(ISERROR(FIND("/",'Conveyor List'!$H8))=TRUE,LEN('Conveyor List'!$H8),FIND("/",'Conveyor List'!$H8)-2)),TRIM(RIGHT('Conveyor List'!$H8,LEN('Conveyor List'!$H8)-IF(ISERROR(FIND("/",'Conveyor List'!$H8))=TRUE,0,FIND("/",'Conveyor List'!$H8))))),MAX(LEFT('Conveyor List'!#REF!,IF(ISERROR(FIND("/",'Conveyor List'!#REF!))=TRUE,LEN('Conveyor List'!#REF!),FIND("/",'Conveyor List'!#REF!)-2)),TRIM(RIGHT('Conveyor List'!#REF!,LEN('Conveyor List'!#REF!)-IF(ISERROR(FIND("/",'Conveyor List'!#REF!))=TRUE,0,FIND("/",'Conveyor List'!#REF!))))))) -> #REF! | C159: =IF(AND('Conveyor List'!#REF!="",'Conveyor List'!#REF!=""),0,'Conveyor List'!#REF!+'Conveyor List'!#REF!/12) -> #REF! | D159: =IF(AND('Conveyor List'!#REF!="",'Conveyor List'!#REF!=""),0,IF(ISERROR(FIND("Slave",'Conveyor List'!G8)) =FALSE,'Conveyor List'!#REF!+'Conveyor List'!#REF!/12,0)) -> #REF! | E159: =IF('Conveyor List'!#REF!="",0,'Conveyor List'!#REF!) -> #REF! | F159: =IF('Conveyor List'!#REF!="",0,MIN(LEFT('Conveyor List'!#REF!,IF(ISERROR(FIND("/",'Conveyor List'!#REF!))=TRUE,LEN('Conveyor List'!#REF!),FIND("/",'Conveyor List'!#REF!)-3)),IF(ISERROR(FIND("/",'Conveyor List'!#REF!))=TRUE,'Conveyor List'!#REF!,TRIM(LEFT(RIGHT('Conveyor List'!#REF!, LEN('Conveyor List'!#REF!)-FIND("/",'Conveyor List'!#REF!)),LEN(RIGHT('Conveyor List'!#REF!, LEN('Conveyor List'!#REF!)-FIND("/",'Conveyor List'!#REF!)))-1))))) -> #REF! | G159: =IF('Conveyor List'!#REF!="",0,MAX(LEFT('Conveyor List'!#REF!,IF(ISERROR(FIND("/",'Conveyor List'!#REF!))=TRUE,LEN('Conveyor List'!#REF!),FIND("/",'Conveyor List'!#REF!)-3)),IF(ISERROR(FIND("/",'Conveyor List'!#REF!))=TRUE,'Conveyor List'!#REF!,TRIM(LEFT(RIGHT('Conveyor List'!#REF!, LEN('Conveyor List'!#REF!)-FIND("/",'Conveyor List'!#REF!)),LEN(RIGHT('Conveyor List'!#REF!, LEN('Conveyor List'!#REF!)-FIND("/",'Conveyor List'!#REF!)))-1))))) -> #REF! | H159: =IF(Rework!W160>0,IF(Rework!W160>1,2,1),0) -> 0 | I159: =IF(Rework!X160="",IF(Rework!$E160=61.5,2400,1800),Rework!X160) -> 1800 | J159: 30 | K159: =IF(ISERROR(FIND("Slider",'Conveyor List'!G8))=FALSE,0.3,IF(ISERROR(FIND("Roller",'Conveyor List'!G8))=FALSE,0.05,0.25)) -> 0.25 | L159: 1 | M159: 0.95 | N159: 0.85 | O159: =IF(ISERROR(FIND("M",'Conveyor List'!#REF!))=TRUE,0.95,1) -> 0.95 | P159: 1 | Q159: =IF(B159=0,0,(I159*J159)/(60*B159)) -> #REF! | R159: =IF(E159=0,0,(2*L159*((E159-1)/12))) -> #REF! | S159: =IF(B159=0,0,(1.25*B159*K159*C159*(Q159+R159))/(33000*M159*N159*O159)) -> #REF! | T159: =IF(AND(G159=0,F159=0),0,(1.25*I159*J159*((G159-F159)/12))/(60*33000*M159*N159*O159)) -> #REF! | U159: =IF(E159=0,0,(1.25*B159*0.05*(Q159+(((E159/12)-1)*L159))*C159)/(60*33000*M159*N159*O159)) -> #REF! | V159: =IF(H159=0,0,(1.25*B159*K159*(H159*((12*(E159-1))+200)))/(33000*M159*N159*O159)) -> 0 | W159: =IF(D159=0,0,(1.25*B159*K159*D159*(Q159+R159))/(33000*M159*N159*O159*O159)+5*(0.01*(500+1.25*((Q159+R159)*K159*D159)))*B159/(33000*M159*N159*O159*O159)) -> #REF! | X159: =IF(B159=0,0,ROUNDUP(((AA159/B159)*33000*N159),0)) -> #REF! | Y159: =IF(C159="",0,ROUNDUP((((K159*(C159+D159)*(Q159+R159))+(J159+((G159-F159)/12)))/0.85),0)) -> #REF! | Z159: =S159+T159+U159+V159+W159 -> #REF! | AA159: =VLOOKUP(Z159,$AD$3:$AF$13,3,TRUE) -> #REF! | AB159: =VLOOKUP(X159,$AH$3:$AJ$5,3,TRUE) -> #REF!
A160: ='Conveyor List'!C9 -> BS1_020_CH2 | B160: =IF(AND('Conveyor List'!$H9="",'Conveyor List'!#REF!=""),0,MAX(MAX(LEFT('Conveyor List'!$H9,IF(ISERROR(FIND("/",'Conveyor List'!$H9))=TRUE,LEN('Conveyor List'!$H9),FIND("/",'Conveyor List'!$H9)-2)),TRIM(RIGHT('Conveyor List'!$H9,LEN('Conveyor List'!$H9)-IF(ISERROR(FIND("/",'Conveyor List'!$H9))=TRUE,0,FIND("/",'Conveyor List'!$H9))))),MAX(LEFT('Conveyor List'!#REF!,IF(ISERROR(FIND("/",'Conveyor List'!#REF!))=TRUE,LEN('Conveyor List'!#REF!),FIND("/",'Conveyor List'!#REF!)-2)),TRIM(RIGHT('Conveyor List'!#REF!,LEN('Conveyor List'!#REF!)-IF(ISERROR(FIND("/",'Conveyor List'!#REF!))=TRUE,0,FIND("/",'Conveyor List'!#REF!))))))) -> #REF! | C160: =IF(AND('Conveyor List'!#REF!="",'Conveyor List'!#REF!=""),0,'Conveyor List'!#REF!+'Conveyor List'!#REF!/12) -> #REF! | D160: =IF(AND('Conveyor List'!#REF!="",'Conveyor List'!#REF!=""),0,IF(ISERROR(FIND("Slave",'Conveyor List'!G9)) =FALSE,'Conveyor List'!#REF!+'Conveyor List'!#REF!/12,0)) -> #REF! | E160: =IF('Conveyor List'!#REF!="",0,'Conveyor List'!#REF!) -> #REF! | F160: =IF('Conveyor List'!#REF!="",0,MIN(LEFT('Conveyor List'!#REF!,IF(ISERROR(FIND("/",'Conveyor List'!#REF!))=TRUE,LEN('Conveyor List'!#REF!),FIND("/",'Conveyor List'!#REF!)-3)),IF(ISERROR(FIND("/",'Conveyor List'!#REF!))=TRUE,'Conveyor List'!#REF!,TRIM(LEFT(RIGHT('Conveyor List'!#REF!, LEN('Conveyor List'!#REF!)-FIND("/",'Conveyor List'!#REF!)),LEN(RIGHT('Conveyor List'!#REF!, LEN('Conveyor List'!#REF!)-FIND("/",'Conveyor List'!#REF!)))-1))))) -> #REF! | G160: =IF('Conveyor List'!#REF!="",0,MAX(LEFT('Conveyor List'!#REF!,IF(ISERROR(FIND("/",'Conveyor List'!#REF!))=TRUE,LEN('Conveyor List'!#REF!),FIND("/",'Conveyor List'!#REF!)-3)),IF(ISERROR(FIND("/",'Conveyor List'!#REF!))=TRUE,'Conveyor List'!#REF!,TRIM(LEFT(RIGHT('Conveyor List'!#REF!, LEN('Conveyor List'!#REF!)-FIND("/",'Conveyor List'!#REF!)),LEN(RIGHT('Conveyor List'!#REF!, LEN('Conveyor List'!#REF!)-FIND("/",'Conveyor List'!#REF!)))-1))))) -> #REF! | H160: =IF(Rework!W161>0,IF(Rework!W161>1,2,1),0) -> 0 | I160: =IF(Rework!X161="",IF(Rework!$E161=61.5,2400,1800),Rework!X161) -> 1800 | J160: 30 | K160: =IF(ISERROR(FIND("Slider",'Conveyor List'!G9))=FALSE,0.3,IF(ISERROR(FIND("Roller",'Conveyor List'!G9))=FALSE,0.05,0.25)) -> 0.25 | L160: 1 | M160: 0.95 | N160: 0.85 | O160: =IF(ISERROR(FIND("M",'Conveyor List'!#REF!))=TRUE,0.95,1) -> 0.95 | P160: 1 | Q160: =IF(B160=0,0,(I160*J160)/(60*B160)) -> #REF! | R160: =IF(E160=0,0,(2*L160*((E160-1)/12))) -> #REF! | S160: =IF(B160=0,0,(1.25*B160*K160*C160*(Q160+R160))/(33000*M160*N160*O160)) -> #REF! | T160: =IF(AND(G160=0,F160=0),0,(1.25*I160*J160*((G160-F160)/12))/(60*33000*M160*N160*O160)) -> #REF! | U160: =IF(E160=0,0,(1.25*B160*0.05*(Q160+(((E160/12)-1)*L160))*C160)/(60*33000*M160*N160*O160)) -> #REF! | V160: =IF(H160=0,0,(1.25*B160*K160*(H160*((12*(E160-1))+200)))/(33000*M160*N160*O160)) -> 0 | W160: =IF(D160=0,0,(1.25*B160*K160*D160*(Q160+R160))/(33000*M160*N160*O160*O160)+5*(0.01*(500+1.25*((Q160+R160)*K160*D160)))*B160/(33000*M160*N160*O160*O160)) -> #REF! | X160: =IF(B160=0,0,ROUNDUP(((AA160/B160)*33000*N160),0)) -> #REF! | Y160: =IF(C160="",0,ROUNDUP((((K160*(C160+D160)*(Q160+R160))+(J160+((G160-F160)/12)))/0.85),0)) -> #REF! | Z160: =S160+T160+U160+V160+W160 -> #REF! | AA160: =VLOOKUP(Z160,$AD$3:$AF$13,3,TRUE) -> #REF! | AB160: =VLOOKUP(X160,$AH$3:$AJ$5,3,TRUE) -> #REF!
A161: ='Conveyor List'!C10 -> BS1_020_CH3 | B161: =IF(AND('Conveyor List'!$H10="",'Conveyor List'!#REF!=""),0,MAX(MAX(LEFT('Conveyor List'!$H10,IF(ISERROR(FIND("/",'Conveyor List'!$H10))=TRUE,LEN('Conveyor List'!$H10),FIND("/",'Conveyor List'!$H10)-2)),TRIM(RIGHT('Conveyor List'!$H10,LEN('Conveyor List'!$H10)-IF(ISERROR(FIND("/",'Conveyor List'!$H10))=TRUE,0,FIND("/",'Conveyor List'!$H10))))),MAX(LEFT('Conveyor List'!#REF!,IF(ISERROR(FIND("/",'Conveyor List'!#REF!))=TRUE,LEN('Conveyor List'!#REF!),FIND("/",'Conveyor List'!#REF!)-2)),TRIM(RIGHT('Conveyor List'!#REF!,LEN('Conveyor List'!#REF!)-IF(ISERROR(FIND("/",'Conveyor List'!#REF!))=TRUE,0,FIND("/",'Conveyor List'!#REF!))))))) -> #REF! | C161: =IF(AND('Conveyor List'!#REF!="",'Conveyor List'!#REF!=""),0,'Conveyor List'!#REF!+'Conveyor List'!#REF!/12) -> #REF! | D161: =IF(AND('Conveyor List'!#REF!="",'Conveyor List'!#REF!=""),0,IF(ISERROR(FIND("Slave",'Conveyor List'!G10)) =FALSE,'Conveyor List'!#REF!+'Conveyor List'!#REF!/12,0)) -> #REF! | E161: =IF('Conveyor List'!#REF!="",0,'Conveyor List'!#REF!) -> #REF! | F161: =IF('Conveyor List'!#REF!="",0,MIN(LEFT('Conveyor List'!#REF!,IF(ISERROR(FIND("/",'Conveyor List'!#REF!))=TRUE,LEN('Conveyor List'!#REF!),FIND("/",'Conveyor List'!#REF!)-3)),IF(ISERROR(FIND("/",'Conveyor List'!#REF!))=TRUE,'Conveyor List'!#REF!,TRIM(LEFT(RIGHT('Conveyor List'!#REF!, LEN('Conveyor List'!#REF!)-FIND("/",'Conveyor List'!#REF!)),LEN(RIGHT('Conveyor List'!#REF!, LEN('Conveyor List'!#REF!)-FIND("/",'Conveyor List'!#REF!)))-1))))) -> #REF! | G161: =IF('Conveyor List'!#REF!="",0,MAX(LEFT('Conveyor List'!#REF!,IF(ISERROR(FIND("/",'Conveyor List'!#REF!))=TRUE,LEN('Conveyor List'!#REF!),FIND("/",'Conveyor List'!#REF!)-3)),IF(ISERROR(FIND("/",'Conveyor List'!#REF!))=TRUE,'Conveyor List'!#REF!,TRIM(LEFT(RIGHT('Conveyor List'!#REF!, LEN('Conveyor List'!#REF!)-FIND("/",'Conveyor List'!#REF!)),LEN(RIGHT('Conveyor List'!#REF!, LEN('Conveyor List'!#REF!)-FIND("/",'Conveyor List'!#REF!)))-1))))) -> #REF! | H161: =IF(Rework!W162>0,IF(Rework!W162>1,2,1),0) -> 0 | I161: =IF(Rework!X162="",IF(Rework!$E162=61.5,2400,1800),Rework!X162) -> 1800 | J161: 30 | K161: =IF(ISERROR(FIND("Slider",'Conveyor List'!G10))=FALSE,0.3,IF(ISERROR(FIND("Roller",'Conveyor List'!G10))=FALSE,0.05,0.25)) -> 0.25 | L161: 1 | M161: 0.95 | N161: 0.85 | O161: =IF(ISERROR(FIND("M",'Conveyor List'!#REF!))=TRUE,0.95,1) -> 0.95 | P161: 1 | Q161: =IF(B161=0,0,(I161*J161)/(60*B161)) -> #REF! | R161: =IF(E161=0,0,(2*L161*((E161-1)/12))) -> #REF! | S161: =IF(B161=0,0,(1.25*B161*K161*C161*(Q161+R161))/(33000*M161*N161*O161)) -> #REF! | T161: =IF(AND(G161=0,F161=0),0,(1.25*I161*J161*((G161-F161)/12))/(60*33000*M161*N161*O161)) -> #REF! | U161: =IF(E161=0,0,(1.25*B161*0.05*(Q161+(((E161/12)-1)*L161))*C161)/(60*33000*M161*N161*O161)) -> #REF! | V161: =IF(H161=0,0,(1.25*B161*K161*(H161*((12*(E161-1))+200)))/(33000*M161*N161*O161)) -> 0 | W161: =IF(D161=0,0,(1.25*B161*K161*D161*(Q161+R161))/(33000*M161*N161*O161*O161)+5*(0.01*(500+1.25*((Q161+R161)*K161*D161)))*B161/(33000*M161*N161*O161*O161)) -> #REF! | X161: =IF(B161=0,0,ROUNDUP(((AA161/B161)*33000*N161),0)) -> #REF! | Y161: =IF(C161="",0,ROUNDUP((((K161*(C161+D161)*(Q161+R161))+(J161+((G161-F161)/12)))/0.85),0)) -> #REF! | Z161: =S161+T161+U161+V161+W161 -> #REF! | AA161: =VLOOKUP(Z161,$AD$3:$AF$13,3,TRUE) -> #REF! | AB161: =VLOOKUP(X161,$AH$3:$AJ$5,3,TRUE) -> #REF!
A162: ='Conveyor List'!C11 -> BS1_020_CH4 | B162: =IF(AND('Conveyor List'!$H11="",'Conveyor List'!#REF!=""),0,MAX(MAX(LEFT('Conveyor List'!$H11,IF(ISERROR(FIND("/",'Conveyor List'!$H11))=TRUE,LEN('Conveyor List'!$H11),FIND("/",'Conveyor List'!$H11)-2)),TRIM(RIGHT('Conveyor List'!$H11,LEN('Conveyor List'!$H11)-IF(ISERROR(FIND("/",'Conveyor List'!$H11))=TRUE,0,FIND("/",'Conveyor List'!$H11))))),MAX(LEFT('Conveyor List'!#REF!,IF(ISERROR(FIND("/",'Conveyor List'!#REF!))=TRUE,LEN('Conveyor List'!#REF!),FIND("/",'Conveyor List'!#REF!)-2)),TRIM(RIGHT('Conveyor List'!#REF!,LEN('Conveyor List'!#REF!)-IF(ISERROR(FIND("/",'Conveyor List'!#REF!))=TRUE,0,FIND("/",'Conveyor List'!#REF!))))))) -> #REF! | C162: =IF(AND('Conveyor List'!#REF!="",'Conveyor List'!#REF!=""),0,'Conveyor List'!#REF!+'Conveyor List'!#REF!/12) -> #REF! | D162: =IF(AND('Conveyor List'!#REF!="",'Conveyor List'!#REF!=""),0,IF(ISERROR(FIND("Slave",'Conveyor List'!G11)) =FALSE,'Conveyor List'!#REF!+'Conveyor List'!#REF!/12,0)) -> #REF! | E162: =IF('Conveyor List'!#REF!="",0,'Conveyor List'!#REF!) -> #REF! | F162: =IF('Conveyor List'!#REF!="",0,MIN(LEFT('Conveyor List'!#REF!,IF(ISERROR(FIND("/",'Conveyor List'!#REF!))=TRUE,LEN('Conveyor List'!#REF!),FIND("/",'Conveyor List'!#REF!)-3)),IF(ISERROR(FIND("/",'Conveyor List'!#REF!))=TRUE,'Conveyor List'!#REF!,TRIM(LEFT(RIGHT('Conveyor List'!#REF!, LEN('Conveyor List'!#REF!)-FIND("/",'Conveyor List'!#REF!)),LEN(RIGHT('Conveyor List'!#REF!, LEN('Conveyor List'!#REF!)-FIND("/",'Conveyor List'!#REF!)))-1))))) -> #REF! | G162: =IF('Conveyor List'!#REF!="",0,MAX(LEFT('Conveyor List'!#REF!,IF(ISERROR(FIND("/",'Conveyor List'!#REF!))=TRUE,LEN('Conveyor List'!#REF!),FIND("/",'Conveyor List'!#REF!)-3)),IF(ISERROR(FIND("/",'Conveyor List'!#REF!))=TRUE,'Conveyor List'!#REF!,TRIM(LEFT(RIGHT('Conveyor List'!#REF!, LEN('Conveyor List'!#REF!)-FIND("/",'Conveyor List'!#REF!)),LEN(RIGHT('Conveyor List'!#REF!, LEN('Conveyor List'!#REF!)-FIND("/",'Conveyor List'!#REF!)))-1))))) -> #REF! | H162: =IF(Rework!W163>0,IF(Rework!W163>1,2,1),0) -> 0 | I162: =IF(Rework!X163="",IF(Rework!$E163=61.5,2400,1800),Rework!X163) -> 1800 | J162: 30 | K162: =IF(ISERROR(FIND("Slider",'Conveyor List'!G11))=FALSE,0.3,IF(ISERROR(FIND("Roller",'Conveyor List'!G11))=FALSE,0.05,0.25)) -> 0.25 | L162: 1 | M162: 0.95 | N162: 0.85 | O162: =IF(ISERROR(FIND("M",'Conveyor List'!#REF!))=TRUE,0.95,1) -> 0.95 | P162: 1 | Q162: =IF(B162=0,0,(I162*J162)/(60*B162)) -> #REF! | R162: =IF(E162=0,0,(2*L162*((E162-1)/12))) -> #REF! | S162: =IF(B162=0,0,(1.25*B162*K162*C162*(Q162+R162))/(33000*M162*N162*O162)) -> #REF! | T162: =IF(AND(G162=0,F162=0),0,(1.25*I162*J162*((G162-F162)/12))/(60*33000*M162*N162*O162)) -> #REF! | U162: =IF(E162=0,0,(1.25*B162*0.05*(Q162+(((E162/12)-1)*L162))*C162)/(60*33000*M162*N162*O162)) -> #REF! | V162: =IF(H162=0,0,(1.25*B162*K162*(H162*((12*(E162-1))+200)))/(33000*M162*N162*O162)) -> 0 | W162: =IF(D162=0,0,(1.25*B162*K162*D162*(Q162+R162))/(33000*M162*N162*O162*O162)+5*(0.01*(500+1.25*((Q162+R162)*K162*D162)))*B162/(33000*M162*N162*O162*O162)) -> #REF! | X162: =IF(B162=0,0,ROUNDUP(((AA162/B162)*33000*N162),0)) -> #REF! | Y162: =IF(C162="",0,ROUNDUP((((K162*(C162+D162)*(Q162+R162))+(J162+((G162-F162)/12)))/0.85),0)) -> #REF! | Z162: =S162+T162+U162+V162+W162 -> #REF! | AA162: =VLOOKUP(Z162,$AD$3:$AF$13,3,TRUE) -> #REF! | AB162: =VLOOKUP(X162,$AH$3:$AJ$5,3,TRUE) -> #REF!
A163: ='Conveyor List'!C13 -> BS1_020_DIV2 | B163: =IF(AND('Conveyor List'!$H13="",'Conveyor List'!#REF!=""),0,MAX(MAX(LEFT('Conveyor List'!$H13,IF(ISERROR(FIND("/",'Conveyor List'!$H13))=TRUE,LEN('Conveyor List'!$H13),FIND("/",'Conveyor List'!$H13)-2)),TRIM(RIGHT('Conveyor List'!$H13,LEN('Conveyor List'!$H13)-IF(ISERROR(FIND("/",'Conveyor List'!$H13))=TRUE,0,FIND("/",'Conveyor List'!$H13))))),MAX(LEFT('Conveyor List'!#REF!,IF(ISERROR(FIND("/",'Conveyor List'!#REF!))=TRUE,LEN('Conveyor List'!#REF!),FIND("/",'Conveyor List'!#REF!)-2)),TRIM(RIGHT('Conveyor List'!#REF!,LEN('Conveyor List'!#REF!)-IF(ISERROR(FIND("/",'Conveyor List'!#REF!))=TRUE,0,FIND("/",'Conveyor List'!#REF!))))))) -> #REF! | C163: =IF(AND('Conveyor List'!#REF!="",'Conveyor List'!#REF!=""),0,'Conveyor List'!#REF!+'Conveyor List'!#REF!/12) -> #REF! | D163: =IF(AND('Conveyor List'!#REF!="",'Conveyor List'!#REF!=""),0,IF(ISERROR(FIND("Slave",'Conveyor List'!G13)) =FALSE,'Conveyor List'!#REF!+'Conveyor List'!#REF!/12,0)) -> #REF! | E163: =IF('Conveyor List'!#REF!="",0,'Conveyor List'!#REF!) -> #REF! | F163: =IF('Conveyor List'!#REF!="",0,MIN(LEFT('Conveyor List'!#REF!,IF(ISERROR(FIND("/",'Conveyor List'!#REF!))=TRUE,LEN('Conveyor List'!#REF!),FIND("/",'Conveyor List'!#REF!)-3)),IF(ISERROR(FIND("/",'Conveyor List'!#REF!))=TRUE,'Conveyor List'!#REF!,TRIM(LEFT(RIGHT('Conveyor List'!#REF!, LEN('Conveyor List'!#REF!)-FIND("/",'Conveyor List'!#REF!)),LEN(RIGHT('Conveyor List'!#REF!, LEN('Conveyor List'!#REF!)-FIND("/",'Conveyor List'!#REF!)))-1))))) -> #REF! | G163: =IF('Conveyor List'!#REF!="",0,MAX(LEFT('Conveyor List'!#REF!,IF(ISERROR(FIND("/",'Conveyor List'!#REF!))=TRUE,LEN('Conveyor List'!#REF!),FIND("/",'Conveyor List'!#REF!)-3)),IF(ISERROR(FIND("/",'Conveyor List'!#REF!))=TRUE,'Conveyor List'!#REF!,TRIM(LEFT(RIGHT('Conveyor List'!#REF!, LEN('Conveyor List'!#REF!)-FIND("/",'Conveyor List'!#REF!)),LEN(RIGHT('Conveyor List'!#REF!, LEN('Conveyor List'!#REF!)-FIND("/",'Conveyor List'!#REF!)))-1))))) -> #REF! | H163: =IF(Rework!W164>0,IF(Rework!W164>1,2,1),0) -> 0 | I163: =IF(Rework!X164="",IF(Rework!$E164=61.5,2400,1800),Rework!X164) -> 1800 | J163: 30 | K163: =IF(ISERROR(FIND("Slider",'Conveyor List'!G13))=FALSE,0.3,IF(ISERROR(FIND("Roller",'Conveyor List'!G13))=FALSE,0.05,0.25)) -> 0.25 | L163: 1 | M163: 0.95 | N163: 0.85 | O163: =IF(ISERROR(FIND("M",'Conveyor List'!#REF!))=TRUE,0.95,1) -> 0.95 | P163: 1 | Q163: =IF(B163=0,0,(I163*J163)/(60*B163)) -> #REF! | R163: =IF(E163=0,0,(2*L163*((E163-1)/12))) -> #REF! | S163: =IF(B163=0,0,(1.25*B163*K163*C163*(Q163+R163))/(33000*M163*N163*O163)) -> #REF! | T163: =IF(AND(G163=0,F163=0),0,(1.25*I163*J163*((G163-F163)/12))/(60*33000*M163*N163*O163)) -> #REF! | U163: =IF(E163=0,0,(1.25*B163*0.05*(Q163+(((E163/12)-1)*L163))*C163)/(60*33000*M163*N163*O163)) -> #REF! | V163: =IF(H163=0,0,(1.25*B163*K163*(H163*((12*(E163-1))+200)))/(33000*M163*N163*O163)) -> 0 | W163: =IF(D163=0,0,(1.25*B163*K163*D163*(Q163+R163))/(33000*M163*N163*O163*O163)+5*(0.01*(500+1.25*((Q163+R163)*K163*D163)))*B163/(33000*M163*N163*O163*O163)) -> #REF! | X163: =IF(B163=0,0,ROUNDUP(((AA163/B163)*33000*N163),0)) -> #REF! | Y163: =IF(C163="",0,ROUNDUP((((K163*(C163+D163)*(Q163+R163))+(J163+((G163-F163)/12)))/0.85),0)) -> #REF! | Z163: =S163+T163+U163+V163+W163 -> #REF! | AA163: =VLOOKUP(Z163,$AD$3:$AF$13,3,TRUE) -> #REF! | AB163: =VLOOKUP(X163,$AH$3:$AJ$5,3,TRUE) -> #REF!
A164: ='Conveyor List'!C14 -> BS1_020_DIV3 | B164: =IF(AND('Conveyor List'!$H14="",'Conveyor List'!#REF!=""),0,MAX(MAX(LEFT('Conveyor List'!$H14,IF(ISERROR(FIND("/",'Conveyor List'!$H14))=TRUE,LEN('Conveyor List'!$H14),FIND("/",'Conveyor List'!$H14)-2)),TRIM(RIGHT('Conveyor List'!$H14,LEN('Conveyor List'!$H14)-IF(ISERROR(FIND("/",'Conveyor List'!$H14))=TRUE,0,FIND("/",'Conveyor List'!$H14))))),MAX(LEFT('Conveyor List'!#REF!,IF(ISERROR(FIND("/",'Conveyor List'!#REF!))=TRUE,LEN('Conveyor List'!#REF!),FIND("/",'Conveyor List'!#REF!)-2)),TRIM(RIGHT('Conveyor List'!#REF!,LEN('Conveyor List'!#REF!)-IF(ISERROR(FIND("/",'Conveyor List'!#REF!))=TRUE,0,FIND("/",'Conveyor List'!#REF!))))))) -> #REF! | C164: =IF(AND('Conveyor List'!#REF!="",'Conveyor List'!#REF!=""),0,'Conveyor List'!#REF!+'Conveyor List'!#REF!/12) -> #REF! | D164: =IF(AND('Conveyor List'!#REF!="",'Conveyor List'!#REF!=""),0,IF(ISERROR(FIND("Slave",'Conveyor List'!G14)) =FALSE,'Conveyor List'!#REF!+'Conveyor List'!#REF!/12,0)) -> #REF! | E164: =IF('Conveyor List'!#REF!="",0,'Conveyor List'!#REF!) -> #REF! | F164: =IF('Conveyor List'!#REF!="",0,MIN(LEFT('Conveyor List'!#REF!,IF(ISERROR(FIND("/",'Conveyor List'!#REF!))=TRUE,LEN('Conveyor List'!#REF!),FIND("/",'Conveyor List'!#REF!)-3)),IF(ISERROR(FIND("/",'Conveyor List'!#REF!))=TRUE,'Conveyor List'!#REF!,TRIM(LEFT(RIGHT('Conveyor List'!#REF!, LEN('Conveyor List'!#REF!)-FIND("/",'Conveyor List'!#REF!)),LEN(RIGHT('Conveyor List'!#REF!, LEN('Conveyor List'!#REF!)-FIND("/",'Conveyor List'!#REF!)))-1))))) -> #REF! | G164: =IF('Conveyor List'!#REF!="",0,MAX(LEFT('Conveyor List'!#REF!,IF(ISERROR(FIND("/",'Conveyor List'!#REF!))=TRUE,LEN('Conveyor List'!#REF!),FIND("/",'Conveyor List'!#REF!)-3)),IF(ISERROR(FIND("/",'Conveyor List'!#REF!))=TRUE,'Conveyor List'!#REF!,TRIM(LEFT(RIGHT('Conveyor List'!#REF!, LEN('Conveyor List'!#REF!)-FIND("/",'Conveyor List'!#REF!)),LEN(RIGHT('Conveyor List'!#REF!, LEN('Conveyor List'!#REF!)-FIND("/",'Conveyor List'!#REF!)))-1))))) -> #REF! | H164: =IF(Rework!W165>0,IF(Rework!W165>1,2,1),0) -> 0 | I164: =IF(Rework!X165="",IF(Rework!$E165=61.5,2400,1800),Rework!X165) -> 1800 | J164: 30 | K164: =IF(ISERROR(FIND("Slider",'Conveyor List'!G14))=FALSE,0.3,IF(ISERROR(FIND("Roller",'Conveyor List'!G14))=FALSE,0.05,0.25)) -> 0.25 | L164: 1 | M164: 0.95 | N164: 0.85 | O164: =IF(ISERROR(FIND("M",'Conveyor List'!#REF!))=TRUE,0.95,1) -> 0.95 | P164: 1 | Q164: =IF(B164=0,0,(I164*J164)/(60*B164)) -> #REF! | R164: =IF(E164=0,0,(2*L164*((E164-1)/12))) -> #REF! | S164: =IF(B164=0,0,(1.25*B164*K164*C164*(Q164+R164))/(33000*M164*N164*O164)) -> #REF! | T164: =IF(AND(G164=0,F164=0),0,(1.25*I164*J164*((G164-F164)/12))/(60*33000*M164*N164*O164)) -> #REF! | U164: =IF(E164=0,0,(1.25*B164*0.05*(Q164+(((E164/12)-1)*L164))*C164)/(60*33000*M164*N164*O164)) -> #REF! | V164: =IF(H164=0,0,(1.25*B164*K164*(H164*((12*(E164-1))+200)))/(33000*M164*N164*O164)) -> 0 | W164: =IF(D164=0,0,(1.25*B164*K164*D164*(Q164+R164))/(33000*M164*N164*O164*O164)+5*(0.01*(500+1.25*((Q164+R164)*K164*D164)))*B164/(33000*M164*N164*O164*O164)) -> #REF! | X164: =IF(B164=0,0,ROUNDUP(((AA164/B164)*33000*N164),0)) -> #REF! | Y164: =IF(C164="",0,ROUNDUP((((K164*(C164+D164)*(Q164+R164))+(J164+((G164-F164)/12)))/0.85),0)) -> #REF! | Z164: =S164+T164+U164+V164+W164 -> #REF! | AA164: =VLOOKUP(Z164,$AD$3:$AF$13,3,TRUE) -> #REF! | AB164: =VLOOKUP(X164,$AH$3:$AJ$5,3,TRUE) -> #REF!
A165: ='Conveyor List'!#REF! -> #REF! | B165: =IF(AND('Conveyor List'!#REF!="",'Conveyor List'!#REF!=""),0,MAX(MAX(LEFT('Conveyor List'!#REF!,IF(ISERROR(FIND("/",'Conveyor List'!#REF!))=TRUE,LEN('Conveyor List'!#REF!),FIND("/",'Conveyor List'!#REF!)-2)),TRIM(RIGHT('Conveyor List'!#REF!,LEN('Conveyor List'!#REF!)-IF(ISERROR(FIND("/",'Conveyor List'!#REF!))=TRUE,0,FIND("/",'Conveyor List'!#REF!))))),MAX(LEFT('Conveyor List'!#REF!,IF(ISERROR(FIND("/",'Conveyor List'!#REF!))=TRUE,LEN('Conveyor List'!#REF!),FIND("/",'Conveyor List'!#REF!)-2)),TRIM(RIGHT('Conveyor List'!#REF!,LEN('Conveyor List'!#REF!)-IF(ISERROR(FIND("/",'Conveyor List'!#REF!))=TRUE,0,FIND("/",'Conveyor List'!#REF!))))))) -> #REF! | C165: =IF(AND('Conveyor List'!#REF!="",'Conveyor List'!#REF!=""),0,'Conveyor List'!#REF!+'Conveyor List'!#REF!/12) -> #REF! | D165: =IF(AND('Conveyor List'!#REF!="",'Conveyor List'!#REF!=""),0,IF(ISERROR(FIND("Slave",'Conveyor List'!#REF!)) =FALSE,'Conveyor List'!#REF!+'Conveyor List'!#REF!/12,0)) -> #REF! | E165: =IF('Conveyor List'!#REF!="",0,'Conveyor List'!#REF!) -> #REF! | F165: =IF('Conveyor List'!#REF!="",0,MIN(LEFT('Conveyor List'!#REF!,IF(ISERROR(FIND("/",'Conveyor List'!#REF!))=TRUE,LEN('Conveyor List'!#REF!),FIND("/",'Conveyor List'!#REF!)-3)),IF(ISERROR(FIND("/",'Conveyor List'!#REF!))=TRUE,'Conveyor List'!#REF!,TRIM(LEFT(RIGHT('Conveyor List'!#REF!, LEN('Conveyor List'!#REF!)-FIND("/",'Conveyor List'!#REF!)),LEN(RIGHT('Conveyor List'!#REF!, LEN('Conveyor List'!#REF!)-FIND("/",'Conveyor List'!#REF!)))-1))))) -> #REF! | G165: =IF('Conveyor List'!#REF!="",0,MAX(LEFT('Conveyor List'!#REF!,IF(ISERROR(FIND("/",'Conveyor List'!#REF!))=TRUE,LEN('Conveyor List'!#REF!),FIND("/",'Conveyor List'!#REF!)-3)),IF(ISERROR(FIND("/",'Conveyor List'!#REF!))=TRUE,'Conveyor List'!#REF!,TRIM(LEFT(RIGHT('Conveyor List'!#REF!, LEN('Conveyor List'!#REF!)-FIND("/",'Conveyor List'!#REF!)),LEN(RIGHT('Conveyor List'!#REF!, LEN('Conveyor List'!#REF!)-FIND("/",'Conveyor List'!#REF!)))-1))))) -> #REF! | H165: =IF(Rework!W166>0,IF(Rework!W166>1,2,1),0) -> 0 | I165: =IF(Rework!X166="",IF(Rework!$E166=61.5,2400,1800),Rework!X166) -> 1800 | J165: 30 | K165: =IF(ISERROR(FIND("Slider",'Conveyor List'!#REF!))=FALSE,0.3,IF(ISERROR(FIND("Roller",'Conveyor List'!#REF!))=FALSE,0.05,0.25)) -> 0.25 | L165: 1 | M165: 0.95 | N165: 0.85 | O165: =IF(ISERROR(FIND("M",'Conveyor List'!#REF!))=TRUE,0.95,1) -> 0.95 | P165: 1 | Q165: =IF(B165=0,0,(I165*J165)/(60*B165)) -> #REF! | R165: =IF(E165=0,0,(2*L165*((E165-1)/12))) -> #REF! | S165: =IF(B165=0,0,(1.25*B165*K165*C165*(Q165+R165))/(33000*M165*N165*O165)) -> #REF! | T165: =IF(AND(G165=0,F165=0),0,(1.25*I165*J165*((G165-F165)/12))/(60*33000*M165*N165*O165)) -> #REF! | U165: =IF(E165=0,0,(1.25*B165*0.05*(Q165+(((E165/12)-1)*L165))*C165)/(60*33000*M165*N165*O165)) -> #REF! | V165: =IF(H165=0,0,(1.25*B165*K165*(H165*((12*(E165-1))+200)))/(33000*M165*N165*O165)) -> 0 | W165: =IF(D165=0,0,(1.25*B165*K165*D165*(Q165+R165))/(33000*M165*N165*O165*O165)+5*(0.01*(500+1.25*((Q165+R165)*K165*D165)))*B165/(33000*M165*N165*O165*O165)) -> #REF! | X165: =IF(B165=0,0,ROUNDUP(((AA165/B165)*33000*N165),0)) -> #REF! | Y165: =IF(C165="",0,ROUNDUP((((K165*(C165+D165)*(Q165+R165))+(J165+((G165-F165)/12)))/0.85),0)) -> #REF! | Z165: =S165+T165+U165+V165+W165 -> #REF! | AA165: =VLOOKUP(Z165,$AD$3:$AF$13,3,TRUE) -> #REF! | AB165: =VLOOKUP(X165,$AH$3:$AJ$5,3,TRUE) -> #REF!
A166: ='Conveyor List'!#REF! -> #REF! | B166: =IF(AND('Conveyor List'!#REF!="",'Conveyor List'!#REF!=""),0,MAX(MAX(LEFT('Conveyor List'!#REF!,IF(ISERROR(FIND("/",'Conveyor List'!#REF!))=TRUE,LEN('Conveyor List'!#REF!),FIND("/",'Conveyor List'!#REF!)-2)),TRIM(RIGHT('Conveyor List'!#REF!,LEN('Conveyor List'!#REF!)-IF(ISERROR(FIND("/",'Conveyor List'!#REF!))=TRUE,0,FIND("/",'Conveyor List'!#REF!))))),MAX(LEFT('Conveyor List'!#REF!,IF(ISERROR(FIND("/",'Conveyor List'!#REF!))=TRUE,LEN('Conveyor List'!#REF!),FIND("/",'Conveyor List'!#REF!)-2)),TRIM(RIGHT('Conveyor List'!#REF!,LEN('Conveyor List'!#REF!)-IF(ISERROR(FIND("/",'Conveyor List'!#REF!))=TRUE,0,FIND("/",'Conveyor List'!#REF!))))))) -> #REF! | C166: =IF(AND('Conveyor List'!#REF!="",'Conveyor List'!#REF!=""),0,'Conveyor List'!#REF!+'Conveyor List'!#REF!/12) -> #REF! | D166: =IF(AND('Conveyor List'!#REF!="",'Conveyor List'!#REF!=""),0,IF(ISERROR(FIND("Slave",'Conveyor List'!#REF!)) =FALSE,'Conveyor List'!#REF!+'Conveyor List'!#REF!/12,0)) -> #REF! | E166: =IF('Conveyor List'!#REF!="",0,'Conveyor List'!#REF!) -> #REF! | F166: =IF('Conveyor List'!#REF!="",0,MIN(LEFT('Conveyor List'!#REF!,IF(ISERROR(FIND("/",'Conveyor List'!#REF!))=TRUE,LEN('Conveyor List'!#REF!),FIND("/",'Conveyor List'!#REF!)-3)),IF(ISERROR(FIND("/",'Conveyor List'!#REF!))=TRUE,'Conveyor List'!#REF!,TRIM(LEFT(RIGHT('Conveyor List'!#REF!, LEN('Conveyor List'!#REF!)-FIND("/",'Conveyor List'!#REF!)),LEN(RIGHT('Conveyor List'!#REF!, LEN('Conveyor List'!#REF!)-FIND("/",'Conveyor List'!#REF!)))-1))))) -> #REF! | G166: =IF('Conveyor List'!#REF!="",0,MAX(LEFT('Conveyor List'!#REF!,IF(ISERROR(FIND("/",'Conveyor List'!#REF!))=TRUE,LEN('Conveyor List'!#REF!),FIND("/",'Conveyor List'!#REF!)-3)),IF(ISERROR(FIND("/",'Conveyor List'!#REF!))=TRUE,'Conveyor List'!#REF!,TRIM(LEFT(RIGHT('Conveyor List'!#REF!, LEN('Conveyor List'!#REF!)-FIND("/",'Conveyor List'!#REF!)),LEN(RIGHT('Conveyor List'!#REF!, LEN('Conveyor List'!#REF!)-FIND("/",'Conveyor List'!#REF!)))-1))))) -> #REF! | H166: =IF(Rework!W167>0,IF(Rework!W167>1,2,1),0) -> 0 | I166: =IF(Rework!X167="",IF(Rework!$E167=61.5,2400,1800),Rework!X167) -> 1800 | J166: 30 | K166: =IF(ISERROR(FIND("Slider",'Conveyor List'!#REF!))=FALSE,0.3,IF(ISERROR(FIND("Roller",'Conveyor List'!#REF!))=FALSE,0.05,0.25)) -> 0.25 | L166: 1 | M166: 0.95 | N166: 0.85 | O166: =IF(ISERROR(FIND("M",'Conveyor List'!#REF!))=TRUE,0.95,1) -> 0.95 | P166: 1 | Q166: =IF(B166=0,0,(I166*J166)/(60*B166)) -> #REF! | R166: =IF(E166=0,0,(2*L166*((E166-1)/12))) -> #REF! | S166: =IF(B166=0,0,(1.25*B166*K166*C166*(Q166+R166))/(33000*M166*N166*O166)) -> #REF! | T166: =IF(AND(G166=0,F166=0),0,(1.25*I166*J166*((G166-F166)/12))/(60*33000*M166*N166*O166)) -> #REF! | U166: =IF(E166=0,0,(1.25*B166*0.05*(Q166+(((E166/12)-1)*L166))*C166)/(60*33000*M166*N166*O166)) -> #REF! | V166: =IF(H166=0,0,(1.25*B166*K166*(H166*((12*(E166-1))+200)))/(33000*M166*N166*O166)) -> 0 | W166: =IF(D166=0,0,(1.25*B166*K166*D166*(Q166+R166))/(33000*M166*N166*O166*O166)+5*(0.01*(500+1.25*((Q166+R166)*K166*D166)))*B166/(33000*M166*N166*O166*O166)) -> #REF! | X166: =IF(B166=0,0,ROUNDUP(((AA166/B166)*33000*N166),0)) -> #REF! | Y166: =IF(C166="",0,ROUNDUP((((K166*(C166+D166)*(Q166+R166))+(J166+((G166-F166)/12)))/0.85),0)) -> #REF! | Z166: =S166+T166+U166+V166+W166 -> #REF! | AA166: =VLOOKUP(Z166,$AD$3:$AF$13,3,TRUE) -> #REF! | AB166: =VLOOKUP(X166,$AH$3:$AJ$5,3,TRUE) -> #REF!
A167: ='Conveyor List'!#REF! -> #REF! | B167: =IF(AND('Conveyor List'!#REF!="",'Conveyor List'!#REF!=""),0,MAX(MAX(LEFT('Conveyor List'!#REF!,IF(ISERROR(FIND("/",'Conveyor List'!#REF!))=TRUE,LEN('Conveyor List'!#REF!),FIND("/",'Conveyor List'!#REF!)-2)),TRIM(RIGHT('Conveyor List'!#REF!,LEN('Conveyor List'!#REF!)-IF(ISERROR(FIND("/",'Conveyor List'!#REF!))=TRUE,0,FIND("/",'Conveyor List'!#REF!))))),MAX(LEFT('Conveyor List'!#REF!,IF(ISERROR(FIND("/",'Conveyor List'!#REF!))=TRUE,LEN('Conveyor List'!#REF!),FIND("/",'Conveyor List'!#REF!)-2)),TRIM(RIGHT('Conveyor List'!#REF!,LEN('Conveyor List'!#REF!)-IF(ISERROR(FIND("/",'Conveyor List'!#REF!))=TRUE,0,FIND("/",'Conveyor List'!#REF!))))))) -> #REF! | C167: =IF(AND('Conveyor List'!#REF!="",'Conveyor List'!#REF!=""),0,'Conveyor List'!#REF!+'Conveyor List'!#REF!/12) -> #REF! | D167: =IF(AND('Conveyor List'!#REF!="",'Conveyor List'!#REF!=""),0,IF(ISERROR(FIND("Slave",'Conveyor List'!#REF!)) =FALSE,'Conveyor List'!#REF!+'Conveyor List'!#REF!/12,0)) -> #REF! | E167: =IF('Conveyor List'!#REF!="",0,'Conveyor List'!#REF!) -> #REF! | F167: =IF('Conveyor List'!#REF!="",0,MIN(LEFT('Conveyor List'!#REF!,IF(ISERROR(FIND("/",'Conveyor List'!#REF!))=TRUE,LEN('Conveyor List'!#REF!),FIND("/",'Conveyor List'!#REF!)-3)),IF(ISERROR(FIND("/",'Conveyor List'!#REF!))=TRUE,'Conveyor List'!#REF!,TRIM(LEFT(RIGHT('Conveyor List'!#REF!, LEN('Conveyor List'!#REF!)-FIND("/",'Conveyor List'!#REF!)),LEN(RIGHT('Conveyor List'!#REF!, LEN('Conveyor List'!#REF!)-FIND("/",'Conveyor List'!#REF!)))-1))))) -> #REF! | G167: =IF('Conveyor List'!#REF!="",0,MAX(LEFT('Conveyor List'!#REF!,IF(ISERROR(FIND("/",'Conveyor List'!#REF!))=TRUE,LEN('Conveyor List'!#REF!),FIND("/",'Conveyor List'!#REF!)-3)),IF(ISERROR(FIND("/",'Conveyor List'!#REF!))=TRUE,'Conveyor List'!#REF!,TRIM(LEFT(RIGHT('Conveyor List'!#REF!, LEN('Conveyor List'!#REF!)-FIND("/",'Conveyor List'!#REF!)),LEN(RIGHT('Conveyor List'!#REF!, LEN('Conveyor List'!#REF!)-FIND("/",'Conveyor List'!#REF!)))-1))))) -> #REF! | H167: =IF(Rework!W168>0,IF(Rework!W168>1,2,1),0) -> 0 | I167: =IF(Rework!X168="",IF(Rework!$E168=61.5,2400,1800),Rework!X168) -> 1800 | J167: 30 | K167: =IF(ISERROR(FIND("Slider",'Conveyor List'!#REF!))=FALSE,0.3,IF(ISERROR(FIND("Roller",'Conveyor List'!#REF!))=FALSE,0.05,0.25)) -> 0.25 | L167: 1 | M167: 0.95 | N167: 0.85 | O167: =IF(ISERROR(FIND("M",'Conveyor List'!#REF!))=TRUE,0.95,1) -> 0.95 | P167: 1 | Q167: =IF(B167=0,0,(I167*J167)/(60*B167)) -> #REF! | R167: =IF(E167=0,0,(2*L167*((E167-1)/12))) -> #REF! | S167: =IF(B167=0,0,(1.25*B167*K167*C167*(Q167+R167))/(33000*M167*N167*O167)) -> #REF! | T167: =IF(AND(G167=0,F167=0),0,(1.25*I167*J167*((G167-F167)/12))/(60*33000*M167*N167*O167)) -> #REF! | U167: =IF(E167=0,0,(1.25*B167*0.05*(Q167+(((E167/12)-1)*L167))*C167)/(60*33000*M167*N167*O167)) -> #REF! | V167: =IF(H167=0,0,(1.25*B167*K167*(H167*((12*(E167-1))+200)))/(33000*M167*N167*O167)) -> 0 | W167: =IF(D167=0,0,(1.25*B167*K167*D167*(Q167+R167))/(33000*M167*N167*O167*O167)+5*(0.01*(500+1.25*((Q167+R167)*K167*D167)))*B167/(33000*M167*N167*O167*O167)) -> #REF! | X167: =IF(B167=0,0,ROUNDUP(((AA167/B167)*33000*N167),0)) -> #REF! | Y167: =IF(C167="",0,ROUNDUP((((K167*(C167+D167)*(Q167+R167))+(J167+((G167-F167)/12)))/0.85),0)) -> #REF! | Z167: =S167+T167+U167+V167+W167 -> #REF! | AA167: =VLOOKUP(Z167,$AD$3:$AF$13,3,TRUE) -> #REF! | AB167: =VLOOKUP(X167,$AH$3:$AJ$5,3,TRUE) -> #REF!
A168: ='Conveyor List'!#REF! -> #REF! | B168: =IF(AND('Conveyor List'!#REF!="",'Conveyor List'!#REF!=""),0,MAX(MAX(LEFT('Conveyor List'!#REF!,IF(ISERROR(FIND("/",'Conveyor List'!#REF!))=TRUE,LEN('Conveyor List'!#REF!),FIND("/",'Conveyor List'!#REF!)-2)),TRIM(RIGHT('Conveyor List'!#REF!,LEN('Conveyor List'!#REF!)-IF(ISERROR(FIND("/",'Conveyor List'!#REF!))=TRUE,0,FIND("/",'Conveyor List'!#REF!))))),MAX(LEFT('Conveyor List'!#REF!,IF(ISERROR(FIND("/",'Conveyor List'!#REF!))=TRUE,LEN('Conveyor List'!#REF!),FIND("/",'Conveyor List'!#REF!)-2)),TRIM(RIGHT('Conveyor List'!#REF!,LEN('Conveyor List'!#REF!)-IF(ISERROR(FIND("/",'Conveyor List'!#REF!))=TRUE,0,FIND("/",'Conveyor List'!#REF!))))))) -> #REF! | C168: =IF(AND('Conveyor List'!#REF!="",'Conveyor List'!#REF!=""),0,'Conveyor List'!#REF!+'Conveyor List'!#REF!/12) -> #REF! | D168: =IF(AND('Conveyor List'!#REF!="",'Conveyor List'!#REF!=""),0,IF(ISERROR(FIND("Slave",'Conveyor List'!#REF!)) =FALSE,'Conveyor List'!#REF!+'Conveyor List'!#REF!/12,0)) -> #REF! | E168: =IF('Conveyor List'!#REF!="",0,'Conveyor List'!#REF!) -> #REF! | F168: =IF('Conveyor List'!#REF!="",0,MIN(LEFT('Conveyor List'!#REF!,IF(ISERROR(FIND("/",'Conveyor List'!#REF!))=TRUE,LEN('Conveyor List'!#REF!),FIND("/",'Conveyor List'!#REF!)-3)),IF(ISERROR(FIND("/",'Conveyor List'!#REF!))=TRUE,'Conveyor List'!#REF!,TRIM(LEFT(RIGHT('Conveyor List'!#REF!, LEN('Conveyor List'!#REF!)-FIND("/",'Conveyor List'!#REF!)),LEN(RIGHT('Conveyor List'!#REF!, LEN('Conveyor List'!#REF!)-FIND("/",'Conveyor List'!#REF!)))-1))))) -> #REF! | G168: =IF('Conveyor List'!#REF!="",0,MAX(LEFT('Conveyor List'!#REF!,IF(ISERROR(FIND("/",'Conveyor List'!#REF!))=TRUE,LEN('Conveyor List'!#REF!),FIND("/",'Conveyor List'!#REF!)-3)),IF(ISERROR(FIND("/",'Conveyor List'!#REF!))=TRUE,'Conveyor List'!#REF!,TRIM(LEFT(RIGHT('Conveyor List'!#REF!, LEN('Conveyor List'!#REF!)-FIND("/",'Conveyor List'!#REF!)),LEN(RIGHT('Conveyor List'!#REF!, LEN('Conveyor List'!#REF!)-FIND("/",'Conveyor List'!#REF!)))-1))))) -> #REF! | H168: =IF(Rework!W169>0,IF(Rework!W169>1,2,1),0) -> 0 | I168: =IF(Rework!X169="",IF(Rework!$E169=61.5,2400,1800),Rework!X169) -> 1800 | J168: 30 | K168: =IF(ISERROR(FIND("Slider",'Conveyor List'!#REF!))=FALSE,0.3,IF(ISERROR(FIND("Roller",'Conveyor List'!#REF!))=FALSE,0.05,0.25)) -> 0.25 | L168: 1 | M168: 0.95 | N168: 0.85 | O168: =IF(ISERROR(FIND("M",'Conveyor List'!#REF!))=TRUE,0.95,1) -> 0.95 | P168: 1 | Q168: =IF(B168=0,0,(I168*J168)/(60*B168)) -> #REF! | R168: =IF(E168=0,0,(2*L168*((E168-1)/12))) -> #REF! | S168: =IF(B168=0,0,(1.25*B168*K168*C168*(Q168+R168))/(33000*M168*N168*O168)) -> #REF! | T168: =IF(AND(G168=0,F168=0),0,(1.25*I168*J168*((G168-F168)/12))/(60*33000*M168*N168*O168)) -> #REF! | U168: =IF(E168=0,0,(1.25*B168*0.05*(Q168+(((E168/12)-1)*L168))*C168)/(60*33000*M168*N168*O168)) -> #REF! | V168: =IF(H168=0,0,(1.25*B168*K168*(H168*((12*(E168-1))+200)))/(33000*M168*N168*O168)) -> 0 | W168: =IF(D168=0,0,(1.25*B168*K168*D168*(Q168+R168))/(33000*M168*N168*O168*O168)+5*(0.01*(500+1.25*((Q168+R168)*K168*D168)))*B168/(33000*M168*N168*O168*O168)) -> #REF! | X168: =IF(B168=0,0,ROUNDUP(((AA168/B168)*33000*N168),0)) -> #REF! | Y168: =IF(C168="",0,ROUNDUP((((K168*(C168+D168)*(Q168+R168))+(J168+((G168-F168)/12)))/0.85),0)) -> #REF! | Z168: =S168+T168+U168+V168+W168 -> #REF! | AA168: =VLOOKUP(Z168,$AD$3:$AF$13,3,TRUE) -> #REF! | AB168: =VLOOKUP(X168,$AH$3:$AJ$5,3,TRUE) -> #REF!
A169: ='Conveyor List'!#REF! -> #REF! | B169: =IF(AND('Conveyor List'!#REF!="",'Conveyor List'!#REF!=""),0,MAX(MAX(LEFT('Conveyor List'!#REF!,IF(ISERROR(FIND("/",'Conveyor List'!#REF!))=TRUE,LEN('Conveyor List'!#REF!),FIND("/",'Conveyor List'!#REF!)-2)),TRIM(RIGHT('Conveyor List'!#REF!,LEN('Conveyor List'!#REF!)-IF(ISERROR(FIND("/",'Conveyor List'!#REF!))=TRUE,0,FIND("/",'Conveyor List'!#REF!))))),MAX(LEFT('Conveyor List'!#REF!,IF(ISERROR(FIND("/",'Conveyor List'!#REF!))=TRUE,LEN('Conveyor List'!#REF!),FIND("/",'Conveyor List'!#REF!)-2)),TRIM(RIGHT('Conveyor List'!#REF!,LEN('Conveyor List'!#REF!)-IF(ISERROR(FIND("/",'Conveyor List'!#REF!))=TRUE,0,FIND("/",'Conveyor List'!#REF!))))))) -> #REF! | C169: =IF(AND('Conveyor List'!#REF!="",'Conveyor List'!#REF!=""),0,'Conveyor List'!#REF!+'Conveyor List'!#REF!/12) -> #REF! | D169: =IF(AND('Conveyor List'!#REF!="",'Conveyor List'!#REF!=""),0,IF(ISERROR(FIND("Slave",'Conveyor List'!#REF!)) =FALSE,'Conveyor List'!#REF!+'Conveyor List'!#REF!/12,0)) -> #REF! | E169: =IF('Conveyor List'!#REF!="",0,'Conveyor List'!#REF!) -> #REF! | F169: =IF('Conveyor List'!#REF!="",0,MIN(LEFT('Conveyor List'!#REF!,IF(ISERROR(FIND("/",'Conveyor List'!#REF!))=TRUE,LEN('Conveyor List'!#REF!),FIND("/",'Conveyor List'!#REF!)-3)),IF(ISERROR(FIND("/",'Conveyor List'!#REF!))=TRUE,'Conveyor List'!#REF!,TRIM(LEFT(RIGHT('Conveyor List'!#REF!, LEN('Conveyor List'!#REF!)-FIND("/",'Conveyor List'!#REF!)),LEN(RIGHT('Conveyor List'!#REF!, LEN('Conveyor List'!#REF!)-FIND("/",'Conveyor List'!#REF!)))-1))))) -> #REF! | G169: =IF('Conveyor List'!#REF!="",0,MAX(LEFT('Conveyor List'!#REF!,IF(ISERROR(FIND("/",'Conveyor List'!#REF!))=TRUE,LEN('Conveyor List'!#REF!),FIND("/",'Conveyor List'!#REF!)-3)),IF(ISERROR(FIND("/",'Conveyor List'!#REF!))=TRUE,'Conveyor List'!#REF!,TRIM(LEFT(RIGHT('Conveyor List'!#REF!, LEN('Conveyor List'!#REF!)-FIND("/",'Conveyor List'!#REF!)),LEN(RIGHT('Conveyor List'!#REF!, LEN('Conveyor List'!#REF!)-FIND("/",'Conveyor List'!#REF!)))-1))))) -> #REF! | H169: =IF(Rework!W170>0,IF(Rework!W170>1,2,1),0) -> 0 | I169: =IF(Rework!X170="",IF(Rework!$E170=61.5,2400,1800),Rework!X170) -> 1800 | J169: 30 | K169: =IF(ISERROR(FIND("Slider",'Conveyor List'!#REF!))=FALSE,0.3,IF(ISERROR(FIND("Roller",'Conveyor List'!#REF!))=FALSE,0.05,0.25)) -> 0.25 | L169: 1 | M169: 0.95 | N169: 0.85 | O169: =IF(ISERROR(FIND("M",'Conveyor List'!#REF!))=TRUE,0.95,1) -> 0.95 | P169: 1 | Q169: =IF(B169=0,0,(I169*J169)/(60*B169)) -> #REF! | R169: =IF(E169=0,0,(2*L169*((E169-1)/12))) -> #REF! | S169: =IF(B169=0,0,(1.25*B169*K169*C169*(Q169+R169))/(33000*M169*N169*O169)) -> #REF! | T169: =IF(AND(G169=0,F169=0),0,(1.25*I169*J169*((G169-F169)/12))/(60*33000*M169*N169*O169)) -> #REF! | U169: =IF(E169=0,0,(1.25*B169*0.05*(Q169+(((E169/12)-1)*L169))*C169)/(60*33000*M169*N169*O169)) -> #REF! | V169: =IF(H169=0,0,(1.25*B169*K169*(H169*((12*(E169-1))+200)))/(33000*M169*N169*O169)) -> 0 | W169: =IF(D169=0,0,(1.25*B169*K169*D169*(Q169+R169))/(33000*M169*N169*O169*O169)+5*(0.01*(500+1.25*((Q169+R169)*K169*D169)))*B169/(33000*M169*N169*O169*O169)) -> #REF! | X169: =IF(B169=0,0,ROUNDUP(((AA169/B169)*33000*N169),0)) -> #REF! | Y169: =IF(C169="",0,ROUNDUP((((K169*(C169+D169)*(Q169+R169))+(J169+((G169-F169)/12)))/0.85),0)) -> #REF! | Z169: =S169+T169+U169+V169+W169 -> #REF! | AA169: =VLOOKUP(Z169,$AD$3:$AF$13,3,TRUE) -> #REF! | AB169: =VLOOKUP(X169,$AH$3:$AJ$5,3,TRUE) -> #REF!
A170: ='Conveyor List'!#REF! -> #REF! | B170: =IF(AND('Conveyor List'!#REF!="",'Conveyor List'!#REF!=""),0,MAX(MAX(LEFT('Conveyor List'!#REF!,IF(ISERROR(FIND("/",'Conveyor List'!#REF!))=TRUE,LEN('Conveyor List'!#REF!),FIND("/",'Conveyor List'!#REF!)-2)),TRIM(RIGHT('Conveyor List'!#REF!,LEN('Conveyor List'!#REF!)-IF(ISERROR(FIND("/",'Conveyor List'!#REF!))=TRUE,0,FIND("/",'Conveyor List'!#REF!))))),MAX(LEFT('Conveyor List'!#REF!,IF(ISERROR(FIND("/",'Conveyor List'!#REF!))=TRUE,LEN('Conveyor List'!#REF!),FIND("/",'Conveyor List'!#REF!)-2)),TRIM(RIGHT('Conveyor List'!#REF!,LEN('Conveyor List'!#REF!)-IF(ISERROR(FIND("/",'Conveyor List'!#REF!))=TRUE,0,FIND("/",'Conveyor List'!#REF!))))))) -> #REF! | C170: =IF(AND('Conveyor List'!#REF!="",'Conveyor List'!#REF!=""),0,'Conveyor List'!#REF!+'Conveyor List'!#REF!/12) -> #REF! | D170: =IF(AND('Conveyor List'!#REF!="",'Conveyor List'!#REF!=""),0,IF(ISERROR(FIND("Slave",'Conveyor List'!#REF!)) =FALSE,'Conveyor List'!#REF!+'Conveyor List'!#REF!/12,0)) -> #REF! | E170: =IF('Conveyor List'!#REF!="",0,'Conveyor List'!#REF!) -> #REF! | F170: =IF('Conveyor List'!#REF!="",0,MIN(LEFT('Conveyor List'!#REF!,IF(ISERROR(FIND("/",'Conveyor List'!#REF!))=TRUE,LEN('Conveyor List'!#REF!),FIND("/",'Conveyor List'!#REF!)-3)),IF(ISERROR(FIND("/",'Conveyor List'!#REF!))=TRUE,'Conveyor List'!#REF!,TRIM(LEFT(RIGHT('Conveyor List'!#REF!, LEN('Conveyor List'!#REF!)-FIND("/",'Conveyor List'!#REF!)),LEN(RIGHT('Conveyor List'!#REF!, LEN('Conveyor List'!#REF!)-FIND("/",'Conveyor List'!#REF!)))-1))))) -> #REF! | G170: =IF('Conveyor List'!#REF!="",0,MAX(LEFT('Conveyor List'!#REF!,IF(ISERROR(FIND("/",'Conveyor List'!#REF!))=TRUE,LEN('Conveyor List'!#REF!),FIND("/",'Conveyor List'!#REF!)-3)),IF(ISERROR(FIND("/",'Conveyor List'!#REF!))=TRUE,'Conveyor List'!#REF!,TRIM(LEFT(RIGHT('Conveyor List'!#REF!, LEN('Conveyor List'!#REF!)-FIND("/",'Conveyor List'!#REF!)),LEN(RIGHT('Conveyor List'!#REF!, LEN('Conveyor List'!#REF!)-FIND("/",'Conveyor List'!#REF!)))-1))))) -> #REF! | H170: =IF(Rework!W171>0,IF(Rework!W171>1,2,1),0) -> 0 | I170: =IF(Rework!X171="",IF(Rework!$E171=61.5,2400,1800),Rework!X171) -> 1800 | J170: 30 | K170: =IF(ISERROR(FIND("Slider",'Conveyor List'!#REF!))=FALSE,0.3,IF(ISERROR(FIND("Roller",'Conveyor List'!#REF!))=FALSE,0.05,0.25)) -> 0.25 | L170: 1 | M170: 0.95 | N170: 0.85 | O170: =IF(ISERROR(FIND("M",'Conveyor List'!#REF!))=TRUE,0.95,1) -> 0.95 | P170: 1 | Q170: =IF(B170=0,0,(I170*J170)/(60*B170)) -> #REF! | R170: =IF(E170=0,0,(2*L170*((E170-1)/12))) -> #REF! | S170: =IF(B170=0,0,(1.25*B170*K170*C170*(Q170+R170))/(33000*M170*N170*O170)) -> #REF! | T170: =IF(AND(G170=0,F170=0),0,(1.25*I170*J170*((G170-F170)/12))/(60*33000*M170*N170*O170)) -> #REF! | U170: =IF(E170=0,0,(1.25*B170*0.05*(Q170+(((E170/12)-1)*L170))*C170)/(60*33000*M170*N170*O170)) -> #REF! | V170: =IF(H170=0,0,(1.25*B170*K170*(H170*((12*(E170-1))+200)))/(33000*M170*N170*O170)) -> 0 | W170: =IF(D170=0,0,(1.25*B170*K170*D170*(Q170+R170))/(33000*M170*N170*O170*O170)+5*(0.01*(500+1.25*((Q170+R170)*K170*D170)))*B170/(33000*M170*N170*O170*O170)) -> #REF! | X170: =IF(B170=0,0,ROUNDUP(((AA170/B170)*33000*N170),0)) -> #REF! | Y170: =IF(C170="",0,ROUNDUP((((K170*(C170+D170)*(Q170+R170))+(J170+((G170-F170)/12)))/0.85),0)) -> #REF! | Z170: =S170+T170+U170+V170+W170 -> #REF! | AA170: =VLOOKUP(Z170,$AD$3:$AF$13,3,TRUE) -> #REF! | AB170: =VLOOKUP(X170,$AH$3:$AJ$5,3,TRUE) -> #REF!
A171: ='Conveyor List'!C15 -> BS1_020_DIV4 | B171: =IF(AND('Conveyor List'!$H15="",'Conveyor List'!#REF!=""),0,MAX(MAX(LEFT('Conveyor List'!$H15,IF(ISERROR(FIND("/",'Conveyor List'!$H15))=TRUE,LEN('Conveyor List'!$H15),FIND("/",'Conveyor List'!$H15)-2)),TRIM(RIGHT('Conveyor List'!$H15,LEN('Conveyor List'!$H15)-IF(ISERROR(FIND("/",'Conveyor List'!$H15))=TRUE,0,FIND("/",'Conveyor List'!$H15))))),MAX(LEFT('Conveyor List'!#REF!,IF(ISERROR(FIND("/",'Conveyor List'!#REF!))=TRUE,LEN('Conveyor List'!#REF!),FIND("/",'Conveyor List'!#REF!)-2)),TRIM(RIGHT('Conveyor List'!#REF!,LEN('Conveyor List'!#REF!)-IF(ISERROR(FIND("/",'Conveyor List'!#REF!))=TRUE,0,FIND("/",'Conveyor List'!#REF!))))))) -> #REF! | C171: =IF(AND('Conveyor List'!#REF!="",'Conveyor List'!#REF!=""),0,'Conveyor List'!#REF!+'Conveyor List'!#REF!/12) -> #REF! | D171: =IF(AND('Conveyor List'!#REF!="",'Conveyor List'!#REF!=""),0,IF(ISERROR(FIND("Slave",'Conveyor List'!G15)) =FALSE,'Conveyor List'!#REF!+'Conveyor List'!#REF!/12,0)) -> #REF! | E171: =IF('Conveyor List'!#REF!="",0,'Conveyor List'!#REF!) -> #REF! | F171: =IF('Conveyor List'!#REF!="",0,MIN(LEFT('Conveyor List'!#REF!,IF(ISERROR(FIND("/",'Conveyor List'!#REF!))=TRUE,LEN('Conveyor List'!#REF!),FIND("/",'Conveyor List'!#REF!)-3)),IF(ISERROR(FIND("/",'Conveyor List'!#REF!))=TRUE,'Conveyor List'!#REF!,TRIM(LEFT(RIGHT('Conveyor List'!#REF!, LEN('Conveyor List'!#REF!)-FIND("/",'Conveyor List'!#REF!)),LEN(RIGHT('Conveyor List'!#REF!, LEN('Conveyor List'!#REF!)-FIND("/",'Conveyor List'!#REF!)))-1))))) -> #REF! | G171: =IF('Conveyor List'!#REF!="",0,MAX(LEFT('Conveyor List'!#REF!,IF(ISERROR(FIND("/",'Conveyor List'!#REF!))=TRUE,LEN('Conveyor List'!#REF!),FIND("/",'Conveyor List'!#REF!)-3)),IF(ISERROR(FIND("/",'Conveyor List'!#REF!))=TRUE,'Conveyor List'!#REF!,TRIM(LEFT(RIGHT('Conveyor List'!#REF!, LEN('Conveyor List'!#REF!)-FIND("/",'Conveyor List'!#REF!)),LEN(RIGHT('Conveyor List'!#REF!, LEN('Conveyor List'!#REF!)-FIND("/",'Conveyor List'!#REF!)))-1))))) -> #REF! | H171: =IF(Rework!W172>0,IF(Rework!W172>1,2,1),0) -> 0 | I171: =IF(Rework!X172="",IF(Rework!$E172=61.5,2400,1800),Rework!X172) -> 1800 | J171: 30 | K171: =IF(ISERROR(FIND("Slider",'Conveyor List'!G15))=FALSE,0.3,IF(ISERROR(FIND("Roller",'Conveyor List'!G15))=FALSE,0.05,0.25)) -> 0.25 | L171: 1 | M171: 0.95 | N171: 0.85 | O171: =IF(ISERROR(FIND("M",'Conveyor List'!#REF!))=TRUE,0.95,1) -> 0.95 | P171: 1 | Q171: =IF(B171=0,0,(I171*J171)/(60*B171)) -> #REF! | R171: =IF(E171=0,0,(2*L171*((E171-1)/12))) -> #REF! | S171: =IF(B171=0,0,(1.25*B171*K171*C171*(Q171+R171))/(33000*M171*N171*O171)) -> #REF! | T171: =IF(AND(G171=0,F171=0),0,(1.25*I171*J171*((G171-F171)/12))/(60*33000*M171*N171*O171)) -> #REF! | U171: =IF(E171=0,0,(1.25*B171*0.05*(Q171+(((E171/12)-1)*L171))*C171)/(60*33000*M171*N171*O171)) -> #REF! | V171: =IF(H171=0,0,(1.25*B171*K171*(H171*((12*(E171-1))+200)))/(33000*M171*N171*O171)) -> 0 | W171: =IF(D171=0,0,(1.25*B171*K171*D171*(Q171+R171))/(33000*M171*N171*O171*O171)+5*(0.01*(500+1.25*((Q171+R171)*K171*D171)))*B171/(33000*M171*N171*O171*O171)) -> #REF! | X171: =IF(B171=0,0,ROUNDUP(((AA171/B171)*33000*N171),0)) -> #REF! | Y171: =IF(C171="",0,ROUNDUP((((K171*(C171+D171)*(Q171+R171))+(J171+((G171-F171)/12)))/0.85),0)) -> #REF! | Z171: =S171+T171+U171+V171+W171 -> #REF! | AA171: =VLOOKUP(Z171,$AD$3:$AF$13,3,TRUE) -> #REF! | AB171: =VLOOKUP(X171,$AH$3:$AJ$5,3,TRUE) -> #REF!
